{"text_format":"1","workbook":"xlsx","n_sheets":10,"sheets":["使い方","入力シート","リンク貼付用シート","都道府県シート","中間シート","補助対象機器一覧0916","様式第1","様式第1別紙1","様式第1別紙2","非表示シート"],"not_rendered":{"charts":0,"images":14,"macros":1,"external_links":0,"defined_names":4,"comments":1,"pivot_tables":0},"unopened":[],"bounds":{"document_bytes":16777216,"sheet_cells":100000,"rows_first":2000,"rows_last":500,"rows_between":2000,"halvings":0,"cell_chars":16384,"cell_head_chars":4096},"cells_cut":0,"cells_raw":0,"read":"whole","date_system":"1900"}

{"sheet":"使い方","index":0,"n_rows":0,"n_cols":0,"rows_kept":0,"cut":false,"hidden":false,"merged":[]}

{"sheet":"入力シート","index":1,"n_rows":1225,"n_cols":60,"rows_kept":1225,"cut":false,"hidden":false,"merged":[[0,46,1,46],[0,38,1,38],[0,39,1,39],[0,40,1,40],[0,41,1,41],[0,42,1,42],[0,43,1,43],[0,44,1,44],[1221,6,1221,9],[1221,10,1221,14],[1221,15,1221,19],[1222,5,1222,9],[1222,10,1222,14],[1222,15,1222,19],[1223,5,1223,9],[1223,10,1223,14],[1205,5,1205,9],[1205,10,1205,19],[1206,5,1208,7],[1206,8,1206,9],[1206,10,1206,13],[1206,14,1206,15],[1206,16,1206,19],[1215,8,1216,8],[1215,9,1215,11],[1215,12,1215,14],[1215,15,1215,17],[1215,18,1215,19],[1216,9,1216,11],[1216,12,1216,14],[1216,15,1216,17],[1213,18,1213,19],[1214,9,1214,11],[1214,12,1214,14],[1214,15,1214,17],[1214,18,1214,19],[1216,6,1216,7],[1215,5,1216,5],[1209,20,1216,28],[1210,9,1210,11],[1210,12,1210,14],[1210,15,1210,17],[1210,18,1210,19],[1223,15,1223,19],[1211,8,1212,8],[1211,9,1211,11],[1211,12,1211,14],[1211,15,1211,17],[1211,18,1211,19],[1212,9,1212,11],[1212,12,1212,14],[1216,18,1216,19],[1213,5,1214,5],[1213,8,1214,8],[1213,9,1213,11],[1213,12,1213,14],[1213,15,1213,17],[1214,6,1214,7],[1215,6,1215,7],[1217,5,1218,5],[1217,6,1218,9],[1217,10,1218,14],[1217,15,1218,19],[1217,20,1223,28],[1219,6,1219,9],[1219,10,1219,14],[1219,15,1219,19],[1220,6,1220,9],[1220,10,1220,14],[1220,15,1220,19],[1194,20,1200,28],[1196,6,1196,9],[1196,10,1196,14],[1196,15,1196,19],[1197,6,1197,9],[1197,10,1197,14],[1197,15,1197,19],[1198,6,1198,9],[1198,10,1198,14],[1198,15,1198,19],[1199,5,1199,9],[1199,10,1199,14],[1199,15,1199,19],[1200,5,1200,9],[1200,10,1200,14],[1200,15,1200,19],[1212,15,1212,17],[1212,18,1212,19],[1202,5,1204,9],[1202,20,1204,28],[1211,5,1212,5],[1206,20,1208,28],[1207,8,1207,9],[1207,10,1207,13],[1207,14,1207,15],[1207,16,1207,19],[1208,8,1208,9],[1208,10,1208,19],[1209,5,1210,5],[1209,6,1210,7],[1209,8,1210,8],[1209,9,1209,19],[1179,4,1200,4],[1179,5,1181,9],[1179,10,1181,19],[1192,5,1193,5],[1192,8,1193,8],[1192,9,1192,11],[1192,12,1192,14],[1192,15,1192,17],[1192,18,1192,19],[1193,9,1193,11],[1193,12,1193,14],[1193,15,1193,17],[1193,18,1193,19],[1190,5,1191,5],[1190,8,1191,8],[1190,9,1190,11],[1190,12,1190,14],[1190,15,1190,17],[1190,18,1190,19],[1191,9,1191,11],[1191,12,1191,14],[1191,15,1191,17],[1191,18,1191,19],[1194,5,1195,5],[1194,6,1195,9],[1194,10,1195,14],[1194,15,1195,19],[1182,5,1182,9],[1182,10,1182,19],[1183,5,1185,7],[1202,4,1223,4],[1202,10,1204,19],[1183,8,1183,9],[1183,10,1183,13],[1183,14,1183,15],[1183,16,1183,19],[1183,20,1185,28],[1184,8,1184,9],[1184,10,1184,13],[1184,14,1184,15],[1184,16,1184,19],[1185,8,1185,9],[1185,10,1185,19],[1186,5,1187,5],[1186,6,1187,7],[1186,8,1187,8],[1186,9,1186,19],[1186,20,1193,28],[1187,9,1187,11],[1187,12,1187,14],[1187,15,1187,17],[1187,18,1187,19],[1188,5,1189,5],[1188,8,1189,8],[1188,9,1188,11],[1188,12,1188,14],[1188,15,1188,17],[1188,18,1188,19],[1189,9,1189,11],[1189,12,1189,14],[1189,15,1189,17],[1189,18,1189,19],[1171,20,1177,28],[1173,6,1173,9],[1173,10,1173,14],[1173,15,1173,19],[1174,6,1174,9],[1174,10,1174,14],[1174,15,1174,19],[1175,6,1175,9],[1175,10,1175,14],[1175,15,1175,19],[1176,5,1176,9],[1176,10,1176,14],[1176,15,1176,19],[1177,5,1177,9],[1177,10,1177,14],[1177,15,1177,19],[1179,20,1181,28],[1156,4,1177,4],[1156,5,1158,9],[1156,10,1158,19],[1169,5,1170,5],[1169,8,1170,8],[1169,9,1169,11],[1169,12,1169,14],[1169,15,1169,17],[1169,18,1169,19],[1170,9,1170,11],[1170,12,1170,14],[1170,15,1170,17],[1170,18,1170,19],[1167,5,1168,5],[1167,8,1168,8],[1167,9,1167,11],[1167,12,1167,14],[1167,15,1167,17],[1167,18,1167,19],[1168,9,1168,11],[1168,12,1168,14],[1168,15,1168,17],[1168,18,1168,19],[1171,5,1172,5],[1171,6,1172,9],[1171,10,1172,14],[1171,15,1172,19],[1159,5,1159,9],[1159,10,1159,19],[1160,5,1162,7],[1160,8,1160,9],[1160,10,1160,13],[1160,14,1160,15],[1160,16,1160,19],[1160,20,1162,28],[1161,8,1161,9],[1161,10,1161,13],[1161,14,1161,15],[1161,16,1161,19],[1162,8,1162,9],[1162,10,1162,19],[1163,5,1164,5],[1163,6,1164,7],[1163,8,1164,8],[1163,9,1163,19],[1163,20,1170,28],[1164,9,1164,11],[1164,12,1164,14],[1164,15,1164,17],[1164,18,1164,19],[1165,5,1166,5],[1165,8,1166,8],[1165,9,1165,11],[1165,12,1165,14],[1165,15,1165,17],[1165,18,1165,19],[1166,9,1166,11],[1166,12,1166,14],[1166,15,1166,17],[1166,18,1166,19],[1169,6,1169,7],[1170,6,1170,7],[1148,20,1154,28],[1150,6,1150,9],[1150,10,1150,14],[1150,15,1150,19],[1151,6,1151,9],[1151,10,1151,14],[1151,15,1151,19],[1152,6,1152,9],[1152,10,1152,14],[1152,15,1152,19],[1153,5,1153,9],[1153,10,1153,14],[1153,15,1153,19],[1154,5,1154,9],[1154,10,1154,14],[1154,15,1154,19],[1156,20,1158,28],[1133,4,1154,4],[1133,5,1135,9],[1133,10,1135,19],[1146,5,1147,5],[1146,8,1147,8],[1146,9,1146,11],[1146,12,1146,14],[1146,15,1146,17],[1146,18,1146,19],[1147,9,1147,11],[1147,12,1147,14],[1147,15,1147,17],[1147,18,1147,19],[1144,5,1145,5],[1144,8,1145,8],[1144,9,1144,11],[1144,12,1144,14],[1144,15,1144,17],[1144,18,1144,19],[1145,9,1145,11],[1145,12,1145,14],[1145,15,1145,17],[1145,18,1145,19],[1148,5,1149,5],[1148,6,1149,9],[1148,10,1149,14],[1148,15,1149,19],[1136,5,1136,9],[1136,10,1136,19],[1137,5,1139,7],[1137,8,1137,9],[1137,10,1137,13],[1137,14,1137,15],[1137,16,1137,19],[1137,20,1139,28],[1138,8,1138,9],[1138,10,1138,13],[1138,14,1138,15],[1138,16,1138,19],[1139,8,1139,9],[1139,10,1139,19],[1140,5,1141,5],[1140,6,1141,7],[1140,8,1141,8],[1140,9,1140,19],[1140,20,1147,28],[1141,9,1141,11],[1141,12,1141,14],[1141,15,1141,17],[1141,18,1141,19],[1142,5,1143,5],[1142,8,1143,8],[1142,9,1142,11],[1142,12,1142,14],[1142,15,1142,17],[1142,18,1142,19],[1143,9,1143,11],[1143,12,1143,14],[1143,15,1143,17],[1143,18,1143,19],[1125,20,1131,28],[1127,6,1127,9],[1127,10,1127,14],[1127,15,1127,19],[1128,6,1128,9],[1128,10,1128,14],[1128,15,1128,19],[1129,6,1129,9],[1129,10,1129,14],[1129,15,1129,19],[1130,5,1130,9],[1130,10,1130,14],[1130,15,1130,19],[1131,5,1131,9],[1131,10,1131,14],[1131,15,1131,19],[1133,20,1135,28],[1110,4,1131,4],[1110,5,1112,9],[1110,10,1112,19],[1123,5,1124,5],[1123,8,1124,8],[1123,9,1123,11],[1123,12,1123,14],[1123,15,1123,17],[1123,18,1123,19],[1124,9,1124,11],[1124,12,1124,14],[1124,15,1124,17],[1124,18,1124,19],[1121,5,1122,5],[1121,8,1122,8],[1121,9,1121,11],[1121,12,1121,14],[1121,15,1121,17],[1121,18,1121,19],[1122,9,1122,11],[1122,12,1122,14],[1122,15,1122,17],[1122,18,1122,19],[1125,5,1126,5],[1125,6,1126,9],[1125,10,1126,14],[1125,15,1126,19],[1113,5,1113,9],[1113,10,1113,19],[1114,5,1116,7],[1114,8,1114,9],[1114,10,1114,13],[1114,14,1114,15],[1114,16,1114,19],[1114,20,1116,28],[1115,8,1115,9],[1115,10,1115,13],[1115,14,1115,15],[1115,16,1115,19],[1116,8,1116,9],[1116,10,1116,19],[1117,5,1118,5],[1117,6,1118,7],[1117,8,1118,8],[1117,9,1117,19],[1117,20,1124,28],[1118,9,1118,11],[1118,12,1118,14],[1118,15,1118,17],[1118,18,1118,19],[1119,5,1120,5],[1119,8,1120,8],[1119,9,1119,11],[1119,12,1119,14],[1119,15,1119,17],[1119,18,1119,19],[1120,9,1120,11],[1120,12,1120,14],[1120,15,1120,17],[1120,18,1120,19],[1119,6,1119,7],[1102,20,1108,28],[1104,6,1104,9],[1104,10,1104,14],[1104,15,1104,19],[1105,6,1105,9],[1105,10,1105,14],[1105,15,1105,19],[1106,6,1106,9],[1106,10,1106,14],[1106,15,1106,19],[1107,5,1107,9],[1107,10,1107,14],[1107,15,1107,19],[1108,5,1108,9],[1108,10,1108,14],[1108,15,1108,19],[1110,20,1112,28],[1087,4,1108,4],[1087,5,1089,9],[1087,10,1089,19],[1100,5,1101,5],[1100,8,1101,8],[1100,9,1100,11],[1100,12,1100,14],[1100,15,1100,17],[1100,18,1100,19],[1101,9,1101,11],[1101,12,1101,14],[1101,15,1101,17],[1101,18,1101,19],[1098,5,1099,5],[1098,8,1099,8],[1098,9,1098,11],[1098,12,1098,14],[1098,15,1098,17],[1098,18,1098,19],[1099,9,1099,11],[1099,12,1099,14],[1099,15,1099,17],[1099,18,1099,19],[1102,5,1103,5],[1102,6,1103,9],[1102,10,1103,14],[1102,15,1103,19],[1090,5,1090,9],[1090,10,1090,19],[1091,5,1093,7],[1091,8,1091,9],[1091,10,1091,13],[1091,14,1091,15],[1091,16,1091,19],[1091,20,1093,28],[1092,8,1092,9],[1092,10,1092,13],[1092,14,1092,15],[1092,16,1092,19],[1093,8,1093,9],[1093,10,1093,19],[1094,5,1095,5],[1094,6,1095,7],[1094,8,1095,8],[1094,9,1094,19],[1094,20,1101,28],[1095,9,1095,11],[1095,12,1095,14],[1095,15,1095,17],[1095,18,1095,19],[1096,5,1097,5],[1096,8,1097,8],[1096,9,1096,11],[1096,12,1096,14],[1096,15,1096,17],[1096,18,1096,19],[1097,9,1097,11],[1097,12,1097,14],[1097,15,1097,17],[1097,18,1097,19],[1079,20,1085,28],[1081,6,1081,9],[1081,10,1081,14],[1081,15,1081,19],[1082,6,1082,9],[1082,10,1082,14],[1082,15,1082,19],[1083,6,1083,9],[1083,10,1083,14],[1083,15,1083,19],[1084,5,1084,9],[1084,10,1084,14],[1084,15,1084,19],[1085,5,1085,9],[1085,10,1085,14],[1085,15,1085,19],[1087,20,1089,28],[1064,4,1085,4],[1064,5,1066,9],[1064,10,1066,19],[1077,5,1078,5],[1077,8,1078,8],[1077,9,1077,11],[1077,12,1077,14],[1077,15,1077,17],[1077,18,1077,19],[1078,9,1078,11],[1078,12,1078,14],[1078,15,1078,17],[1078,18,1078,19],[1075,5,1076,5],[1075,8,1076,8],[1075,9,1075,11],[1075,12,1075,14],[1075,15,1075,17],[1075,18,1075,19],[1076,9,1076,11],[1076,12,1076,14],[1076,15,1076,17],[1076,18,1076,19],[1079,5,1080,5],[1079,6,1080,9],[1079,10,1080,14],[1079,15,1080,19],[1067,5,1067,9],[1067,10,1067,19],[1068,5,1070,7],[1068,8,1068,9],[1068,10,1068,13],[1068,14,1068,15],[1068,16,1068,19],[1068,20,1070,28],[1069,8,1069,9],[1069,10,1069,13],[1069,14,1069,15],[1069,16,1069,19],[1070,8,1070,9],[1070,10,1070,19],[1071,5,1072,5],[1071,6,1072,7],[1071,8,1072,8],[1071,9,1071,19],[1071,20,1078,28],[1072,9,1072,11],[1072,12,1072,14],[1072,15,1072,17],[1072,18,1072,19],[1073,5,1074,5],[1073,8,1074,8],[1073,9,1073,11],[1073,12,1073,14],[1073,15,1073,17],[1073,18,1073,19],[1074,9,1074,11],[1074,12,1074,14],[1074,15,1074,17],[1074,18,1074,19],[1073,6,1073,7],[1074,6,1074,7],[1075,6,1075,7],[1076,6,1076,7],[1056,20,1062,28],[1058,6,1058,9],[1058,10,1058,14],[1058,15,1058,19],[1059,6,1059,9],[1059,10,1059,14],[1059,15,1059,19],[1060,6,1060,9],[1060,10,1060,14],[1060,15,1060,19],[1061,5,1061,9],[1061,10,1061,14],[1061,15,1061,19],[1062,5,1062,9],[1062,10,1062,14],[1062,15,1062,19],[1064,20,1066,28],[1041,4,1062,4],[1041,5,1043,9],[1041,10,1043,19],[1054,5,1055,5],[1054,8,1055,8],[1054,9,1054,11],[1054,12,1054,14],[1054,15,1054,17],[1054,18,1054,19],[1055,9,1055,11],[1055,12,1055,14],[1055,15,1055,17],[1055,18,1055,19],[1052,5,1053,5],[1052,8,1053,8],[1052,9,1052,11],[1052,12,1052,14],[1052,15,1052,17],[1052,18,1052,19],[1053,9,1053,11],[1053,12,1053,14],[1053,15,1053,17],[1053,18,1053,19],[1056,5,1057,5],[1056,6,1057,9],[1056,10,1057,14],[1056,15,1057,19],[1044,5,1044,9],[1044,10,1044,19],[1045,5,1047,7],[1045,8,1045,9],[1045,10,1045,13],[1045,14,1045,15],[1045,16,1045,19],[1045,20,1047,28],[1046,8,1046,9],[1046,10,1046,13],[1046,14,1046,15],[1046,16,1046,19],[1047,8,1047,9],[1047,10,1047,19],[1048,5,1049,5],[1048,6,1049,7],[1048,8,1049,8],[1048,9,1048,19],[1048,20,1055,28],[1049,9,1049,11],[1049,12,1049,14],[1049,15,1049,17],[1049,18,1049,19],[1050,5,1051,5],[1050,8,1051,8],[1050,9,1050,11],[1050,12,1050,14],[1050,15,1050,17],[1050,18,1050,19],[1051,9,1051,11],[1051,12,1051,14],[1051,15,1051,17],[1051,18,1051,19],[1050,6,1050,7],[1054,6,1054,7],[1055,6,1055,7],[1052,6,1052,7],[1033,20,1039,28],[1035,6,1035,9],[1035,10,1035,14],[1035,15,1035,19],[1036,6,1036,9],[1036,10,1036,14],[1036,15,1036,19],[1037,6,1037,9],[1037,10,1037,14],[1037,15,1037,19],[1038,5,1038,9],[1038,10,1038,14],[1038,15,1038,19],[1039,5,1039,9],[1039,10,1039,14],[1039,15,1039,19],[1041,20,1043,28],[1018,4,1039,4],[1018,5,1020,9],[1018,10,1020,19],[1031,5,1032,5],[1031,8,1032,8],[1031,9,1031,11],[1031,12,1031,14],[1031,15,1031,17],[1031,18,1031,19],[1032,9,1032,11],[1032,12,1032,14],[1032,15,1032,17],[1032,18,1032,19],[1029,5,1030,5],[1029,8,1030,8],[1029,9,1029,11],[1029,12,1029,14],[1029,15,1029,17],[1029,18,1029,19],[1030,9,1030,11],[1030,12,1030,14],[1030,15,1030,17],[1030,18,1030,19],[1033,5,1034,5],[1033,6,1034,9],[1033,10,1034,14],[1033,15,1034,19],[1021,5,1021,9],[1021,10,1021,19],[1022,5,1024,7],[1022,8,1022,9],[1022,10,1022,13],[1022,14,1022,15],[1022,16,1022,19],[1022,20,1024,28],[1023,8,1023,9],[1023,10,1023,13],[1023,14,1023,15],[1023,16,1023,19],[1024,8,1024,9],[1024,10,1024,19],[1025,5,1026,5],[1025,6,1026,7],[1025,8,1026,8],[1025,9,1025,19],[1025,20,1032,28],[1026,9,1026,11],[1026,12,1026,14],[1026,15,1026,17],[1026,18,1026,19],[1027,5,1028,5],[1027,8,1028,8],[1027,9,1027,11],[1027,12,1027,14],[1027,15,1027,17],[1027,18,1027,19],[1028,9,1028,11],[1028,12,1028,14],[1028,15,1028,17],[1028,18,1028,19],[1010,20,1016,28],[1012,6,1012,9],[1012,10,1012,14],[1012,15,1012,19],[1013,6,1013,9],[1013,10,1013,14],[1013,15,1013,19],[1014,6,1014,9],[1014,10,1014,14],[1014,15,1014,19],[1015,5,1015,9],[1015,10,1015,14],[1015,15,1015,19],[1016,5,1016,9],[1016,10,1016,14],[1016,15,1016,19],[1018,20,1020,28],[995,4,1016,4],[995,5,997,9],[995,10,997,19],[1008,5,1009,5],[1008,8,1009,8],[1008,9,1008,11],[1008,12,1008,14],[1008,15,1008,17],[1008,18,1008,19],[1009,9,1009,11],[1009,12,1009,14],[1009,15,1009,17],[1009,18,1009,19],[1006,5,1007,5],[1006,8,1007,8],[1006,9,1006,11],[1006,12,1006,14],[1006,15,1006,17],[1006,18,1006,19],[1007,9,1007,11],[1007,12,1007,14],[1007,15,1007,17],[1007,18,1007,19],[1010,5,1011,5],[1010,6,1011,9],[1010,10,1011,14],[1010,15,1011,19],[998,5,998,9],[998,10,998,19],[999,5,1001,7],[999,8,999,9],[999,10,999,13],[999,14,999,15],[999,16,999,19],[999,20,1001,28],[1000,8,1000,9],[1000,10,1000,13],[1000,14,1000,15],[1000,16,1000,19],[1001,8,1001,9],[1001,10,1001,19],[1002,5,1003,5],[1002,6,1003,7],[1002,8,1003,8],[1002,9,1002,19],[1002,20,1009,28],[1003,9,1003,11],[1003,12,1003,14],[1003,15,1003,17],[1003,18,1003,19],[1004,5,1005,5],[1004,8,1005,8],[1004,9,1004,11],[1004,12,1004,14],[1004,15,1004,17],[1004,18,1004,19],[1005,9,1005,11],[1005,12,1005,14],[1005,15,1005,17],[1005,18,1005,19],[987,20,993,28],[989,6,989,9],[989,10,989,14],[989,15,989,19],[990,6,990,9],[990,10,990,14],[990,15,990,19],[991,6,991,9],[991,10,991,14],[991,15,991,19],[992,5,992,9],[992,10,992,14],[992,15,992,19],[993,5,993,9],[993,10,993,14],[993,15,993,19],[995,20,997,28],[972,4,993,4],[972,5,974,9],[972,10,974,19],[985,5,986,5],[985,8,986,8],[985,9,985,11],[985,12,985,14],[985,15,985,17],[985,18,985,19],[986,9,986,11],[986,12,986,14],[986,15,986,17],[986,18,986,19],[983,5,984,5],[983,8,984,8],[983,9,983,11],[983,12,983,14],[983,15,983,17],[983,18,983,19],[984,9,984,11],[984,12,984,14],[984,15,984,17],[984,18,984,19],[987,5,988,5],[987,6,988,9],[987,10,988,14],[987,15,988,19],[975,5,975,9],[975,10,975,19],[976,5,978,7],[976,8,976,9],[976,10,976,13],[976,14,976,15],[976,16,976,19],[976,20,978,28],[977,8,977,9],[977,10,977,13],[977,14,977,15],[977,16,977,19],[978,8,978,9],[978,10,978,19],[979,5,980,5],[979,6,980,7],[979,8,980,8],[979,9,979,19],[979,20,986,28],[980,9,980,11],[980,12,980,14],[980,15,980,17],[980,18,980,19],[981,5,982,5],[981,8,982,8],[981,9,981,11],[981,12,981,14],[981,15,981,17],[981,18,981,19],[982,9,982,11],[982,12,982,14],[982,15,982,17],[982,18,982,19],[981,6,981,7],[982,6,982,7],[983,6,983,7],[984,6,984,7],[964,20,970,28],[966,6,966,9],[966,10,966,14],[966,15,966,19],[967,6,967,9],[967,10,967,14],[967,15,967,19],[968,6,968,9],[968,10,968,14],[968,15,968,19],[969,5,969,9],[969,10,969,14],[969,15,969,19],[970,5,970,9],[970,10,970,14],[970,15,970,19],[972,20,974,28],[949,4,970,4],[949,5,951,9],[949,10,951,19],[962,5,963,5],[962,8,963,8],[962,9,962,11],[962,12,962,14],[962,15,962,17],[962,18,962,19],[963,9,963,11],[963,12,963,14],[963,15,963,17],[963,18,963,19],[960,5,961,5],[960,8,961,8],[960,9,960,11],[960,12,960,14],[960,15,960,17],[960,18,960,19],[961,9,961,11],[961,12,961,14],[961,15,961,17],[961,18,961,19],[964,5,965,5],[964,6,965,9],[964,10,965,14],[964,15,965,19],[952,5,952,9],[952,10,952,19],[953,5,955,7],[953,8,953,9],[953,10,953,13],[953,14,953,15],[953,16,953,19],[953,20,955,28],[954,8,954,9],[954,10,954,13],[954,14,954,15],[954,16,954,19],[955,8,955,9],[955,10,955,19],[956,5,957,5],[956,6,957,7],[956,8,957,8],[956,9,956,19],[956,20,963,28],[957,9,957,11],[957,12,957,14],[957,15,957,17],[957,18,957,19],[958,5,959,5],[958,8,959,8],[958,9,958,11],[958,12,958,14],[958,15,958,17],[958,18,958,19],[959,9,959,11],[959,12,959,14],[959,15,959,17],[959,18,959,19],[962,6,962,7],[963,6,963,7],[941,20,947,28],[943,6,943,9],[943,10,943,14],[943,15,943,19],[944,6,944,9],[944,10,944,14],[944,15,944,19],[945,6,945,9],[945,10,945,14],[945,15,945,19],[946,5,946,9],[946,10,946,14],[946,15,946,19],[947,5,947,9],[947,10,947,14],[947,15,947,19],[949,20,951,28],[926,4,947,4],[926,5,928,9],[926,10,928,19],[939,5,940,5],[939,8,940,8],[939,9,939,11],[939,12,939,14],[939,15,939,17],[939,18,939,19],[940,9,940,11],[940,12,940,14],[940,15,940,17],[940,18,940,19],[937,5,938,5],[937,8,938,8],[937,9,937,11],[937,12,937,14],[937,15,937,17],[937,18,937,19],[938,9,938,11],[938,12,938,14],[938,15,938,17],[938,18,938,19],[941,5,942,5],[941,6,942,9],[941,10,942,14],[941,15,942,19],[929,5,929,9],[929,10,929,19],[930,5,932,7],[930,8,930,9],[930,10,930,13]],"merged_total":4359,"flags":["merged_cut"]}
[null,null,null,null,null,null,null,null,null,null,null,null,null,null,null,null,null,null,null,null,null,null,null,null,null,null,null,null,null,null,null,null,null,null,null,null,null,null,null,null,null,null,null,null,null,null,null,null,null,null,null,null,null,null,null,null,{"$f":"J17","v":0},{"$f":"J21","v":0},{"$f":"Q21","v":0}]
[null,null,null,null,"■入力必須項目残数　*（アスタリスク）の箇所は入力必須項目です（入力に不備があった場合は再提出となる場合があります）",null,null,null,null,null,null,null,null,null,null,null,null,null,null,null,null,null,null,null,null,null,"  ■各合計金額",null,null,null,null,null,null,null,null,null,null,null,null,null,null,null,null,null,null,null,null,null,null,null,null,null,null,null,null,null,{"$f":"J72","v":0},{"$f":"リンク貼付用シート!A4","v":0},{"$f":"リンク貼付用シート!D4","v":0},{"$f":"リンク貼付用シート!G4","v":0}]
[null,null,null,null,null,null,null,null,null,null,null,null,null,null,null,null,null,null,null,null,null,null,null,null,null,null,null,null,null,null,null,null,null,null,null,null,null,null,null,null,null,null,null,null,null,null,null,null,null,null,null,null,null,null,null,null,{"$f":"J32","v":0}]
[]
[]
[]
[]
[]
[]
[]
[]
[]
[]
[null,null,null,null,"■入力フォーム",null,null,null,null,null,null,null,null,null,null,null,null,null,null,null,"■入力ガイド",null,null,"※入力に不備があった場合は再提出となる場合があります"]
[null,null,null,null,"書類作成日＊",null,null,null,null,"令和",null,null,null,"年",null,null,"月",null,null,"日","当書類の作成日を入力して下さい"]
[null,null,null,null,"１．申請者情報"]
[null,null,null,null,"法人名（個人事業主の場合は\n商号・屋号等）＊",null,null,null,null,null,null,null,null,null,null,null,null,null,null,null,"・漢字平仮名は全角、英数字は半角で入力して下さい\n・登記した際の名称を正しく記載して下さい"]
[]
[null,null,null,null,"法人・個人事業主\nの選択＊",null,null,"<以下から選択>\n「1」法人\n「2」個人事業主",null,null,null,{"$f":"IF(J19=1,\"法人\",IF(J19=2,\"個人事業主\",\"\"))","v":""},null,null,null,null,null,null,null,null,"法人は「1」を個人事業主は「2」を入力して下さい"]
[null,null,null,null,"代表者氏名＊",null,null,"フリガナ",null,null,null,null,null,null,"フリガナ",null,null,null,null,null,"全角カタカナで入力して下さい"]
[null,null,null,null,null,null,null,"姓",null,null,null,null,null,null,"名",null,null,null,null,null,"全角で入力して下さい"]
[null,null,null,null,"代表者役職",null,null,null,null,null,null,null,null,null,null,null,null,null,null,null,"全角で入力して下さい　※個人事業主は入力不要です"]
[null,null,null,null,"会社所在地\n（個人事業主の場合は自宅住所）",null,null,"郵便番号＊",null,null,null,null,null,null,"　都道府県＊",null,null,null,null,null,"・郵便番号はハイフンは入れず数字７桁で入力して下さい\n・町名は市区町村欄に入力して下さい\n・丁目、番地の表記はハイフンで入力して下さい\n・番地、建物名称が無い場合は入力不要です"]
[null,null,null,null,null,null,null,"市区町村＊",null,null,null,null,null,null,"番地"]
[null,null,null,null,null,null,null,"建物名称"]
[]
[null,null,null,null,"２．本交付申請書に係る質問等連絡先及び担当者名"]
[null,null,null,null,"　担当者氏名＊",null,null,"姓",null,null,null,null,null,null,"名",null,null,null,null,null,"全角で入力して下さい"]
[null,null,null,null,"担当部署",null,null,null,null,null,null,null,null,null,"担当者役職",null,null,null,null,null,"漢字平仮名は全角、英数字は半角で入力して下さい"]
[null,null,null,null,"質問等連絡先",null,null,"　電話＊",null,null,null,null,"-",null,null,null,"-",null,null,null,"ハイフンで区切って３分割して入力して下さい"]
[null,null,null,null,null,null,null,"FAX",null,null,null,null,"-",null,null,null,"-",null,null,null,"ハイフンで区切って３分割して入力して下さい"]
[null,null,null,null,null,null,null,"　E-mail＊",null,null,null,null,null,null,null,null,null,null,null,null,"当該様式を送信する際の担当者メールアドレスを記載して下さい"]
[]
[null,null,null,null,"３．【郵送申請者のみ】通知書送付方法　※メール申請者は記入不要"]
[null,null,null,null,"送付方法＊",null,"<以下から選択>\n「1」メール\n「2」郵送（会社所在地）\n「3」郵送（会社所在地以外）",null,null,1,null,{"$f":"IF(J35=1,\"メール送付を希望\",IF(J35=2,\"会社所在地への郵送を希望\",IF(J35=3,\"会社所在地以外の住所へ郵送を希望\",\"\")))","v":"メール送付を希望"},null,null,null,null,null,null,null,null,"メール送付を希望する場合は「1」を\n会社所在地への郵送を希望する場合は「2」を\n会社所在地以外の住所へ郵送を希望する場合は「3」を入力して下さい"]
[]
[null,null,null,null," ※上記で「3」を選択した場合は記入が必要"]
[null,null,null,null,"送付先法人名・屋号等",null,null,null,null,null,null,null,null,null,null,null,null,null,null,null,"漢字平仮名は全角、英数字は半角で入力して下さい"]
[null,null,null,null,"送付先住所",null,null,"郵便番号",null,null,null,null,null,null,"都道府県",null,null,null,null,null,"・郵便番号はハイフンは入れず数字７桁で入力して下さい\n・町名は市区町村欄に入力して下さい\n・丁目、番地の表記はハイフンで入力して下さい\n・番地、建物名称が無い場合は入力不要です"]
[null,null,null,null,null,null,null,"市区町村",null,null,null,null,null,null,"番地"]
[null,null,null,null,null,null,null,"建物名称"]
[null,null,null,null,"送付先担当者の選択",null,"<以下から選択>\n「1」代表者と同一\n「2」担当者と同一\n「3」代表者と担当者以外",null,null,null,null,{"$f":"IF(J42=3,\"代表者、担当者以外\",IF(J42=1,\"代表者\",IF(J42=2,\"担当者\",\"\")))","v":""},null,null,null,null,null,null,null,null,"「送付先担当者」が代表者と同一の場合は「1」を担当者と同一の場合は「2」を代表者と担当者以外の場合は「3」を入力して下さい"]
[]
[null,null,null,null,"送付先担当者氏名",null,null,"姓",null,null,null,null,null,null,"名",null,null,null,null,null,"全角で入力して下さい"]
[null,null,null,null,"送付先担当部署",null,null,null,null,null,null,null,null,null,"送付先担当者役職",null,null,null,null,null,"漢字平仮名は全角、英数字は半角で入力して下さい"]
[]
[null,null,null,null,"４．様式関連"]
[null,null,null,null,"様式第１の文書番号",null,null,null,null,null,null,null,null,null,null,null,null,null,null,null,"申請者側の文書管理番号を入力して下さい\n※文書管理番号が無い、あるいは記載の必要がない場合は入力不要です"]
[null,null,null,null,"補助事業の完了予定年月日＊",null,null,null,null,"令和",null,null,null,"年",null,null,"月",null,null,"日","・申請日～事業完了期限までの期間で入力して下さい\n※事業完了期限：令和４年１月１４日"]
[]
[]
[null,null,null,null,"５．役員名簿"]
[null,null,null,null,"役職名",null,null,"氏名　漢　字",null,null,null,"氏名　カ　ナ",null,null,null,"生年月日＊",null,null,null,"性別＊","・「役職名」「氏名」：全角で入力して下さい\n・「氏名 」「カナ」：全角カタカナで入力して下さい\n・「和暦」：生年月日に当てはまる元号を選択して下さい\n・「年」「月」「日」：半角数字を入力して下さい\n・「性別」：当てはまる方を選択して下さい"]
[null,null,null,null,null,null,null,"姓",null,"名",null,"セイ",null,"メイ",null,"和暦","年","月","日"]
[null,null,null,null,{"$f":"J22&\"\"","v":""},null,null,{"$f":"J21&\"\"","v":""},null,{"$f":"Q21&\"\"","v":""},null,{"$f":"J20&\"\"","v":""},null,{"$f":"Q20&\"\"","v":""}]
[]
[]
[]
[]
[]
[]
[]
[]
[]
[]
[]
[]
[]
[]
[]
[null,null,null,null,"６．申請する事業場とスキャンツールについて ※①～③の順に従って入力して下さい"]
[1,null,null,null,"① 申請合計事業場数＊",null,null,null,null,null,"※申請する事業場の合計事業場数を入力して下さい"]
[]
[null,null,null,null,"② 申請合計機器数＊",null,null,null,null,null,"※申請するスキャンツールの全事業場の合計台数を入力して下さい",null,null,null,null,null,null,null,null,null,null,null,null,null,null,null,null,null,null,null,null,null,null,"式","事業場数","10事業場毎の補助事業に要する経費合計","10事業場毎の補助対象経費合計","10事業場毎の補助金の額合計"]
[null,null,null,null,"③ ↑の①②を入力後に↓のボタンを必ず押下して下さい＊"]
[{"$f":"(50+$B76)-A$72","v":50},1,null,null,"事業場１＊","認証・指定・認定番号\nまたは、整備士合格証書番号＊",null,null,null,null,null,null,null,null,null,null,null,null,null,null,"以下のいずれかを入力\n・事業場の認証書の認定番号\n・指定書の指定番号\n・事業場に在籍する整備士の整備士合格証書番号",null,null,null,null,null,null,null,null,null,null,null,null,{"$f":"(50+$AI76)-A$72","v":50},"1",{"$f":"SUM($G93:$J95+$G116:$J118+$G139:$J141+$G162:$J164+$G185:$J187+$G208:$J210+$G231:$J233+$G254:$J256+$G277:$J279+G300:J302)","v":0},{"$f":"$F97+$F120+$F143+$F166+$F189+$F212+$F235+$F258+$F281+$F304","v":0},{"$f":"$P97+$P120+$P143+$P166+$P189+$P212+$P235+$P258+$P281+$P304","v":0}]
[50,1,null,null,null,null,null,null,null,null,null,null,null,null,null,null,null,null,null,null,null,null,null,null,null,null,null,null,null,null,null,null,null,{"$f":"(50+$AI77)-A$72","v":50},"1"]
[50,1,null,null,null,null,null,null,null,null,null,null,null,null,null,null,null,null,null,null,null,null,null,null,null,null,null,null,null,null,null,null,null,50,"1"]
[50,1,null,null,null,"設備を設置する事業場名＊",null,null,null,null,null,null,null,null,null,null,null,null,null,null,"漢字平仮名は全角、英数字は半角で入力して下さい",null,null,null,null,null,null,null,null,null,null,null,null,50,"1"]
[50,1,null,null,null,"事業場住所＊",null,null,"郵便番号",null,null,null,null,null,"都道府県",null,null,null,null,null,"・郵便番号はハイフンは入れず数字７桁で入力して下さい\n・町名は市区町村欄に入力して下さい\n・丁目、番地の表記はハイフンで入力して下さい\n・番地、建物名称が無い場合は入力不要です",null,null,null,null,null,null,null,null,null,null,null,null,50,"1"]
[50,1,null,null,null,null,null,null,"市区町村",null,null,null,null,null,"番地",null,null,null,null,null,null,null,null,null,null,null,null,null,null,null,null,null,null,50,"1"]
[50,1,null,null,null,null,null,null,"建物名称",null,null,null,null,null,null,null,null,null,null,null,null,null,null,null,null,null,null,null,null,null,null,null,null,50,"1"]
[50,1,null,null,null,"申請\n機器","機器一覧の\n掲載有無",null,"コード\n番号","申請スキャンツール",null,null,null,null,null,null,null,null,null,null,"①申請する機器がホームページ掲載資料の「補助対象機器一覧」に該当するか確認して下さい\n②該当の有無を「機器一覧の掲載有無」のチェックボックスで選択して下さい\n　 ※必要箇所のグレーアウトが解除されます\n【掲載されているを選択した場合】\n　・ホームページ掲載の「補助対象機器一覧」の各ページ左側「交付申請時のコード番号」\n　　（４～５桁の英数字）を確認し「コード番号」に入力して下さい\n　・入力後メーカー名～ソフトのバージョンに申請機器の情報が自動で表示されている事を\n　　確認して下さい\n【掲載されていないを選択した場合】\n　・「申請スキャンツール」に入力欄が表示されますので申請する機器の情報を入力して下さい\n　例：メーカー名●●　型式●●　品番●●　バージョン●●\n③同一事業場で２台申請する際は２台目を空欄にせず上に詰めて入力して下さい",null,null,null,null,null,null,null,null,null,null,null,null,50,"1"]
[50,1,null,null,null,null,null,null,null,"メーカー名",null,null,"名称・型式",null,null,"品　　番",null,null,"ソフトのバージョン",null,null,null,null,null,null,null,null,null,null,null,null,null,null,50,"1"]
[50,1,null,null,null,"１台目","掲載されている　　",null,null,{"$f":"IFERROR(VLOOKUP($I85,補助対象機器一覧0916!$A$1:$E$75,2,FALSE),\"\")","v":""},null,null,{"$f":"IFERROR(VLOOKUP($I85,補助対象機器一覧0916!$A$1:$E$75,3,FALSE),\"\")","v":""},null,null,{"$f":"IFERROR(VLOOKUP($I85,補助対象機器一覧0916!$A$1:$E$75,4,FALSE),\"\")","v":""},null,null,{"$f":"IFERROR(VLOOKUP($I85,補助対象機器一覧0916!$A$1:$E$75,5,FALSE),\"\")","v":""},null,null,null,null,null,null,null,null,null,null,false,null,{"$f":"IF(OR(AND(AD85=TRUE,I85<>\"\"),AND(AD86=TRUE,J86<>\"\")),1,\"\")","v":""},null,50,"1"]
[null,null,null,null,null,null,"掲載されていない ",null,null,null,null,null,null,null,null,null,null,null,null,null,null,null,null,null,null,null,null,null,null,false,null,null,null,50,"1"]
[{"$f":"(50+$B87)-A$72","v":50},1,null,null,null,"２台目","掲載されている　　",null,null,{"$f":"IFERROR(VLOOKUP($I87,補助対象機器一覧0916!$A$1:$E$75,2,FALSE),\"\")","v":""},null,null,{"$f":"IFERROR(VLOOKUP($I87,補助対象機器一覧0916!$A$1:$E$75,3,FALSE),\"\")","v":""},null,null,{"$f":"IFERROR(VLOOKUP($I87,補助対象機器一覧0916!$A$1:$E$75,4,FALSE),\"\")","v":""},null,null,{"$f":"IFERROR(VLOOKUP($I87,補助対象機器一覧0916!$A$1:$E$75,5,FALSE),\"\")","v":""},null,null,null,null,null,null,null,null,null,null,false,null,null,null,50,"1"]
[null,null,null,null,null,null,"掲載されていない ",null,null,null,null,null,null,null,null,null,null,null,null,null,null,null,null,null,null,null,null,null,null,false,null,null,null,50,"1"]
[{"$f":"(50+$B89)-A$72","v":50},1,null,null,null,"３台目","掲載されている　　",null,null,{"$f":"IFERROR(VLOOKUP($I89,補助対象機器一覧0916!$A$1:$E$75,2,FALSE),\"\")","v":""},null,null,{"$f":"IFERROR(VLOOKUP($I89,補助対象機器一覧0916!$A$1:$E$75,3,FALSE),\"\")","v":""},null,null,{"$f":"IFERROR(VLOOKUP($I89,補助対象機器一覧0916!$A$1:$E$75,4,FALSE),\"\")","v":""},null,null,{"$f":"IFERROR(VLOOKUP($I89,補助対象機器一覧0916!$A$1:$E$75,5,FALSE),\"\")","v":""},null,null,null,null,null,null,null,null,null,null,false,null,null,null,50,"1"]
[null,null,null,null,null,null,"掲載されていない ",null,null,null,null,null,null,null,null,null,null,null,null,null,null,null,null,null,null,null,null,null,null,false,null,null,null,50,"1"]
[{"$f":"(50+$B91)-A$72","v":50},1,null,null,null,"申請\n機器","補助事業に要する経費",null,null,null,"スキャンツールの価格",null,null,null,null,"情報端末価格",null,null,null,null,"・「補助事業に要する経費」は補助対象外も含む全ての経費を機器毎に分けて入力して下さい\n・「スキャンツールの価格」は正見積書のスキャンツール単体の価格を機器毎に\n　分けて入力して下さい\n・「情報端末価格」は正見積書の情報端末単体の価格を機器毎に分けて入力して下さい",null,null,null,null,null,null,null,null,null,null,null,null,50,"1"]
[{"$f":"(50+$B92)-A$72","v":50},1,null,null,null,null,null,null,null,null,null,null,null,null,null,null,null,null,null,null,null,null,null,null,null,null,null,null,null,null,null,null,null,50,"1"]
[{"$f":"(50+$B93)-A$72","v":50},1,null,null,null,"１台目",null,null,null,null,null,null,null,null,null,null,null,null,null,null,null,null,null,null,null,null,null,null,null,null,null,{"$f":"G93-SUM(K93:T93)","v":0},null,50,"1"]
[{"$f":"(50+$B94)-A$72","v":50},1,null,null,null,"２台目",null,null,null,null,null,null,null,null,null,null,null,null,null,null,null,null,null,null,null,null,null,null,null,null,null,{"$f":"G94-SUM(K94:T94)","v":0},null,50,"1"]
[{"$f":"(50+$B95)-A$72","v":50},1,null,null,null,"３台目",null,null,null,null,null,null,null,null,null,null,null,null,null,null,null,null,null,null,null,null,null,null,null,null,null,0,null,50,"1"]
[null,null,null,null,null,"補助対象経費",null,null,null,null,"補助率",null,null,null,null,"補助金の額",null,null,null,null,null,null,null,null,null,null,null,null,null,null,null,null,null,50,"1"]
[null,null,null,null,null,{"$f":"(K93+P93)+(K94+P94)+(K95+P95)","v":0},null,null,null,null,{"$f":"IF(G93=\"\",\"\",\"1/3\")","v":""},null,null,null,null,{"$f":"IF($F97<>\"\",IF($F97/3>150000,150000,ROUNDDOWN($F97/3,-3)),\"\")","v":0},null,null,null,null,null,null,null,null,null,null,null,null,null,null,null,null,null,50,"1"]
[{"$f":"(50+$B98)-A$72","v":49},null,null,null,null,null,null,null,null,null,null,null,null,null,null,null,null,null,null,null,null,null,null,null,null,null,null,null,null,null,null,null,null,50,"1"]
[50,1,null,null,"事業場２","認証・指定・認定番号\nまたは、整備士合格証書番号",null,null,null,null,null,null,null,null,null,null,null,null,null,null,"以下のいずれかを入力\n・事業場の認証書の認定番号\n・指定書の指定番号\n・事業場に在籍する整備士の整備士合格証書番号",null,null,null,null,null,null,null,null,null,null,null,null,51,"2"]
[50,1,null,null,null,null,null,null,null,null,null,null,null,null,null,null,null,null,null,null,null,null,null,null,null,null,null,null,null,null,null,null,null,51,"2"]
[50,1,null,null,null,null,null,null,null,null,null,null,null,null,null,null,null,null,null,null,null,null,null,null,null,null,null,null,null,null,null,null,null,51,"2"]
[50,1,null,null,null,"設備を設置する事業場名",null,null,null,null,null,null,null,null,null,null,null,null,null,null,"漢字平仮名は全角、英数字は半角で入力して下さい",null,null,null,null,null,null,null,null,null,null,null,null,51,"2"]
[50,1,null,null,null,"事業場住所",null,null,"郵便番号",null,null,null,null,null,"都道府県",null,null,null,null,null,"・郵便番号はハイフンは入れず数字７桁で入力して下さい\n・町名は市区町村欄に入力して下さい\n・丁目、番地の表記はハイフンで入力して下さい\n・番地、建物名称が無い場合は入力不要です",null,null,null,null,null,null,null,null,null,null,null,null,51,"2"]
[50,1,null,null,null,null,null,null,"市区町村",null,null,null,null,null,"番地",null,null,null,null,null,null,null,null,null,null,null,null,null,null,null,null,null,null,51,"2"]
[50,1,null,null,null,null,null,null,"建物名称",null,null,null,null,null,null,null,null,null,null,null,null,null,null,null,null,null,null,null,null,null,null,null,null,51,"2"]
[50,1,null,null,null,"申請\n機器","機器一覧の\n掲載有無",null,"コード\n番号","申請スキャンツール",null,null,null,null,null,null,null,null,null,null,"①申請する機器がホームページ掲載資料の「補助対象機器一覧」に該当するか確認して下さい\n②該当の有無を「機器一覧の掲載有無」のチェックボックスで選択して下さい\n　 ※必要箇所のグレーアウトが解除されます\n【掲載されているを選択した場合】\n　・ホームページ掲載の「補助対象機器一覧」の各ページ左側「交付申請時のコード番号」\n　　（４～５桁の英数字）を確認し「コード番号」に入力して下さい\n　・入力後メーカー名～ソフトのバージョンに申請機器の情報が自動で表示されている事を\n　　確認して下さい\n【掲載されていないを選択した場合】\n　・「申請スキャンツール」に入力欄が表示されますので申請する機器の情報を入力して下さい\n　例：メーカー名●●　型式●●　品番●●　バージョン●●\n③同一事業場で２台申請する際は２台目を空欄にせず上に詰めて入力して下さい",null,null,null,null,null,null,null,null,null,null,null,null,51,"2"]
[50,1,null,null,null,null,null,null,null,"メーカー名",null,null,"名称・型式",null,null,"品　　番",null,null,"ソフトのバージョン",null,null,null,null,null,null,null,null,null,null,null,null,null,null,51,"2"]
[50,1,null,null,null,"１台目","掲載されている　　",null,null,{"$f":"IFERROR(VLOOKUP($I108,補助対象機器一覧0916!$A$1:$E$75,2,FALSE),\"\")","v":""},null,null,{"$f":"IFERROR(VLOOKUP($I108,補助対象機器一覧0916!$A$1:$E$75,3,FALSE),\"\")","v":""},null,null,{"$f":"IFERROR(VLOOKUP($I108,補助対象機器一覧0916!$A$1:$E$75,4,FALSE),\"\")","v":""},null,null,{"$f":"IFERROR(VLOOKUP($I108,補助対象機器一覧0916!$A$1:$E$75,5,FALSE),\"\")","v":""},null,null,null,null,null,null,null,null,null,null,false,null,null,null,51,"2"]
[null,null,null,null,null,null,"掲載されていない ",null,null,null,null,null,null,null,null,null,null,null,null,null,null,null,null,null,null,null,null,null,null,false,null,null,null,51,"2"]
[{"$f":"(50+$B110)-A$72","v":50},1,null,null,null,"２台目","掲載されている　　",null,null,{"$f":"IFERROR(VLOOKUP($I110,補助対象機器一覧0916!$A$1:$E$75,2,FALSE),\"\")","v":""},null,null,{"$f":"IFERROR(VLOOKUP($I110,補助対象機器一覧0916!$A$1:$E$75,3,FALSE),\"\")","v":""},null,null,{"$f":"IFERROR(VLOOKUP($I110,補助対象機器一覧0916!$A$1:$E$75,4,FALSE),\"\")","v":""},null,null,{"$f":"IFERROR(VLOOKUP($I110,補助対象機器一覧0916!$A$1:$E$75,5,FALSE),\"\")","v":""},null,null,null,null,null,null,null,null,null,null,false,null,null,null,51,"2"]
[null,null,null,null,null,null,"掲載されていない ",null,null,null,null,null,null,null,null,null,null,null,null,null,null,null,null,null,null,null,null,null,null,false,null,null,null,51,"2"]
[{"$f":"(50+$B112)-A$72","v":50},1,null,null,null,"３台目","掲載されている　　",null,null,{"$f":"IFERROR(VLOOKUP($I112,補助対象機器一覧0916!$A$1:$E$75,2,FALSE),\"\")","v":""},null,null,{"$f":"IFERROR(VLOOKUP($I112,補助対象機器一覧0916!$A$1:$E$75,3,FALSE),\"\")","v":""},null,null,{"$f":"IFERROR(VLOOKUP($I112,補助対象機器一覧0916!$A$1:$E$75,4,FALSE),\"\")","v":""},null,null,{"$f":"IFERROR(VLOOKUP($I112,補助対象機器一覧0916!$A$1:$E$75,5,FALSE),\"\")","v":""},null,null,null,null,null,null,null,null,null,null,false,null,null,null,51,"2"]
[null,null,null,null,null,null,"掲載されていない ",null,null,null,null,null,null,null,null,null,null,null,null,null,null,null,null,null,null,null,null,null,null,false,null,null,null,51,"2"]
[{"$f":"(50+$B114)-A$72","v":50},1,null,null,null,"申請\n機器","補助事業に要する経費",null,null,null,"スキャンツールの価格",null,null,null,null,"情報端末価格",null,null,null,null,"・「補助事業に要する経費」は補助対象外も含む全ての経費を機器毎に分けて入力して下さい\n・「スキャンツールの価格」は正見積書のスキャンツール単体の価格を機器毎に\n　分けて入力して下さい\n・「情報端末価格」は正見積書の情報端末単体の価格を機器毎に分けて入力して下さい",null,null,null,null,null,null,null,null,null,null,null,null,51,"2"]
[{"$f":"(50+$B115)-A$72","v":50},1,null,null,null,null,null,null,null,null,null,null,null,null,null,null,null,null,null,null,null,null,null,null,null,null,null,null,null,null,null,null,null,51,"2"]
[{"$f":"(50+$B116)-A$72","v":50},1,null,null,null,"１台目",null,null,null,null,null,null,null,null,null,null,null,null,null,null,null,null,null,null,null,null,null,null,null,null,null,{"$f":"G116-SUM(K116:T116)","v":0},null,51,"2"]
[{"$f":"(50+$B117)-A$72","v":50},1,null,null,null,"２台目",null,null,null,null,null,null,null,null,null,null,null,null,null,null,null,null,null,null,null,null,null,null,null,null,null,{"$f":"G117-SUM(K117:T117)","v":0},null,51,"2"]
[{"$f":"(50+$B118)-A$72","v":50},1,null,null,null,"３台目",null,null,null,null,null,null,null,null,null,null,null,null,null,null,null,null,null,null,null,null,null,null,null,null,null,0,null,51,"2"]
[null,null,null,null,null,"補助対象経費",null,null,null,null,"補助率",null,null,null,null,"補助金の額",null,null,null,null,null,null,null,null,null,null,null,null,null,null,null,null,null,51,"2"]
[null,null,null,null,null,{"$f":"(K116+P116)+(K117+P117)+(K118+P118)","v":0},null,null,null,null,{"$f":"IF(G116=\"\",\"\",\"1/3\")","v":""},null,null,null,null,{"$f":"IF($F120<>\"\",IF($F120/3>150000,150000,ROUNDDOWN($F120/3,-3)),\"\")","v":0},null,null,null,null,null,null,null,null,null,null,null,null,null,null,null,null,null,51,"2"]
[{"$f":"(50+$B121)-A$72","v":49},null,null,null,null,null,null,null,null,null,null,null,null,null,null,null,null,null,null,null,null,null,null,null,null,null,null,null,null,null,null,null,null,51,2]
[50,1,null,null,"事業場３","認証・指定・認定番号\nまたは、整備士合格証書番号",null,null,null,null,null,null,null,null,null,null,null,null,null,null,"以下のいずれかを入力\n・事業場の認証書の認定番号\n・指定書の指定番号\n・事業場に在籍する整備士の整備士合格証書番号",null,null,null,null,null,null,null,null,null,null,null,null,{"$f":"(50+$AI122)-A$72","v":52},"3"]
[50,1,null,null,null,null,null,null,null,null,null,null,null,null,null,null,null,null,null,null,null,null,null,null,null,null,null,null,null,null,null,null,null,52,"3"]
[50,1,null,null,null,null,null,null,null,null,null,null,null,null,null,null,null,null,null,null,null,null,null,null,null,null,null,null,null,null,null,null,null,52,"3"]
[50,1,null,null,null,"設備を設置する事業場名",null,null,null,null,null,null,null,null,null,null,null,null,null,null,"漢字平仮名は全角、英数字は半角で入力して下さい",null,null,null,null,null,null,null,null,null,null,null,null,52,"3"]
[50,1,null,null,null,"事業場住所",null,null,"郵便番号",null,null,null,null,null,"都道府県",null,null,null,null,null,"・郵便番号はハイフンは入れず数字７桁で入力して下さい\n・町名は市区町村欄に入力して下さい\n・丁目、番地の表記はハイフンで入力して下さい\n・番地、建物名称が無い場合は入力不要です",null,null,null,null,null,null,null,null,null,null,null,null,52,"3"]
[50,1,null,null,null,null,null,null,"市区町村",null,null,null,null,null,"番地",null,null,null,null,null,null,null,null,null,null,null,null,null,null,null,null,null,null,52,"3"]
[50,1,null,null,null,null,null,null,"建物名称",null,null,null,null,null,null,null,null,null,null,null,null,null,null,null,null,null,null,null,null,null,null,null,null,52,"3"]
[50,1,null,null,null,"申請\n機器","機器一覧の\n掲載有無",null,"コード\n番号","申請スキャンツール",null,null,null,null,null,null,null,null,null,null,"①申請する機器がホームページ掲載資料の「補助対象機器一覧」に該当するか確認して下さい\n②該当の有無を「機器一覧の掲載有無」のチェックボックスで選択して下さい\n　 ※必要箇所のグレーアウトが解除されます\n【掲載されているを選択した場合】\n　・ホームページ掲載の「補助対象機器一覧」の各ページ左側「交付申請時のコード番号」\n　　（４～５桁の英数字）を確認し「コード番号」に入力して下さい\n　・入力後メーカー名～ソフトのバージョンに申請機器の情報が自動で表示されている事を\n　　確認して下さい\n【掲載されていないを選択した場合】\n　・「申請スキャンツール」に入力欄が表示されますので申請する機器の情報を入力して下さい\n　例：メーカー名●●　型式●●　品番●●　バージョン●●\n③同一事業場で２台申請する際は２台目を空欄にせず上に詰めて入力して下さい",null,null,null,null,null,null,null,null,null,null,null,null,52,"3"]
[50,1,null,null,null,null,null,null,null,"メーカー名",null,null,"名称・型式",null,null,"品　　番",null,null,"ソフトのバージョン",null,null,null,null,null,null,null,null,null,null,null,null,null,null,52,"3"]
[50,1,null,null,null,"１台目","掲載されている　　",null,null,{"$f":"IFERROR(VLOOKUP($I131,補助対象機器一覧0916!$A$1:$E$75,2,FALSE),\"\")","v":""},null,null,{"$f":"IFERROR(VLOOKUP($I131,補助対象機器一覧0916!$A$1:$E$75,3,FALSE),\"\")","v":""},null,null,{"$f":"IFERROR(VLOOKUP($I131,補助対象機器一覧0916!$A$1:$E$75,4,FALSE),\"\")","v":""},null,null,{"$f":"IFERROR(VLOOKUP($I131,補助対象機器一覧0916!$A$1:$E$75,5,FALSE),\"\")","v":""},null,null,null,null,null,null,null,null,null,null,false,null,null,null,52,"3"]
[null,null,null,null,null,null,"掲載されていない ",null,null,null,null,null,null,null,null,null,null,null,null,null,null,null,null,null,null,null,null,null,null,false,null,null,null,52,"3"]
[{"$f":"(50+$B133)-A$72","v":50},1,null,null,null,"２台目","掲載されている　　",null,null,{"$f":"IFERROR(VLOOKUP($I133,補助対象機器一覧0916!$A$1:$E$75,2,FALSE),\"\")","v":""},null,null,{"$f":"IFERROR(VLOOKUP($I133,補助対象機器一覧0916!$A$1:$E$75,3,FALSE),\"\")","v":""},null,null,{"$f":"IFERROR(VLOOKUP($I133,補助対象機器一覧0916!$A$1:$E$75,4,FALSE),\"\")","v":""},null,null,{"$f":"IFERROR(VLOOKUP($I133,補助対象機器一覧0916!$A$1:$E$75,5,FALSE),\"\")","v":""},null,null,null,null,null,null,null,null,null,null,false,null,null,null,52,"3"]
[null,null,null,null,null,null,"掲載されていない ",null,null,null,null,null,null,null,null,null,null,null,null,null,null,null,null,null,null,null,null,null,null,false,null,null,null,52,"3"]
[{"$f":"(50+$B135)-A$72","v":50},1,null,null,null,"３台目","掲載されている　　",null,null,{"$f":"IFERROR(VLOOKUP($I135,補助対象機器一覧0916!$A$1:$E$75,2,FALSE),\"\")","v":""},null,null,{"$f":"IFERROR(VLOOKUP($I135,補助対象機器一覧0916!$A$1:$E$75,3,FALSE),\"\")","v":""},null,null,{"$f":"IFERROR(VLOOKUP($I135,補助対象機器一覧0916!$A$1:$E$75,4,FALSE),\"\")","v":""},null,null,{"$f":"IFERROR(VLOOKUP($I135,補助対象機器一覧0916!$A$1:$E$75,5,FALSE),\"\")","v":""},null,null,null,null,null,null,null,null,null,null,false,null,null,null,52,"3"]
[null,null,null,null,null,null,"掲載されていない ",null,null,null,null,null,null,null,null,null,null,null,null,null,null,null,null,null,null,null,null,null,null,false,null,null,null,52,"3"]
[{"$f":"(50+$B137)-A$72","v":50},1,null,null,null,"申請\n機器","補助事業に要する経費",null,null,null,"スキャンツールの価格",null,null,null,null,"情報端末価格",null,null,null,null,"・「補助事業に要する経費」は補助対象外も含む全ての経費を機器毎に分けて入力して下さい\n・「スキャンツールの価格」は正見積書のスキャンツール単体の価格を機器毎に\n　分けて入力して下さい\n・「情報端末価格」は正見積書の情報端末単体の価格を機器毎に分けて入力して下さい",null,null,null,null,null,null,null,null,null,null,null,null,52,"3"]
[{"$f":"(50+$B138)-A$72","v":50},1,null,null,null,null,null,null,null,null,null,null,null,null,null,null,null,null,null,null,null,null,null,null,null,null,null,null,null,null,null,null,null,52,"3"]
[{"$f":"(50+$B139)-A$72","v":50},1,null,null,null,"１台目",null,null,null,null,null,null,null,null,null,null,null,null,null,null,null,null,null,null,null,null,null,null,null,null,null,{"$f":"G139-SUM(K139:T139)","v":0},null,52,"3"]
[{"$f":"(50+$B140)-A$72","v":50},1,null,null,null,"２台目",null,null,null,null,null,null,null,null,null,null,null,null,null,null,null,null,null,null,null,null,null,null,null,null,null,{"$f":"G140-SUM(K140:T140)","v":0},null,{"$f":"(50+$AI140)-A$72","v":52},"3"]
[{"$f":"(50+$B141)-A$72","v":50},1,null,null,null,"３台目",null,null,null,null,null,null,null,null,null,null,null,null,null,null,null,null,null,null,null,null,null,null,null,null,null,0,null,52,"3"]
[null,null,null,null,null,"補助対象経費",null,null,null,null,"補助率",null,null,null,null,"補助金の額",null,null,null,null,null,null,null,null,null,null,null,null,null,null,null,null,null,52,"3"]
[null,null,null,null,null,{"$f":"(K139+P139)+(K140+P140)+(K141+P141)","v":0},null,null,null,null,{"$f":"IF(G139=\"\",\"\",\"1/3\")","v":""},null,null,null,null,{"$f":"IF($F143<>\"\",IF($F143/3>150000,150000,ROUNDDOWN($F143/3,-3)),\"\")","v":0},null,null,null,null,null,null,null,null,null,null,null,null,null,null,null,null,null,52,"3"]
[{"$f":"(50+$B144)-A$72","v":49},null,null,null,null,null,null,null,null,null,null,null,null,null,null,null,null,null,null,null,null,null,null,null,null,null,null,null,null,null,null,null,null,52,"3"]
[50,1,null,null,"事業場４","認証・指定・認定番号\nまたは、整備士合格証書番号",null,null,null,null,null,null,null,null,null,null,null,null,null,null,"以下のいずれかを入力\n・事業場の認証書の認定番号\n・指定書の指定番号\n・事業場に在籍する整備士の整備士合格証書番号",null,null,null,null,null,null,null,null,null,null,null,null,53,"4"]
[50,1,null,null,null,null,null,null,null,null,null,null,null,null,null,null,null,null,null,null,null,null,null,null,null,null,null,null,null,null,null,null,null,53,"4"]
[50,1,null,null,null,null,null,null,null,null,null,null,null,null,null,null,null,null,null,null,null,null,null,null,null,null,null,null,null,null,null,null,null,53,"4"]
[50,1,null,null,null,"設備を設置する事業場名",null,null,null,null,null,null,null,null,null,null,null,null,null,null,"漢字平仮名は全角、英数字は半角で入力して下さい",null,null,null,null,null,null,null,null,null,null,null,null,53,"4"]
[50,1,null,null,null,"事業場住所",null,null,"郵便番号",null,null,null,null,null,"都道府県",null,null,null,null,null,"・郵便番号はハイフンは入れず数字７桁で入力して下さい\n・町名は市区町村欄に入力して下さい\n・丁目、番地の表記はハイフンで入力して下さい\n・番地、建物名称が無い場合は入力不要です",null,null,null,null,null,null,null,null,null,null,null,null,53,"4"]
[50,1,null,null,null,null,null,null,"市区町村",null,null,null,null,null,"番地",null,null,null,null,null,null,null,null,null,null,null,null,null,null,null,null,null,null,53,"4"]
[50,1,null,null,null,null,null,null,"建物名称",null,null,null,null,null,null,null,null,null,null,null,null,null,null,null,null,null,null,null,null,null,null,null,null,53,"4"]
[50,1,null,null,null,"申請\n機器","機器一覧の\n掲載有無",null,"コード\n番号","申請スキャンツール",null,null,null,null,null,null,null,null,null,null,"①申請する機器がホームページ掲載資料の「補助対象機器一覧」に該当するか確認して下さい\n②該当の有無を「機器一覧の掲載有無」のチェックボックスで選択して下さい\n　 ※必要箇所のグレーアウトが解除されます\n【掲載されているを選択した場合】\n　・ホームページ掲載の「補助対象機器一覧」の各ページ左側「交付申請時のコード番号」\n　　（４～５桁の英数字）を確認し「コード番号」に入力して下さい\n　・入力後メーカー名～ソフトのバージョンに申請機器の情報が自動で表示されている事を\n　　確認して下さい\n【掲載されていないを選択した場合】\n　・「申請スキャンツール」に入力欄が表示されますので申請する機器の情報を入力して下さい\n　例：メーカー名●●　型式●●　品番●●　バージョン●●\n③同一事業場で２台申請する際は２台目を空欄にせず上に詰めて入力して下さい",null,null,null,null,null,null,null,null,null,null,null,null,53,"4"]
[50,1,null,null,null,null,null,null,null,"メーカー名",null,null,"名称・型式",null,null,"品　　番",null,null,"ソフトのバージョン",null,null,null,null,null,null,null,null,null,null,null,null,null,null,53,"4"]
[50,1,null,null,null,"１台目","掲載されている　　",null,null,{"$f":"IFERROR(VLOOKUP($I154,補助対象機器一覧0916!$A$1:$E$75,2,FALSE),\"\")","v":""},null,null,{"$f":"IFERROR(VLOOKUP($I154,補助対象機器一覧0916!$A$1:$E$75,3,FALSE),\"\")","v":""},null,null,{"$f":"IFERROR(VLOOKUP($I154,補助対象機器一覧0916!$A$1:$E$75,4,FALSE),\"\")","v":""},null,null,{"$f":"IFERROR(VLOOKUP($I154,補助対象機器一覧0916!$A$1:$E$75,5,FALSE),\"\")","v":""},null,null,null,null,null,null,null,null,null,null,false,null,null,null,53,"4"]
[null,null,null,null,null,null,"掲載されていない ",null,null,null,null,null,null,null,null,null,null,null,null,null,null,null,null,null,null,null,null,null,null,false,null,null,null,53,"4"]
[{"$f":"(50+$B156)-A$72","v":50},1,null,null,null,"２台目","掲載されている　　",null,null,{"$f":"IFERROR(VLOOKUP($I156,補助対象機器一覧0916!$A$1:$E$75,2,FALSE),\"\")","v":""},null,null,{"$f":"IFERROR(VLOOKUP($I156,補助対象機器一覧0916!$A$1:$E$75,3,FALSE),\"\")","v":""},null,null,{"$f":"IFERROR(VLOOKUP($I156,補助対象機器一覧0916!$A$1:$E$75,4,FALSE),\"\")","v":""},null,null,{"$f":"IFERROR(VLOOKUP($I156,補助対象機器一覧0916!$A$1:$E$75,5,FALSE),\"\")","v":""},null,null,null,null,null,null,null,null,null,null,false,null,null,null,53,"4"]
[null,null,null,null,null,null,"掲載されていない ",null,null,null,null,null,null,null,null,null,null,null,null,null,null,null,null,null,null,null,null,null,null,false,null,null,null,53,"4"]
[{"$f":"(50+$B158)-A$72","v":50},1,null,null,null,"３台目","掲載されている　　",null,null,{"$f":"IFERROR(VLOOKUP($I158,補助対象機器一覧0916!$A$1:$E$75,2,FALSE),\"\")","v":""},null,null,{"$f":"IFERROR(VLOOKUP($I158,補助対象機器一覧0916!$A$1:$E$75,3,FALSE),\"\")","v":""},null,null,{"$f":"IFERROR(VLOOKUP($I158,補助対象機器一覧0916!$A$1:$E$75,4,FALSE),\"\")","v":""},null,null,{"$f":"IFERROR(VLOOKUP($I158,補助対象機器一覧0916!$A$1:$E$75,5,FALSE),\"\")","v":""},null,null,null,null,null,null,null,null,null,null,false,null,null,null,53,"4"]
[null,null,null,null,null,null,"掲載されていない ",null,null,null,null,null,null,null,null,null,null,null,null,null,null,null,null,null,null,null,null,null,null,false,null,null,null,53,"4"]
[{"$f":"(50+$B160)-A$72","v":50},1,null,null,null,"申請\n機器","補助事業に要する経費",null,null,null,"スキャンツールの価格",null,null,null,null,"情報端末価格",null,null,null,null,"・「補助事業に要する経費」は補助対象外も含む全ての経費を機器毎に分けて入力して下さい\n・「スキャンツールの価格」は正見積書のスキャンツール単体の価格を機器毎に\n　分けて入力して下さい\n・「情報端末価格」は正見積書の情報端末単体の価格を機器毎に分けて入力して下さい",null,null,null,null,null,null,null,null,null,null,null,null,53,"4"]
[{"$f":"(50+$B161)-A$72","v":50},1,null,null,null,null,null,null,null,null,null,null,null,null,null,null,null,null,null,null,null,null,null,null,null,null,null,null,null,null,null,null,null,53,"4"]
[{"$f":"(50+$B162)-A$72","v":50},1,null,null,null,"１台目",null,null,null,null,null,null,null,null,null,null,null,null,null,null,null,null,null,null,null,null,null,null,null,null,null,{"$f":"G162-SUM(K162:T162)","v":0},null,53,"4"]
[{"$f":"(50+$B163)-A$72","v":50},1,null,null,null,"２台目",null,null,null,null,null,null,null,null,null,null,null,null,null,null,null,null,null,null,null,null,null,null,null,null,null,{"$f":"G163-SUM(K163:T163)","v":0},null,53,"4"]
[{"$f":"(50+$B164)-A$72","v":50},1,null,null,null,"３台目",null,null,null,null,null,null,null,null,null,null,null,null,null,null,null,null,null,null,null,null,null,null,null,null,null,0,null,53,"4"]
[null,null,null,null,null,"補助対象経費",null,null,null,null,"補助率",null,null,null,null,"補助金の額",null,null,null,null,null,null,null,null,null,null,null,null,null,null,null,null,null,53,"4"]
[null,null,null,null,null,{"$f":"(K162+P162)+(K163+P163)+(K164+P164)","v":0},null,null,null,null,{"$f":"IF(G162=\"\",\"\",\"1/3\")","v":""},null,null,null,null,{"$f":"IF($F166<>\"\",IF($F166/3>150000,150000,ROUNDDOWN($F166/3,-3)),\"\")","v":0},null,null,null,null,null,null,null,null,null,null,null,null,null,null,null,null,null,53,"4"]
[{"$f":"(50+$B167)-A$72","v":49},null,null,null,null,null,null,null,null,null,null,null,null,null,null,null,null,null,null,null,null,null,null,null,null,null,null,null,null,null,null,null,null,53,"4"]
[50,1,null,null,"事業場５","認証・指定・認定番号\nまたは、整備士合格証書番号",null,null,null,null,null,null,null,null,null,null,null,null,null,null,"以下のいずれかを入力\n・事業場の認証書の認定番号\n・指定書の指定番号\n・事業場に在籍する整備士の整備士合格証書番号",null,null,null,null,null,null,null,null,null,null,null,null,54,"5"]
[50,1,null,null,null,null,null,null,null,null,null,null,null,null,null,null,null,null,null,null,null,null,null,null,null,null,null,null,null,null,null,null,null,54,"5"]
[50,1,null,null,null,null,null,null,null,null,null,null,null,null,null,null,null,null,null,null,null,null,null,null,null,null,null,null,null,null,null,null,null,54,"5"]
[50,1,null,null,null,"設備を設置する事業場名",null,null,null,null,null,null,null,null,null,null,null,null,null,null,"漢字平仮名は全角、英数字は半角で入力して下さい",null,null,null,null,null,null,null,null,null,null,null,null,54,"5"]
[50,1,null,null,null,"事業場住所",null,null,"郵便番号",null,null,null,null,null,"都道府県",null,null,null,null,null,"・郵便番号はハイフンは入れず数字７桁で入力して下さい\n・町名は市区町村欄に入力して下さい\n・丁目、番地の表記はハイフンで入力して下さい\n・番地、建物名称が無い場合は入力不要です",null,null,null,null,null,null,null,null,null,null,null,null,54,"5"]
[50,1,null,null,null,null,null,null,"市区町村",null,null,null,null,null,"番地",null,null,null,null,null,null,null,null,null,null,null,null,null,null,null,null,null,null,54,"5"]
[50,1,null,null,null,null,null,null,"建物名称",null,null,null,null,null,null,null,null,null,null,null,null,null,null,null,null,null,null,null,null,null,null,null,null,54,"5"]
[50,1,null,null,null,"申請\n機器","機器一覧の\n掲載有無",null,"コード\n番号","申請スキャンツール",null,null,null,null,null,null,null,null,null,null,"①申請する機器がホームページ掲載資料の「補助対象機器一覧」に該当するか確認して下さい\n②該当の有無を「機器一覧の掲載有無」のチェックボックスで選択して下さい\n　 ※必要箇所のグレーアウトが解除されます\n【掲載されているを選択した場合】\n　・ホームページ掲載の「補助対象機器一覧」の各ページ左側「交付申請時のコード番号」\n　　（４～５桁の英数字）を確認し「コード番号」に入力して下さい\n　・入力後メーカー名～ソフトのバージョンに申請機器の情報が自動で表示されている事を\n　　確認して下さい\n【掲載されていないを選択した場合】\n　・「申請スキャンツール」に入力欄が表示されますので申請する機器の情報を入力して下さい\n　例：メーカー名●●　型式●●　品番●●　バージョン●●\n③同一事業場で２台申請する際は２台目を空欄にせず上に詰めて入力して下さい",null,null,null,null,null,null,null,null,null,null,null,null,54,"5"]
[50,1,null,null,null,null,null,null,null,"メーカー名",null,null,"名称・型式",null,null,"品　　番",null,null,"ソフトのバージョン",null,null,null,null,null,null,null,null,null,null,null,null,null,null,54,"5"]
[50,1,null,null,null,"１台目","掲載されている　　",null,null,{"$f":"IFERROR(VLOOKUP($I177,補助対象機器一覧0916!$A$1:$E$75,2,FALSE),\"\")","v":""},null,null,{"$f":"IFERROR(VLOOKUP($I177,補助対象機器一覧0916!$A$1:$E$75,3,FALSE),\"\")","v":""},null,null,{"$f":"IFERROR(VLOOKUP($I177,補助対象機器一覧0916!$A$1:$E$75,4,FALSE),\"\")","v":""},null,null,{"$f":"IFERROR(VLOOKUP($I177,補助対象機器一覧0916!$A$1:$E$75,5,FALSE),\"\")","v":""},null,null,null,null,null,null,null,null,null,null,false,null,null,null,54,"5"]
[null,null,null,null,null,null,"掲載されていない ",null,null,null,null,null,null,null,null,null,null,null,null,null,null,null,null,null,null,null,null,null,null,false,null,null,null,54,"5"]
[{"$f":"(50+$B179)-A$72","v":50},1,null,null,null,"２台目","掲載されている　　",null,null,{"$f":"IFERROR(VLOOKUP($I179,補助対象機器一覧0916!$A$1:$E$75,2,FALSE),\"\")","v":""},null,null,{"$f":"IFERROR(VLOOKUP($I179,補助対象機器一覧0916!$A$1:$E$75,3,FALSE),\"\")","v":""},null,null,{"$f":"IFERROR(VLOOKUP($I179,補助対象機器一覧0916!$A$1:$E$75,4,FALSE),\"\")","v":""},null,null,{"$f":"IFERROR(VLOOKUP($I179,補助対象機器一覧0916!$A$1:$E$75,5,FALSE),\"\")","v":""},null,null,null,null,null,null,null,null,null,null,false,null,null,null,54,"5"]
[null,null,null,null,null,null,"掲載されていない ",null,null,null,null,null,null,null,null,null,null,null,null,null,null,null,null,null,null,null,null,null,null,false,null,null,null,54,"5"]
[{"$f":"(50+$B181)-A$72","v":50},1,null,null,null,"３台目","掲載されている　　",null,null,{"$f":"IFERROR(VLOOKUP($I181,補助対象機器一覧0916!$A$1:$E$75,2,FALSE),\"\")","v":""},null,null,{"$f":"IFERROR(VLOOKUP($I181,補助対象機器一覧0916!$A$1:$E$75,3,FALSE),\"\")","v":""},null,null,{"$f":"IFERROR(VLOOKUP($I181,補助対象機器一覧0916!$A$1:$E$75,4,FALSE),\"\")","v":""},null,null,{"$f":"IFERROR(VLOOKUP($I181,補助対象機器一覧0916!$A$1:$E$75,5,FALSE),\"\")","v":""},null,null,null,null,null,null,null,null,null,null,false,null,null,null,54,"5"]
[null,null,null,null,null,null,"掲載されていない ",null,null,null,null,null,null,null,null,null,null,null,null,null,null,null,null,null,null,null,null,null,null,false,null,null,null,54,"5"]
[{"$f":"(50+$B183)-A$72","v":50},1,null,null,null,"申請\n機器","補助事業に要する経費",null,null,null,"スキャンツールの価格",null,null,null,null,"情報端末価格",null,null,null,null,"・「補助事業に要する経費」は補助対象外も含む全ての経費を機器毎に分けて入力して下さい\n・「スキャンツールの価格」は正見積書のスキャンツール単体の価格を機器毎に\n　分けて入力して下さい\n・「情報端末価格」は正見積書の情報端末単体の価格を機器毎に分けて入力して下さい",null,null,null,null,null,null,null,null,null,null,null,null,54,"5"]
[{"$f":"(50+$B184)-A$72","v":50},1,null,null,null,null,null,null,null,null,null,null,null,null,null,null,null,null,null,null,null,null,null,null,null,null,null,null,null,null,null,null,null,54,"5"]
[{"$f":"(50+$B185)-A$72","v":50},1,null,null,null,"１台目",null,null,null,null,null,null,null,null,null,null,null,null,null,null,null,null,null,null,null,null,null,null,null,null,null,{"$f":"G185-SUM(K185:T185)","v":0},null,54,"5"]
[{"$f":"(50+$B186)-A$72","v":50},1,null,null,null,"２台目",null,null,null,null,null,null,null,null,null,null,null,null,null,null,null,null,null,null,null,null,null,null,null,null,null,{"$f":"G186-SUM(K186:T186)","v":0},null,54,"5"]
[{"$f":"(50+$B187)-A$72","v":50},1,null,null,null,"３台目",null,null,null,null,null,null,null,null,null,null,null,null,null,null,null,null,null,null,null,null,null,null,null,null,null,0,null,54,"5"]
[null,null,null,null,null,"補助対象経費",null,null,null,null,"補助率",null,null,null,null,"補助金の額",null,null,null,null,null,null,null,null,null,null,null,null,null,null,null,null,null,54,"5"]
[null,null,null,null,null,{"$f":"(K185+P185)+(K186+P186)+(K187+P187)","v":0},null,null,null,null,{"$f":"IF(G185=\"\",\"\",\"1/3\")","v":""},null,null,null,null,{"$f":"IF($F189<>\"\",IF($F189/3>150000,150000,ROUNDDOWN($F189/3,-3)),\"\")","v":0},null,null,null,null,null,null,null,null,null,null,null,null,null,null,null,null,null,54,"5"]
[{"$f":"(50+$B190)-A$72","v":49},null,null,null,null,null,null,null,null,null,null,null,null,null,null,null,null,null,null,null,null,null,null,null,null,null,null,null,null,null,null,null,null,54,"5"]
[50,1,null,null,"事業場６","認証・指定・認定番号\nまたは、整備士合格証書番号",null,null,null,null,null,null,null,null,null,null,null,null,null,null,"以下のいずれかを入力\n・事業場の認証書の認定番号\n・指定書の指定番号\n・事業場に在籍する整備士の整備士合格証書番号",null,null,null,null,null,null,null,null,null,null,null,null,55,"6"]
[50,1,null,null,null,null,null,null,null,null,null,null,null,null,null,null,null,null,null,null,null,null,null,null,null,null,null,null,null,null,null,null,null,55,"6"]
[50,1,null,null,null,null,null,null,null,null,null,null,null,null,null,null,null,null,null,null,null,null,null,null,null,null,null,null,null,null,null,null,null,55,"6"]
[50,1,null,null,null,"設備を設置する事業場名",null,null,null,null,null,null,null,null,null,null,null,null,null,null,"漢字平仮名は全角、英数字は半角で入力して下さい",null,null,null,null,null,null,null,null,null,null,null,null,55,"6"]
[50,1,null,null,null,"事業場住所",null,null,"郵便番号",null,null,null,null,null,"都道府県",null,null,null,null,null,"・郵便番号はハイフンは入れず数字７桁で入力して下さい\n・町名は市区町村欄に入力して下さい\n・丁目、番地の表記はハイフンで入力して下さい\n・番地、建物名称が無い場合は入力不要です",null,null,null,null,null,null,null,null,null,null,null,null,55,"6"]
[50,1,null,null,null,null,null,null,"市区町村",null,null,null,null,null,"番地",null,null,null,null,null,null,null,null,null,null,null,null,null,null,null,null,null,null,55,"6"]
[50,1,null,null,null,null,null,null,"建物名称",null,null,null,null,null,null,null,null,null,null,null,null,null,null,null,null,null,null,null,null,null,null,null,null,55,"6"]
[50,1,null,null,null,"申請\n機器","機器一覧の\n掲載有無",null,"コード\n番号","申請スキャンツール",null,null,null,null,null,null,null,null,null,null,"①申請する機器がホームページ掲載資料の「補助対象機器一覧」に該当するか確認して下さい\n②該当の有無を「機器一覧の掲載有無」のチェックボックスで選択して下さい\n　 ※必要箇所のグレーアウトが解除されます\n【掲載されているを選択した場合】\n　・ホームページ掲載の「補助対象機器一覧」の各ページ左側「交付申請時のコード番号」\n　　（４～５桁の英数字）を確認し「コード番号」に入力して下さい\n　・入力後メーカー名～ソフトのバージョンに申請機器の情報が自動で表示されている事を\n　　確認して下さい\n【掲載されていないを選択した場合】\n　・「申請スキャンツール」に入力欄が表示されますので申請する機器の情報を入力して下さい\n　例：メーカー名●●　型式●●　品番●●　バージョン●●\n③同一事業場で２台申請する際は２台目を空欄にせず上に詰めて入力して下さい",null,null,null,null,null,null,null,null,null,null,null,null,55,"6"]
[50,1,null,null,null,null,null,null,null,"メーカー名",null,null,"名称・型式",null,null,"品　　番",null,null,"ソフトのバージョン",null,null,null,null,null,null,null,null,null,null,null,null,null,null,55,"6"]
[50,1,null,null,null,"１台目","掲載されている　　",null,null,{"$f":"IFERROR(VLOOKUP($I200,補助対象機器一覧0916!$A$1:$E$75,2,FALSE),\"\")","v":""},null,null,{"$f":"IFERROR(VLOOKUP($I200,補助対象機器一覧0916!$A$1:$E$75,3,FALSE),\"\")","v":""},null,null,{"$f":"IFERROR(VLOOKUP($I200,補助対象機器一覧0916!$A$1:$E$75,4,FALSE),\"\")","v":""},null,null,{"$f":"IFERROR(VLOOKUP($I200,補助対象機器一覧0916!$A$1:$E$75,5,FALSE),\"\")","v":""},null,null,null,null,null,null,null,null,null,null,false,null,null,null,55,"6"]
[null,null,null,null,null,null,"掲載されていない ",null,null,null,null,null,null,null,null,null,null,null,null,null,null,null,null,null,null,null,null,null,null,false,null,null,null,55,"6"]
[{"$f":"(50+$B202)-A$72","v":50},1,null,null,null,"２台目","掲載されている　　",null,null,{"$f":"IFERROR(VLOOKUP($I202,補助対象機器一覧0916!$A$1:$E$75,2,FALSE),\"\")","v":""},null,null,{"$f":"IFERROR(VLOOKUP($I202,補助対象機器一覧0916!$A$1:$E$75,3,FALSE),\"\")","v":""},null,null,{"$f":"IFERROR(VLOOKUP($I202,補助対象機器一覧0916!$A$1:$E$75,4,FALSE),\"\")","v":""},null,null,{"$f":"IFERROR(VLOOKUP($I202,補助対象機器一覧0916!$A$1:$E$75,5,FALSE),\"\")","v":""},null,null,null,null,null,null,null,null,null,null,false,null,null,null,55,"6"]
[null,null,null,null,null,null,"掲載されていない ",null,null,null,null,null,null,null,null,null,null,null,null,null,null,null,null,null,null,null,null,null,null,false,null,null,null,55,"6"]
[{"$f":"(50+$B204)-A$72","v":50},1,null,null,null,"３台目","掲載されている　　",null,null,{"$f":"IFERROR(VLOOKUP($I204,補助対象機器一覧0916!$A$1:$E$75,2,FALSE),\"\")","v":""},null,null,{"$f":"IFERROR(VLOOKUP($I204,補助対象機器一覧0916!$A$1:$E$75,3,FALSE),\"\")","v":""},null,null,{"$f":"IFERROR(VLOOKUP($I204,補助対象機器一覧0916!$A$1:$E$75,4,FALSE),\"\")","v":""},null,null,{"$f":"IFERROR(VLOOKUP($I204,補助対象機器一覧0916!$A$1:$E$75,5,FALSE),\"\")","v":""},null,null,null,null,null,null,null,null,null,null,false,null,null,null,{"$f":"(50+$AI204)-A$72","v":55},"6"]
[null,null,null,null,null,null,"掲載されていない ",null,null,null,null,null,null,null,null,null,null,null,null,null,null,null,null,null,null,null,null,null,null,false,null,null,null,55,"6"]
[{"$f":"(50+$B206)-A$72","v":50},1,null,null,null,"申請\n機器","補助事業に要する経費",null,null,null,"スキャンツールの価格",null,null,null,null,"情報端末価格",null,null,null,null,"・「補助事業に要する経費」は補助対象外も含む全ての経費を機器毎に分けて入力して下さい\n・「スキャンツールの価格」は正見積書のスキャンツール単体の価格を機器毎に\n　分けて入力して下さい\n・「情報端末価格」は正見積書の情報端末単体の価格を機器毎に分けて入力して下さい",null,null,null,null,null,null,null,null,null,null,null,null,55,"6"]
[{"$f":"(50+$B207)-A$72","v":50},1,null,null,null,null,null,null,null,null,null,null,null,null,null,null,null,null,null,null,null,null,null,null,null,null,null,null,null,null,null,null,null,55,"6"]
[{"$f":"(50+$B208)-A$72","v":50},1,null,null,null,"１台目",null,null,null,null,null,null,null,null,null,null,null,null,null,null,null,null,null,null,null,null,null,null,null,null,null,{"$f":"G208-SUM(K208:T208)","v":0},null,55,"6"]
[{"$f":"(50+$B209)-A$72","v":50},1,null,null,null,"２台目",null,null,null,null,null,null,null,null,null,null,null,null,null,null,null,null,null,null,null,null,null,null,null,null,null,{"$f":"G209-SUM(K209:T209)","v":0},null,55,"6"]
[{"$f":"(50+$B210)-A$72","v":50},1,null,null,null,"３台目",null,null,null,null,null,null,null,null,null,null,null,null,null,null,null,null,null,null,null,null,null,null,null,null,null,0,null,55,"6"]
[null,null,null,null,null,"補助対象経費",null,null,null,null,"補助率",null,null,null,null,"補助金の額",null,null,null,null,null,null,null,null,null,null,null,null,null,null,null,null,null,55,"6"]
[null,null,null,null,null,{"$f":"(K208+P208)+(K209+P209)+(K210+P210)","v":0},null,null,null,null,{"$f":"IF(G208=\"\",\"\",\"1/3\")","v":""},null,null,null,null,{"$f":"IF($F212<>\"\",IF($F212/3>150000,150000,ROUNDDOWN($F212/3,-3)),\"\")","v":0},null,null,null,null,null,null,null,null,null,null,null,null,null,null,null,null,null,55,"6"]
[{"$f":"(50+$B213)-A$72","v":49},null,null,null,null,null,null,null,null,null,null,null,null,null,null,null,null,null,null,null,null,null,null,null,null,null,null,null,null,null,null,null,null,55,"6"]
[50,1,null,null,"事業場７","認証・指定・認定番号\nまたは、整備士合格証書番号",null,null,null,null,null,null,null,null,null,null,null,null,null,null,"以下のいずれかを入力\n・事業場の認証書の認定番号\n・指定書の指定番号\n・事業場に在籍する整備士の整備士合格証書番号",null,null,null,null,null,null,null,null,null,null,null,null,56,"7"]
[50,1,null,null,null,null,null,null,null,null,null,null,null,null,null,null,null,null,null,null,null,null,null,null,null,null,null,null,null,null,null,null,null,56,"7"]
[50,1,null,null,null,null,null,null,null,null,null,null,null,null,null,null,null,null,null,null,null,null,null,null,null,null,null,null,null,null,null,null,null,56,"7"]
[50,1,null,null,null,"設備を設置する事業場名",null,null,null,null,null,null,null,null,null,null,null,null,null,null,"漢字平仮名は全角、英数字は半角で入力して下さい",null,null,null,null,null,null,null,null,null,null,null,null,56,"7"]
[50,1,null,null,null,"事業場住所",null,null,"郵便番号",null,null,null,null,null,"都道府県",null,null,null,null,null,"・郵便番号はハイフンは入れず数字７桁で入力して下さい\n・町名は市区町村欄に入力して下さい\n・丁目、番地の表記はハイフンで入力して下さい\n・番地、建物名称が無い場合は入力不要です",null,null,null,null,null,null,null,null,null,null,null,null,56,"7"]
[50,1,null,null,null,null,null,null,"市区町村",null,null,null,null,null,"番地",null,null,null,null,null,null,null,null,null,null,null,null,null,null,null,null,null,null,56,"7"]
[50,1,null,null,null,null,null,null,"建物名称",null,null,null,null,null,null,null,null,null,null,null,null,null,null,null,null,null,null,null,null,null,null,null,null,56,"7"]
[50,1,null,null,null,"申請\n機器","機器一覧の\n掲載有無",null,"コード\n番号","申請スキャンツール",null,null,null,null,null,null,null,null,null,null,"①申請する機器がホームページ掲載資料の「補助対象機器一覧」に該当するか確認して下さい\n②該当の有無を「機器一覧の掲載有無」のチェックボックスで選択して下さい\n　 ※必要箇所のグレーアウトが解除されます\n【掲載されているを選択した場合】\n　・ホームページ掲載の「補助対象機器一覧」の各ページ左側「交付申請時のコード番号」\n　　（４～５桁の英数字）を確認し「コード番号」に入力して下さい\n　・入力後メーカー名～ソフトのバージョンに申請機器の情報が自動で表示されている事を\n　　確認して下さい\n【掲載されていないを選択した場合】\n　・「申請スキャンツール」に入力欄が表示されますので申請する機器の情報を入力して下さい\n　例：メーカー名●●　型式●●　品番●●　バージョン●●\n③同一事業場で２台申請する際は２台目を空欄にせず上に詰めて入力して下さい",null,null,null,null,null,null,null,null,null,null,null,null,56,"7"]
[50,1,null,null,null,null,null,null,null,"メーカー名",null,null,"名称・型式",null,null,"品　　番",null,null,"ソフトのバージョン",null,null,null,null,null,null,null,null,null,null,null,null,null,null,56,"7"]
[50,1,null,null,null,"１台目","掲載されている　　",null,null,{"$f":"IFERROR(VLOOKUP($I223,補助対象機器一覧0916!$A$1:$E$75,2,FALSE),\"\")","v":""},null,null,{"$f":"IFERROR(VLOOKUP($I223,補助対象機器一覧0916!$A$1:$E$75,3,FALSE),\"\")","v":""},null,null,{"$f":"IFERROR(VLOOKUP($I223,補助対象機器一覧0916!$A$1:$E$75,4,FALSE),\"\")","v":""},null,null,{"$f":"IFERROR(VLOOKUP($I223,補助対象機器一覧0916!$A$1:$E$75,5,FALSE),\"\")","v":""},null,null,null,null,null,null,null,null,null,null,false,null,null,null,56,"7"]
[null,null,null,null,null,null,"掲載されていない ",null,null,null,null,null,null,null,null,null,null,null,null,null,null,null,null,null,null,null,null,null,null,false,null,null,null,56,"7"]
[{"$f":"(50+$B225)-A$72","v":50},1,null,null,null,"２台目","掲載されている　　",null,null,{"$f":"IFERROR(VLOOKUP($I225,補助対象機器一覧0916!$A$1:$E$75,2,FALSE),\"\")","v":""},null,null,{"$f":"IFERROR(VLOOKUP($I225,補助対象機器一覧0916!$A$1:$E$75,3,FALSE),\"\")","v":""},null,null,{"$f":"IFERROR(VLOOKUP($I225,補助対象機器一覧0916!$A$1:$E$75,4,FALSE),\"\")","v":""},null,null,{"$f":"IFERROR(VLOOKUP($I225,補助対象機器一覧0916!$A$1:$E$75,5,FALSE),\"\")","v":""},null,null,null,null,null,null,null,null,null,null,false,null,null,null,56,"7"]
[null,null,null,null,null,null,"掲載されていない ",null,null,null,null,null,null,null,null,null,null,null,null,null,null,null,null,null,null,null,null,null,null,false,null,null,null,56,"7"]
[{"$f":"(50+$B227)-A$72","v":50},1,null,null,null,"３台目","掲載されている　　",null,null,{"$f":"IFERROR(VLOOKUP($I227,補助対象機器一覧0916!$A$1:$E$75,2,FALSE),\"\")","v":""},null,null,{"$f":"IFERROR(VLOOKUP($I227,補助対象機器一覧0916!$A$1:$E$75,3,FALSE),\"\")","v":""},null,null,{"$f":"IFERROR(VLOOKUP($I227,補助対象機器一覧0916!$A$1:$E$75,4,FALSE),\"\")","v":""},null,null,{"$f":"IFERROR(VLOOKUP($I227,補助対象機器一覧0916!$A$1:$E$75,5,FALSE),\"\")","v":""},null,null,null,null,null,null,null,null,null,null,false,null,null,null,56,"7"]
[null,null,null,null,null,null,"掲載されていない ",null,null,null,null,null,null,null,null,null,null,null,null,null,null,null,null,null,null,null,null,null,null,false,null,null,null,56,"7"]
[{"$f":"(50+$B229)-A$72","v":50},1,null,null,null,"申請\n機器","補助事業に要する経費",null,null,null,"スキャンツールの価格",null,null,null,null,"情報端末価格",null,null,null,null,"・「補助事業に要する経費」は補助対象外も含む全ての経費を機器毎に分けて入力して下さい\n・「スキャンツールの価格」は正見積書のスキャンツール単体の価格を機器毎に\n　分けて入力して下さい\n・「情報端末価格」は正見積書の情報端末単体の価格を機器毎に分けて入力して下さい",null,null,null,null,null,null,null,null,null,null,null,null,56,"7"]
[{"$f":"(50+$B230)-A$72","v":50},1,null,null,null,null,null,null,null,null,null,null,null,null,null,null,null,null,null,null,null,null,null,null,null,null,null,null,null,null,null,null,null,56,"7"]
[{"$f":"(50+$B231)-A$72","v":50},1,null,null,null,"１台目",null,null,null,null,null,null,null,null,null,null,null,null,null,null,null,null,null,null,null,null,null,null,null,null,null,{"$f":"G231-SUM(K231:T231)","v":0},null,56,"7"]
[{"$f":"(50+$B232)-A$72","v":50},1,null,null,null,"２台目",null,null,null,null,null,null,null,null,null,null,null,null,null,null,null,null,null,null,null,null,null,null,null,null,null,{"$f":"G232-SUM(K232:T232)","v":0},null,56,"7"]
[{"$f":"(50+$B233)-A$72","v":50},1,null,null,null,"３台目",null,null,null,null,null,null,null,null,null,null,null,null,null,null,null,null,null,null,null,null,null,null,null,null,null,0,null,56,"7"]
[null,null,null,null,null,"補助対象経費",null,null,null,null,"補助率",null,null,null,null,"補助金の額",null,null,null,null,null,null,null,null,null,null,null,null,null,null,null,null,null,56,"7"]
[null,null,null,null,null,{"$f":"(K231+P231)+(K232+P232)+(K233+P233)","v":0},null,null,null,null,{"$f":"IF(G231=\"\",\"\",\"1/3\")","v":""},null,null,null,null,{"$f":"IF($F235<>\"\",IF($F235/3>150000,150000,ROUNDDOWN($F235/3,-3)),\"\")","v":0},null,null,null,null,null,null,null,null,null,null,null,null,null,null,null,null,null,56,"7"]
[{"$f":"(50+$B236)-A$72","v":49},null,null,null,null,null,null,null,null,null,null,null,null,null,null,null,null,null,null,null,null,null,null,null,null,null,null,null,null,null,null,null,null,56,"7"]
[50,1,null,null,"事業場８","認証・指定・認定番号\nまたは、整備士合格証書番号",null,null,null,null,null,null,null,null,null,null,null,null,null,null,"以下のいずれかを入力\n・事業場の認証書の認定番号\n・指定書の指定番号\n・事業場に在籍する整備士の整備士合格証書番号",null,null,null,null,null,null,null,null,null,null,null,null,57,"8"]
[50,1,null,null,null,null,null,null,null,null,null,null,null,null,null,null,null,null,null,null,null,null,null,null,null,null,null,null,null,null,null,null,null,57,"8"]
[50,1,null,null,null,null,null,null,null,null,null,null,null,null,null,null,null,null,null,null,null,null,null,null,null,null,null,null,null,null,null,null,null,57,"8"]
[50,1,null,null,null,"設備を設置する事業場名",null,null,null,null,null,null,null,null,null,null,null,null,null,null,"漢字平仮名は全角、英数字は半角で入力して下さい",null,null,null,null,null,null,null,null,null,null,null,null,57,"8"]
[50,1,null,null,null,"事業場住所",null,null,"郵便番号",null,null,null,null,null,"都道府県",null,null,null,null,null,"・郵便番号はハイフンは入れず数字７桁で入力して下さい\n・町名は市区町村欄に入力して下さい\n・丁目、番地の表記はハイフンで入力して下さい\n・番地、建物名称が無い場合は入力不要です",null,null,null,null,null,null,null,null,null,null,null,null,57,"8"]
[50,1,null,null,null,null,null,null,"市区町村",null,null,null,null,null,"番地",null,null,null,null,null,null,null,null,null,null,null,null,null,null,null,null,null,null,57,"8"]
[50,1,null,null,null,null,null,null,"建物名称",null,null,null,null,null,null,null,null,null,null,null,null,null,null,null,null,null,null,null,null,null,null,null,null,57,"8"]
[50,1,null,null,null,"申請\n機器","機器一覧の\n掲載有無",null,"コード\n番号","申請スキャンツール",null,null,null,null,null,null,null,null,null,null,"①申請する機器がホームページ掲載資料の「補助対象機器一覧」に該当するか確認して下さい\n②該当の有無を「機器一覧の掲載有無」のチェックボックスで選択して下さい\n　 ※必要箇所のグレーアウトが解除されます\n【掲載されているを選択した場合】\n　・ホームページ掲載の「補助対象機器一覧」の各ページ左側「交付申請時のコード番号」\n　　（４～５桁の英数字）を確認し「コード番号」に入力して下さい\n　・入力後メーカー名～ソフトのバージョンに申請機器の情報が自動で表示されている事を\n　　確認して下さい\n【掲載されていないを選択した場合】\n　・「申請スキャンツール」に入力欄が表示されますので申請する機器の情報を入力して下さい\n　例：メーカー名●●　型式●●　品番●●　バージョン●●\n③同一事業場で２台申請する際は２台目を空欄にせず上に詰めて入力して下さい",null,null,null,null,null,null,null,null,null,null,null,null,57,"8"]
[50,1,null,null,null,null,null,null,null,"メーカー名",null,null,"名称・型式",null,null,"品　　番",null,null,"ソフトのバージョン",null,null,null,null,null,null,null,null,null,null,null,null,null,null,57,"8"]
[50,1,null,null,null,"１台目","掲載されている　　",null,null,{"$f":"IFERROR(VLOOKUP($I246,補助対象機器一覧0916!$A$1:$E$75,2,FALSE),\"\")","v":""},null,null,{"$f":"IFERROR(VLOOKUP($I246,補助対象機器一覧0916!$A$1:$E$75,3,FALSE),\"\")","v":""},null,null,{"$f":"IFERROR(VLOOKUP($I246,補助対象機器一覧0916!$A$1:$E$75,4,FALSE),\"\")","v":""},null,null,{"$f":"IFERROR(VLOOKUP($I246,補助対象機器一覧0916!$A$1:$E$75,5,FALSE),\"\")","v":""},null,null,null,null,null,null,null,null,null,null,false,null,null,null,57,"8"]
[null,null,null,null,null,null,"掲載されていない ",null,null,null,null,null,null,null,null,null,null,null,null,null,null,null,null,null,null,null,null,null,null,false,null,null,null,57,"8"]
[{"$f":"(50+$B248)-A$72","v":50},1,null,null,null,"２台目","掲載されている　　",null,null,{"$f":"IFERROR(VLOOKUP($I248,補助対象機器一覧0916!$A$1:$E$75,2,FALSE),\"\")","v":""},null,null,{"$f":"IFERROR(VLOOKUP($I248,補助対象機器一覧0916!$A$1:$E$75,3,FALSE),\"\")","v":""},null,null,{"$f":"IFERROR(VLOOKUP($I248,補助対象機器一覧0916!$A$1:$E$75,4,FALSE),\"\")","v":""},null,null,{"$f":"IFERROR(VLOOKUP($I248,補助対象機器一覧0916!$A$1:$E$75,5,FALSE),\"\")","v":""},null,null,null,null,null,null,null,null,null,null,false,null,null,null,57,"8"]
[null,null,null,null,null,null,"掲載されていない ",null,null,null,null,null,null,null,null,null,null,null,null,null,null,null,null,null,null,null,null,null,null,false,null,null,null,57,"8"]
[{"$f":"(50+$B250)-A$72","v":50},1,null,null,null,"３台目","掲載されている　　",null,null,{"$f":"IFERROR(VLOOKUP($I250,補助対象機器一覧0916!$A$1:$E$75,2,FALSE),\"\")","v":""},null,null,{"$f":"IFERROR(VLOOKUP($I250,補助対象機器一覧0916!$A$1:$E$75,3,FALSE),\"\")","v":""},null,null,{"$f":"IFERROR(VLOOKUP($I250,補助対象機器一覧0916!$A$1:$E$75,4,FALSE),\"\")","v":""},null,null,{"$f":"IFERROR(VLOOKUP($I250,補助対象機器一覧0916!$A$1:$E$75,5,FALSE),\"\")","v":""},null,null,null,null,null,null,null,null,null,null,false,null,null,null,57,"8"]
[null,null,null,null,null,null,"掲載されていない ",null,null,null,null,null,null,null,null,null,null,null,null,null,null,null,null,null,null,null,null,null,null,false,null,null,null,57,"8"]
[{"$f":"(50+$B252)-A$72","v":50},1,null,null,null,"申請\n機器","補助事業に要する経費",null,null,null,"スキャンツールの価格",null,null,null,null,"情報端末価格",null,null,null,null,"・「補助事業に要する経費」は補助対象外も含む全ての経費を機器毎に分けて入力して下さい\n・「スキャンツールの価格」は正見積書のスキャンツール単体の価格を機器毎に\n　分けて入力して下さい\n・「情報端末価格」は正見積書の情報端末単体の価格を機器毎に分けて入力して下さい",null,null,null,null,null,null,null,null,null,null,null,null,57,"8"]
[{"$f":"(50+$B253)-A$72","v":50},1,null,null,null,null,null,null,null,null,null,null,null,null,null,null,null,null,null,null,null,null,null,null,null,null,null,null,null,null,null,null,null,57,"8"]
[{"$f":"(50+$B254)-A$72","v":50},1,null,null,null,"１台目",null,null,null,null,null,null,null,null,null,null,null,null,null,null,null,null,null,null,null,null,null,null,null,null,null,{"$f":"G254-SUM(K254:T254)","v":0},null,57,"8"]
[{"$f":"(50+$B255)-A$72","v":50},1,null,null,null,"２台目",null,null,null,null,null,null,null,null,null,null,null,null,null,null,null,null,null,null,null,null,null,null,null,null,null,{"$f":"G255-SUM(K255:T255)","v":0},null,57,"8"]
[{"$f":"(50+$B256)-A$72","v":50},1,null,null,null,"３台目",null,null,null,null,null,null,null,null,null,null,null,null,null,null,null,null,null,null,null,null,null,null,null,null,null,0,null,57,"8"]
[null,null,null,null,null,"補助対象経費",null,null,null,null,"補助率",null,null,null,null,"補助金の額",null,null,null,null,null,null,null,null,null,null,null,null,null,null,null,null,null,57,"8"]
[null,null,null,null,null,{"$f":"(K254+P254)+(K255+P255)+(K256+P256)","v":0},null,null,null,null,{"$f":"IF(G254=\"\",\"\",\"1/3\")","v":""},null,null,null,null,{"$f":"IF($F258<>\"\",IF($F258/3>150000,150000,ROUNDDOWN($F258/3,-3)),\"\")","v":0},null,null,null,null,null,null,null,null,null,null,null,null,null,null,null,null,null,57,"8"]
[{"$f":"(50+$B259)-A$72","v":49},null,null,null,null,null,null,null,null,null,null,null,null,null,null,null,null,null,null,null,null,null,null,null,null,null,null,null,null,null,null,null,null,57,"8"]
[50,1,null,null,"事業場９","認証・指定・認定番号\nまたは、整備士合格証書番号",null,null,null,null,null,null,null,null,null,null,null,null,null,null,"以下のいずれかを入力\n・事業場の認証書の認定番号\n・指定書の指定番号\n・事業場に在籍する整備士の整備士合格証書番号",null,null,null,null,null,null,null,null,null,null,null,null,58,"9"]
[50,1,null,null,null,null,null,null,null,null,null,null,null,null,null,null,null,null,null,null,null,null,null,null,null,null,null,null,null,null,null,null,null,58,"9"]
[50,1,null,null,null,null,null,null,null,null,null,null,null,null,null,null,null,null,null,null,null,null,null,null,null,null,null,null,null,null,null,null,null,58,"9"]
[50,1,null,null,null,"設備を設置する事業場名",null,null,null,null,null,null,null,null,null,null,null,null,null,null,"漢字平仮名は全角、英数字は半角で入力して下さい",null,null,null,null,null,null,null,null,null,null,null,null,58,"9"]
[50,1,null,null,null,"事業場住所",null,null,"郵便番号",null,null,null,null,null,"都道府県",null,null,null,null,null,"・郵便番号はハイフンは入れず数字７桁で入力して下さい\n・町名は市区町村欄に入力して下さい\n・丁目、番地の表記はハイフンで入力して下さい\n・番地、建物名称が無い場合は入力不要です",null,null,null,null,null,null,null,null,null,null,null,null,58,"9"]
[50,1,null,null,null,null,null,null,"市区町村",null,null,null,null,null,"番地",null,null,null,null,null,null,null,null,null,null,null,null,null,null,null,null,null,null,58,"9"]
[50,1,null,null,null,null,null,null,"建物名称",null,null,null,null,null,null,null,null,null,null,null,null,null,null,null,null,null,null,null,null,null,null,null,null,58,"9"]
[50,1,null,null,null,"申請\n機器","機器一覧の\n掲載有無",null,"コード\n番号","申請スキャンツール",null,null,null,null,null,null,null,null,null,null,"①申請する機器がホームページ掲載資料の「補助対象機器一覧」に該当するか確認して下さい\n②該当の有無を「機器一覧の掲載有無」のチェックボックスで選択して下さい\n　 ※必要箇所のグレーアウトが解除されます\n【掲載されているを選択した場合】\n　・ホームページ掲載の「補助対象機器一覧」の各ページ左側「交付申請時のコード番号」\n　　（４～５桁の英数字）を確認し「コード番号」に入力して下さい\n　・入力後メーカー名～ソフトのバージョンに申請機器の情報が自動で表示されている事を\n　　確認して下さい\n【掲載されていないを選択した場合】\n　・「申請スキャンツール」に入力欄が表示されますので申請する機器の情報を入力して下さい\n　例：メーカー名●●　型式●●　品番●●　バージョン●●\n③同一事業場で２台申請する際は２台目を空欄にせず上に詰めて入力して下さい",null,null,null,null,null,null,null,null,null,null,null,null,58,"9"]
[50,1,null,null,null,null,null,null,null,"メーカー名",null,null,"名称・型式",null,null,"品　　番",null,null,"ソフトのバージョン",null,null,null,null,null,null,null,null,null,null,null,null,null,null,{"$f":"(50+$AI268)-A$72","v":58},"9"]
[50,1,null,null,null,"１台目","掲載されている　　",null,null,{"$f":"IFERROR(VLOOKUP($I269,補助対象機器一覧0916!$A$1:$E$75,2,FALSE),\"\")","v":""},null,null,{"$f":"IFERROR(VLOOKUP($I269,補助対象機器一覧0916!$A$1:$E$75,3,FALSE),\"\")","v":""},null,null,{"$f":"IFERROR(VLOOKUP($I269,補助対象機器一覧0916!$A$1:$E$75,4,FALSE),\"\")","v":""},null,null,{"$f":"IFERROR(VLOOKUP($I269,補助対象機器一覧0916!$A$1:$E$75,5,FALSE),\"\")","v":""},null,null,null,null,null,null,null,null,null,null,false,null,null,null,58,"9"]
[null,null,null,null,null,null,"掲載されていない ",null,null,null,null,null,null,null,null,null,null,null,null,null,null,null,null,null,null,null,null,null,null,false,null,null,null,58,"9"]
[{"$f":"(50+$B271)-A$72","v":50},1,null,null,null,"２台目","掲載されている　　",null,null,{"$f":"IFERROR(VLOOKUP($I271,補助対象機器一覧0916!$A$1:$E$75,2,FALSE),\"\")","v":""},null,null,{"$f":"IFERROR(VLOOKUP($I271,補助対象機器一覧0916!$A$1:$E$75,3,FALSE),\"\")","v":""},null,null,{"$f":"IFERROR(VLOOKUP($I271,補助対象機器一覧0916!$A$1:$E$75,4,FALSE),\"\")","v":""},null,null,{"$f":"IFERROR(VLOOKUP($I271,補助対象機器一覧0916!$A$1:$E$75,5,FALSE),\"\")","v":""},null,null,null,null,null,null,null,null,null,null,false,null,null,null,58,"9"]
[null,null,null,null,null,null,"掲載されていない ",null,null,null,null,null,null,null,null,null,null,null,null,null,null,null,null,null,null,null,null,null,null,false,null,null,null,58,"9"]
[{"$f":"(50+$B273)-A$72","v":50},1,null,null,null,"３台目","掲載されている　　",null,null,{"$f":"IFERROR(VLOOKUP($I273,補助対象機器一覧0916!$A$1:$E$75,2,FALSE),\"\")","v":""},null,null,{"$f":"IFERROR(VLOOKUP($I273,補助対象機器一覧0916!$A$1:$E$75,3,FALSE),\"\")","v":""},null,null,{"$f":"IFERROR(VLOOKUP($I273,補助対象機器一覧0916!$A$1:$E$75,4,FALSE),\"\")","v":""},null,null,{"$f":"IFERROR(VLOOKUP($I273,補助対象機器一覧0916!$A$1:$E$75,5,FALSE),\"\")","v":""},null,null,null,null,null,null,null,null,null,null,false,null,null,null,58,"9"]
[null,null,null,null,null,null,"掲載されていない ",null,null,null,null,null,null,null,null,null,null,null,null,null,null,null,null,null,null,null,null,null,null,false,null,null,null,58,"9"]
[{"$f":"(50+$B275)-A$72","v":50},1,null,null,null,"申請\n機器","補助事業に要する経費",null,null,null,"スキャンツールの価格",null,null,null,null,"情報端末価格",null,null,null,null,"・「補助事業に要する経費」は補助対象外も含む全ての経費を機器毎に分けて入力して下さい\n・「スキャンツールの価格」は正見積書のスキャンツール単体の価格を機器毎に\n　分けて入力して下さい\n・「情報端末価格」は正見積書の情報端末単体の価格を機器毎に分けて入力して下さい",null,null,null,null,null,null,null,null,null,null,null,null,58,"9"]
[{"$f":"(50+$B276)-A$72","v":50},1,null,null,null,null,null,null,null,null,null,null,null,null,null,null,null,null,null,null,null,null,null,null,null,null,null,null,null,null,null,null,null,58,"9"]
[{"$f":"(50+$B277)-A$72","v":50},1,null,null,null,"１台目",null,null,null,null,null,null,null,null,null,null,null,null,null,null,null,null,null,null,null,null,null,null,null,null,null,{"$f":"G277-SUM(K277:T277)","v":0},null,58,"9"]
[{"$f":"(50+$B278)-A$72","v":50},1,null,null,null,"２台目",null,null,null,null,null,null,null,null,null,null,null,null,null,null,null,null,null,null,null,null,null,null,null,null,null,{"$f":"G278-SUM(K278:T278)","v":0},null,58,"9"]
[{"$f":"(50+$B279)-A$72","v":50},1,null,null,null,"３台目",null,null,null,null,null,null,null,null,null,null,null,null,null,null,null,null,null,null,null,null,null,null,null,null,null,0,null,58,"9"]
[null,null,null,null,null,"補助対象経費",null,null,null,null,"補助率",null,null,null,null,"補助金の額",null,null,null,null,null,null,null,null,null,null,null,null,null,null,null,null,null,58,"9"]
[null,null,null,null,null,{"$f":"(K277+P277)+(K278+P278)+(K279+P279)","v":0},null,null,null,null,{"$f":"IF(G277=\"\",\"\",\"1/3\")","v":""},null,null,null,null,{"$f":"IF($F281<>\"\",IF($F281/3>150000,150000,ROUNDDOWN($F281/3,-3)),\"\")","v":0},null,null,null,null,null,null,null,null,null,null,null,null,null,null,null,null,null,58,"9"]
[{"$f":"(50+$B282)-A$72","v":49},null,null,null,null,null,null,null,null,null,null,null,null,null,null,null,null,null,null,null,null,null,null,null,null,null,null,null,null,null,null,null,null,58,"9"]
[50,1,null,null,"事\n業\n場\n10","認証・指定・認定番号\nまたは、整備士合格証書番号",null,null,null,null,null,null,null,null,null,null,null,null,null,null,"以下のいずれかを入力\n・事業場の認証書の認定番号\n・指定書の指定番号\n・事業場に在籍する整備士の整備士合格証書番号",null,null,null,null,null,null,null,null,null,null,null,null,59,"10"]
[50,1,null,null,null,null,null,null,null,null,null,null,null,null,null,null,null,null,null,null,null,null,null,null,null,null,null,null,null,null,null,null,null,59,"10"]
[50,1,null,null,null,null,null,null,null,null,null,null,null,null,null,null,null,null,null,null,null,null,null,null,null,null,null,null,null,null,null,null,null,59,"10"]
[50,1,null,null,null,"設備を設置する事業場名",null,null,null,null,null,null,null,null,null,null,null,null,null,null,"漢字平仮名は全角、英数字は半角で入力して下さい",null,null,null,null,null,null,null,null,null,null,null,null,59,"10"]
[50,1,null,null,null,"事業場住所",null,null,"郵便番号",null,null,null,null,null,"都道府県",null,null,null,null,null,"・郵便番号はハイフンは入れず数字７桁で入力して下さい\n・町名は市区町村欄に入力して下さい\n・丁目、番地の表記はハイフンで入力して下さい\n・番地、建物名称が無い場合は入力不要です",null,null,null,null,null,null,null,null,null,null,null,null,59,"10"]
[50,1,null,null,null,null,null,null,"市区町村",null,null,null,null,null,"番地",null,null,null,null,null,null,null,null,null,null,null,null,null,null,null,null,null,null,59,"10"]
[50,1,null,null,null,null,null,null,"建物名称",null,null,null,null,null,null,null,null,null,null,null,null,null,null,null,null,null,null,null,null,null,null,null,null,59,"10"]
[50,1,null,null,null,"申請\n機器","機器一覧の\n掲載有無",null,"コード\n番号","申請スキャンツール",null,null,null,null,null,null,null,null,null,null,"①申請する機器がホームページ掲載資料の「補助対象機器一覧」に該当するか確認して下さい\n②該当の有無を「機器一覧の掲載有無」のチェックボックスで選択して下さい\n　 ※必要箇所のグレーアウトが解除されます\n【掲載されているを選択した場合】\n　・ホームページ掲載の「補助対象機器一覧」の各ページ左側「交付申請時のコード番号」\n　　（４～５桁の英数字）を確認し「コード番号」に入力して下さい\n　・入力後メーカー名～ソフトのバージョンに申請機器の情報が自動で表示されている事を\n　　確認して下さい\n【掲載されていないを選択した場合】\n　・「申請スキャンツール」に入力欄が表示されますので申請する機器の情報を入力して下さい\n　例：メーカー名●●　型式●●　品番●●　バージョン●●\n③同一事業場で２台申請する際は２台目を空欄にせず上に詰めて入力して下さい",null,null,null,null,null,null,null,null,null,null,null,null,59,"10"]
[50,1,null,null,null,null,null,null,null,"メーカー名",null,null,"名称・型式",null,null,"品　　番",null,null,"ソフトのバージョン",null,null,null,null,null,null,null,null,null,null,null,null,null,null,59,"10"]
[50,1,null,null,null,"１台目","掲載されている　　",null,null,{"$f":"IFERROR(VLOOKUP($I292,補助対象機器一覧0916!$A$1:$E$75,2,FALSE),\"\")","v":""},null,null,{"$f":"IFERROR(VLOOKUP($I292,補助対象機器一覧0916!$A$1:$E$75,3,FALSE),\"\")","v":""},null,null,{"$f":"IFERROR(VLOOKUP($I292,補助対象機器一覧0916!$A$1:$E$75,4,FALSE),\"\")","v":""},null,null,{"$f":"IFERROR(VLOOKUP($I292,補助対象機器一覧0916!$A$1:$E$75,5,FALSE),\"\")","v":""},null,null,null,null,null,null,null,null,null,null,false,null,null,null,59,"10"]
[null,null,null,null,null,null,"掲載されていない ",null,null,null,null,null,null,null,null,null,null,null,null,null,null,null,null,null,null,null,null,null,null,false,null,null,null,59,"10"]
[{"$f":"(50+$B294)-A$72","v":50},1,null,null,null,"２台目","掲載されている　　",null,null,{"$f":"IFERROR(VLOOKUP($I294,補助対象機器一覧0916!$A$1:$E$75,2,FALSE),\"\")","v":""},null,null,{"$f":"IFERROR(VLOOKUP($I294,補助対象機器一覧0916!$A$1:$E$75,3,FALSE),\"\")","v":""},null,null,{"$f":"IFERROR(VLOOKUP($I294,補助対象機器一覧0916!$A$1:$E$75,4,FALSE),\"\")","v":""},null,null,{"$f":"IFERROR(VLOOKUP($I294,補助対象機器一覧0916!$A$1:$E$75,5,FALSE),\"\")","v":""},null,null,null,null,null,null,null,null,null,null,false,null,null,null,59,"10"]
[null,null,null,null,null,null,"掲載されていない ",null,null,null,null,null,null,null,null,null,null,null,null,null,null,null,null,null,null,null,null,null,null,false,null,null,null,59,"10"]
[{"$f":"(50+$B296)-A$72","v":50},1,null,null,null,"３台目","掲載されている　　",null,null,{"$f":"IFERROR(VLOOKUP($I296,補助対象機器一覧0916!$A$1:$E$75,2,FALSE),\"\")","v":""},null,null,{"$f":"IFERROR(VLOOKUP($I296,補助対象機器一覧0916!$A$1:$E$75,3,FALSE),\"\")","v":""},null,null,{"$f":"IFERROR(VLOOKUP($I296,補助対象機器一覧0916!$A$1:$E$75,4,FALSE),\"\")","v":""},null,null,{"$f":"IFERROR(VLOOKUP($I296,補助対象機器一覧0916!$A$1:$E$75,5,FALSE),\"\")","v":""},null,null,null,null,null,null,null,null,null,null,false,null,null,null,59,"10"]
[null,null,null,null,null,null,"掲載されていない ",null,null,null,null,null,null,null,null,null,null,null,null,null,null,null,null,null,null,null,null,null,null,false,null,null,null,59,"10"]
[{"$f":"(50+$B298)-A$72","v":50},1,null,null,null,"申請\n機器","補助事業に要する経費",null,null,null,"スキャンツールの価格",null,null,null,null,"情報端末価格",null,null,null,null,"・「補助事業に要する経費」は補助対象外も含む全ての経費を機器毎に分けて入力して下さい\n・「スキャンツールの価格」は正見積書のスキャンツール単体の価格を機器毎に\n　分けて入力して下さい\n・「情報端末価格」は正見積書の情報端末単体の価格を機器毎に分けて入力して下さい",null,null,null,null,null,null,null,null,null,null,null,null,59,"10"]
[{"$f":"(50+$B299)-A$72","v":50},1,null,null,null,null,null,null,null,null,null,null,null,null,null,null,null,null,null,null,null,null,null,null,null,null,null,null,null,null,null,null,null,59,"10"]
[{"$f":"(50+$B300)-A$72","v":50},1,null,null,null,"１台目",null,null,null,null,null,null,null,null,null,null,null,null,null,null,null,null,null,null,null,null,null,null,null,null,null,{"$f":"G300-SUM(K300:T300)","v":0},null,59,"10"]
[{"$f":"(50+$B301)-A$72","v":50},1,null,null,null,"２台目",null,null,null,null,null,null,null,null,null,null,null,null,null,null,null,null,null,null,null,null,null,null,null,null,null,{"$f":"G301-SUM(K301:T301)","v":0},null,59,"10"]
[{"$f":"(50+$B302)-A$72","v":50},1,null,null,null,"３台目",null,null,null,null,null,null,null,null,null,null,null,null,null,null,null,null,null,null,null,null,null,null,null,null,null,0,null,59,"10"]
[null,null,null,null,null,"補助対象経費",null,null,null,null,"補助率",null,null,null,null,"補助金の額",null,null,null,null,null,null,null,null,null,null,null,null,null,null,null,null,null,59,"10"]
[null,null,null,null,null,{"$f":"(K300+P300)+(K301+P301)+(K302+P302)","v":0},null,null,null,null,{"$f":"IF(G300=\"\",\"\",\"1/3\")","v":""},null,null,null,null,{"$f":"IF($F304<>\"\",IF($F304/3>150000,150000,ROUNDDOWN($F304/3,-3)),\"\")","v":0},null,null,null,null,null,null,null,null,null,null,null,null,null,null,null,null,null,59,"10"]
[{"$f":"(50+$B305)-A$72","v":49},null,null,null,null,null,null,null,null,null,null,null,null,null,null,null,null,null,null,null,null,null,null,null,null,null,null,null,null,null,null,null,null,59,"10"]
[50,1,null,null,"事\n業\n場\n11","認証・指定・認定番号\nまたは、整備士合格証書番号",null,null,null,null,null,null,null,null,null,null,null,null,null,null,"以下のいずれかを入力\n・事業場の認証書の認定番号\n・指定書の指定番号\n・事業場に在籍する整備士の整備士合格証書番号",null,null,null,null,null,null,null,null,null,null,null,null,60,"11",{"$f":"SUM($G323:$J325+$G346:$J348+$G369:$J371+$G392:$J394+$G415:$J417+$G438:$J440+$G461:$J463+$G484:$J486+$G507:$J509+G530:J532)","v":0},{"$f":"$F327+$F350+$F373+$F396+$F419+$F442+$F465+$F488+$F511+$F534","v":0},{"$f":"$P327+$P350+$P373+$P396+$P419+$P442+$P465+$P488+$P511+$P534","v":0}]
[50,1,null,null,null,null,null,null,null,null,null,null,null,null,null,null,null,null,null,null,null,null,null,null,null,null,null,null,null,null,null,null,null,60,"11"]
[50,1,null,null,null,null,null,null,null,null,null,null,null,null,null,null,null,null,null,null,null,null,null,null,null,null,null,null,null,null,null,null,null,60,"11"]
[50,1,null,null,null,"設備を設置する事業場名",null,null,null,null,null,null,null,null,null,null,null,null,null,null,"漢字平仮名は全角、英数字は半角で入力して下さい",null,null,null,null,null,null,null,null,null,null,null,null,60,"11"]
[50,1,null,null,null,"事業場住所",null,null,"郵便番号",null,null,null,null,null,"都道府県",null,null,null,null,null,"・郵便番号はハイフンは入れず数字７桁で入力して下さい\n・町名は市区町村欄に入力して下さい\n・丁目、番地の表記はハイフンで入力して下さい\n・番地、建物名称が無い場合は入力不要です",null,null,null,null,null,null,null,null,null,null,null,null,60,"11"]
[50,1,null,null,null,null,null,null,"市区町村",null,null,null,null,null,"番地",null,null,null,null,null,null,null,null,null,null,null,null,null,null,null,null,null,null,60,"11"]
[50,1,null,null,null,null,null,null,"建物名称",null,null,null,null,null,null,null,null,null,null,null,null,null,null,null,null,null,null,null,null,null,null,null,null,60,"11"]
[50,1,null,null,null,"申請\n機器","機器一覧の\n掲載有無",null,"コード\n番号","申請スキャンツール",null,null,null,null,null,null,null,null,null,null,"①申請する機器がホームページ掲載資料の「補助対象機器一覧」に該当するか確認して下さい\n②該当の有無を「機器一覧の掲載有無」のチェックボックスで選択して下さい\n　 ※必要箇所のグレーアウトが解除されます\n【掲載されているを選択した場合】\n　・ホームページ掲載の「補助対象機器一覧」の各ページ左側「交付申請時のコード番号」\n　　（４～５桁の英数字）を確認し「コード番号」に入力して下さい\n　・入力後メーカー名～ソフトのバージョンに申請機器の情報が自動で表示されている事を\n　　確認して下さい\n【掲載されていないを選択した場合】\n　・「申請スキャンツール」に入力欄が表示されますので申請する機器の情報を入力して下さい\n　例：メーカー名●●　型式●●　品番●●　バージョン●●\n③同一事業場で２台申請する際は２台目を空欄にせず上に詰めて入力して下さい",null,null,null,null,null,null,null,null,null,null,null,null,60,"11"]
[50,1,null,null,null,null,null,null,null,"メーカー名",null,null,"名称・型式",null,null,"品　　番",null,null,"ソフトのバージョン",null,null,null,null,null,null,null,null,null,null,null,null,null,null,60,"11"]
[50,1,null,null,null,"１台目","掲載されている　　",null,null,{"$f":"IFERROR(VLOOKUP($I315,補助対象機器一覧0916!$A$1:$E$75,2,FALSE),\"\")","v":""},null,null,{"$f":"IFERROR(VLOOKUP($I315,補助対象機器一覧0916!$A$1:$E$75,3,FALSE),\"\")","v":""},null,null,{"$f":"IFERROR(VLOOKUP($I315,補助対象機器一覧0916!$A$1:$E$75,4,FALSE),\"\")","v":""},null,null,{"$f":"IFERROR(VLOOKUP($I315,補助対象機器一覧0916!$A$1:$E$75,5,FALSE),\"\")","v":""},null,null,null,null,null,null,null,null,null,null,false,null,null,null,60,"11"]
[null,null,null,null,null,null,"掲載されていない ",null,null,null,null,null,null,null,null,null,null,null,null,null,null,null,null,null,null,null,null,null,null,false,null,null,null,60,"11"]
[{"$f":"(50+$B317)-A$72","v":50},1,null,null,null,"２台目","掲載されている　　",null,null,{"$f":"IFERROR(VLOOKUP($I317,補助対象機器一覧0916!$A$1:$E$75,2,FALSE),\"\")","v":""},null,null,{"$f":"IFERROR(VLOOKUP($I317,補助対象機器一覧0916!$A$1:$E$75,3,FALSE),\"\")","v":""},null,null,{"$f":"IFERROR(VLOOKUP($I317,補助対象機器一覧0916!$A$1:$E$75,4,FALSE),\"\")","v":""},null,null,{"$f":"IFERROR(VLOOKUP($I317,補助対象機器一覧0916!$A$1:$E$75,5,FALSE),\"\")","v":""},null,null,null,null,null,null,null,null,null,null,false,null,null,null,60,"11"]
[null,null,null,null,null,null,"掲載されていない ",null,null,null,null,null,null,null,null,null,null,null,null,null,null,null,null,null,null,null,null,null,null,false,null,null,null,60,"11"]
[{"$f":"(50+$B319)-A$72","v":50},1,null,null,null,"３台目","掲載されている　　",null,null,{"$f":"IFERROR(VLOOKUP($I319,補助対象機器一覧0916!$A$1:$E$75,2,FALSE),\"\")","v":""},null,null,{"$f":"IFERROR(VLOOKUP($I319,補助対象機器一覧0916!$A$1:$E$75,3,FALSE),\"\")","v":""},null,null,{"$f":"IFERROR(VLOOKUP($I319,補助対象機器一覧0916!$A$1:$E$75,4,FALSE),\"\")","v":""},null,null,{"$f":"IFERROR(VLOOKUP($I319,補助対象機器一覧0916!$A$1:$E$75,5,FALSE),\"\")","v":""},null,null,null,null,null,null,null,null,null,null,false,null,null,null,60,"11"]
[null,null,null,null,null,null,"掲載されていない ",null,null,null,null,null,null,null,null,null,null,null,null,null,null,null,null,null,null,null,null,null,null,false,null,null,null,60,"11"]
[{"$f":"(50+$B321)-A$72","v":50},1,null,null,null,"申請\n機器","補助事業に要する経費",null,null,null,"スキャンツールの価格",null,null,null,null,"情報端末価格",null,null,null,null,"・「補助事業に要する経費」は補助対象外も含む全ての経費を機器毎に分けて入力して下さい\n・「スキャンツールの価格」は正見積書のスキャンツール単体の価格を機器毎に\n　分けて入力して下さい\n・「情報端末価格」は正見積書の情報端末単体の価格を機器毎に分けて入力して下さい",null,null,null,null,null,null,null,null,null,null,null,null,60,"11"]
[{"$f":"(50+$B322)-A$72","v":50},1,null,null,null,null,null,null,null,null,null,null,null,null,null,null,null,null,null,null,null,null,null,null,null,null,null,null,null,null,null,null,null,60,"11"]
[{"$f":"(50+$B323)-A$72","v":50},1,null,null,null,"１台目",null,null,null,null,null,null,null,null,null,null,null,null,null,null,null,null,null,null,null,null,null,null,null,null,null,{"$f":"G323-SUM(K323:T323)","v":0},null,60,"11"]
[{"$f":"(50+$B324)-A$72","v":50},1,null,null,null,"２台目",null,null,null,null,null,null,null,null,null,null,null,null,null,null,null,null,null,null,null,null,null,null,null,null,null,{"$f":"G324-SUM(K324:T324)","v":0},null,60,"11"]
[{"$f":"(50+$B325)-A$72","v":50},1,null,null,null,"３台目",null,null,null,null,null,null,null,null,null,null,null,null,null,null,null,null,null,null,null,null,null,null,null,null,null,0,null,60,"11"]
[null,null,null,null,null,"補助対象経費",null,null,null,null,"補助率",null,null,null,null,"補助金の額",null,null,null,null,null,null,null,null,null,null,null,null,null,null,null,null,null,60,"11"]
[null,null,null,null,null,{"$f":"(K323+P323)+(K324+P324)+(K325+P325)","v":0},null,null,null,null,{"$f":"IF(G323=\"\",\"\",\"1/3\")","v":""},null,null,null,null,{"$f":"IF($F327<>\"\",IF($F327/3>150000,150000,ROUNDDOWN($F327/3,-3)),\"\")","v":0},null,null,null,null,null,null,null,null,null,null,null,null,null,null,null,null,null,60,"11"]
[{"$f":"(50+$B328)-A$72","v":49},null,null,null,null,null,null,null,null,null,null,null,null,null,null,null,null,null,null,null,null,null,null,null,null,null,null,null,null,null,null,null,null,60,"11"]
[50,1,null,null,"事\n業\n場\n12","認証・指定・認定番号\nまたは、整備士合格証書番号",null,null,null,null,null,null,null,null,null,null,null,null,null,null,"以下のいずれかを入力\n・事業場の認証書の認定番号\n・指定書の指定番号\n・事業場に在籍する整備士の整備士合格証書番号",null,null,null,null,null,null,null,null,null,null,null,null,61,"12"]
[50,1,null,null,null,null,null,null,null,null,null,null,null,null,null,null,null,null,null,null,null,null,null,null,null,null,null,null,null,null,null,null,null,61,"12"]
[50,1,null,null,null,null,null,null,null,null,null,null,null,null,null,null,null,null,null,null,null,null,null,null,null,null,null,null,null,null,null,null,null,61,"12"]
[50,1,null,null,null,"設備を設置する事業場名",null,null,null,null,null,null,null,null,null,null,null,null,null,null,"漢字平仮名は全角、英数字は半角で入力して下さい",null,null,null,null,null,null,null,null,null,null,null,null,{"$f":"(50+$AI332)-A$72","v":61},"12"]
[50,1,null,null,null,"事業場住所",null,null,"郵便番号",null,null,null,null,null,"都道府県",null,null,null,null,null,"・郵便番号はハイフンは入れず数字７桁で入力して下さい\n・町名は市区町村欄に入力して下さい\n・丁目、番地の表記はハイフンで入力して下さい\n・番地、建物名称が無い場合は入力不要です",null,null,null,null,null,null,null,null,null,null,null,null,61,"12"]
[50,1,null,null,null,null,null,null,"市区町村",null,null,null,null,null,"番地",null,null,null,null,null,null,null,null,null,null,null,null,null,null,null,null,null,null,61,"12"]
[50,1,null,null,null,null,null,null,"建物名称",null,null,null,null,null,null,null,null,null,null,null,null,null,null,null,null,null,null,null,null,null,null,null,null,61,"12"]
[50,1,null,null,null,"申請\n機器","機器一覧の\n掲載有無",null,"コード\n番号","申請スキャンツール",null,null,null,null,null,null,null,null,null,null,"①申請する機器がホームページ掲載資料の「補助対象機器一覧」に該当するか確認して下さい\n②該当の有無を「機器一覧の掲載有無」のチェックボックスで選択して下さい\n　 ※必要箇所のグレーアウトが解除されます\n【掲載されているを選択した場合】\n　・ホームページ掲載の「補助対象機器一覧」の各ページ左側「交付申請時のコード番号」\n　　（４～５桁の英数字）を確認し「コード番号」に入力して下さい\n　・入力後メーカー名～ソフトのバージョンに申請機器の情報が自動で表示されている事を\n　　確認して下さい\n【掲載されていないを選択した場合】\n　・「申請スキャンツール」に入力欄が表示されますので申請する機器の情報を入力して下さい\n　例：メーカー名●●　型式●●　品番●●　バージョン●●\n③同一事業場で２台申請する際は２台目を空欄にせず上に詰めて入力して下さい",null,null,null,null,null,null,null,null,null,null,null,null,61,"12"]
[50,1,null,null,null,null,null,null,null,"メーカー名",null,null,"名称・型式",null,null,"品　　番",null,null,"ソフトのバージョン",null,null,null,null,null,null,null,null,null,null,null,null,null,null,61,"12"]
[50,1,null,null,null,"１台目","掲載されている　　",null,null,{"$f":"IFERROR(VLOOKUP($I338,補助対象機器一覧0916!$A$1:$E$75,2,FALSE),\"\")","v":""},null,null,{"$f":"IFERROR(VLOOKUP($I338,補助対象機器一覧0916!$A$1:$E$75,3,FALSE),\"\")","v":""},null,null,{"$f":"IFERROR(VLOOKUP($I338,補助対象機器一覧0916!$A$1:$E$75,4,FALSE),\"\")","v":""},null,null,{"$f":"IFERROR(VLOOKUP($I338,補助対象機器一覧0916!$A$1:$E$75,5,FALSE),\"\")","v":""},null,null,null,null,null,null,null,null,null,null,false,null,null,null,61,"12"]
[null,null,null,null,null,null,"掲載されていない ",null,null,null,null,null,null,null,null,null,null,null,null,null,null,null,null,null,null,null,null,null,null,false,null,null,null,61,"12"]
[{"$f":"(50+$B340)-A$72","v":50},1,null,null,null,"２台目","掲載されている　　",null,null,{"$f":"IFERROR(VLOOKUP($I340,補助対象機器一覧0916!$A$1:$E$75,2,FALSE),\"\")","v":""},null,null,{"$f":"IFERROR(VLOOKUP($I340,補助対象機器一覧0916!$A$1:$E$75,3,FALSE),\"\")","v":""},null,null,{"$f":"IFERROR(VLOOKUP($I340,補助対象機器一覧0916!$A$1:$E$75,4,FALSE),\"\")","v":""},null,null,{"$f":"IFERROR(VLOOKUP($I340,補助対象機器一覧0916!$A$1:$E$75,5,FALSE),\"\")","v":""},null,null,null,null,null,null,null,null,null,null,false,null,null,null,61,"12"]
[null,null,null,null,null,null,"掲載されていない ",null,null,null,null,null,null,null,null,null,null,null,null,null,null,null,null,null,null,null,null,null,null,false,null,null,null,61,"12"]
[{"$f":"(50+$B342)-A$72","v":50},1,null,null,null,"３台目","掲載されている　　",null,null,{"$f":"IFERROR(VLOOKUP($I342,補助対象機器一覧0916!$A$1:$E$75,2,FALSE),\"\")","v":""},null,null,{"$f":"IFERROR(VLOOKUP($I342,補助対象機器一覧0916!$A$1:$E$75,3,FALSE),\"\")","v":""},null,null,{"$f":"IFERROR(VLOOKUP($I342,補助対象機器一覧0916!$A$1:$E$75,4,FALSE),\"\")","v":""},null,null,{"$f":"IFERROR(VLOOKUP($I342,補助対象機器一覧0916!$A$1:$E$75,5,FALSE),\"\")","v":""},null,null,null,null,null,null,null,null,null,null,false,null,null,null,61,"12"]
[null,null,null,null,null,null,"掲載されていない ",null,null,null,null,null,null,null,null,null,null,null,null,null,null,null,null,null,null,null,null,null,null,false,null,null,null,61,"12"]
[{"$f":"(50+$B344)-A$72","v":50},1,null,null,null,"申請\n機器","補助事業に要する経費",null,null,null,"スキャンツールの価格",null,null,null,null,"情報端末価格",null,null,null,null,"・「補助事業に要する経費」は補助対象外も含む全ての経費を機器毎に分けて入力して下さい\n・「スキャンツールの価格」は正見積書のスキャンツール単体の価格を機器毎に\n　分けて入力して下さい\n・「情報端末価格」は正見積書の情報端末単体の価格を機器毎に分けて入力して下さい",null,null,null,null,null,null,null,null,null,null,null,null,61,"12"]
[{"$f":"(50+$B345)-A$72","v":50},1,null,null,null,null,null,null,null,null,null,null,null,null,null,null,null,null,null,null,null,null,null,null,null,null,null,null,null,null,null,null,null,61,"12"]
[{"$f":"(50+$B346)-A$72","v":50},1,null,null,null,"１台目",null,null,null,null,null,null,null,null,null,null,null,null,null,null,null,null,null,null,null,null,null,null,null,null,null,{"$f":"G346-SUM(K346:T346)","v":0},null,61,"12"]
[{"$f":"(50+$B347)-A$72","v":50},1,null,null,null,"２台目",null,null,null,null,null,null,null,null,null,null,null,null,null,null,null,null,null,null,null,null,null,null,null,null,null,{"$f":"G347-SUM(K347:T347)","v":0},null,61,"12"]
[{"$f":"(50+$B348)-A$72","v":50},1,null,null,null,"３台目",null,null,null,null,null,null,null,null,null,null,null,null,null,null,null,null,null,null,null,null,null,null,null,null,null,0,null,61,"12"]
[null,null,null,null,null,"補助対象経費",null,null,null,null,"補助率",null,null,null,null,"補助金の額",null,null,null,null,null,null,null,null,null,null,null,null,null,null,null,null,null,61,"12"]
[null,null,null,null,null,{"$f":"(K346+P346)+(K347+P347)+(K348+P348)","v":0},null,null,null,null,{"$f":"IF(G346=\"\",\"\",\"1/3\")","v":""},null,null,null,null,{"$f":"IF($F350<>\"\",IF($F350/3>150000,150000,ROUNDDOWN($F350/3,-3)),\"\")","v":0},null,null,null,null,null,null,null,null,null,null,null,null,null,null,null,null,null,61,"12"]
[{"$f":"(50+$B351)-A$72","v":49},null,null,null,null,null,null,null,null,null,null,null,null,null,null,null,null,null,null,null,null,null,null,null,null,null,null,null,null,null,null,null,null,61,12]
[50,1,null,null,"事\n業\n場\n13","認証・指定・認定番号\nまたは、整備士合格証書番号",null,null,null,null,null,null,null,null,null,null,null,null,null,null,"以下のいずれかを入力\n・事業場の認証書の認定番号\n・指定書の指定番号\n・事業場に在籍する整備士の整備士合格証書番号",null,null,null,null,null,null,null,null,null,null,null,null,62,"13"]
[50,1,null,null,null,null,null,null,null,null,null,null,null,null,null,null,null,null,null,null,null,null,null,null,null,null,null,null,null,null,null,null,null,62,"13"]
[50,1,null,null,null,null,null,null,null,null,null,null,null,null,null,null,null,null,null,null,null,null,null,null,null,null,null,null,null,null,null,null,null,62,"13"]
[50,1,null,null,null,"設備を設置する事業場名",null,null,null,null,null,null,null,null,null,null,null,null,null,null,"漢字平仮名は全角、英数字は半角で入力して下さい",null,null,null,null,null,null,null,null,null,null,null,null,62,"13"]
[50,1,null,null,null,"事業場住所",null,null,"郵便番号",null,null,null,null,null,"都道府県",null,null,null,null,null,"・郵便番号はハイフンは入れず数字７桁で入力して下さい\n・町名は市区町村欄に入力して下さい\n・丁目、番地の表記はハイフンで入力して下さい\n・番地、建物名称が無い場合は入力不要です",null,null,null,null,null,null,null,null,null,null,null,null,62,"13"]
[50,1,null,null,null,null,null,null,"市区町村",null,null,null,null,null,"番地",null,null,null,null,null,null,null,null,null,null,null,null,null,null,null,null,null,null,62,"13"]
[50,1,null,null,null,null,null,null,"建物名称",null,null,null,null,null,null,null,null,null,null,null,null,null,null,null,null,null,null,null,null,null,null,null,null,62,"13"]
[50,1,null,null,null,"申請\n機器","機器一覧の\n掲載有無",null,"コード\n番号","申請スキャンツール",null,null,null,null,null,null,null,null,null,null,"①申請する機器がホームページ掲載資料の「補助対象機器一覧」に該当するか確認して下さい\n②該当の有無を「機器一覧の掲載有無」のチェックボックスで選択して下さい\n　 ※必要箇所のグレーアウトが解除されます\n【掲載されているを選択した場合】\n　・ホームページ掲載の「補助対象機器一覧」の各ページ左側「交付申請時のコード番号」\n　　（４～５桁の英数字）を確認し「コード番号」に入力して下さい\n　・入力後メーカー名～ソフトのバージョンに申請機器の情報が自動で表示されている事を\n　　確認して下さい\n【掲載されていないを選択した場合】\n　・「申請スキャンツール」に入力欄が表示されますので申請する機器の情報を入力して下さい\n　例：メーカー名●●　型式●●　品番●●　バージョン●●\n③同一事業場で２台申請する際は２台目を空欄にせず上に詰めて入力して下さい",null,null,null,null,null,null,null,null,null,null,null,null,62,"13"]
[50,1,null,null,null,null,null,null,null,"メーカー名",null,null,"名称・型式",null,null,"品　　番",null,null,"ソフトのバージョン",null,null,null,null,null,null,null,null,null,null,null,null,null,null,62,"13"]
[50,1,null,null,null,"１台目","掲載されている　　",null,null,{"$f":"IFERROR(VLOOKUP($I361,補助対象機器一覧0916!$A$1:$E$75,2,FALSE),\"\")","v":""},null,null,{"$f":"IFERROR(VLOOKUP($I361,補助対象機器一覧0916!$A$1:$E$75,3,FALSE),\"\")","v":""},null,null,{"$f":"IFERROR(VLOOKUP($I361,補助対象機器一覧0916!$A$1:$E$75,4,FALSE),\"\")","v":""},null,null,{"$f":"IFERROR(VLOOKUP($I361,補助対象機器一覧0916!$A$1:$E$75,5,FALSE),\"\")","v":""},null,null,null,null,null,null,null,null,null,null,false,null,null,null,62,"13"]
[null,null,null,null,null,null,"掲載されていない ",null,null,null,null,null,null,null,null,null,null,null,null,null,null,null,null,null,null,null,null,null,null,false,null,null,null,62,"13"]
[{"$f":"(50+$B363)-A$72","v":50},1,null,null,null,"２台目","掲載されている　　",null,null,{"$f":"IFERROR(VLOOKUP($I363,補助対象機器一覧0916!$A$1:$E$75,2,FALSE),\"\")","v":""},null,null,{"$f":"IFERROR(VLOOKUP($I363,補助対象機器一覧0916!$A$1:$E$75,3,FALSE),\"\")","v":""},null,null,{"$f":"IFERROR(VLOOKUP($I363,補助対象機器一覧0916!$A$1:$E$75,4,FALSE),\"\")","v":""},null,null,{"$f":"IFERROR(VLOOKUP($I363,補助対象機器一覧0916!$A$1:$E$75,5,FALSE),\"\")","v":""},null,null,null,null,null,null,null,null,null,null,false,null,null,null,62,"13"]
[null,null,null,null,null,null,"掲載されていない ",null,null,null,null,null,null,null,null,null,null,null,null,null,null,null,null,null,null,null,null,null,null,false,null,null,null,62,"13"]
[{"$f":"(50+$B365)-A$72","v":50},1,null,null,null,"３台目","掲載されている　　",null,null,{"$f":"IFERROR(VLOOKUP($I365,補助対象機器一覧0916!$A$1:$E$75,2,FALSE),\"\")","v":""},null,null,{"$f":"IFERROR(VLOOKUP($I365,補助対象機器一覧0916!$A$1:$E$75,3,FALSE),\"\")","v":""},null,null,{"$f":"IFERROR(VLOOKUP($I365,補助対象機器一覧0916!$A$1:$E$75,4,FALSE),\"\")","v":""},null,null,{"$f":"IFERROR(VLOOKUP($I365,補助対象機器一覧0916!$A$1:$E$75,5,FALSE),\"\")","v":""},null,null,null,null,null,null,null,null,null,null,false,null,null,null,62,"13"]
[null,null,null,null,null,null,"掲載されていない ",null,null,null,null,null,null,null,null,null,null,null,null,null,null,null,null,null,null,null,null,null,null,false,null,null,null,62,"13"]
[{"$f":"(50+$B367)-A$72","v":50},1,null,null,null,"申請\n機器","補助事業に要する経費",null,null,null,"スキャンツールの価格",null,null,null,null,"情報端末価格",null,null,null,null,"・「補助事業に要する経費」は補助対象外も含む全ての経費を機器毎に分けて入力して下さい\n・「スキャンツールの価格」は正見積書のスキャンツール単体の価格を機器毎に\n　分けて入力して下さい\n・「情報端末価格」は正見積書の情報端末単体の価格を機器毎に分けて入力して下さい",null,null,null,null,null,null,null,null,null,null,null,null,62,"13"]
[{"$f":"(50+$B368)-A$72","v":50},1,null,null,null,null,null,null,null,null,null,null,null,null,null,null,null,null,null,null,null,null,null,null,null,null,null,null,null,null,null,null,null,62,"13"]
[{"$f":"(50+$B369)-A$72","v":50},1,null,null,null,"１台目",null,null,null,null,null,null,null,null,null,null,null,null,null,null,null,null,null,null,null,null,null,null,null,null,null,{"$f":"G369-SUM(K369:T369)","v":0},null,62,"13"]
[{"$f":"(50+$B370)-A$72","v":50},1,null,null,null,"２台目",null,null,null,null,null,null,null,null,null,null,null,null,null,null,null,null,null,null,null,null,null,null,null,null,null,{"$f":"G370-SUM(K370:T370)","v":0},null,62,"13"]
[{"$f":"(50+$B371)-A$72","v":50},1,null,null,null,"３台目",null,null,null,null,null,null,null,null,null,null,null,null,null,null,null,null,null,null,null,null,null,null,null,null,null,0,null,62,"13"]
[null,null,null,null,null,"補助対象経費",null,null,null,null,"補助率",null,null,null,null,"補助金の額",null,null,null,null,null,null,null,null,null,null,null,null,null,null,null,null,null,62,"13"]
[null,null,null,null,null,{"$f":"(K369+P369)+(K370+P370)+(K371+P371)","v":0},null,null,null,null,{"$f":"IF(G369=\"\",\"\",\"1/3\")","v":""},null,null,null,null,{"$f":"IF($F373<>\"\",IF($F373/3>150000,150000,ROUNDDOWN($F373/3,-3)),\"\")","v":0},null,null,null,null,null,null,null,null,null,null,null,null,null,null,null,null,null,62,"13"]
[{"$f":"(50+$B374)-A$72","v":49},null,null,null,null,null,null,null,null,null,null,null,null,null,null,null,null,null,null,null,null,null,null,null,null,null,null,null,null,null,null,null,null,62,"13"]
[50,1,null,null,"事\n業\n場\n14","認証・指定・認定番号\nまたは、整備士合格証書番号",null,null,null,null,null,null,null,null,null,null,null,null,null,null,"以下のいずれかを入力\n・事業場の認証書の認定番号\n・指定書の指定番号\n・事業場に在籍する整備士の整備士合格証書番号",null,null,null,null,null,null,null,null,null,null,null,null,63,"14"]
[50,1,null,null,null,null,null,null,null,null,null,null,null,null,null,null,null,null,null,null,null,null,null,null,null,null,null,null,null,null,null,null,null,63,"14"]
[50,1,null,null,null,null,null,null,null,null,null,null,null,null,null,null,null,null,null,null,null,null,null,null,null,null,null,null,null,null,null,null,null,63,"14"]
[50,1,null,null,null,"設備を設置する事業場名",null,null,null,null,null,null,null,null,null,null,null,null,null,null,"漢字平仮名は全角、英数字は半角で入力して下さい",null,null,null,null,null,null,null,null,null,null,null,null,63,"14"]
[50,1,null,null,null,"事業場住所",null,null,"郵便番号",null,null,null,null,null,"都道府県",null,null,null,null,null,"・郵便番号はハイフンは入れず数字７桁で入力して下さい\n・町名は市区町村欄に入力して下さい\n・丁目、番地の表記はハイフンで入力して下さい\n・番地、建物名称が無い場合は入力不要です",null,null,null,null,null,null,null,null,null,null,null,null,63,"14"]
[50,1,null,null,null,null,null,null,"市区町村",null,null,null,null,null,"番地",null,null,null,null,null,null,null,null,null,null,null,null,null,null,null,null,null,null,63,"14"]
[50,1,null,null,null,null,null,null,"建物名称",null,null,null,null,null,null,null,null,null,null,null,null,null,null,null,null,null,null,null,null,null,null,null,null,63,"14"]
[50,1,null,null,null,"申請\n機器","機器一覧の\n掲載有無",null,"コード\n番号","申請スキャンツール",null,null,null,null,null,null,null,null,null,null,"①申請する機器がホームページ掲載資料の「補助対象機器一覧」に該当するか確認して下さい\n②該当の有無を「機器一覧の掲載有無」のチェックボックスで選択して下さい\n　 ※必要箇所のグレーアウトが解除されます\n【掲載されているを選択した場合】\n　・ホームページ掲載の「補助対象機器一覧」の各ページ左側「交付申請時のコード番号」\n　　（４～５桁の英数字）を確認し「コード番号」に入力して下さい\n　・入力後メーカー名～ソフトのバージョンに申請機器の情報が自動で表示されている事を\n　　確認して下さい\n【掲載されていないを選択した場合】\n　・「申請スキャンツール」に入力欄が表示されますので申請する機器の情報を入力して下さい\n　例：メーカー名●●　型式●●　品番●●　バージョン●●\n③同一事業場で２台申請する際は２台目を空欄にせず上に詰めて入力して下さい",null,null,null,null,null,null,null,null,null,null,null,null,63,"14"]
[50,1,null,null,null,null,null,null,null,"メーカー名",null,null,"名称・型式",null,null,"品　　番",null,null,"ソフトのバージョン",null,null,null,null,null,null,null,null,null,null,null,null,null,null,63,"14"]
[50,1,null,null,null,"１台目","掲載されている　　",null,null,{"$f":"IFERROR(VLOOKUP($I384,補助対象機器一覧0916!$A$1:$E$75,2,FALSE),\"\")","v":""},null,null,{"$f":"IFERROR(VLOOKUP($I384,補助対象機器一覧0916!$A$1:$E$75,3,FALSE),\"\")","v":""},null,null,{"$f":"IFERROR(VLOOKUP($I384,補助対象機器一覧0916!$A$1:$E$75,4,FALSE),\"\")","v":""},null,null,{"$f":"IFERROR(VLOOKUP($I384,補助対象機器一覧0916!$A$1:$E$75,5,FALSE),\"\")","v":""},null,null,null,null,null,null,null,null,null,null,false,null,null,null,63,"14"]
[null,null,null,null,null,null,"掲載されていない ",null,null,null,null,null,null,null,null,null,null,null,null,null,null,null,null,null,null,null,null,null,null,false,null,null,null,63,"14"]
[{"$f":"(50+$B386)-A$72","v":50},1,null,null,null,"２台目","掲載されている　　",null,null,{"$f":"IFERROR(VLOOKUP($I386,補助対象機器一覧0916!$A$1:$E$75,2,FALSE),\"\")","v":""},null,null,{"$f":"IFERROR(VLOOKUP($I386,補助対象機器一覧0916!$A$1:$E$75,3,FALSE),\"\")","v":""},null,null,{"$f":"IFERROR(VLOOKUP($I386,補助対象機器一覧0916!$A$1:$E$75,4,FALSE),\"\")","v":""},null,null,{"$f":"IFERROR(VLOOKUP($I386,補助対象機器一覧0916!$A$1:$E$75,5,FALSE),\"\")","v":""},null,null,null,null,null,null,null,null,null,null,false,null,null,null,63,"14"]
[null,null,null,null,null,null,"掲載されていない ",null,null,null,null,null,null,null,null,null,null,null,null,null,null,null,null,null,null,null,null,null,null,false,null,null,null,63,"14"]
[{"$f":"(50+$B388)-A$72","v":50},1,null,null,null,"３台目","掲載されている　　",null,null,{"$f":"IFERROR(VLOOKUP($I388,補助対象機器一覧0916!$A$1:$E$75,2,FALSE),\"\")","v":""},null,null,{"$f":"IFERROR(VLOOKUP($I388,補助対象機器一覧0916!$A$1:$E$75,3,FALSE),\"\")","v":""},null,null,{"$f":"IFERROR(VLOOKUP($I388,補助対象機器一覧0916!$A$1:$E$75,4,FALSE),\"\")","v":""},null,null,{"$f":"IFERROR(VLOOKUP($I388,補助対象機器一覧0916!$A$1:$E$75,5,FALSE),\"\")","v":""},null,null,null,null,null,null,null,null,null,null,false,null,null,null,63,"14"]
[null,null,null,null,null,null,"掲載されていない ",null,null,null,null,null,null,null,null,null,null,null,null,null,null,null,null,null,null,null,null,null,null,false,null,null,null,63,"14"]
[{"$f":"(50+$B390)-A$72","v":50},1,null,null,null,"申請\n機器","補助事業に要する経費",null,null,null,"スキャンツールの価格",null,null,null,null,"情報端末価格",null,null,null,null,"・「補助事業に要する経費」は補助対象外も含む全ての経費を機器毎に分けて入力して下さい\n・「スキャンツールの価格」は正見積書のスキャンツール単体の価格を機器毎に\n　分けて入力して下さい\n・「情報端末価格」は正見積書の情報端末単体の価格を機器毎に分けて入力して下さい",null,null,null,null,null,null,null,null,null,null,null,null,63,"14"]
[{"$f":"(50+$B391)-A$72","v":50},1,null,null,null,null,null,null,null,null,null,null,null,null,null,null,null,null,null,null,null,null,null,null,null,null,null,null,null,null,null,null,null,63,"14"]
[{"$f":"(50+$B392)-A$72","v":50},1,null,null,null,"１台目",null,null,null,null,null,null,null,null,null,null,null,null,null,null,null,null,null,null,null,null,null,null,null,null,null,{"$f":"G392-SUM(K392:T392)","v":0},null,63,"14"]
[{"$f":"(50+$B393)-A$72","v":50},1,null,null,null,"２台目",null,null,null,null,null,null,null,null,null,null,null,null,null,null,null,null,null,null,null,null,null,null,null,null,null,{"$f":"G393-SUM(K393:T393)","v":0},null,63,"14"]
[{"$f":"(50+$B394)-A$72","v":50},1,null,null,null,"３台目",null,null,null,null,null,null,null,null,null,null,null,null,null,null,null,null,null,null,null,null,null,null,null,null,null,0,null,63,"14"]
[null,null,null,null,null,"補助対象経費",null,null,null,null,"補助率",null,null,null,null,"補助金の額",null,null,null,null,null,null,null,null,null,null,null,null,null,null,null,null,null,63,"14"]
[null,null,null,null,null,{"$f":"(K392+P392)+(K393+P393)+(K394+P394)","v":0},null,null,null,null,{"$f":"IF(G392=\"\",\"\",\"1/3\")","v":""},null,null,null,null,{"$f":"IF($F396<>\"\",IF($F396/3>150000,150000,ROUNDDOWN($F396/3,-3)),\"\")","v":0},null,null,null,null,null,null,null,null,null,null,null,null,null,null,null,null,null,{"$f":"(50+$AI396)-A$72","v":63},"14"]
[{"$f":"(50+$B397)-A$72","v":49},null,null,null,null,null,null,null,null,null,null,null,null,null,null,null,null,null,null,null,null,null,null,null,null,null,null,null,null,null,null,null,null,63,"14"]
[50,1,null,null,"事\n業\n場\n15","認証・指定・認定番号\nまたは、整備士合格証書番号",null,null,null,null,null,null,null,null,null,null,null,null,null,null,"以下のいずれかを入力\n・事業場の認証書の認定番号\n・指定書の指定番号\n・事業場に在籍する整備士の整備士合格証書番号",null,null,null,null,null,null,null,null,null,null,null,null,64,"15"]
[50,1,null,null,null,null,null,null,null,null,null,null,null,null,null,null,null,null,null,null,null,null,null,null,null,null,null,null,null,null,null,null,null,64,"15"]
[50,1,null,null,null,null,null,null,null,null,null,null,null,null,null,null,null,null,null,null,null,null,null,null,null,null,null,null,null,null,null,null,null,64,"15"]
[50,1,null,null,null,"設備を設置する事業場名",null,null,null,null,null,null,null,null,null,null,null,null,null,null,"漢字平仮名は全角、英数字は半角で入力して下さい",null,null,null,null,null,null,null,null,null,null,null,null,64,"15"]
[50,1,null,null,null,"事業場住所",null,null,"郵便番号",null,null,null,null,null,"都道府県",null,null,null,null,null,"・郵便番号はハイフンは入れず数字７桁で入力して下さい\n・町名は市区町村欄に入力して下さい\n・丁目、番地の表記はハイフンで入力して下さい\n・番地、建物名称が無い場合は入力不要です",null,null,null,null,null,null,null,null,null,null,null,null,64,"15"]
[50,1,null,null,null,null,null,null,"市区町村",null,null,null,null,null,"番地",null,null,null,null,null,null,null,null,null,null,null,null,null,null,null,null,null,null,64,"15"]
[50,1,null,null,null,null,null,null,"建物名称",null,null,null,null,null,null,null,null,null,null,null,null,null,null,null,null,null,null,null,null,null,null,null,null,64,"15"]
[50,1,null,null,null,"申請\n機器","機器一覧の\n掲載有無",null,"コード\n番号","申請スキャンツール",null,null,null,null,null,null,null,null,null,null,"①申請する機器がホームページ掲載資料の「補助対象機器一覧」に該当するか確認して下さい\n②該当の有無を「機器一覧の掲載有無」のチェックボックスで選択して下さい\n　 ※必要箇所のグレーアウトが解除されます\n【掲載されているを選択した場合】\n　・ホームページ掲載の「補助対象機器一覧」の各ページ左側「交付申請時のコード番号」\n　　（４～５桁の英数字）を確認し「コード番号」に入力して下さい\n　・入力後メーカー名～ソフトのバージョンに申請機器の情報が自動で表示されている事を\n　　確認して下さい\n【掲載されていないを選択した場合】\n　・「申請スキャンツール」に入力欄が表示されますので申請する機器の情報を入力して下さい\n　例：メーカー名●●　型式●●　品番●●　バージョン●●\n③同一事業場で２台申請する際は２台目を空欄にせず上に詰めて入力して下さい",null,null,null,null,null,null,null,null,null,null,null,null,64,"15"]
[50,1,null,null,null,null,null,null,null,"メーカー名",null,null,"名称・型式",null,null,"品　　番",null,null,"ソフトのバージョン",null,null,null,null,null,null,null,null,null,null,null,null,null,null,64,"15"]
[50,1,null,null,null,"１台目","掲載されている　　",null,null,{"$f":"IFERROR(VLOOKUP($I407,補助対象機器一覧0916!$A$1:$E$75,2,FALSE),\"\")","v":""},null,null,{"$f":"IFERROR(VLOOKUP($I407,補助対象機器一覧0916!$A$1:$E$75,3,FALSE),\"\")","v":""},null,null,{"$f":"IFERROR(VLOOKUP($I407,補助対象機器一覧0916!$A$1:$E$75,4,FALSE),\"\")","v":""},null,null,{"$f":"IFERROR(VLOOKUP($I407,補助対象機器一覧0916!$A$1:$E$75,5,FALSE),\"\")","v":""},null,null,null,null,null,null,null,null,null,null,false,null,null,null,64,"15"]
[null,null,null,null,null,null,"掲載されていない ",null,null,null,null,null,null,null,null,null,null,null,null,null,null,null,null,null,null,null,null,null,null,false,null,null,null,64,"15"]
[{"$f":"(50+$B409)-A$72","v":50},1,null,null,null,"２台目","掲載されている　　",null,null,{"$f":"IFERROR(VLOOKUP($I409,補助対象機器一覧0916!$A$1:$E$75,2,FALSE),\"\")","v":""},null,null,{"$f":"IFERROR(VLOOKUP($I409,補助対象機器一覧0916!$A$1:$E$75,3,FALSE),\"\")","v":""},null,null,{"$f":"IFERROR(VLOOKUP($I409,補助対象機器一覧0916!$A$1:$E$75,4,FALSE),\"\")","v":""},null,null,{"$f":"IFERROR(VLOOKUP($I409,補助対象機器一覧0916!$A$1:$E$75,5,FALSE),\"\")","v":""},null,null,null,null,null,null,null,null,null,null,false,null,null,null,64,"15"]
[null,null,null,null,null,null,"掲載されていない ",null,null,null,null,null,null,null,null,null,null,null,null,null,null,null,null,null,null,null,null,null,null,false,null,null,null,64,"15"]
[{"$f":"(50+$B411)-A$72","v":50},1,null,null,null,"３台目","掲載されている　　",null,null,{"$f":"IFERROR(VLOOKUP($I411,補助対象機器一覧0916!$A$1:$E$75,2,FALSE),\"\")","v":""},null,null,{"$f":"IFERROR(VLOOKUP($I411,補助対象機器一覧0916!$A$1:$E$75,3,FALSE),\"\")","v":""},null,null,{"$f":"IFERROR(VLOOKUP($I411,補助対象機器一覧0916!$A$1:$E$75,4,FALSE),\"\")","v":""},null,null,{"$f":"IFERROR(VLOOKUP($I411,補助対象機器一覧0916!$A$1:$E$75,5,FALSE),\"\")","v":""},null,null,null,null,null,null,null,null,null,null,false,null,null,null,64,"15"]
[null,null,null,null,null,null,"掲載されていない ",null,null,null,null,null,null,null,null,null,null,null,null,null,null,null,null,null,null,null,null,null,null,false,null,null,null,64,"15"]
[{"$f":"(50+$B413)-A$72","v":50},1,null,null,null,"申請\n機器","補助事業に要する経費",null,null,null,"スキャンツールの価格",null,null,null,null,"情報端末価格",null,null,null,null,"・「補助事業に要する経費」は補助対象外も含む全ての経費を機器毎に分けて入力して下さい\n・「スキャンツールの価格」は正見積書のスキャンツール単体の価格を機器毎に\n　分けて入力して下さい\n・「情報端末価格」は正見積書の情報端末単体の価格を機器毎に分けて入力して下さい",null,null,null,null,null,null,null,null,null,null,null,null,64,"15"]
[{"$f":"(50+$B414)-A$72","v":50},1,null,null,null,null,null,null,null,null,null,null,null,null,null,null,null,null,null,null,null,null,null,null,null,null,null,null,null,null,null,null,null,64,"15"]
[{"$f":"(50+$B415)-A$72","v":50},1,null,null,null,"１台目",null,null,null,null,null,null,null,null,null,null,null,null,null,null,null,null,null,null,null,null,null,null,null,null,null,{"$f":"G415-SUM(K415:T415)","v":0},null,64,"15"]
[{"$f":"(50+$B416)-A$72","v":50},1,null,null,null,"２台目",null,null,null,null,null,null,null,null,null,null,null,null,null,null,null,null,null,null,null,null,null,null,null,null,null,{"$f":"G416-SUM(K416:T416)","v":0},null,64,"15"]
[{"$f":"(50+$B417)-A$72","v":50},1,null,null,null,"３台目",null,null,null,null,null,null,null,null,null,null,null,null,null,null,null,null,null,null,null,null,null,null,null,null,null,0,null,64,"15"]
[null,null,null,null,null,"補助対象経費",null,null,null,null,"補助率",null,null,null,null,"補助金の額",null,null,null,null,null,null,null,null,null,null,null,null,null,null,null,null,null,64,"15"]
[null,null,null,null,null,{"$f":"(K415+P415)+(K416+P416)+(K417+P417)","v":0},null,null,null,null,{"$f":"IF(G415=\"\",\"\",\"1/3\")","v":""},null,null,null,null,{"$f":"IF($F419<>\"\",IF($F419/3>150000,150000,ROUNDDOWN($F419/3,-3)),\"\")","v":0},null,null,null,null,null,null,null,null,null,null,null,null,null,null,null,null,null,64,"15"]
[{"$f":"(50+$B420)-A$72","v":49},null,null,null,null,null,null,null,null,null,null,null,null,null,null,null,null,null,null,null,null,null,null,null,null,null,null,null,null,null,null,null,null,64,"15"]
[50,1,null,null,"事\n業\n場\n16","認証・指定・認定番号\nまたは、整備士合格証書番号",null,null,null,null,null,null,null,null,null,null,null,null,null,null,"以下のいずれかを入力\n・事業場の認証書の認定番号\n・指定書の指定番号\n・事業場に在籍する整備士の整備士合格証書番号",null,null,null,null,null,null,null,null,null,null,null,null,65,"16"]
[50,1,null,null,null,null,null,null,null,null,null,null,null,null,null,null,null,null,null,null,null,null,null,null,null,null,null,null,null,null,null,null,null,65,"16"]
[50,1,null,null,null,null,null,null,null,null,null,null,null,null,null,null,null,null,null,null,null,null,null,null,null,null,null,null,null,null,null,null,null,65,"16"]
[50,1,null,null,null,"設備を設置する事業場名",null,null,null,null,null,null,null,null,null,null,null,null,null,null,"漢字平仮名は全角、英数字は半角で入力して下さい",null,null,null,null,null,null,null,null,null,null,null,null,65,"16"]
[50,1,null,null,null,"事業場住所",null,null,"郵便番号",null,null,null,null,null,"都道府県",null,null,null,null,null,"・郵便番号はハイフンは入れず数字７桁で入力して下さい\n・町名は市区町村欄に入力して下さい\n・丁目、番地の表記はハイフンで入力して下さい\n・番地、建物名称が無い場合は入力不要です",null,null,null,null,null,null,null,null,null,null,null,null,65,"16"]
[50,1,null,null,null,null,null,null,"市区町村",null,null,null,null,null,"番地",null,null,null,null,null,null,null,null,null,null,null,null,null,null,null,null,null,null,65,"16"]
[50,1,null,null,null,null,null,null,"建物名称",null,null,null,null,null,null,null,null,null,null,null,null,null,null,null,null,null,null,null,null,null,null,null,null,65,"16"]
[50,1,null,null,null,"申請\n機器","機器一覧の\n掲載有無",null,"コード\n番号","申請スキャンツール",null,null,null,null,null,null,null,null,null,null,"①申請する機器がホームページ掲載資料の「補助対象機器一覧」に該当するか確認して下さい\n②該当の有無を「機器一覧の掲載有無」のチェックボックスで選択して下さい\n　 ※必要箇所のグレーアウトが解除されます\n【掲載されているを選択した場合】\n　・ホームページ掲載の「補助対象機器一覧」の各ページ左側「交付申請時のコード番号」\n　　（４～５桁の英数字）を確認し「コード番号」に入力して下さい\n　・入力後メーカー名～ソフトのバージョンに申請機器の情報が自動で表示されている事を\n　　確認して下さい\n【掲載されていないを選択した場合】\n　・「申請スキャンツール」に入力欄が表示されますので申請する機器の情報を入力して下さい\n　例：メーカー名●●　型式●●　品番●●　バージョン●●\n③同一事業場で２台申請する際は２台目を空欄にせず上に詰めて入力して下さい",null,null,null,null,null,null,null,null,null,null,null,null,65,"16"]
[50,1,null,null,null,null,null,null,null,"メーカー名",null,null,"名称・型式",null,null,"品　　番",null,null,"ソフトのバージョン",null,null,null,null,null,null,null,null,null,null,null,null,null,null,65,"16"]
[50,1,null,null,null,"１台目","掲載されている　　",null,null,{"$f":"IFERROR(VLOOKUP($I430,補助対象機器一覧0916!$A$1:$E$75,2,FALSE),\"\")","v":""},null,null,{"$f":"IFERROR(VLOOKUP($I430,補助対象機器一覧0916!$A$1:$E$75,3,FALSE),\"\")","v":""},null,null,{"$f":"IFERROR(VLOOKUP($I430,補助対象機器一覧0916!$A$1:$E$75,4,FALSE),\"\")","v":""},null,null,{"$f":"IFERROR(VLOOKUP($I430,補助対象機器一覧0916!$A$1:$E$75,5,FALSE),\"\")","v":""},null,null,null,null,null,null,null,null,null,null,false,null,null,null,65,"16"]
[null,null,null,null,null,null,"掲載されていない ",null,null,null,null,null,null,null,null,null,null,null,null,null,null,null,null,null,null,null,null,null,null,false,null,null,null,65,"16"]
[{"$f":"(50+$B432)-A$72","v":50},1,null,null,null,"２台目","掲載されている　　",null,null,{"$f":"IFERROR(VLOOKUP($I432,補助対象機器一覧0916!$A$1:$E$75,2,FALSE),\"\")","v":""},null,null,{"$f":"IFERROR(VLOOKUP($I432,補助対象機器一覧0916!$A$1:$E$75,3,FALSE),\"\")","v":""},null,null,{"$f":"IFERROR(VLOOKUP($I432,補助対象機器一覧0916!$A$1:$E$75,4,FALSE),\"\")","v":""},null,null,{"$f":"IFERROR(VLOOKUP($I432,補助対象機器一覧0916!$A$1:$E$75,5,FALSE),\"\")","v":""},null,null,null,null,null,null,null,null,null,null,false,null,null,null,65,"16"]
[null,null,null,null,null,null,"掲載されていない ",null,null,null,null,null,null,null,null,null,null,null,null,null,null,null,null,null,null,null,null,null,null,false,null,null,null,65,"16"]
[{"$f":"(50+$B434)-A$72","v":50},1,null,null,null,"３台目","掲載されている　　",null,null,{"$f":"IFERROR(VLOOKUP($I434,補助対象機器一覧0916!$A$1:$E$75,2,FALSE),\"\")","v":""},null,null,{"$f":"IFERROR(VLOOKUP($I434,補助対象機器一覧0916!$A$1:$E$75,3,FALSE),\"\")","v":""},null,null,{"$f":"IFERROR(VLOOKUP($I434,補助対象機器一覧0916!$A$1:$E$75,4,FALSE),\"\")","v":""},null,null,{"$f":"IFERROR(VLOOKUP($I434,補助対象機器一覧0916!$A$1:$E$75,5,FALSE),\"\")","v":""},null,null,null,null,null,null,null,null,null,null,false,null,null,null,65,"16"]
[null,null,null,null,null,null,"掲載されていない ",null,null,null,null,null,null,null,null,null,null,null,null,null,null,null,null,null,null,null,null,null,null,false,null,null,null,65,"16"]
[{"$f":"(50+$B436)-A$72","v":50},1,null,null,null,"申請\n機器","補助事業に要する経費",null,null,null,"スキャンツールの価格",null,null,null,null,"情報端末価格",null,null,null,null,"・「補助事業に要する経費」は補助対象外も含む全ての経費を機器毎に分けて入力して下さい\n・「スキャンツールの価格」は正見積書のスキャンツール単体の価格を機器毎に\n　分けて入力して下さい\n・「情報端末価格」は正見積書の情報端末単体の価格を機器毎に分けて入力して下さい",null,null,null,null,null,null,null,null,null,null,null,null,65,"16"]
[{"$f":"(50+$B437)-A$72","v":50},1,null,null,null,null,null,null,null,null,null,null,null,null,null,null,null,null,null,null,null,null,null,null,null,null,null,null,null,null,null,null,null,65,"16"]
[{"$f":"(50+$B438)-A$72","v":50},1,null,null,null,"１台目",null,null,null,null,null,null,null,null,null,null,null,null,null,null,null,null,null,null,null,null,null,null,null,null,null,{"$f":"G438-SUM(K438:T438)","v":0},null,65,"16"]
[{"$f":"(50+$B439)-A$72","v":50},1,null,null,null,"２台目",null,null,null,null,null,null,null,null,null,null,null,null,null,null,null,null,null,null,null,null,null,null,null,null,null,{"$f":"G439-SUM(K439:T439)","v":0},null,65,"16"]
[{"$f":"(50+$B440)-A$72","v":50},1,null,null,null,"３台目",null,null,null,null,null,null,null,null,null,null,null,null,null,null,null,null,null,null,null,null,null,null,null,null,null,0,null,65,"16"]
[null,null,null,null,null,"補助対象経費",null,null,null,null,"補助率",null,null,null,null,"補助金の額",null,null,null,null,null,null,null,null,null,null,null,null,null,null,null,null,null,65,"16"]
[null,null,null,null,null,{"$f":"(K438+P438)+(K439+P439)+(K440+P440)","v":0},null,null,null,null,{"$f":"IF(G438=\"\",\"\",\"1/3\")","v":""},null,null,null,null,{"$f":"IF($F442<>\"\",IF($F442/3>150000,150000,ROUNDDOWN($F442/3,-3)),\"\")","v":0},null,null,null,null,null,null,null,null,null,null,null,null,null,null,null,null,null,65,"16"]
[{"$f":"(50+$B443)-A$72","v":49},null,null,null,null,null,null,null,null,null,null,null,null,null,null,null,null,null,null,null,null,null,null,null,null,null,null,null,null,null,null,null,null,65,"16"]
[50,1,null,null,"事\n業\n場\n17","認証・指定・認定番号\nまたは、整備士合格証書番号",null,null,null,null,null,null,null,null,null,null,null,null,null,null,"以下のいずれかを入力\n・事業場の認証書の認定番号\n・指定書の指定番号\n・事業場に在籍する整備士の整備士合格証書番号",null,null,null,null,null,null,null,null,null,null,null,null,66,"17"]
[50,1,null,null,null,null,null,null,null,null,null,null,null,null,null,null,null,null,null,null,null,null,null,null,null,null,null,null,null,null,null,null,null,66,"17"]
[50,1,null,null,null,null,null,null,null,null,null,null,null,null,null,null,null,null,null,null,null,null,null,null,null,null,null,null,null,null,null,null,null,66,"17"]
[50,1,null,null,null,"設備を設置する事業場名",null,null,null,null,null,null,null,null,null,null,null,null,null,null,"漢字平仮名は全角、英数字は半角で入力して下さい",null,null,null,null,null,null,null,null,null,null,null,null,66,"17"]
[50,1,null,null,null,"事業場住所",null,null,"郵便番号",null,null,null,null,null,"都道府県",null,null,null,null,null,"・郵便番号はハイフンは入れず数字７桁で入力して下さい\n・町名は市区町村欄に入力して下さい\n・丁目、番地の表記はハイフンで入力して下さい\n・番地、建物名称が無い場合は入力不要です",null,null,null,null,null,null,null,null,null,null,null,null,66,"17"]
[50,1,null,null,null,null,null,null,"市区町村",null,null,null,null,null,"番地",null,null,null,null,null,null,null,null,null,null,null,null,null,null,null,null,null,null,66,"17"]
[50,1,null,null,null,null,null,null,"建物名称",null,null,null,null,null,null,null,null,null,null,null,null,null,null,null,null,null,null,null,null,null,null,null,null,66,"17"]
[50,1,null,null,null,"申請\n機器","機器一覧の\n掲載有無",null,"コード\n番号","申請スキャンツール",null,null,null,null,null,null,null,null,null,null,"①申請する機器がホームページ掲載資料の「補助対象機器一覧」に該当するか確認して下さい\n②該当の有無を「機器一覧の掲載有無」のチェックボックスで選択して下さい\n　 ※必要箇所のグレーアウトが解除されます\n【掲載されているを選択した場合】\n　・ホームページ掲載の「補助対象機器一覧」の各ページ左側「交付申請時のコード番号」\n　　（４～５桁の英数字）を確認し「コード番号」に入力して下さい\n　・入力後メーカー名～ソフトのバージョンに申請機器の情報が自動で表示されている事を\n　　確認して下さい\n【掲載されていないを選択した場合】\n　・「申請スキャンツール」に入力欄が表示されますので申請する機器の情報を入力して下さい\n　例：メーカー名●●　型式●●　品番●●　バージョン●●\n③同一事業場で２台申請する際は２台目を空欄にせず上に詰めて入力して下さい",null,null,null,null,null,null,null,null,null,null,null,null,66,"17"]
[50,1,null,null,null,null,null,null,null,"メーカー名",null,null,"名称・型式",null,null,"品　　番",null,null,"ソフトのバージョン",null,null,null,null,null,null,null,null,null,null,null,null,null,null,66,"17"]
[50,1,null,null,null,"１台目","掲載されている　　",null,null,{"$f":"IFERROR(VLOOKUP($I453,補助対象機器一覧0916!$A$1:$E$75,2,FALSE),\"\")","v":""},null,null,{"$f":"IFERROR(VLOOKUP($I453,補助対象機器一覧0916!$A$1:$E$75,3,FALSE),\"\")","v":""},null,null,{"$f":"IFERROR(VLOOKUP($I453,補助対象機器一覧0916!$A$1:$E$75,4,FALSE),\"\")","v":""},null,null,{"$f":"IFERROR(VLOOKUP($I453,補助対象機器一覧0916!$A$1:$E$75,5,FALSE),\"\")","v":""},null,null,null,null,null,null,null,null,null,null,false,null,null,null,66,"17"]
[null,null,null,null,null,null,"掲載されていない ",null,null,null,null,null,null,null,null,null,null,null,null,null,null,null,null,null,null,null,null,null,null,false,null,null,null,66,"17"]
[{"$f":"(50+$B455)-A$72","v":50},1,null,null,null,"２台目","掲載されている　　",null,null,{"$f":"IFERROR(VLOOKUP($I455,補助対象機器一覧0916!$A$1:$E$75,2,FALSE),\"\")","v":""},null,null,{"$f":"IFERROR(VLOOKUP($I455,補助対象機器一覧0916!$A$1:$E$75,3,FALSE),\"\")","v":""},null,null,{"$f":"IFERROR(VLOOKUP($I455,補助対象機器一覧0916!$A$1:$E$75,4,FALSE),\"\")","v":""},null,null,{"$f":"IFERROR(VLOOKUP($I455,補助対象機器一覧0916!$A$1:$E$75,5,FALSE),\"\")","v":""},null,null,null,null,null,null,null,null,null,null,false,null,null,null,66,"17"]
[null,null,null,null,null,null,"掲載されていない ",null,null,null,null,null,null,null,null,null,null,null,null,null,null,null,null,null,null,null,null,null,null,false,null,null,null,66,"17"]
[{"$f":"(50+$B457)-A$72","v":50},1,null,null,null,"３台目","掲載されている　　",null,null,{"$f":"IFERROR(VLOOKUP($I457,補助対象機器一覧0916!$A$1:$E$75,2,FALSE),\"\")","v":""},null,null,{"$f":"IFERROR(VLOOKUP($I457,補助対象機器一覧0916!$A$1:$E$75,3,FALSE),\"\")","v":""},null,null,{"$f":"IFERROR(VLOOKUP($I457,補助対象機器一覧0916!$A$1:$E$75,4,FALSE),\"\")","v":""},null,null,{"$f":"IFERROR(VLOOKUP($I457,補助対象機器一覧0916!$A$1:$E$75,5,FALSE),\"\")","v":""},null,null,null,null,null,null,null,null,null,null,false,null,null,null,66,"17"]
[null,null,null,null,null,null,"掲載されていない ",null,null,null,null,null,null,null,null,null,null,null,null,null,null,null,null,null,null,null,null,null,null,false,null,null,null,66,"17"]
[{"$f":"(50+$B459)-A$72","v":50},1,null,null,null,"申請\n機器","補助事業に要する経費",null,null,null,"スキャンツールの価格",null,null,null,null,"情報端末価格",null,null,null,null,"・「補助事業に要する経費」は補助対象外も含む全ての経費を機器毎に分けて入力して下さい\n・「スキャンツールの価格」は正見積書のスキャンツール単体の価格を機器毎に\n　分けて入力して下さい\n・「情報端末価格」は正見積書の情報端末単体の価格を機器毎に分けて入力して下さい",null,null,null,null,null,null,null,null,null,null,null,null,66,"17"]
[{"$f":"(50+$B460)-A$72","v":50},1,null,null,null,null,null,null,null,null,null,null,null,null,null,null,null,null,null,null,null,null,null,null,null,null,null,null,null,null,null,null,null,{"$f":"(50+$AI460)-A$72","v":66},"17"]
[{"$f":"(50+$B461)-A$72","v":50},1,null,null,null,"１台目",null,null,null,null,null,null,null,null,null,null,null,null,null,null,null,null,null,null,null,null,null,null,null,null,null,{"$f":"G461-SUM(K461:T461)","v":0},null,66,"17"]
[{"$f":"(50+$B462)-A$72","v":50},1,null,null,null,"２台目",null,null,null,null,null,null,null,null,null,null,null,null,null,null,null,null,null,null,null,null,null,null,null,null,null,{"$f":"G462-SUM(K462:T462)","v":0},null,66,"17"]
[{"$f":"(50+$B463)-A$72","v":50},1,null,null,null,"３台目",null,null,null,null,null,null,null,null,null,null,null,null,null,null,null,null,null,null,null,null,null,null,null,null,null,0,null,66,"17"]
[null,null,null,null,null,"補助対象経費",null,null,null,null,"補助率",null,null,null,null,"補助金の額",null,null,null,null,null,null,null,null,null,null,null,null,null,null,null,null,null,66,"17"]
[null,null,null,null,null,{"$f":"(K461+P461)+(K462+P462)+(K463+P463)","v":0},null,null,null,null,{"$f":"IF(G461=\"\",\"\",\"1/3\")","v":""},null,null,null,null,{"$f":"IF($F465<>\"\",IF($F465/3>150000,150000,ROUNDDOWN($F465/3,-3)),\"\")","v":0},null,null,null,null,null,null,null,null,null,null,null,null,null,null,null,null,null,66,"17"]
[{"$f":"(50+$B466)-A$72","v":49},null,null,null,null,null,null,null,null,null,null,null,null,null,null,null,null,null,null,null,null,null,null,null,null,null,null,null,null,null,null,null,null,66,"17"]
[50,1,null,null,"事\n業\n場\n18","認証・指定・認定番号\nまたは、整備士合格証書番号",null,null,null,null,null,null,null,null,null,null,null,null,null,null,"以下のいずれかを入力\n・事業場の認証書の認定番号\n・指定書の指定番号\n・事業場に在籍する整備士の整備士合格証書番号",null,null,null,null,null,null,null,null,null,null,null,null,67,"18"]
[50,1,null,null,null,null,null,null,null,null,null,null,null,null,null,null,null,null,null,null,null,null,null,null,null,null,null,null,null,null,null,null,null,67,"18"]
[50,1,null,null,null,null,null,null,null,null,null,null,null,null,null,null,null,null,null,null,null,null,null,null,null,null,null,null,null,null,null,null,null,67,"18"]
[50,1,null,null,null,"設備を設置する事業場名",null,null,null,null,null,null,null,null,null,null,null,null,null,null,"漢字平仮名は全角、英数字は半角で入力して下さい",null,null,null,null,null,null,null,null,null,null,null,null,67,"18"]
[50,1,null,null,null,"事業場住所",null,null,"郵便番号",null,null,null,null,null,"都道府県",null,null,null,null,null,"・郵便番号はハイフンは入れず数字７桁で入力して下さい\n・町名は市区町村欄に入力して下さい\n・丁目、番地の表記はハイフンで入力して下さい\n・番地、建物名称が無い場合は入力不要です",null,null,null,null,null,null,null,null,null,null,null,null,67,"18"]
[50,1,null,null,null,null,null,null,"市区町村",null,null,null,null,null,"番地",null,null,null,null,null,null,null,null,null,null,null,null,null,null,null,null,null,null,67,"18"]
[50,1,null,null,null,null,null,null,"建物名称",null,null,null,null,null,null,null,null,null,null,null,null,null,null,null,null,null,null,null,null,null,null,null,null,67,"18"]
[50,1,null,null,null,"申請\n機器","機器一覧の\n掲載有無",null,"コード\n番号","申請スキャンツール",null,null,null,null,null,null,null,null,null,null,"①申請する機器がホームページ掲載資料の「補助対象機器一覧」に該当するか確認して下さい\n②該当の有無を「機器一覧の掲載有無」のチェックボックスで選択して下さい\n　 ※必要箇所のグレーアウトが解除されます\n【掲載されているを選択した場合】\n　・ホームページ掲載の「補助対象機器一覧」の各ページ左側「交付申請時のコード番号」\n　　（４～５桁の英数字）を確認し「コード番号」に入力して下さい\n　・入力後メーカー名～ソフトのバージョンに申請機器の情報が自動で表示されている事を\n　　確認して下さい\n【掲載されていないを選択した場合】\n　・「申請スキャンツール」に入力欄が表示されますので申請する機器の情報を入力して下さい\n　例：メーカー名●●　型式●●　品番●●　バージョン●●\n③同一事業場で２台申請する際は２台目を空欄にせず上に詰めて入力して下さい",null,null,null,null,null,null,null,null,null,null,null,null,67,"18"]
[50,1,null,null,null,null,null,null,null,"メーカー名",null,null,"名称・型式",null,null,"品　　番",null,null,"ソフトのバージョン",null,null,null,null,null,null,null,null,null,null,null,null,null,null,67,"18"]
[50,1,null,null,null,"１台目","掲載されている　　",null,null,{"$f":"IFERROR(VLOOKUP($I476,補助対象機器一覧0916!$A$1:$E$75,2,FALSE),\"\")","v":""},null,null,{"$f":"IFERROR(VLOOKUP($I476,補助対象機器一覧0916!$A$1:$E$75,3,FALSE),\"\")","v":""},null,null,{"$f":"IFERROR(VLOOKUP($I476,補助対象機器一覧0916!$A$1:$E$75,4,FALSE),\"\")","v":""},null,null,{"$f":"IFERROR(VLOOKUP($I476,補助対象機器一覧0916!$A$1:$E$75,5,FALSE),\"\")","v":""},null,null,null,null,null,null,null,null,null,null,false,null,null,null,67,"18"]
[null,null,null,null,null,null,"掲載されていない ",null,null,null,null,null,null,null,null,null,null,null,null,null,null,null,null,null,null,null,null,null,null,false,null,null,null,67,"18"]
[{"$f":"(50+$B478)-A$72","v":50},1,null,null,null,"２台目","掲載されている　　",null,null,{"$f":"IFERROR(VLOOKUP($I478,補助対象機器一覧0916!$A$1:$E$75,2,FALSE),\"\")","v":""},null,null,{"$f":"IFERROR(VLOOKUP($I478,補助対象機器一覧0916!$A$1:$E$75,3,FALSE),\"\")","v":""},null,null,{"$f":"IFERROR(VLOOKUP($I478,補助対象機器一覧0916!$A$1:$E$75,4,FALSE),\"\")","v":""},null,null,{"$f":"IFERROR(VLOOKUP($I478,補助対象機器一覧0916!$A$1:$E$75,5,FALSE),\"\")","v":""},null,null,null,null,null,null,null,null,null,null,false,null,null,null,67,"18"]
[null,null,null,null,null,null,"掲載されていない ",null,null,null,null,null,null,null,null,null,null,null,null,null,null,null,null,null,null,null,null,null,null,false,null,null,null,67,"18"]
[{"$f":"(50+$B480)-A$72","v":50},1,null,null,null,"３台目","掲載されている　　",null,null,{"$f":"IFERROR(VLOOKUP($I480,補助対象機器一覧0916!$A$1:$E$75,2,FALSE),\"\")","v":""},null,null,{"$f":"IFERROR(VLOOKUP($I480,補助対象機器一覧0916!$A$1:$E$75,3,FALSE),\"\")","v":""},null,null,{"$f":"IFERROR(VLOOKUP($I480,補助対象機器一覧0916!$A$1:$E$75,4,FALSE),\"\")","v":""},null,null,{"$f":"IFERROR(VLOOKUP($I480,補助対象機器一覧0916!$A$1:$E$75,5,FALSE),\"\")","v":""},null,null,null,null,null,null,null,null,null,null,false,null,null,null,67,"18"]
[null,null,null,null,null,null,"掲載されていない ",null,null,null,null,null,null,null,null,null,null,null,null,null,null,null,null,null,null,null,null,null,null,false,null,null,null,67,"18"]
[{"$f":"(50+$B482)-A$72","v":50},1,null,null,null,"申請\n機器","補助事業に要する経費",null,null,null,"スキャンツールの価格",null,null,null,null,"情報端末価格",null,null,null,null,"・「補助事業に要する経費」は補助対象外も含む全ての経費を機器毎に分けて入力して下さい\n・「スキャンツールの価格」は正見積書のスキャンツール単体の価格を機器毎に\n　分けて入力して下さい\n・「情報端末価格」は正見積書の情報端末単体の価格を機器毎に分けて入力して下さい",null,null,null,null,null,null,null,null,null,null,null,null,67,"18"]
[{"$f":"(50+$B483)-A$72","v":50},1,null,null,null,null,null,null,null,null,null,null,null,null,null,null,null,null,null,null,null,null,null,null,null,null,null,null,null,null,null,null,null,67,"18"]
[{"$f":"(50+$B484)-A$72","v":50},1,null,null,null,"１台目",null,null,null,null,null,null,null,null,null,null,null,null,null,null,null,null,null,null,null,null,null,null,null,null,null,{"$f":"G484-SUM(K484:T484)","v":0},null,67,"18"]
[{"$f":"(50+$B485)-A$72","v":50},1,null,null,null,"２台目",null,null,null,null,null,null,null,null,null,null,null,null,null,null,null,null,null,null,null,null,null,null,null,null,null,{"$f":"G485-SUM(K485:T485)","v":0},null,67,"18"]
[{"$f":"(50+$B486)-A$72","v":50},1,null,null,null,"３台目",null,null,null,null,null,null,null,null,null,null,null,null,null,null,null,null,null,null,null,null,null,null,null,null,null,0,null,67,"18"]
[null,null,null,null,null,"補助対象経費",null,null,null,null,"補助率",null,null,null,null,"補助金の額",null,null,null,null,null,null,null,null,null,null,null,null,null,null,null,null,null,67,"18"]
[null,null,null,null,null,{"$f":"(K484+P484)+(K485+P485)+(K486+P486)","v":0},null,null,null,null,{"$f":"IF(G484=\"\",\"\",\"1/3\")","v":""},null,null,null,null,{"$f":"IF($F488<>\"\",IF($F488/3>150000,150000,ROUNDDOWN($F488/3,-3)),\"\")","v":0},null,null,null,null,null,null,null,null,null,null,null,null,null,null,null,null,null,67,"18"]
[{"$f":"(50+$B489)-A$72","v":49},null,null,null,null,null,null,null,null,null,null,null,null,null,null,null,null,null,null,null,null,null,null,null,null,null,null,null,null,null,null,null,null,67,"18"]
[50,1,null,null,"事\n業\n場\n19","認証・指定・認定番号\nまたは、整備士合格証書番号",null,null,null,null,null,null,null,null,null,null,null,null,null,null,"以下のいずれかを入力\n・事業場の認証書の認定番号\n・指定書の指定番号\n・事業場に在籍する整備士の整備士合格証書番号",null,null,null,null,null,null,null,null,null,null,null,null,68,"19"]
[50,1,null,null,null,null,null,null,null,null,null,null,null,null,null,null,null,null,null,null,null,null,null,null,null,null,null,null,null,null,null,null,null,68,"19"]
[50,1,null,null,null,null,null,null,null,null,null,null,null,null,null,null,null,null,null,null,null,null,null,null,null,null,null,null,null,null,null,null,null,68,"19"]
[50,1,null,null,null,"設備を設置する事業場名",null,null,null,null,null,null,null,null,null,null,null,null,null,null,"漢字平仮名は全角、英数字は半角で入力して下さい",null,null,null,null,null,null,null,null,null,null,null,null,68,"19"]
[50,1,null,null,null,"事業場住所",null,null,"郵便番号",null,null,null,null,null,"都道府県",null,null,null,null,null,"・郵便番号はハイフンは入れず数字７桁で入力して下さい\n・町名は市区町村欄に入力して下さい\n・丁目、番地の表記はハイフンで入力して下さい\n・番地、建物名称が無い場合は入力不要です",null,null,null,null,null,null,null,null,null,null,null,null,68,"19"]
[50,1,null,null,null,null,null,null,"市区町村",null,null,null,null,null,"番地",null,null,null,null,null,null,null,null,null,null,null,null,null,null,null,null,null,null,68,"19"]
[50,1,null,null,null,null,null,null,"建物名称",null,null,null,null,null,null,null,null,null,null,null,null,null,null,null,null,null,null,null,null,null,null,null,null,68,"19"]
[50,1,null,null,null,"申請\n機器","機器一覧の\n掲載有無",null,"コード\n番号","申請スキャンツール",null,null,null,null,null,null,null,null,null,null,"①申請する機器がホームページ掲載資料の「補助対象機器一覧」に該当するか確認して下さい\n②該当の有無を「機器一覧の掲載有無」のチェックボックスで選択して下さい\n　 ※必要箇所のグレーアウトが解除されます\n【掲載されているを選択した場合】\n　・ホームページ掲載の「補助対象機器一覧」の各ページ左側「交付申請時のコード番号」\n　　（４～５桁の英数字）を確認し「コード番号」に入力して下さい\n　・入力後メーカー名～ソフトのバージョンに申請機器の情報が自動で表示されている事を\n　　確認して下さい\n【掲載されていないを選択した場合】\n　・「申請スキャンツール」に入力欄が表示されますので申請する機器の情報を入力して下さい\n　例：メーカー名●●　型式●●　品番●●　バージョン●●\n③同一事業場で２台申請する際は２台目を空欄にせず上に詰めて入力して下さい",null,null,null,null,null,null,null,null,null,null,null,null,68,"19"]
[50,1,null,null,null,null,null,null,null,"メーカー名",null,null,"名称・型式",null,null,"品　　番",null,null,"ソフトのバージョン",null,null,null,null,null,null,null,null,null,null,null,null,null,null,68,"19"]
[50,1,null,null,null,"１台目","掲載されている　　",null,null,{"$f":"IFERROR(VLOOKUP($I499,補助対象機器一覧0916!$A$1:$E$75,2,FALSE),\"\")","v":""},null,null,{"$f":"IFERROR(VLOOKUP($I499,補助対象機器一覧0916!$A$1:$E$75,3,FALSE),\"\")","v":""},null,null,{"$f":"IFERROR(VLOOKUP($I499,補助対象機器一覧0916!$A$1:$E$75,4,FALSE),\"\")","v":""},null,null,{"$f":"IFERROR(VLOOKUP($I499,補助対象機器一覧0916!$A$1:$E$75,5,FALSE),\"\")","v":""},null,null,null,null,null,null,null,null,null,null,false,null,null,null,68,"19"]
[null,null,null,null,null,null,"掲載されていない ",null,null,null,null,null,null,null,null,null,null,null,null,null,null,null,null,null,null,null,null,null,null,false,null,null,null,68,"19"]
[{"$f":"(50+$B501)-A$72","v":50},1,null,null,null,"２台目","掲載されている　　",null,null,{"$f":"IFERROR(VLOOKUP($I501,補助対象機器一覧0916!$A$1:$E$75,2,FALSE),\"\")","v":""},null,null,{"$f":"IFERROR(VLOOKUP($I501,補助対象機器一覧0916!$A$1:$E$75,3,FALSE),\"\")","v":""},null,null,{"$f":"IFERROR(VLOOKUP($I501,補助対象機器一覧0916!$A$1:$E$75,4,FALSE),\"\")","v":""},null,null,{"$f":"IFERROR(VLOOKUP($I501,補助対象機器一覧0916!$A$1:$E$75,5,FALSE),\"\")","v":""},null,null,null,null,null,null,null,null,null,null,false,null,null,null,68,"19"]
[null,null,null,null,null,null,"掲載されていない ",null,null,null,null,null,null,null,null,null,null,null,null,null,null,null,null,null,null,null,null,null,null,false,null,null,null,68,"19"]
[{"$f":"(50+$B503)-A$72","v":50},1,null,null,null,"３台目","掲載されている　　",null,null,{"$f":"IFERROR(VLOOKUP($I503,補助対象機器一覧0916!$A$1:$E$75,2,FALSE),\"\")","v":""},null,null,{"$f":"IFERROR(VLOOKUP($I503,補助対象機器一覧0916!$A$1:$E$75,3,FALSE),\"\")","v":""},null,null,{"$f":"IFERROR(VLOOKUP($I503,補助対象機器一覧0916!$A$1:$E$75,4,FALSE),\"\")","v":""},null,null,{"$f":"IFERROR(VLOOKUP($I503,補助対象機器一覧0916!$A$1:$E$75,5,FALSE),\"\")","v":""},null,null,null,null,null,null,null,null,null,null,false,null,null,null,68,"19"]
[null,null,null,null,null,null,"掲載されていない ",null,null,null,null,null,null,null,null,null,null,null,null,null,null,null,null,null,null,null,null,null,null,false,null,null,null,68,"19"]
[{"$f":"(50+$B505)-A$72","v":50},1,null,null,null,"申請\n機器","補助事業に要する経費",null,null,null,"スキャンツールの価格",null,null,null,null,"情報端末価格",null,null,null,null,"・「補助事業に要する経費」は補助対象外も含む全ての経費を機器毎に分けて入力して下さい\n・「スキャンツールの価格」は正見積書のスキャンツール単体の価格を機器毎に\n　分けて入力して下さい\n・「情報端末価格」は正見積書の情報端末単体の価格を機器毎に分けて入力して下さい",null,null,null,null,null,null,null,null,null,null,null,null,68,"19"]
[{"$f":"(50+$B506)-A$72","v":50},1,null,null,null,null,null,null,null,null,null,null,null,null,null,null,null,null,null,null,null,null,null,null,null,null,null,null,null,null,null,null,null,68,"19"]
[{"$f":"(50+$B507)-A$72","v":50},1,null,null,null,"１台目",null,null,null,null,null,null,null,null,null,null,null,null,null,null,null,null,null,null,null,null,null,null,null,null,null,{"$f":"G507-SUM(K507:T507)","v":0},null,68,"19"]
[{"$f":"(50+$B508)-A$72","v":50},1,null,null,null,"２台目",null,null,null,null,null,null,null,null,null,null,null,null,null,null,null,null,null,null,null,null,null,null,null,null,null,{"$f":"G508-SUM(K508:T508)","v":0},null,68,"19"]
[{"$f":"(50+$B509)-A$72","v":50},1,null,null,null,"３台目",null,null,null,null,null,null,null,null,null,null,null,null,null,null,null,null,null,null,null,null,null,null,null,null,null,0,null,68,"19"]
[null,null,null,null,null,"補助対象経費",null,null,null,null,"補助率",null,null,null,null,"補助金の額",null,null,null,null,null,null,null,null,null,null,null,null,null,null,null,null,null,68,"19"]
[null,null,null,null,null,{"$f":"(K507+P507)+(K508+P508)+(K509+P509)","v":0},null,null,null,null,{"$f":"IF(G507=\"\",\"\",\"1/3\")","v":""},null,null,null,null,{"$f":"IF($F511<>\"\",IF($F511/3>150000,150000,ROUNDDOWN($F511/3,-3)),\"\")","v":0},null,null,null,null,null,null,null,null,null,null,null,null,null,null,null,null,null,68,"19"]
[{"$f":"(50+$B512)-A$72","v":49},null,null,null,null,null,null,null,null,null,null,null,null,null,null,null,null,null,null,null,null,null,null,null,null,null,null,null,null,null,null,null,null,68,"19"]
[50,1,null,null,"事\n業\n場\n20","認証・指定・認定番号\nまたは、整備士合格証書番号",null,null,null,null,null,null,null,null,null,null,null,null,null,null,"以下のいずれかを入力\n・事業場の認証書の認定番号\n・指定書の指定番号\n・事業場に在籍する整備士の整備士合格証書番号",null,null,null,null,null,null,null,null,null,null,null,null,69,"20"]
[50,1,null,null,null,null,null,null,null,null,null,null,null,null,null,null,null,null,null,null,null,null,null,null,null,null,null,null,null,null,null,null,null,69,"20"]
[50,1,null,null,null,null,null,null,null,null,null,null,null,null,null,null,null,null,null,null,null,null,null,null,null,null,null,null,null,null,null,null,null,69,"20"]
[50,1,null,null,null,"設備を設置する事業場名",null,null,null,null,null,null,null,null,null,null,null,null,null,null,"漢字平仮名は全角、英数字は半角で入力して下さい",null,null,null,null,null,null,null,null,null,null,null,null,69,"20"]
[50,1,null,null,null,"事業場住所",null,null,"郵便番号",null,null,null,null,null,"都道府県",null,null,null,null,null,"・郵便番号はハイフンは入れず数字７桁で入力して下さい\n・町名は市区町村欄に入力して下さい\n・丁目、番地の表記はハイフンで入力して下さい\n・番地、建物名称が無い場合は入力不要です",null,null,null,null,null,null,null,null,null,null,null,null,69,"20"]
[50,1,null,null,null,null,null,null,"市区町村",null,null,null,null,null,"番地",null,null,null,null,null,null,null,null,null,null,null,null,null,null,null,null,null,null,69,"20"]
[50,1,null,null,null,null,null,null,"建物名称",null,null,null,null,null,null,null,null,null,null,null,null,null,null,null,null,null,null,null,null,null,null,null,null,69,"20"]
[50,1,null,null,null,"申請\n機器","機器一覧の\n掲載有無",null,"コード\n番号","申請スキャンツール",null,null,null,null,null,null,null,null,null,null,"①申請する機器がホームページ掲載資料の「補助対象機器一覧」に該当するか確認して下さい\n②該当の有無を「機器一覧の掲載有無」のチェックボックスで選択して下さい\n　 ※必要箇所のグレーアウトが解除されます\n【掲載されているを選択した場合】\n　・ホームページ掲載の「補助対象機器一覧」の各ページ左側「交付申請時のコード番号」\n　　（４～５桁の英数字）を確認し「コード番号」に入力して下さい\n　・入力後メーカー名～ソフトのバージョンに申請機器の情報が自動で表示されている事を\n　　確認して下さい\n【掲載されていないを選択した場合】\n　・「申請スキャンツール」に入力欄が表示されますので申請する機器の情報を入力して下さい\n　例：メーカー名●●　型式●●　品番●●　バージョン●●\n③同一事業場で２台申請する際は２台目を空欄にせず上に詰めて入力して下さい",null,null,null,null,null,null,null,null,null,null,null,null,69,"20"]
[50,1,null,null,null,null,null,null,null,"メーカー名",null,null,"名称・型式",null,null,"品　　番",null,null,"ソフトのバージョン",null,null,null,null,null,null,null,null,null,null,null,null,null,null,69,"20"]
[50,1,null,null,null,"１台目","掲載されている　　",null,null,{"$f":"IFERROR(VLOOKUP($I522,補助対象機器一覧0916!$A$1:$E$75,2,FALSE),\"\")","v":""},null,null,{"$f":"IFERROR(VLOOKUP($I522,補助対象機器一覧0916!$A$1:$E$75,3,FALSE),\"\")","v":""},null,null,{"$f":"IFERROR(VLOOKUP($I522,補助対象機器一覧0916!$A$1:$E$75,4,FALSE),\"\")","v":""},null,null,{"$f":"IFERROR(VLOOKUP($I522,補助対象機器一覧0916!$A$1:$E$75,5,FALSE),\"\")","v":""},null,null,null,null,null,null,null,null,null,null,false,null,null,null,69,"20"]
[null,null,null,null,null,null,"掲載されていない ",null,null,null,null,null,null,null,null,null,null,null,null,null,null,null,null,null,null,null,null,null,null,false,null,null,null,69,"20"]
[{"$f":"(50+$B524)-A$72","v":50},1,null,null,null,"２台目","掲載されている　　",null,null,{"$f":"IFERROR(VLOOKUP($I524,補助対象機器一覧0916!$A$1:$E$75,2,FALSE),\"\")","v":""},null,null,{"$f":"IFERROR(VLOOKUP($I524,補助対象機器一覧0916!$A$1:$E$75,3,FALSE),\"\")","v":""},null,null,{"$f":"IFERROR(VLOOKUP($I524,補助対象機器一覧0916!$A$1:$E$75,4,FALSE),\"\")","v":""},null,null,{"$f":"IFERROR(VLOOKUP($I524,補助対象機器一覧0916!$A$1:$E$75,5,FALSE),\"\")","v":""},null,null,null,null,null,null,null,null,null,null,false,null,null,null,{"$f":"(50+$AI524)-A$72","v":69},"20"]
[null,null,null,null,null,null,"掲載されていない ",null,null,null,null,null,null,null,null,null,null,null,null,null,null,null,null,null,null,null,null,null,null,false,null,null,null,69,"20"]
[{"$f":"(50+$B526)-A$72","v":50},1,null,null,null,"３台目","掲載されている　　",null,null,{"$f":"IFERROR(VLOOKUP($I526,補助対象機器一覧0916!$A$1:$E$75,2,FALSE),\"\")","v":""},null,null,{"$f":"IFERROR(VLOOKUP($I526,補助対象機器一覧0916!$A$1:$E$75,3,FALSE),\"\")","v":""},null,null,{"$f":"IFERROR(VLOOKUP($I526,補助対象機器一覧0916!$A$1:$E$75,4,FALSE),\"\")","v":""},null,null,{"$f":"IFERROR(VLOOKUP($I526,補助対象機器一覧0916!$A$1:$E$75,5,FALSE),\"\")","v":""},null,null,null,null,null,null,null,null,null,null,false,null,null,null,69,"20"]
[null,null,null,null,null,null,"掲載されていない ",null,null,null,null,null,null,null,null,null,null,null,null,null,null,null,null,null,null,null,null,null,null,false,null,null,null,69,"20"]
[{"$f":"(50+$B528)-A$72","v":50},1,null,null,null,"申請\n機器","補助事業に要する経費",null,null,null,"スキャンツールの価格",null,null,null,null,"情報端末価格",null,null,null,null,"・「補助事業に要する経費」は補助対象外も含む全ての経費を機器毎に分けて入力して下さい\n・「スキャンツールの価格」は正見積書のスキャンツール単体の価格を機器毎に\n　分けて入力して下さい\n・「情報端末価格」は正見積書の情報端末単体の価格を機器毎に分けて入力して下さい",null,null,null,null,null,null,null,null,null,null,null,null,69,"20"]
[{"$f":"(50+$B529)-A$72","v":50},1,null,null,null,null,null,null,null,null,null,null,null,null,null,null,null,null,null,null,null,null,null,null,null,null,null,null,null,null,null,null,null,69,"20"]
[{"$f":"(50+$B530)-A$72","v":50},1,null,null,null,"１台目",null,null,null,null,null,null,null,null,null,null,null,null,null,null,null,null,null,null,null,null,null,null,null,null,null,{"$f":"G530-SUM(K530:T530)","v":0},null,69,"20"]
[{"$f":"(50+$B531)-A$72","v":50},1,null,null,null,"２台目",null,null,null,null,null,null,null,null,null,null,null,null,null,null,null,null,null,null,null,null,null,null,null,null,null,{"$f":"G531-SUM(K531:T531)","v":0},null,69,"20"]
[{"$f":"(50+$B532)-A$72","v":50},1,null,null,null,"３台目",null,null,null,null,null,null,null,null,null,null,null,null,null,null,null,null,null,null,null,null,null,null,null,null,null,0,null,69,"20"]
[null,null,null,null,null,"補助対象経費",null,null,null,null,"補助率",null,null,null,null,"補助金の額",null,null,null,null,null,null,null,null,null,null,null,null,null,null,null,null,null,69,"20"]
[null,null,null,null,null,{"$f":"(K530+P530)+(K531+P531)+(K532+P532)","v":0},null,null,null,null,{"$f":"IF(G530=\"\",\"\",\"1/3\")","v":""},null,null,null,null,{"$f":"IF($F534<>\"\",IF($F534/3>150000,150000,ROUNDDOWN($F534/3,-3)),\"\")","v":0},null,null,null,null,null,null,null,null,null,null,null,null,null,null,null,null,null,69,"20"]
[{"$f":"(50+$B535)-A$72","v":49},null,null,null,null,null,null,null,null,null,null,null,null,null,null,null,null,null,null,null,null,null,null,null,null,null,null,null,null,null,null,null,null,69,"20"]
[50,1,null,null,"事\n業\n場\n21","認証・指定・認定番号\nまたは、整備士合格証書番号",null,null,null,null,null,null,null,null,null,null,null,null,null,null,"以下のいずれかを入力\n・事業場の認証書の認定番号\n・指定書の指定番号\n・事業場に在籍する整備士の整備士合格証書番号",null,null,null,null,null,null,null,null,null,null,null,null,70,"21",{"$f":"SUM($G553:$J555+$G576:$J578+$G599:$J601+$G622:$J624+$G645:$J647+$G668:$J670+$G691:$J693+$G714:$J716+$G737:$J739+G760:J762)","v":0},{"$f":"$F557+$F580+$F603+$F626+$F649+$F672+$F695+$F718+$F741+$F764","v":0},{"$f":"$P557+$P580+$P603+$P626+$P649+$P672+$P695+$P718+$P741+$P764","v":0}]
[50,1,null,null,null,null,null,null,null,null,null,null,null,null,null,null,null,null,null,null,null,null,null,null,null,null,null,null,null,null,null,null,null,70,"21"]
[50,1,null,null,null,null,null,null,null,null,null,null,null,null,null,null,null,null,null,null,null,null,null,null,null,null,null,null,null,null,null,null,null,70,"21"]
[50,1,null,null,null,"設備を設置する事業場名",null,null,null,null,null,null,null,null,null,null,null,null,null,null,"漢字平仮名は全角、英数字は半角で入力して下さい",null,null,null,null,null,null,null,null,null,null,null,null,70,"21"]
[50,1,null,null,null,"事業場住所",null,null,"郵便番号",null,null,null,null,null,"都道府県",null,null,null,null,null,"・郵便番号はハイフンは入れず数字７桁で入力して下さい\n・町名は市区町村欄に入力して下さい\n・丁目、番地の表記はハイフンで入力して下さい\n・番地、建物名称が無い場合は入力不要です",null,null,null,null,null,null,null,null,null,null,null,null,70,"21"]
[50,1,null,null,null,null,null,null,"市区町村",null,null,null,null,null,"番地",null,null,null,null,null,null,null,null,null,null,null,null,null,null,null,null,null,null,70,"21"]
[50,1,null,null,null,null,null,null,"建物名称",null,null,null,null,null,null,null,null,null,null,null,null,null,null,null,null,null,null,null,null,null,null,null,null,70,"21"]
[50,1,null,null,null,"申請\n機器","機器一覧の\n掲載有無",null,"コード\n番号","申請スキャンツール",null,null,null,null,null,null,null,null,null,null,"①申請する機器がホームページ掲載資料の「補助対象機器一覧」に該当するか確認して下さい\n②該当の有無を「機器一覧の掲載有無」のチェックボックスで選択して下さい\n　 ※必要箇所のグレーアウトが解除されます\n【掲載されているを選択した場合】\n　・ホームページ掲載の「補助対象機器一覧」の各ページ左側「交付申請時のコード番号」\n　　（４～５桁の英数字）を確認し「コード番号」に入力して下さい\n　・入力後メーカー名～ソフトのバージョンに申請機器の情報が自動で表示されている事を\n　　確認して下さい\n【掲載されていないを選択した場合】\n　・「申請スキャンツール」に入力欄が表示されますので申請する機器の情報を入力して下さい\n　例：メーカー名●●　型式●●　品番●●　バージョン●●\n③同一事業場で２台申請する際は２台目を空欄にせず上に詰めて入力して下さい",null,null,null,null,null,null,null,null,null,null,null,null,70,"21"]
[50,1,null,null,null,null,null,null,null,"メーカー名",null,null,"名称・型式",null,null,"品　　番",null,null,"ソフトのバージョン",null,null,null,null,null,null,null,null,null,null,null,null,null,null,70,"21"]
[50,1,null,null,null,"１台目","掲載されている　　",null,null,{"$f":"IFERROR(VLOOKUP($I545,補助対象機器一覧0916!$A$1:$E$75,2,FALSE),\"\")","v":""},null,null,{"$f":"IFERROR(VLOOKUP($I545,補助対象機器一覧0916!$A$1:$E$75,3,FALSE),\"\")","v":""},null,null,{"$f":"IFERROR(VLOOKUP($I545,補助対象機器一覧0916!$A$1:$E$75,4,FALSE),\"\")","v":""},null,null,{"$f":"IFERROR(VLOOKUP($I545,補助対象機器一覧0916!$A$1:$E$75,5,FALSE),\"\")","v":""},null,null,null,null,null,null,null,null,null,null,false,null,null,null,70,"21"]
[null,null,null,null,null,null,"掲載されていない ",null,null,null,null,null,null,null,null,null,null,null,null,null,null,null,null,null,null,null,null,null,null,false,null,null,null,70,"21"]
[{"$f":"(50+$B547)-A$72","v":50},1,null,null,null,"２台目","掲載されている　　",null,null,{"$f":"IFERROR(VLOOKUP($I547,補助対象機器一覧0916!$A$1:$E$75,2,FALSE),\"\")","v":""},null,null,{"$f":"IFERROR(VLOOKUP($I547,補助対象機器一覧0916!$A$1:$E$75,3,FALSE),\"\")","v":""},null,null,{"$f":"IFERROR(VLOOKUP($I547,補助対象機器一覧0916!$A$1:$E$75,4,FALSE),\"\")","v":""},null,null,{"$f":"IFERROR(VLOOKUP($I547,補助対象機器一覧0916!$A$1:$E$75,5,FALSE),\"\")","v":""},null,null,null,null,null,null,null,null,null,null,false,null,null,null,70,"21"]
[null,null,null,null,null,null,"掲載されていない ",null,null,null,null,null,null,null,null,null,null,null,null,null,null,null,null,null,null,null,null,null,null,false,null,null,null,70,"21"]
[{"$f":"(50+$B549)-A$72","v":50},1,null,null,null,"３台目","掲載されている　　",null,null,{"$f":"IFERROR(VLOOKUP($I549,補助対象機器一覧0916!$A$1:$E$75,2,FALSE),\"\")","v":""},null,null,{"$f":"IFERROR(VLOOKUP($I549,補助対象機器一覧0916!$A$1:$E$75,3,FALSE),\"\")","v":""},null,null,{"$f":"IFERROR(VLOOKUP($I549,補助対象機器一覧0916!$A$1:$E$75,4,FALSE),\"\")","v":""},null,null,{"$f":"IFERROR(VLOOKUP($I549,補助対象機器一覧0916!$A$1:$E$75,5,FALSE),\"\")","v":""},null,null,null,null,null,null,null,null,null,null,false,null,null,null,70,"21"]
[null,null,null,null,null,null,"掲載されていない ",null,null,null,null,null,null,null,null,null,null,null,null,null,null,null,null,null,null,null,null,null,null,false,null,null,null,70,"21"]
[{"$f":"(50+$B551)-A$72","v":50},1,null,null,null,"申請\n機器","補助事業に要する経費",null,null,null,"スキャンツールの価格",null,null,null,null,"情報端末価格",null,null,null,null,"・「補助事業に要する経費」は補助対象外も含む全ての経費を機器毎に分けて入力して下さい\n・「スキャンツールの価格」は正見積書のスキャンツール単体の価格を機器毎に\n　分けて入力して下さい\n・「情報端末価格」は正見積書の情報端末単体の価格を機器毎に分けて入力して下さい",null,null,null,null,null,null,null,null,null,null,null,null,70,"21"]
[{"$f":"(50+$B552)-A$72","v":50},1,null,null,null,null,null,null,null,null,null,null,null,null,null,null,null,null,null,null,null,null,null,null,null,null,null,null,null,null,null,null,null,70,"21"]
[{"$f":"(50+$B553)-A$72","v":50},1,null,null,null,"１台目",null,null,null,null,null,null,null,null,null,null,null,null,null,null,null,null,null,null,null,null,null,null,null,null,null,{"$f":"G553-SUM(K553:T553)","v":0},null,70,"21"]
[{"$f":"(50+$B554)-A$72","v":50},1,null,null,null,"２台目",null,null,null,null,null,null,null,null,null,null,null,null,null,null,null,null,null,null,null,null,null,null,null,null,null,{"$f":"G554-SUM(K554:T554)","v":0},null,70,"21"]
[{"$f":"(50+$B555)-A$72","v":50},1,null,null,null,"３台目",null,null,null,null,null,null,null,null,null,null,null,null,null,null,null,null,null,null,null,null,null,null,null,null,null,0,null,70,"21"]
[null,null,null,null,null,"補助対象経費",null,null,null,null,"補助率",null,null,null,null,"補助金の額",null,null,null,null,null,null,null,null,null,null,null,null,null,null,null,null,null,70,"21"]
[null,null,null,null,null,{"$f":"(K553+P553)+(K554+P554)+(K555+P555)","v":0},null,null,null,null,{"$f":"IF(G553=\"\",\"\",\"1/3\")","v":""},null,null,null,null,{"$f":"IF($F557<>\"\",IF($F557/3>150000,150000,ROUNDDOWN($F557/3,-3)),\"\")","v":0},null,null,null,null,null,null,null,null,null,null,null,null,null,null,null,null,null,70,"21"]
[{"$f":"(50+$B558)-A$72","v":49},null,null,null,null,null,null,null,null,null,null,null,null,null,null,null,null,null,null,null,null,null,null,null,null,null,null,null,null,null,null,null,null,70,"21"]
[50,1,null,null,"事\n業\n場\n22","認証・指定・認定番号\nまたは、整備士合格証書番号",null,null,null,null,null,null,null,null,null,null,null,null,null,null,"以下のいずれかを入力\n・事業場の認証書の認定番号\n・指定書の指定番号\n・事業場に在籍する整備士の整備士合格証書番号",null,null,null,null,null,null,null,null,null,null,null,null,71,"22"]
[50,1,null,null,null,null,null,null,null,null,null,null,null,null,null,null,null,null,null,null,null,null,null,null,null,null,null,null,null,null,null,null,null,71,"22"]
[50,1,null,null,null,null,null,null,null,null,null,null,null,null,null,null,null,null,null,null,null,null,null,null,null,null,null,null,null,null,null,null,null,71,"22"]
[50,1,null,null,null,"設備を設置する事業場名",null,null,null,null,null,null,null,null,null,null,null,null,null,null,"漢字平仮名は全角、英数字は半角で入力して下さい",null,null,null,null,null,null,null,null,null,null,null,null,71,"22"]
[50,1,null,null,null,"事業場住所",null,null,"郵便番号",null,null,null,null,null,"都道府県",null,null,null,null,null,"・郵便番号はハイフンは入れず数字７桁で入力して下さい\n・町名は市区町村欄に入力して下さい\n・丁目、番地の表記はハイフンで入力して下さい\n・番地、建物名称が無い場合は入力不要です",null,null,null,null,null,null,null,null,null,null,null,null,71,"22"]
[50,1,null,null,null,null,null,null,"市区町村",null,null,null,null,null,"番地",null,null,null,null,null,null,null,null,null,null,null,null,null,null,null,null,null,null,71,"22"]
[50,1,null,null,null,null,null,null,"建物名称",null,null,null,null,null,null,null,null,null,null,null,null,null,null,null,null,null,null,null,null,null,null,null,null,71,"22"]
[50,1,null,null,null,"申請\n機器","機器一覧の\n掲載有無",null,"コード\n番号","申請スキャンツール",null,null,null,null,null,null,null,null,null,null,"①申請する機器がホームページ掲載資料の「補助対象機器一覧」に該当するか確認して下さい\n②該当の有無を「機器一覧の掲載有無」のチェックボックスで選択して下さい\n　 ※必要箇所のグレーアウトが解除されます\n【掲載されているを選択した場合】\n　・ホームページ掲載の「補助対象機器一覧」の各ページ左側「交付申請時のコード番号」\n　　（４～５桁の英数字）を確認し「コード番号」に入力して下さい\n　・入力後メーカー名～ソフトのバージョンに申請機器の情報が自動で表示されている事を\n　　確認して下さい\n【掲載されていないを選択した場合】\n　・「申請スキャンツール」に入力欄が表示されますので申請する機器の情報を入力して下さい\n　例：メーカー名●●　型式●●　品番●●　バージョン●●\n③同一事業場で２台申請する際は２台目を空欄にせず上に詰めて入力して下さい",null,null,null,null,null,null,null,null,null,null,null,null,71,"22"]
[50,1,null,null,null,null,null,null,null,"メーカー名",null,null,"名称・型式",null,null,"品　　番",null,null,"ソフトのバージョン",null,null,null,null,null,null,null,null,null,null,null,null,null,null,71,"22"]
[50,1,null,null,null,"１台目","掲載されている　　",null,null,{"$f":"IFERROR(VLOOKUP($I568,補助対象機器一覧0916!$A$1:$E$75,2,FALSE),\"\")","v":""},null,null,{"$f":"IFERROR(VLOOKUP($I568,補助対象機器一覧0916!$A$1:$E$75,3,FALSE),\"\")","v":""},null,null,{"$f":"IFERROR(VLOOKUP($I568,補助対象機器一覧0916!$A$1:$E$75,4,FALSE),\"\")","v":""},null,null,{"$f":"IFERROR(VLOOKUP($I568,補助対象機器一覧0916!$A$1:$E$75,5,FALSE),\"\")","v":""},null,null,null,null,null,null,null,null,null,null,false,null,null,null,71,"22"]
[null,null,null,null,null,null,"掲載されていない ",null,null,null,null,null,null,null,null,null,null,null,null,null,null,null,null,null,null,null,null,null,null,false,null,null,null,71,"22"]
[{"$f":"(50+$B570)-A$72","v":50},1,null,null,null,"２台目","掲載されている　　",null,null,{"$f":"IFERROR(VLOOKUP($I570,補助対象機器一覧0916!$A$1:$E$75,2,FALSE),\"\")","v":""},null,null,{"$f":"IFERROR(VLOOKUP($I570,補助対象機器一覧0916!$A$1:$E$75,3,FALSE),\"\")","v":""},null,null,{"$f":"IFERROR(VLOOKUP($I570,補助対象機器一覧0916!$A$1:$E$75,4,FALSE),\"\")","v":""},null,null,{"$f":"IFERROR(VLOOKUP($I570,補助対象機器一覧0916!$A$1:$E$75,5,FALSE),\"\")","v":""},null,null,null,null,null,null,null,null,null,null,false,null,null,null,71,"22"]
[null,null,null,null,null,null,"掲載されていない ",null,null,null,null,null,null,null,null,null,null,null,null,null,null,null,null,null,null,null,null,null,null,false,null,null,null,71,"22"]
[{"$f":"(50+$B572)-A$72","v":50},1,null,null,null,"３台目","掲載されている　　",null,null,{"$f":"IFERROR(VLOOKUP($I572,補助対象機器一覧0916!$A$1:$E$75,2,FALSE),\"\")","v":""},null,null,{"$f":"IFERROR(VLOOKUP($I572,補助対象機器一覧0916!$A$1:$E$75,3,FALSE),\"\")","v":""},null,null,{"$f":"IFERROR(VLOOKUP($I572,補助対象機器一覧0916!$A$1:$E$75,4,FALSE),\"\")","v":""},null,null,{"$f":"IFERROR(VLOOKUP($I572,補助対象機器一覧0916!$A$1:$E$75,5,FALSE),\"\")","v":""},null,null,null,null,null,null,null,null,null,null,false,null,null,null,71,"22"]
[null,null,null,null,null,null,"掲載されていない ",null,null,null,null,null,null,null,null,null,null,null,null,null,null,null,null,null,null,null,null,null,null,false,null,null,null,71,"22"]
[{"$f":"(50+$B574)-A$72","v":50},1,null,null,null,"申請\n機器","補助事業に要する経費",null,null,null,"スキャンツールの価格",null,null,null,null,"情報端末価格",null,null,null,null,"・「補助事業に要する経費」は補助対象外も含む全ての経費を機器毎に分けて入力して下さい\n・「スキャンツールの価格」は正見積書のスキャンツール単体の価格を機器毎に\n　分けて入力して下さい\n・「情報端末価格」は正見積書の情報端末単体の価格を機器毎に分けて入力して下さい",null,null,null,null,null,null,null,null,null,null,null,null,71,"22"]
[{"$f":"(50+$B575)-A$72","v":50},1,null,null,null,null,null,null,null,null,null,null,null,null,null,null,null,null,null,null,null,null,null,null,null,null,null,null,null,null,null,null,null,71,"22"]
[{"$f":"(50+$B576)-A$72","v":50},1,null,null,null,"１台目",null,null,null,null,null,null,null,null,null,null,null,null,null,null,null,null,null,null,null,null,null,null,null,null,null,{"$f":"G576-SUM(K576:T576)","v":0},null,71,"22"]
[{"$f":"(50+$B577)-A$72","v":50},1,null,null,null,"２台目",null,null,null,null,null,null,null,null,null,null,null,null,null,null,null,null,null,null,null,null,null,null,null,null,null,{"$f":"G577-SUM(K577:T577)","v":0},null,71,"22"]
[{"$f":"(50+$B578)-A$72","v":50},1,null,null,null,"３台目",null,null,null,null,null,null,null,null,null,null,null,null,null,null,null,null,null,null,null,null,null,null,null,null,null,0,null,71,"22"]
[null,null,null,null,null,"補助対象経費",null,null,null,null,"補助率",null,null,null,null,"補助金の額",null,null,null,null,null,null,null,null,null,null,null,null,null,null,null,null,null,71,"22"]
[null,null,null,null,null,{"$f":"(K576+P576)+(K577+P577)+(K578+P578)","v":0},null,null,null,null,{"$f":"IF(G576=\"\",\"\",\"1/3\")","v":""},null,null,null,null,{"$f":"IF($F580<>\"\",IF($F580/3>150000,150000,ROUNDDOWN($F580/3,-3)),\"\")","v":0},null,null,null,null,null,null,null,null,null,null,null,null,null,null,null,null,null,71,"22"]
[{"$f":"(50+$B581)-A$72","v":49},null,null,null,null,null,null,null,null,null,null,null,null,null,null,null,null,null,null,null,null,null,null,null,null,null,null,null,null,null,null,null,null,71,22]
[50,1,null,null,"事\n業\n場\n23","認証・指定・認定番号\nまたは、整備士合格証書番号",null,null,null,null,null,null,null,null,null,null,null,null,null,null,"以下のいずれかを入力\n・事業場の認証書の認定番号\n・指定書の指定番号\n・事業場に在籍する整備士の整備士合格証書番号",null,null,null,null,null,null,null,null,null,null,null,null,72,"23"]
[50,1,null,null,null,null,null,null,null,null,null,null,null,null,null,null,null,null,null,null,null,null,null,null,null,null,null,null,null,null,null,null,null,72,"23"]
[50,1,null,null,null,null,null,null,null,null,null,null,null,null,null,null,null,null,null,null,null,null,null,null,null,null,null,null,null,null,null,null,null,72,"23"]
[50,1,null,null,null,"設備を設置する事業場名",null,null,null,null,null,null,null,null,null,null,null,null,null,null,"漢字平仮名は全角、英数字は半角で入力して下さい",null,null,null,null,null,null,null,null,null,null,null,null,72,"23"]
[50,1,null,null,null,"事業場住所",null,null,"郵便番号",null,null,null,null,null,"都道府県",null,null,null,null,null,"・郵便番号はハイフンは入れず数字７桁で入力して下さい\n・町名は市区町村欄に入力して下さい\n・丁目、番地の表記はハイフンで入力して下さい\n・番地、建物名称が無い場合は入力不要です",null,null,null,null,null,null,null,null,null,null,null,null,72,"23"]
[50,1,null,null,null,null,null,null,"市区町村",null,null,null,null,null,"番地",null,null,null,null,null,null,null,null,null,null,null,null,null,null,null,null,null,null,72,"23"]
[50,1,null,null,null,null,null,null,"建物名称",null,null,null,null,null,null,null,null,null,null,null,null,null,null,null,null,null,null,null,null,null,null,null,null,{"$f":"(50+$AI588)-A$72","v":72},"23"]
[50,1,null,null,null,"申請\n機器","機器一覧の\n掲載有無",null,"コード\n番号","申請スキャンツール",null,null,null,null,null,null,null,null,null,null,"①申請する機器がホームページ掲載資料の「補助対象機器一覧」に該当するか確認して下さい\n②該当の有無を「機器一覧の掲載有無」のチェックボックスで選択して下さい\n　 ※必要箇所のグレーアウトが解除されます\n【掲載されているを選択した場合】\n　・ホームページ掲載の「補助対象機器一覧」の各ページ左側「交付申請時のコード番号」\n　　（４～５桁の英数字）を確認し「コード番号」に入力して下さい\n　・入力後メーカー名～ソフトのバージョンに申請機器の情報が自動で表示されている事を\n　　確認して下さい\n【掲載されていないを選択した場合】\n　・「申請スキャンツール」に入力欄が表示されますので申請する機器の情報を入力して下さい\n　例：メーカー名●●　型式●●　品番●●　バージョン●●\n③同一事業場で２台申請する際は２台目を空欄にせず上に詰めて入力して下さい",null,null,null,null,null,null,null,null,null,null,null,null,72,"23"]
[50,1,null,null,null,null,null,null,null,"メーカー名",null,null,"名称・型式",null,null,"品　　番",null,null,"ソフトのバージョン",null,null,null,null,null,null,null,null,null,null,null,null,null,null,72,"23"]
[50,1,null,null,null,"１台目","掲載されている　　",null,null,{"$f":"IFERROR(VLOOKUP($I591,補助対象機器一覧0916!$A$1:$E$75,2,FALSE),\"\")","v":""},null,null,{"$f":"IFERROR(VLOOKUP($I591,補助対象機器一覧0916!$A$1:$E$75,3,FALSE),\"\")","v":""},null,null,{"$f":"IFERROR(VLOOKUP($I591,補助対象機器一覧0916!$A$1:$E$75,4,FALSE),\"\")","v":""},null,null,{"$f":"IFERROR(VLOOKUP($I591,補助対象機器一覧0916!$A$1:$E$75,5,FALSE),\"\")","v":""},null,null,null,null,null,null,null,null,null,null,false,null,null,null,72,"23"]
[null,null,null,null,null,null,"掲載されていない ",null,null,null,null,null,null,null,null,null,null,null,null,null,null,null,null,null,null,null,null,null,null,false,null,null,null,72,"23"]
[{"$f":"(50+$B593)-A$72","v":50},1,null,null,null,"２台目","掲載されている　　",null,null,{"$f":"IFERROR(VLOOKUP($I593,補助対象機器一覧0916!$A$1:$E$75,2,FALSE),\"\")","v":""},null,null,{"$f":"IFERROR(VLOOKUP($I593,補助対象機器一覧0916!$A$1:$E$75,3,FALSE),\"\")","v":""},null,null,{"$f":"IFERROR(VLOOKUP($I593,補助対象機器一覧0916!$A$1:$E$75,4,FALSE),\"\")","v":""},null,null,{"$f":"IFERROR(VLOOKUP($I593,補助対象機器一覧0916!$A$1:$E$75,5,FALSE),\"\")","v":""},null,null,null,null,null,null,null,null,null,null,false,null,null,null,72,"23"]
[null,null,null,null,null,null,"掲載されていない ",null,null,null,null,null,null,null,null,null,null,null,null,null,null,null,null,null,null,null,null,null,null,false,null,null,null,72,"23"]
[{"$f":"(50+$B595)-A$72","v":50},1,null,null,null,"３台目","掲載されている　　",null,null,{"$f":"IFERROR(VLOOKUP($I595,補助対象機器一覧0916!$A$1:$E$75,2,FALSE),\"\")","v":""},null,null,{"$f":"IFERROR(VLOOKUP($I595,補助対象機器一覧0916!$A$1:$E$75,3,FALSE),\"\")","v":""},null,null,{"$f":"IFERROR(VLOOKUP($I595,補助対象機器一覧0916!$A$1:$E$75,4,FALSE),\"\")","v":""},null,null,{"$f":"IFERROR(VLOOKUP($I595,補助対象機器一覧0916!$A$1:$E$75,5,FALSE),\"\")","v":""},null,null,null,null,null,null,null,null,null,null,false,null,null,null,72,"23"]
[null,null,null,null,null,null,"掲載されていない ",null,null,null,null,null,null,null,null,null,null,null,null,null,null,null,null,null,null,null,null,null,null,false,null,null,null,72,"23"]
[{"$f":"(50+$B597)-A$72","v":50},1,null,null,null,"申請\n機器","補助事業に要する経費",null,null,null,"スキャンツールの価格",null,null,null,null,"情報端末価格",null,null,null,null,"・「補助事業に要する経費」は補助対象外も含む全ての経費を機器毎に分けて入力して下さい\n・「スキャンツールの価格」は正見積書のスキャンツール単体の価格を機器毎に\n　分けて入力して下さい\n・「情報端末価格」は正見積書の情報端末単体の価格を機器毎に分けて入力して下さい",null,null,null,null,null,null,null,null,null,null,null,null,72,"23"]
[{"$f":"(50+$B598)-A$72","v":50},1,null,null,null,null,null,null,null,null,null,null,null,null,null,null,null,null,null,null,null,null,null,null,null,null,null,null,null,null,null,null,null,72,"23"]
[{"$f":"(50+$B599)-A$72","v":50},1,null,null,null,"１台目",null,null,null,null,null,null,null,null,null,null,null,null,null,null,null,null,null,null,null,null,null,null,null,null,null,{"$f":"G599-SUM(K599:T599)","v":0},null,72,"23"]
[{"$f":"(50+$B600)-A$72","v":50},1,null,null,null,"２台目",null,null,null,null,null,null,null,null,null,null,null,null,null,null,null,null,null,null,null,null,null,null,null,null,null,{"$f":"G600-SUM(K600:T600)","v":0},null,72,"23"]
[{"$f":"(50+$B601)-A$72","v":50},1,null,null,null,"３台目",null,null,null,null,null,null,null,null,null,null,null,null,null,null,null,null,null,null,null,null,null,null,null,null,null,0,null,72,"23"]
[null,null,null,null,null,"補助対象経費",null,null,null,null,"補助率",null,null,null,null,"補助金の額",null,null,null,null,null,null,null,null,null,null,null,null,null,null,null,null,null,72,"23"]
[null,null,null,null,null,{"$f":"(K599+P599)+(K600+P600)+(K601+P601)","v":0},null,null,null,null,{"$f":"IF(G599=\"\",\"\",\"1/3\")","v":""},null,null,null,null,{"$f":"IF($F603<>\"\",IF($F603/3>150000,150000,ROUNDDOWN($F603/3,-3)),\"\")","v":0},null,null,null,null,null,null,null,null,null,null,null,null,null,null,null,null,null,72,"23"]
[{"$f":"(50+$B604)-A$72","v":49},null,null,null,null,null,null,null,null,null,null,null,null,null,null,null,null,null,null,null,null,null,null,null,null,null,null,null,null,null,null,null,null,72,"23"]
[50,1,null,null,"事\n業\n場\n24","認証・指定・認定番号\nまたは、整備士合格証書番号",null,null,null,null,null,null,null,null,null,null,null,null,null,null,"以下のいずれかを入力\n・事業場の認証書の認定番号\n・指定書の指定番号\n・事業場に在籍する整備士の整備士合格証書番号",null,null,null,null,null,null,null,null,null,null,null,null,73,"24"]
[50,1,null,null,null,null,null,null,null,null,null,null,null,null,null,null,null,null,null,null,null,null,null,null,null,null,null,null,null,null,null,null,null,73,"24"]
[50,1,null,null,null,null,null,null,null,null,null,null,null,null,null,null,null,null,null,null,null,null,null,null,null,null,null,null,null,null,null,null,null,73,"24"]
[50,1,null,null,null,"設備を設置する事業場名",null,null,null,null,null,null,null,null,null,null,null,null,null,null,"漢字平仮名は全角、英数字は半角で入力して下さい",null,null,null,null,null,null,null,null,null,null,null,null,73,"24"]
[50,1,null,null,null,"事業場住所",null,null,"郵便番号",null,null,null,null,null,"都道府県",null,null,null,null,null,"・郵便番号はハイフンは入れず数字７桁で入力して下さい\n・町名は市区町村欄に入力して下さい\n・丁目、番地の表記はハイフンで入力して下さい\n・番地、建物名称が無い場合は入力不要です",null,null,null,null,null,null,null,null,null,null,null,null,73,"24"]
[50,1,null,null,null,null,null,null,"市区町村",null,null,null,null,null,"番地",null,null,null,null,null,null,null,null,null,null,null,null,null,null,null,null,null,null,73,"24"]
[50,1,null,null,null,null,null,null,"建物名称",null,null,null,null,null,null,null,null,null,null,null,null,null,null,null,null,null,null,null,null,null,null,null,null,73,"24"]
[50,1,null,null,null,"申請\n機器","機器一覧の\n掲載有無",null,"コード\n番号","申請スキャンツール",null,null,null,null,null,null,null,null,null,null,"①申請する機器がホームページ掲載資料の「補助対象機器一覧」に該当するか確認して下さい\n②該当の有無を「機器一覧の掲載有無」のチェックボックスで選択して下さい\n　 ※必要箇所のグレーアウトが解除されます\n【掲載されているを選択した場合】\n　・ホームページ掲載の「補助対象機器一覧」の各ページ左側「交付申請時のコード番号」\n　　（４～５桁の英数字）を確認し「コード番号」に入力して下さい\n　・入力後メーカー名～ソフトのバージョンに申請機器の情報が自動で表示されている事を\n　　確認して下さい\n【掲載されていないを選択した場合】\n　・「申請スキャンツール」に入力欄が表示されますので申請する機器の情報を入力して下さい\n　例：メーカー名●●　型式●●　品番●●　バージョン●●\n③同一事業場で２台申請する際は２台目を空欄にせず上に詰めて入力して下さい",null,null,null,null,null,null,null,null,null,null,null,null,73,"24"]
[50,1,null,null,null,null,null,null,null,"メーカー名",null,null,"名称・型式",null,null,"品　　番",null,null,"ソフトのバージョン",null,null,null,null,null,null,null,null,null,null,null,null,null,null,73,"24"]
[50,1,null,null,null,"１台目","掲載されている　　",null,null,{"$f":"IFERROR(VLOOKUP($I614,補助対象機器一覧0916!$A$1:$E$75,2,FALSE),\"\")","v":""},null,null,{"$f":"IFERROR(VLOOKUP($I614,補助対象機器一覧0916!$A$1:$E$75,3,FALSE),\"\")","v":""},null,null,{"$f":"IFERROR(VLOOKUP($I614,補助対象機器一覧0916!$A$1:$E$75,4,FALSE),\"\")","v":""},null,null,{"$f":"IFERROR(VLOOKUP($I614,補助対象機器一覧0916!$A$1:$E$75,5,FALSE),\"\")","v":""},null,null,null,null,null,null,null,null,null,null,false,null,null,null,73,"24"]
[null,null,null,null,null,null,"掲載されていない ",null,null,null,null,null,null,null,null,null,null,null,null,null,null,null,null,null,null,null,null,null,null,false,null,null,null,73,"24"]
[{"$f":"(50+$B616)-A$72","v":50},1,null,null,null,"２台目","掲載されている　　",null,null,{"$f":"IFERROR(VLOOKUP($I616,補助対象機器一覧0916!$A$1:$E$75,2,FALSE),\"\")","v":""},null,null,{"$f":"IFERROR(VLOOKUP($I616,補助対象機器一覧0916!$A$1:$E$75,3,FALSE),\"\")","v":""},null,null,{"$f":"IFERROR(VLOOKUP($I616,補助対象機器一覧0916!$A$1:$E$75,4,FALSE),\"\")","v":""},null,null,{"$f":"IFERROR(VLOOKUP($I616,補助対象機器一覧0916!$A$1:$E$75,5,FALSE),\"\")","v":""},null,null,null,null,null,null,null,null,null,null,false,null,null,null,73,"24"]
[null,null,null,null,null,null,"掲載されていない ",null,null,null,null,null,null,null,null,null,null,null,null,null,null,null,null,null,null,null,null,null,null,false,null,null,null,73,"24"]
[{"$f":"(50+$B618)-A$72","v":50},1,null,null,null,"３台目","掲載されている　　",null,null,{"$f":"IFERROR(VLOOKUP($I618,補助対象機器一覧0916!$A$1:$E$75,2,FALSE),\"\")","v":""},null,null,{"$f":"IFERROR(VLOOKUP($I618,補助対象機器一覧0916!$A$1:$E$75,3,FALSE),\"\")","v":""},null,null,{"$f":"IFERROR(VLOOKUP($I618,補助対象機器一覧0916!$A$1:$E$75,4,FALSE),\"\")","v":""},null,null,{"$f":"IFERROR(VLOOKUP($I618,補助対象機器一覧0916!$A$1:$E$75,5,FALSE),\"\")","v":""},null,null,null,null,null,null,null,null,null,null,false,null,null,null,73,"24"]
[null,null,null,null,null,null,"掲載されていない ",null,null,null,null,null,null,null,null,null,null,null,null,null,null,null,null,null,null,null,null,null,null,false,null,null,null,73,"24"]
[{"$f":"(50+$B620)-A$72","v":50},1,null,null,null,"申請\n機器","補助事業に要する経費",null,null,null,"スキャンツールの価格",null,null,null,null,"情報端末価格",null,null,null,null,"・「補助事業に要する経費」は補助対象外も含む全ての経費を機器毎に分けて入力して下さい\n・「スキャンツールの価格」は正見積書のスキャンツール単体の価格を機器毎に\n　分けて入力して下さい\n・「情報端末価格」は正見積書の情報端末単体の価格を機器毎に分けて入力して下さい",null,null,null,null,null,null,null,null,null,null,null,null,73,"24"]
[{"$f":"(50+$B621)-A$72","v":50},1,null,null,null,null,null,null,null,null,null,null,null,null,null,null,null,null,null,null,null,null,null,null,null,null,null,null,null,null,null,null,null,73,"24"]
[{"$f":"(50+$B622)-A$72","v":50},1,null,null,null,"１台目",null,null,null,null,null,null,null,null,null,null,null,null,null,null,null,null,null,null,null,null,null,null,null,null,null,{"$f":"G622-SUM(K622:T622)","v":0},null,73,"24"]
[{"$f":"(50+$B623)-A$72","v":50},1,null,null,null,"２台目",null,null,null,null,null,null,null,null,null,null,null,null,null,null,null,null,null,null,null,null,null,null,null,null,null,{"$f":"G623-SUM(K623:T623)","v":0},null,73,"24"]
[{"$f":"(50+$B624)-A$72","v":50},1,null,null,null,"３台目",null,null,null,null,null,null,null,null,null,null,null,null,null,null,null,null,null,null,null,null,null,null,null,null,null,0,null,73,"24"]
[null,null,null,null,null,"補助対象経費",null,null,null,null,"補助率",null,null,null,null,"補助金の額",null,null,null,null,null,null,null,null,null,null,null,null,null,null,null,null,null,73,"24"]
[null,null,null,null,null,{"$f":"(K622+P622)+(K623+P623)+(K624+P624)","v":0},null,null,null,null,{"$f":"IF(G622=\"\",\"\",\"1/3\")","v":""},null,null,null,null,{"$f":"IF($F626<>\"\",IF($F626/3>150000,150000,ROUNDDOWN($F626/3,-3)),\"\")","v":0},null,null,null,null,null,null,null,null,null,null,null,null,null,null,null,null,null,73,"24"]
[{"$f":"(50+$B627)-A$72","v":49},null,null,null,null,null,null,null,null,null,null,null,null,null,null,null,null,null,null,null,null,null,null,null,null,null,null,null,null,null,null,null,null,73,"24"]
[50,1,null,null,"事\n業\n場\n25","認証・指定・認定番号\nまたは、整備士合格証書番号",null,null,null,null,null,null,null,null,null,null,null,null,null,null,"以下のいずれかを入力\n・事業場の認証書の認定番号\n・指定書の指定番号\n・事業場に在籍する整備士の整備士合格証書番号",null,null,null,null,null,null,null,null,null,null,null,null,74,"25"]
[50,1,null,null,null,null,null,null,null,null,null,null,null,null,null,null,null,null,null,null,null,null,null,null,null,null,null,null,null,null,null,null,null,74,"25"]
[50,1,null,null,null,null,null,null,null,null,null,null,null,null,null,null,null,null,null,null,null,null,null,null,null,null,null,null,null,null,null,null,null,74,"25"]
[50,1,null,null,null,"設備を設置する事業場名",null,null,null,null,null,null,null,null,null,null,null,null,null,null,"漢字平仮名は全角、英数字は半角で入力して下さい",null,null,null,null,null,null,null,null,null,null,null,null,74,"25"]
[50,1,null,null,null,"事業場住所",null,null,"郵便番号",null,null,null,null,null,"都道府県",null,null,null,null,null,"・郵便番号はハイフンは入れず数字７桁で入力して下さい\n・町名は市区町村欄に入力して下さい\n・丁目、番地の表記はハイフンで入力して下さい\n・番地、建物名称が無い場合は入力不要です",null,null,null,null,null,null,null,null,null,null,null,null,74,"25"]
[50,1,null,null,null,null,null,null,"市区町村",null,null,null,null,null,"番地",null,null,null,null,null,null,null,null,null,null,null,null,null,null,null,null,null,null,74,"25"]
[50,1,null,null,null,null,null,null,"建物名称",null,null,null,null,null,null,null,null,null,null,null,null,null,null,null,null,null,null,null,null,null,null,null,null,74,"25"]
[50,1,null,null,null,"申請\n機器","機器一覧の\n掲載有無",null,"コード\n番号","申請スキャンツール",null,null,null,null,null,null,null,null,null,null,"①申請する機器がホームページ掲載資料の「補助対象機器一覧」に該当するか確認して下さい\n②該当の有無を「機器一覧の掲載有無」のチェックボックスで選択して下さい\n　 ※必要箇所のグレーアウトが解除されます\n【掲載されているを選択した場合】\n　・ホームページ掲載の「補助対象機器一覧」の各ページ左側「交付申請時のコード番号」\n　　（４～５桁の英数字）を確認し「コード番号」に入力して下さい\n　・入力後メーカー名～ソフトのバージョンに申請機器の情報が自動で表示されている事を\n　　確認して下さい\n【掲載されていないを選択した場合】\n　・「申請スキャンツール」に入力欄が表示されますので申請する機器の情報を入力して下さい\n　例：メーカー名●●　型式●●　品番●●　バージョン●●\n③同一事業場で２台申請する際は２台目を空欄にせず上に詰めて入力して下さい",null,null,null,null,null,null,null,null,null,null,null,null,74,"25"]
[50,1,null,null,null,null,null,null,null,"メーカー名",null,null,"名称・型式",null,null,"品　　番",null,null,"ソフトのバージョン",null,null,null,null,null,null,null,null,null,null,null,null,null,null,74,"25"]
[50,1,null,null,null,"１台目","掲載されている　　",null,null,{"$f":"IFERROR(VLOOKUP($I637,補助対象機器一覧0916!$A$1:$E$75,2,FALSE),\"\")","v":""},null,null,{"$f":"IFERROR(VLOOKUP($I637,補助対象機器一覧0916!$A$1:$E$75,3,FALSE),\"\")","v":""},null,null,{"$f":"IFERROR(VLOOKUP($I637,補助対象機器一覧0916!$A$1:$E$75,4,FALSE),\"\")","v":""},null,null,{"$f":"IFERROR(VLOOKUP($I637,補助対象機器一覧0916!$A$1:$E$75,5,FALSE),\"\")","v":""},null,null,null,null,null,null,null,null,null,null,false,null,null,null,74,"25"]
[null,null,null,null,null,null,"掲載されていない ",null,null,null,null,null,null,null,null,null,null,null,null,null,null,null,null,null,null,null,null,null,null,false,null,null,null,74,"25"]
[{"$f":"(50+$B639)-A$72","v":50},1,null,null,null,"２台目","掲載されている　　",null,null,{"$f":"IFERROR(VLOOKUP($I639,補助対象機器一覧0916!$A$1:$E$75,2,FALSE),\"\")","v":""},null,null,{"$f":"IFERROR(VLOOKUP($I639,補助対象機器一覧0916!$A$1:$E$75,3,FALSE),\"\")","v":""},null,null,{"$f":"IFERROR(VLOOKUP($I639,補助対象機器一覧0916!$A$1:$E$75,4,FALSE),\"\")","v":""},null,null,{"$f":"IFERROR(VLOOKUP($I639,補助対象機器一覧0916!$A$1:$E$75,5,FALSE),\"\")","v":""},null,null,null,null,null,null,null,null,null,null,false,null,null,null,74,"25"]
[null,null,null,null,null,null,"掲載されていない ",null,null,null,null,null,null,null,null,null,null,null,null,null,null,null,null,null,null,null,null,null,null,false,null,null,null,74,"25"]
[{"$f":"(50+$B641)-A$72","v":50},1,null,null,null,"３台目","掲載されている　　",null,null,{"$f":"IFERROR(VLOOKUP($I641,補助対象機器一覧0916!$A$1:$E$75,2,FALSE),\"\")","v":""},null,null,{"$f":"IFERROR(VLOOKUP($I641,補助対象機器一覧0916!$A$1:$E$75,3,FALSE),\"\")","v":""},null,null,{"$f":"IFERROR(VLOOKUP($I641,補助対象機器一覧0916!$A$1:$E$75,4,FALSE),\"\")","v":""},null,null,{"$f":"IFERROR(VLOOKUP($I641,補助対象機器一覧0916!$A$1:$E$75,5,FALSE),\"\")","v":""},null,null,null,null,null,null,null,null,null,null,false,null,null,null,74,"25"]
[null,null,null,null,null,null,"掲載されていない ",null,null,null,null,null,null,null,null,null,null,null,null,null,null,null,null,null,null,null,null,null,null,false,null,null,null,74,"25"]
[{"$f":"(50+$B643)-A$72","v":50},1,null,null,null,"申請\n機器","補助事業に要する経費",null,null,null,"スキャンツールの価格",null,null,null,null,"情報端末価格",null,null,null,null,"・「補助事業に要する経費」は補助対象外も含む全ての経費を機器毎に分けて入力して下さい\n・「スキャンツールの価格」は正見積書のスキャンツール単体の価格を機器毎に\n　分けて入力して下さい\n・「情報端末価格」は正見積書の情報端末単体の価格を機器毎に分けて入力して下さい",null,null,null,null,null,null,null,null,null,null,null,null,74,"25"]
[{"$f":"(50+$B644)-A$72","v":50},1,null,null,null,null,null,null,null,null,null,null,null,null,null,null,null,null,null,null,null,null,null,null,null,null,null,null,null,null,null,null,null,74,"25"]
[{"$f":"(50+$B645)-A$72","v":50},1,null,null,null,"１台目",null,null,null,null,null,null,null,null,null,null,null,null,null,null,null,null,null,null,null,null,null,null,null,null,null,{"$f":"G645-SUM(K645:T645)","v":0},null,74,"25"]
[{"$f":"(50+$B646)-A$72","v":50},1,null,null,null,"２台目",null,null,null,null,null,null,null,null,null,null,null,null,null,null,null,null,null,null,null,null,null,null,null,null,null,{"$f":"G646-SUM(K646:T646)","v":0},null,74,"25"]
[{"$f":"(50+$B647)-A$72","v":50},1,null,null,null,"３台目",null,null,null,null,null,null,null,null,null,null,null,null,null,null,null,null,null,null,null,null,null,null,null,null,null,0,null,74,"25"]
[null,null,null,null,null,"補助対象経費",null,null,null,null,"補助率",null,null,null,null,"補助金の額",null,null,null,null,null,null,null,null,null,null,null,null,null,null,null,null,null,74,"25"]
[null,null,null,null,null,{"$f":"(K645+P645)+(K646+P646)+(K647+P647)","v":0},null,null,null,null,{"$f":"IF(G645=\"\",\"\",\"1/3\")","v":""},null,null,null,null,{"$f":"IF($F649<>\"\",IF($F649/3>150000,150000,ROUNDDOWN($F649/3,-3)),\"\")","v":0},null,null,null,null,null,null,null,null,null,null,null,null,null,null,null,null,null,74,"25"]
[{"$f":"(50+$B650)-A$72","v":49},null,null,null,null,null,null,null,null,null,null,null,null,null,null,null,null,null,null,null,null,null,null,null,null,null,null,null,null,null,null,null,null,74,"25"]
[50,1,null,null,"事\n業\n場\n26","認証・指定・認定番号\nまたは、整備士合格証書番号",null,null,null,null,null,null,null,null,null,null,null,null,null,null,"以下のいずれかを入力\n・事業場の認証書の認定番号\n・指定書の指定番号\n・事業場に在籍する整備士の整備士合格証書番号",null,null,null,null,null,null,null,null,null,null,null,null,75,"26"]
[50,1,null,null,null,null,null,null,null,null,null,null,null,null,null,null,null,null,null,null,null,null,null,null,null,null,null,null,null,null,null,null,null,{"$f":"(50+$AI652)-A$72","v":75},"26"]
[50,1,null,null,null,null,null,null,null,null,null,null,null,null,null,null,null,null,null,null,null,null,null,null,null,null,null,null,null,null,null,null,null,75,"26"]
[50,1,null,null,null,"設備を設置する事業場名",null,null,null,null,null,null,null,null,null,null,null,null,null,null,"漢字平仮名は全角、英数字は半角で入力して下さい",null,null,null,null,null,null,null,null,null,null,null,null,75,"26"]
[50,1,null,null,null,"事業場住所",null,null,"郵便番号",null,null,null,null,null,"都道府県",null,null,null,null,null,"・郵便番号はハイフンは入れず数字７桁で入力して下さい\n・町名は市区町村欄に入力して下さい\n・丁目、番地の表記はハイフンで入力して下さい\n・番地、建物名称が無い場合は入力不要です",null,null,null,null,null,null,null,null,null,null,null,null,75,"26"]
[50,1,null,null,null,null,null,null,"市区町村",null,null,null,null,null,"番地",null,null,null,null,null,null,null,null,null,null,null,null,null,null,null,null,null,null,75,"26"]
[50,1,null,null,null,null,null,null,"建物名称",null,null,null,null,null,null,null,null,null,null,null,null,null,null,null,null,null,null,null,null,null,null,null,null,75,"26"]
[50,1,null,null,null,"申請\n機器","機器一覧の\n掲載有無",null,"コード\n番号","申請スキャンツール",null,null,null,null,null,null,null,null,null,null,"①申請する機器がホームページ掲載資料の「補助対象機器一覧」に該当するか確認して下さい\n②該当の有無を「機器一覧の掲載有無」のチェックボックスで選択して下さい\n　 ※必要箇所のグレーアウトが解除されます\n【掲載されているを選択した場合】\n　・ホームページ掲載の「補助対象機器一覧」の各ページ左側「交付申請時のコード番号」\n　　（４～５桁の英数字）を確認し「コード番号」に入力して下さい\n　・入力後メーカー名～ソフトのバージョンに申請機器の情報が自動で表示されている事を\n　　確認して下さい\n【掲載されていないを選択した場合】\n　・「申請スキャンツール」に入力欄が表示されますので申請する機器の情報を入力して下さい\n　例：メーカー名●●　型式●●　品番●●　バージョン●●\n③同一事業場で２台申請する際は２台目を空欄にせず上に詰めて入力して下さい",null,null,null,null,null,null,null,null,null,null,null,null,75,"26"]
[50,1,null,null,null,null,null,null,null,"メーカー名",null,null,"名称・型式",null,null,"品　　番",null,null,"ソフトのバージョン",null,null,null,null,null,null,null,null,null,null,null,null,null,null,75,"26"]
[50,1,null,null,null,"１台目","掲載されている　　",null,null,{"$f":"IFERROR(VLOOKUP($I660,補助対象機器一覧0916!$A$1:$E$75,2,FALSE),\"\")","v":""},null,null,{"$f":"IFERROR(VLOOKUP($I660,補助対象機器一覧0916!$A$1:$E$75,3,FALSE),\"\")","v":""},null,null,{"$f":"IFERROR(VLOOKUP($I660,補助対象機器一覧0916!$A$1:$E$75,4,FALSE),\"\")","v":""},null,null,{"$f":"IFERROR(VLOOKUP($I660,補助対象機器一覧0916!$A$1:$E$75,5,FALSE),\"\")","v":""},null,null,null,null,null,null,null,null,null,null,false,null,null,null,75,"26"]
[null,null,null,null,null,null,"掲載されていない ",null,null,null,null,null,null,null,null,null,null,null,null,null,null,null,null,null,null,null,null,null,null,false,null,null,null,75,"26"]
[{"$f":"(50+$B662)-A$72","v":50},1,null,null,null,"２台目","掲載されている　　",null,null,{"$f":"IFERROR(VLOOKUP($I662,補助対象機器一覧0916!$A$1:$E$75,2,FALSE),\"\")","v":""},null,null,{"$f":"IFERROR(VLOOKUP($I662,補助対象機器一覧0916!$A$1:$E$75,3,FALSE),\"\")","v":""},null,null,{"$f":"IFERROR(VLOOKUP($I662,補助対象機器一覧0916!$A$1:$E$75,4,FALSE),\"\")","v":""},null,null,{"$f":"IFERROR(VLOOKUP($I662,補助対象機器一覧0916!$A$1:$E$75,5,FALSE),\"\")","v":""},null,null,null,null,null,null,null,null,null,null,false,null,null,null,75,"26"]
[null,null,null,null,null,null,"掲載されていない ",null,null,null,null,null,null,null,null,null,null,null,null,null,null,null,null,null,null,null,null,null,null,false,null,null,null,75,"26"]
[{"$f":"(50+$B664)-A$72","v":50},1,null,null,null,"３台目","掲載されている　　",null,null,{"$f":"IFERROR(VLOOKUP($I664,補助対象機器一覧0916!$A$1:$E$75,2,FALSE),\"\")","v":""},null,null,{"$f":"IFERROR(VLOOKUP($I664,補助対象機器一覧0916!$A$1:$E$75,3,FALSE),\"\")","v":""},null,null,{"$f":"IFERROR(VLOOKUP($I664,補助対象機器一覧0916!$A$1:$E$75,4,FALSE),\"\")","v":""},null,null,{"$f":"IFERROR(VLOOKUP($I664,補助対象機器一覧0916!$A$1:$E$75,5,FALSE),\"\")","v":""},null,null,null,null,null,null,null,null,null,null,false,null,null,null,75,"26"]
[null,null,null,null,null,null,"掲載されていない ",null,null,null,null,null,null,null,null,null,null,null,null,null,null,null,null,null,null,null,null,null,null,false,null,null,null,75,"26"]
[{"$f":"(50+$B666)-A$72","v":50},1,null,null,null,"申請\n機器","補助事業に要する経費",null,null,null,"スキャンツールの価格",null,null,null,null,"情報端末価格",null,null,null,null,"・「補助事業に要する経費」は補助対象外も含む全ての経費を機器毎に分けて入力して下さい\n・「スキャンツールの価格」は正見積書のスキャンツール単体の価格を機器毎に\n　分けて入力して下さい\n・「情報端末価格」は正見積書の情報端末単体の価格を機器毎に分けて入力して下さい",null,null,null,null,null,null,null,null,null,null,null,null,75,"26"]
[{"$f":"(50+$B667)-A$72","v":50},1,null,null,null,null,null,null,null,null,null,null,null,null,null,null,null,null,null,null,null,null,null,null,null,null,null,null,null,null,null,null,null,75,"26"]
[{"$f":"(50+$B668)-A$72","v":50},1,null,null,null,"１台目",null,null,null,null,null,null,null,null,null,null,null,null,null,null,null,null,null,null,null,null,null,null,null,null,null,{"$f":"G668-SUM(K668:T668)","v":0},null,75,"26"]
[{"$f":"(50+$B669)-A$72","v":50},1,null,null,null,"２台目",null,null,null,null,null,null,null,null,null,null,null,null,null,null,null,null,null,null,null,null,null,null,null,null,null,{"$f":"G669-SUM(K669:T669)","v":0},null,75,"26"]
[{"$f":"(50+$B670)-A$72","v":50},1,null,null,null,"３台目",null,null,null,null,null,null,null,null,null,null,null,null,null,null,null,null,null,null,null,null,null,null,null,null,null,0,null,75,"26"]
[null,null,null,null,null,"補助対象経費",null,null,null,null,"補助率",null,null,null,null,"補助金の額",null,null,null,null,null,null,null,null,null,null,null,null,null,null,null,null,null,75,"26"]
[null,null,null,null,null,{"$f":"(K668+P668)+(K669+P669)+(K670+P670)","v":0},null,null,null,null,{"$f":"IF(G668=\"\",\"\",\"1/3\")","v":""},null,null,null,null,{"$f":"IF($F672<>\"\",IF($F672/3>150000,150000,ROUNDDOWN($F672/3,-3)),\"\")","v":0},null,null,null,null,null,null,null,null,null,null,null,null,null,null,null,null,null,75,"26"]
[{"$f":"(50+$B673)-A$72","v":49},null,null,null,null,null,null,null,null,null,null,null,null,null,null,null,null,null,null,null,null,null,null,null,null,null,null,null,null,null,null,null,null,75,"26"]
[50,1,null,null,"事\n業\n場\n27","認証・指定・認定番号\nまたは、整備士合格証書番号",null,null,null,null,null,null,null,null,null,null,null,null,null,null,"以下のいずれかを入力\n・事業場の認証書の認定番号\n・指定書の指定番号\n・事業場に在籍する整備士の整備士合格証書番号",null,null,null,null,null,null,null,null,null,null,null,null,76,"27"]
[50,1,null,null,null,null,null,null,null,null,null,null,null,null,null,null,null,null,null,null,null,null,null,null,null,null,null,null,null,null,null,null,null,76,"27"]
[50,1,null,null,null,null,null,null,null,null,null,null,null,null,null,null,null,null,null,null,null,null,null,null,null,null,null,null,null,null,null,null,null,76,"27"]
[50,1,null,null,null,"設備を設置する事業場名",null,null,null,null,null,null,null,null,null,null,null,null,null,null,"漢字平仮名は全角、英数字は半角で入力して下さい",null,null,null,null,null,null,null,null,null,null,null,null,76,"27"]
[50,1,null,null,null,"事業場住所",null,null,"郵便番号",null,null,null,null,null,"都道府県",null,null,null,null,null,"・郵便番号はハイフンは入れず数字７桁で入力して下さい\n・町名は市区町村欄に入力して下さい\n・丁目、番地の表記はハイフンで入力して下さい\n・番地、建物名称が無い場合は入力不要です",null,null,null,null,null,null,null,null,null,null,null,null,76,"27"]
[50,1,null,null,null,null,null,null,"市区町村",null,null,null,null,null,"番地",null,null,null,null,null,null,null,null,null,null,null,null,null,null,null,null,null,null,76,"27"]
[50,1,null,null,null,null,null,null,"建物名称",null,null,null,null,null,null,null,null,null,null,null,null,null,null,null,null,null,null,null,null,null,null,null,null,76,"27"]
[50,1,null,null,null,"申請\n機器","機器一覧の\n掲載有無",null,"コード\n番号","申請スキャンツール",null,null,null,null,null,null,null,null,null,null,"①申請する機器がホームページ掲載資料の「補助対象機器一覧」に該当するか確認して下さい\n②該当の有無を「機器一覧の掲載有無」のチェックボックスで選択して下さい\n　 ※必要箇所のグレーアウトが解除されます\n【掲載されているを選択した場合】\n　・ホームページ掲載の「補助対象機器一覧」の各ページ左側「交付申請時のコード番号」\n　　（４～５桁の英数字）を確認し「コード番号」に入力して下さい\n　・入力後メーカー名～ソフトのバージョンに申請機器の情報が自動で表示されている事を\n　　確認して下さい\n【掲載されていないを選択した場合】\n　・「申請スキャンツール」に入力欄が表示されますので申請する機器の情報を入力して下さい\n　例：メーカー名●●　型式●●　品番●●　バージョン●●\n③同一事業場で２台申請する際は２台目を空欄にせず上に詰めて入力して下さい",null,null,null,null,null,null,null,null,null,null,null,null,76,"27"]
[50,1,null,null,null,null,null,null,null,"メーカー名",null,null,"名称・型式",null,null,"品　　番",null,null,"ソフトのバージョン",null,null,null,null,null,null,null,null,null,null,null,null,null,null,76,"27"]
[50,1,null,null,null,"１台目","掲載されている　　",null,null,{"$f":"IFERROR(VLOOKUP($I683,補助対象機器一覧0916!$A$1:$E$75,2,FALSE),\"\")","v":""},null,null,{"$f":"IFERROR(VLOOKUP($I683,補助対象機器一覧0916!$A$1:$E$75,3,FALSE),\"\")","v":""},null,null,{"$f":"IFERROR(VLOOKUP($I683,補助対象機器一覧0916!$A$1:$E$75,4,FALSE),\"\")","v":""},null,null,{"$f":"IFERROR(VLOOKUP($I683,補助対象機器一覧0916!$A$1:$E$75,5,FALSE),\"\")","v":""},null,null,null,null,null,null,null,null,null,null,false,null,null,null,76,"27"]
[null,null,null,null,null,null,"掲載されていない ",null,null,null,null,null,null,null,null,null,null,null,null,null,null,null,null,null,null,null,null,null,null,false,null,null,null,76,"27"]
[{"$f":"(50+$B685)-A$72","v":50},1,null,null,null,"２台目","掲載されている　　",null,null,{"$f":"IFERROR(VLOOKUP($I685,補助対象機器一覧0916!$A$1:$E$75,2,FALSE),\"\")","v":""},null,null,{"$f":"IFERROR(VLOOKUP($I685,補助対象機器一覧0916!$A$1:$E$75,3,FALSE),\"\")","v":""},null,null,{"$f":"IFERROR(VLOOKUP($I685,補助対象機器一覧0916!$A$1:$E$75,4,FALSE),\"\")","v":""},null,null,{"$f":"IFERROR(VLOOKUP($I685,補助対象機器一覧0916!$A$1:$E$75,5,FALSE),\"\")","v":""},null,null,null,null,null,null,null,null,null,null,false,null,null,null,76,"27"]
[null,null,null,null,null,null,"掲載されていない ",null,null,null,null,null,null,null,null,null,null,null,null,null,null,null,null,null,null,null,null,null,null,false,null,null,null,76,"27"]
[{"$f":"(50+$B687)-A$72","v":50},1,null,null,null,"３台目","掲載されている　　",null,null,{"$f":"IFERROR(VLOOKUP($I687,補助対象機器一覧0916!$A$1:$E$75,2,FALSE),\"\")","v":""},null,null,{"$f":"IFERROR(VLOOKUP($I687,補助対象機器一覧0916!$A$1:$E$75,3,FALSE),\"\")","v":""},null,null,{"$f":"IFERROR(VLOOKUP($I687,補助対象機器一覧0916!$A$1:$E$75,4,FALSE),\"\")","v":""},null,null,{"$f":"IFERROR(VLOOKUP($I687,補助対象機器一覧0916!$A$1:$E$75,5,FALSE),\"\")","v":""},null,null,null,null,null,null,null,null,null,null,false,null,null,null,76,"27"]
[null,null,null,null,null,null,"掲載されていない ",null,null,null,null,null,null,null,null,null,null,null,null,null,null,null,null,null,null,null,null,null,null,false,null,null,null,76,"27"]
[{"$f":"(50+$B689)-A$72","v":50},1,null,null,null,"申請\n機器","補助事業に要する経費",null,null,null,"スキャンツールの価格",null,null,null,null,"情報端末価格",null,null,null,null,"・「補助事業に要する経費」は補助対象外も含む全ての経費を機器毎に分けて入力して下さい\n・「スキャンツールの価格」は正見積書のスキャンツール単体の価格を機器毎に\n　分けて入力して下さい\n・「情報端末価格」は正見積書の情報端末単体の価格を機器毎に分けて入力して下さい",null,null,null,null,null,null,null,null,null,null,null,null,76,"27"]
[{"$f":"(50+$B690)-A$72","v":50},1,null,null,null,null,null,null,null,null,null,null,null,null,null,null,null,null,null,null,null,null,null,null,null,null,null,null,null,null,null,null,null,76,"27"]
[{"$f":"(50+$B691)-A$72","v":50},1,null,null,null,"１台目",null,null,null,null,null,null,null,null,null,null,null,null,null,null,null,null,null,null,null,null,null,null,null,null,null,{"$f":"G691-SUM(K691:T691)","v":0},null,76,"27"]
[{"$f":"(50+$B692)-A$72","v":50},1,null,null,null,"２台目",null,null,null,null,null,null,null,null,null,null,null,null,null,null,null,null,null,null,null,null,null,null,null,null,null,{"$f":"G692-SUM(K692:T692)","v":0},null,76,"27"]
[{"$f":"(50+$B693)-A$72","v":50},1,null,null,null,"３台目",null,null,null,null,null,null,null,null,null,null,null,null,null,null,null,null,null,null,null,null,null,null,null,null,null,0,null,76,"27"]
[null,null,null,null,null,"補助対象経費",null,null,null,null,"補助率",null,null,null,null,"補助金の額",null,null,null,null,null,null,null,null,null,null,null,null,null,null,null,null,null,76,"27"]
[null,null,null,null,null,{"$f":"(K691+P691)+(K692+P692)+(K693+P693)","v":0},null,null,null,null,{"$f":"IF(G691=\"\",\"\",\"1/3\")","v":""},null,null,null,null,{"$f":"IF($F695<>\"\",IF($F695/3>150000,150000,ROUNDDOWN($F695/3,-3)),\"\")","v":0},null,null,null,null,null,null,null,null,null,null,null,null,null,null,null,null,null,76,"27"]
[{"$f":"(50+$B696)-A$72","v":49},null,null,null,null,null,null,null,null,null,null,null,null,null,null,null,null,null,null,null,null,null,null,null,null,null,null,null,null,null,null,null,null,76,"27"]
[50,1,null,null,"事\n業\n場\n28","認証・指定・認定番号\nまたは、整備士合格証書番号",null,null,null,null,null,null,null,null,null,null,null,null,null,null,"以下のいずれかを入力\n・事業場の認証書の認定番号\n・指定書の指定番号\n・事業場に在籍する整備士の整備士合格証書番号",null,null,null,null,null,null,null,null,null,null,null,null,77,"28"]
[50,1,null,null,null,null,null,null,null,null,null,null,null,null,null,null,null,null,null,null,null,null,null,null,null,null,null,null,null,null,null,null,null,77,"28"]
[50,1,null,null,null,null,null,null,null,null,null,null,null,null,null,null,null,null,null,null,null,null,null,null,null,null,null,null,null,null,null,null,null,77,"28"]
[50,1,null,null,null,"設備を設置する事業場名",null,null,null,null,null,null,null,null,null,null,null,null,null,null,"漢字平仮名は全角、英数字は半角で入力して下さい",null,null,null,null,null,null,null,null,null,null,null,null,77,"28"]
[50,1,null,null,null,"事業場住所",null,null,"郵便番号",null,null,null,null,null,"都道府県",null,null,null,null,null,"・郵便番号はハイフンは入れず数字７桁で入力して下さい\n・町名は市区町村欄に入力して下さい\n・丁目、番地の表記はハイフンで入力して下さい\n・番地、建物名称が無い場合は入力不要です",null,null,null,null,null,null,null,null,null,null,null,null,77,"28"]
[50,1,null,null,null,null,null,null,"市区町村",null,null,null,null,null,"番地",null,null,null,null,null,null,null,null,null,null,null,null,null,null,null,null,null,null,77,"28"]
[50,1,null,null,null,null,null,null,"建物名称",null,null,null,null,null,null,null,null,null,null,null,null,null,null,null,null,null,null,null,null,null,null,null,null,77,"28"]
[50,1,null,null,null,"申請\n機器","機器一覧の\n掲載有無",null,"コード\n番号","申請スキャンツール",null,null,null,null,null,null,null,null,null,null,"①申請する機器がホームページ掲載資料の「補助対象機器一覧」に該当するか確認して下さい\n②該当の有無を「機器一覧の掲載有無」のチェックボックスで選択して下さい\n　 ※必要箇所のグレーアウトが解除されます\n【掲載されているを選択した場合】\n　・ホームページ掲載の「補助対象機器一覧」の各ページ左側「交付申請時のコード番号」\n　　（４～５桁の英数字）を確認し「コード番号」に入力して下さい\n　・入力後メーカー名～ソフトのバージョンに申請機器の情報が自動で表示されている事を\n　　確認して下さい\n【掲載されていないを選択した場合】\n　・「申請スキャンツール」に入力欄が表示されますので申請する機器の情報を入力して下さい\n　例：メーカー名●●　型式●●　品番●●　バージョン●●\n③同一事業場で２台申請する際は２台目を空欄にせず上に詰めて入力して下さい",null,null,null,null,null,null,null,null,null,null,null,null,77,"28"]
[50,1,null,null,null,null,null,null,null,"メーカー名",null,null,"名称・型式",null,null,"品　　番",null,null,"ソフトのバージョン",null,null,null,null,null,null,null,null,null,null,null,null,null,null,77,"28"]
[50,1,null,null,null,"１台目","掲載されている　　",null,null,{"$f":"IFERROR(VLOOKUP($I706,補助対象機器一覧0916!$A$1:$E$75,2,FALSE),\"\")","v":""},null,null,{"$f":"IFERROR(VLOOKUP($I706,補助対象機器一覧0916!$A$1:$E$75,3,FALSE),\"\")","v":""},null,null,{"$f":"IFERROR(VLOOKUP($I706,補助対象機器一覧0916!$A$1:$E$75,4,FALSE),\"\")","v":""},null,null,{"$f":"IFERROR(VLOOKUP($I706,補助対象機器一覧0916!$A$1:$E$75,5,FALSE),\"\")","v":""},null,null,null,null,null,null,null,null,null,null,false,null,null,null,77,"28"]
[null,null,null,null,null,null,"掲載されていない ",null,null,null,null,null,null,null,null,null,null,null,null,null,null,null,null,null,null,null,null,null,null,false,null,null,null,77,"28"]
[{"$f":"(50+$B708)-A$72","v":50},1,null,null,null,"２台目","掲載されている　　",null,null,{"$f":"IFERROR(VLOOKUP($I708,補助対象機器一覧0916!$A$1:$E$75,2,FALSE),\"\")","v":""},null,null,{"$f":"IFERROR(VLOOKUP($I708,補助対象機器一覧0916!$A$1:$E$75,3,FALSE),\"\")","v":""},null,null,{"$f":"IFERROR(VLOOKUP($I708,補助対象機器一覧0916!$A$1:$E$75,4,FALSE),\"\")","v":""},null,null,{"$f":"IFERROR(VLOOKUP($I708,補助対象機器一覧0916!$A$1:$E$75,5,FALSE),\"\")","v":""},null,null,null,null,null,null,null,null,null,null,false,null,null,null,77,"28"]
[null,null,null,null,null,null,"掲載されていない ",null,null,null,null,null,null,null,null,null,null,null,null,null,null,null,null,null,null,null,null,null,null,false,null,null,null,77,"28"]
[{"$f":"(50+$B710)-A$72","v":50},1,null,null,null,"３台目","掲載されている　　",null,null,{"$f":"IFERROR(VLOOKUP($I710,補助対象機器一覧0916!$A$1:$E$75,2,FALSE),\"\")","v":""},null,null,{"$f":"IFERROR(VLOOKUP($I710,補助対象機器一覧0916!$A$1:$E$75,3,FALSE),\"\")","v":""},null,null,{"$f":"IFERROR(VLOOKUP($I710,補助対象機器一覧0916!$A$1:$E$75,4,FALSE),\"\")","v":""},null,null,{"$f":"IFERROR(VLOOKUP($I710,補助対象機器一覧0916!$A$1:$E$75,5,FALSE),\"\")","v":""},null,null,null,null,null,null,null,null,null,null,false,null,null,null,77,"28"]
[null,null,null,null,null,null,"掲載されていない ",null,null,null,null,null,null,null,null,null,null,null,null,null,null,null,null,null,null,null,null,null,null,false,null,null,null,77,"28"]
[{"$f":"(50+$B712)-A$72","v":50},1,null,null,null,"申請\n機器","補助事業に要する経費",null,null,null,"スキャンツールの価格",null,null,null,null,"情報端末価格",null,null,null,null,"・「補助事業に要する経費」は補助対象外も含む全ての経費を機器毎に分けて入力して下さい\n・「スキャンツールの価格」は正見積書のスキャンツール単体の価格を機器毎に\n　分けて入力して下さい\n・「情報端末価格」は正見積書の情報端末単体の価格を機器毎に分けて入力して下さい",null,null,null,null,null,null,null,null,null,null,null,null,77,"28"]
[{"$f":"(50+$B713)-A$72","v":50},1,null,null,null,null,null,null,null,null,null,null,null,null,null,null,null,null,null,null,null,null,null,null,null,null,null,null,null,null,null,null,null,77,"28"]
[{"$f":"(50+$B714)-A$72","v":50},1,null,null,null,"１台目",null,null,null,null,null,null,null,null,null,null,null,null,null,null,null,null,null,null,null,null,null,null,null,null,null,{"$f":"G714-SUM(K714:T714)","v":0},null,77,"28"]
[{"$f":"(50+$B715)-A$72","v":50},1,null,null,null,"２台目",null,null,null,null,null,null,null,null,null,null,null,null,null,null,null,null,null,null,null,null,null,null,null,null,null,{"$f":"G715-SUM(K715:T715)","v":0},null,77,"28"]
[{"$f":"(50+$B716)-A$72","v":50},1,null,null,null,"３台目",null,null,null,null,null,null,null,null,null,null,null,null,null,null,null,null,null,null,null,null,null,null,null,null,null,0,null,{"$f":"(50+$AI716)-A$72","v":77},"28"]
[null,null,null,null,null,"補助対象経費",null,null,null,null,"補助率",null,null,null,null,"補助金の額",null,null,null,null,null,null,null,null,null,null,null,null,null,null,null,null,null,77,"28"]
[null,null,null,null,null,{"$f":"(K714+P714)+(K715+P715)+(K716+P716)","v":0},null,null,null,null,{"$f":"IF(G714=\"\",\"\",\"1/3\")","v":""},null,null,null,null,{"$f":"IF($F718<>\"\",IF($F718/3>150000,150000,ROUNDDOWN($F718/3,-3)),\"\")","v":0},null,null,null,null,null,null,null,null,null,null,null,null,null,null,null,null,null,77,"28"]
[{"$f":"(50+$B719)-A$72","v":49},null,null,null,null,null,null,null,null,null,null,null,null,null,null,null,null,null,null,null,null,null,null,null,null,null,null,null,null,null,null,null,null,77,"28"]
[50,1,null,null,"事\n業\n場\n29","認証・指定・認定番号\nまたは、整備士合格証書番号",null,null,null,null,null,null,null,null,null,null,null,null,null,null,"以下のいずれかを入力\n・事業場の認証書の認定番号\n・指定書の指定番号\n・事業場に在籍する整備士の整備士合格証書番号",null,null,null,null,null,null,null,null,null,null,null,null,78,"29"]
[50,1,null,null,null,null,null,null,null,null,null,null,null,null,null,null,null,null,null,null,null,null,null,null,null,null,null,null,null,null,null,null,null,78,"29"]
[50,1,null,null,null,null,null,null,null,null,null,null,null,null,null,null,null,null,null,null,null,null,null,null,null,null,null,null,null,null,null,null,null,78,"29"]
[50,1,null,null,null,"設備を設置する事業場名",null,null,null,null,null,null,null,null,null,null,null,null,null,null,"漢字平仮名は全角、英数字は半角で入力して下さい",null,null,null,null,null,null,null,null,null,null,null,null,78,"29"]
[50,1,null,null,null,"事業場住所",null,null,"郵便番号",null,null,null,null,null,"都道府県",null,null,null,null,null,"・郵便番号はハイフンは入れず数字７桁で入力して下さい\n・町名は市区町村欄に入力して下さい\n・丁目、番地の表記はハイフンで入力して下さい\n・番地、建物名称が無い場合は入力不要です",null,null,null,null,null,null,null,null,null,null,null,null,78,"29"]
[50,1,null,null,null,null,null,null,"市区町村",null,null,null,null,null,"番地",null,null,null,null,null,null,null,null,null,null,null,null,null,null,null,null,null,null,78,"29"]
[50,1,null,null,null,null,null,null,"建物名称",null,null,null,null,null,null,null,null,null,null,null,null,null,null,null,null,null,null,null,null,null,null,null,null,78,"29"]
[50,1,null,null,null,"申請\n機器","機器一覧の\n掲載有無",null,"コード\n番号","申請スキャンツール",null,null,null,null,null,null,null,null,null,null,"①申請する機器がホームページ掲載資料の「補助対象機器一覧」に該当するか確認して下さい\n②該当の有無を「機器一覧の掲載有無」のチェックボックスで選択して下さい\n　 ※必要箇所のグレーアウトが解除されます\n【掲載されているを選択した場合】\n　・ホームページ掲載の「補助対象機器一覧」の各ページ左側「交付申請時のコード番号」\n　　（４～５桁の英数字）を確認し「コード番号」に入力して下さい\n　・入力後メーカー名～ソフトのバージョンに申請機器の情報が自動で表示されている事を\n　　確認して下さい\n【掲載されていないを選択した場合】\n　・「申請スキャンツール」に入力欄が表示されますので申請する機器の情報を入力して下さい\n　例：メーカー名●●　型式●●　品番●●　バージョン●●\n③同一事業場で２台申請する際は２台目を空欄にせず上に詰めて入力して下さい",null,null,null,null,null,null,null,null,null,null,null,null,78,"29"]
[50,1,null,null,null,null,null,null,null,"メーカー名",null,null,"名称・型式",null,null,"品　　番",null,null,"ソフトのバージョン",null,null,null,null,null,null,null,null,null,null,null,null,null,null,78,"29"]
[50,1,null,null,null,"１台目","掲載されている　　",null,null,{"$f":"IFERROR(VLOOKUP($I729,補助対象機器一覧0916!$A$1:$E$75,2,FALSE),\"\")","v":""},null,null,{"$f":"IFERROR(VLOOKUP($I729,補助対象機器一覧0916!$A$1:$E$75,3,FALSE),\"\")","v":""},null,null,{"$f":"IFERROR(VLOOKUP($I729,補助対象機器一覧0916!$A$1:$E$75,4,FALSE),\"\")","v":""},null,null,{"$f":"IFERROR(VLOOKUP($I729,補助対象機器一覧0916!$A$1:$E$75,5,FALSE),\"\")","v":""},null,null,null,null,null,null,null,null,null,null,false,null,null,null,78,"29"]
[null,null,null,null,null,null,"掲載されていない ",null,null,null,null,null,null,null,null,null,null,null,null,null,null,null,null,null,null,null,null,null,null,false,null,null,null,78,"29"]
[{"$f":"(50+$B731)-A$72","v":50},1,null,null,null,"２台目","掲載されている　　",null,null,{"$f":"IFERROR(VLOOKUP($I731,補助対象機器一覧0916!$A$1:$E$75,2,FALSE),\"\")","v":""},null,null,{"$f":"IFERROR(VLOOKUP($I731,補助対象機器一覧0916!$A$1:$E$75,3,FALSE),\"\")","v":""},null,null,{"$f":"IFERROR(VLOOKUP($I731,補助対象機器一覧0916!$A$1:$E$75,4,FALSE),\"\")","v":""},null,null,{"$f":"IFERROR(VLOOKUP($I731,補助対象機器一覧0916!$A$1:$E$75,5,FALSE),\"\")","v":""},null,null,null,null,null,null,null,null,null,null,false,null,null,null,78,"29"]
[null,null,null,null,null,null,"掲載されていない ",null,null,null,null,null,null,null,null,null,null,null,null,null,null,null,null,null,null,null,null,null,null,false,null,null,null,78,"29"]
[{"$f":"(50+$B733)-A$72","v":50},1,null,null,null,"３台目","掲載されている　　",null,null,{"$f":"IFERROR(VLOOKUP($I733,補助対象機器一覧0916!$A$1:$E$75,2,FALSE),\"\")","v":""},null,null,{"$f":"IFERROR(VLOOKUP($I733,補助対象機器一覧0916!$A$1:$E$75,3,FALSE),\"\")","v":""},null,null,{"$f":"IFERROR(VLOOKUP($I733,補助対象機器一覧0916!$A$1:$E$75,4,FALSE),\"\")","v":""},null,null,{"$f":"IFERROR(VLOOKUP($I733,補助対象機器一覧0916!$A$1:$E$75,5,FALSE),\"\")","v":""},null,null,null,null,null,null,null,null,null,null,false,null,null,null,78,"29"]
[null,null,null,null,null,null,"掲載されていない ",null,null,null,null,null,null,null,null,null,null,null,null,null,null,null,null,null,null,null,null,null,null,false,null,null,null,78,"29"]
[{"$f":"(50+$B735)-A$72","v":50},1,null,null,null,"申請\n機器","補助事業に要する経費",null,null,null,"スキャンツールの価格",null,null,null,null,"情報端末価格",null,null,null,null,"・「補助事業に要する経費」は補助対象外も含む全ての経費を機器毎に分けて入力して下さい\n・「スキャンツールの価格」は正見積書のスキャンツール単体の価格を機器毎に\n　分けて入力して下さい\n・「情報端末価格」は正見積書の情報端末単体の価格を機器毎に分けて入力して下さい",null,null,null,null,null,null,null,null,null,null,null,null,78,"29"]
[{"$f":"(50+$B736)-A$72","v":50},1,null,null,null,null,null,null,null,null,null,null,null,null,null,null,null,null,null,null,null,null,null,null,null,null,null,null,null,null,null,null,null,78,"29"]
[{"$f":"(50+$B737)-A$72","v":50},1,null,null,null,"１台目",null,null,null,null,null,null,null,null,null,null,null,null,null,null,null,null,null,null,null,null,null,null,null,null,null,{"$f":"G737-SUM(K737:T737)","v":0},null,78,"29"]
[{"$f":"(50+$B738)-A$72","v":50},1,null,null,null,"２台目",null,null,null,null,null,null,null,null,null,null,null,null,null,null,null,null,null,null,null,null,null,null,null,null,null,{"$f":"G738-SUM(K738:T738)","v":0},null,78,"29"]
[{"$f":"(50+$B739)-A$72","v":50},1,null,null,null,"３台目",null,null,null,null,null,null,null,null,null,null,null,null,null,null,null,null,null,null,null,null,null,null,null,null,null,0,null,78,"29"]
[null,null,null,null,null,"補助対象経費",null,null,null,null,"補助率",null,null,null,null,"補助金の額",null,null,null,null,null,null,null,null,null,null,null,null,null,null,null,null,null,78,"29"]
[null,null,null,null,null,{"$f":"(K737+P737)+(K738+P738)+(K739+P739)","v":0},null,null,null,null,{"$f":"IF(G737=\"\",\"\",\"1/3\")","v":""},null,null,null,null,{"$f":"IF($F741<>\"\",IF($F741/3>150000,150000,ROUNDDOWN($F741/3,-3)),\"\")","v":0},null,null,null,null,null,null,null,null,null,null,null,null,null,null,null,null,null,78,"29"]
[{"$f":"(50+$B742)-A$72","v":49},null,null,null,null,null,null,null,null,null,null,null,null,null,null,null,null,null,null,null,null,null,null,null,null,null,null,null,null,null,null,null,null,78,"29"]
[50,1,null,null,"事\n業\n場\n30","認証・指定・認定番号\nまたは、整備士合格証書番号",null,null,null,null,null,null,null,null,null,null,null,null,null,null,"以下のいずれかを入力\n・事業場の認証書の認定番号\n・指定書の指定番号\n・事業場に在籍する整備士の整備士合格証書番号",null,null,null,null,null,null,null,null,null,null,null,null,79,"30"]
[50,1,null,null,null,null,null,null,null,null,null,null,null,null,null,null,null,null,null,null,null,null,null,null,null,null,null,null,null,null,null,null,null,79,"30"]
[50,1,null,null,null,null,null,null,null,null,null,null,null,null,null,null,null,null,null,null,null,null,null,null,null,null,null,null,null,null,null,null,null,79,"30"]
[50,1,null,null,null,"設備を設置する事業場名",null,null,null,null,null,null,null,null,null,null,null,null,null,null,"漢字平仮名は全角、英数字は半角で入力して下さい",null,null,null,null,null,null,null,null,null,null,null,null,79,"30"]
[50,1,null,null,null,"事業場住所",null,null,"郵便番号",null,null,null,null,null,"都道府県",null,null,null,null,null,"・郵便番号はハイフンは入れず数字７桁で入力して下さい\n・町名は市区町村欄に入力して下さい\n・丁目、番地の表記はハイフンで入力して下さい\n・番地、建物名称が無い場合は入力不要です",null,null,null,null,null,null,null,null,null,null,null,null,79,"30"]
[50,1,null,null,null,null,null,null,"市区町村",null,null,null,null,null,"番地",null,null,null,null,null,null,null,null,null,null,null,null,null,null,null,null,null,null,79,"30"]
[50,1,null,null,null,null,null,null,"建物名称",null,null,null,null,null,null,null,null,null,null,null,null,null,null,null,null,null,null,null,null,null,null,null,null,79,"30"]
[50,1,null,null,null,"申請\n機器","機器一覧の\n掲載有無",null,"コード\n番号","申請スキャンツール",null,null,null,null,null,null,null,null,null,null,"①申請する機器がホームページ掲載資料の「補助対象機器一覧」に該当するか確認して下さい\n②該当の有無を「機器一覧の掲載有無」のチェックボックスで選択して下さい\n　 ※必要箇所のグレーアウトが解除されます\n【掲載されているを選択した場合】\n　・ホームページ掲載の「補助対象機器一覧」の各ページ左側「交付申請時のコード番号」\n　　（４～５桁の英数字）を確認し「コード番号」に入力して下さい\n　・入力後メーカー名～ソフトのバージョンに申請機器の情報が自動で表示されている事を\n　　確認して下さい\n【掲載されていないを選択した場合】\n　・「申請スキャンツール」に入力欄が表示されますので申請する機器の情報を入力して下さい\n　例：メーカー名●●　型式●●　品番●●　バージョン●●\n③同一事業場で２台申請する際は２台目を空欄にせず上に詰めて入力して下さい",null,null,null,null,null,null,null,null,null,null,null,null,79,"30"]
[50,1,null,null,null,null,null,null,null,"メーカー名",null,null,"名称・型式",null,null,"品　　番",null,null,"ソフトのバージョン",null,null,null,null,null,null,null,null,null,null,null,null,null,null,79,"30"]
[50,1,null,null,null,"１台目","掲載されている　　",null,null,{"$f":"IFERROR(VLOOKUP($I752,補助対象機器一覧0916!$A$1:$E$75,2,FALSE),\"\")","v":""},null,null,{"$f":"IFERROR(VLOOKUP($I752,補助対象機器一覧0916!$A$1:$E$75,3,FALSE),\"\")","v":""},null,null,{"$f":"IFERROR(VLOOKUP($I752,補助対象機器一覧0916!$A$1:$E$75,4,FALSE),\"\")","v":""},null,null,{"$f":"IFERROR(VLOOKUP($I752,補助対象機器一覧0916!$A$1:$E$75,5,FALSE),\"\")","v":""},null,null,null,null,null,null,null,null,null,null,false,null,null,null,79,"30"]
[null,null,null,null,null,null,"掲載されていない ",null,null,null,null,null,null,null,null,null,null,null,null,null,null,null,null,null,null,null,null,null,null,false,null,null,null,79,"30"]
[{"$f":"(50+$B754)-A$72","v":50},1,null,null,null,"２台目","掲載されている　　",null,null,{"$f":"IFERROR(VLOOKUP($I754,補助対象機器一覧0916!$A$1:$E$75,2,FALSE),\"\")","v":""},null,null,{"$f":"IFERROR(VLOOKUP($I754,補助対象機器一覧0916!$A$1:$E$75,3,FALSE),\"\")","v":""},null,null,{"$f":"IFERROR(VLOOKUP($I754,補助対象機器一覧0916!$A$1:$E$75,4,FALSE),\"\")","v":""},null,null,{"$f":"IFERROR(VLOOKUP($I754,補助対象機器一覧0916!$A$1:$E$75,5,FALSE),\"\")","v":""},null,null,null,null,null,null,null,null,null,null,false,null,null,null,79,"30"]
[null,null,null,null,null,null,"掲載されていない ",null,null,null,null,null,null,null,null,null,null,null,null,null,null,null,null,null,null,null,null,null,null,false,null,null,null,79,"30"]
[{"$f":"(50+$B756)-A$72","v":50},1,null,null,null,"３台目","掲載されている　　",null,null,{"$f":"IFERROR(VLOOKUP($I756,補助対象機器一覧0916!$A$1:$E$75,2,FALSE),\"\")","v":""},null,null,{"$f":"IFERROR(VLOOKUP($I756,補助対象機器一覧0916!$A$1:$E$75,3,FALSE),\"\")","v":""},null,null,{"$f":"IFERROR(VLOOKUP($I756,補助対象機器一覧0916!$A$1:$E$75,4,FALSE),\"\")","v":""},null,null,{"$f":"IFERROR(VLOOKUP($I756,補助対象機器一覧0916!$A$1:$E$75,5,FALSE),\"\")","v":""},null,null,null,null,null,null,null,null,null,null,false,null,null,null,79,"30"]
[null,null,null,null,null,null,"掲載されていない ",null,null,null,null,null,null,null,null,null,null,null,null,null,null,null,null,null,null,null,null,null,null,false,null,null,null,79,"30"]
[{"$f":"(50+$B758)-A$72","v":50},1,null,null,null,"申請\n機器","補助事業に要する経費",null,null,null,"スキャンツールの価格",null,null,null,null,"情報端末価格",null,null,null,null,"・「補助事業に要する経費」は補助対象外も含む全ての経費を機器毎に分けて入力して下さい\n・「スキャンツールの価格」は正見積書のスキャンツール単体の価格を機器毎に\n　分けて入力して下さい\n・「情報端末価格」は正見積書の情報端末単体の価格を機器毎に分けて入力して下さい",null,null,null,null,null,null,null,null,null,null,null,null,79,"30"]
[{"$f":"(50+$B759)-A$72","v":50},1,null,null,null,null,null,null,null,null,null,null,null,null,null,null,null,null,null,null,null,null,null,null,null,null,null,null,null,null,null,null,null,79,"30"]
[{"$f":"(50+$B760)-A$72","v":50},1,null,null,null,"１台目",null,null,null,null,null,null,null,null,null,null,null,null,null,null,null,null,null,null,null,null,null,null,null,null,null,{"$f":"G760-SUM(K760:T760)","v":0},null,79,"30"]
[{"$f":"(50+$B761)-A$72","v":50},1,null,null,null,"２台目",null,null,null,null,null,null,null,null,null,null,null,null,null,null,null,null,null,null,null,null,null,null,null,null,null,{"$f":"G761-SUM(K761:T761)","v":0},null,79,"30"]
[{"$f":"(50+$B762)-A$72","v":50},1,null,null,null,"３台目",null,null,null,null,null,null,null,null,null,null,null,null,null,null,null,null,null,null,null,null,null,null,null,null,null,0,null,79,"30"]
[null,null,null,null,null,"補助対象経費",null,null,null,null,"補助率",null,null,null,null,"補助金の額",null,null,null,null,null,null,null,null,null,null,null,null,null,null,null,null,null,79,"30"]
[null,null,null,null,null,{"$f":"(K760+P760)+(K761+P761)+(K762+P762)","v":0},null,null,null,null,{"$f":"IF(G760=\"\",\"\",\"1/3\")","v":""},null,null,null,null,{"$f":"IF($F764<>\"\",IF($F764/3>150000,150000,ROUNDDOWN($F764/3,-3)),\"\")","v":0},null,null,null,null,null,null,null,null,null,null,null,null,null,null,null,null,null,79,"30"]
[{"$f":"(50+$B765)-A$72","v":49},null,null,null,null,null,null,null,null,null,null,null,null,null,null,null,null,null,null,null,null,null,null,null,null,null,null,null,null,null,null,null,null,79,"30"]
[50,1,null,null,"事\n業\n場\n31","認証・指定・認定番号\nまたは、整備士合格証書番号",null,null,null,null,null,null,null,null,null,null,null,null,null,null,"以下のいずれかを入力\n・事業場の認証書の認定番号\n・指定書の指定番号\n・事業場に在籍する整備士の整備士合格証書番号",null,null,null,null,null,null,null,null,null,null,null,null,80,"31",{"$f":"SUM($G783:$J785+$G806:$J808+$G829:$J831+$G852:$J854+$G875:$J877+$G898:$J900+$G921:$J923+$G944:$J946+$G967:$J969+G990:J992)","v":0},{"$f":"$F787+$F810+$F833+$F856+$F879+$F902+$F925+$F948+$F971+$F994","v":0},{"$f":"$P787+$P810+$P833+$P856+$P879+$P902+$P925+$P948+$P971+$P994","v":0}]
[50,1,null,null,null,null,null,null,null,null,null,null,null,null,null,null,null,null,null,null,null,null,null,null,null,null,null,null,null,null,null,null,null,80,"31"]
[50,1,null,null,null,null,null,null,null,null,null,null,null,null,null,null,null,null,null,null,null,null,null,null,null,null,null,null,null,null,null,null,null,80,"31"]
[50,1,null,null,null,"設備を設置する事業場名",null,null,null,null,null,null,null,null,null,null,null,null,null,null,"漢字平仮名は全角、英数字は半角で入力して下さい",null,null,null,null,null,null,null,null,null,null,null,null,80,"31"]
[50,1,null,null,null,"事業場住所",null,null,"郵便番号",null,null,null,null,null,"都道府県",null,null,null,null,null,"・郵便番号はハイフンは入れず数字７桁で入力して下さい\n・町名は市区町村欄に入力して下さい\n・丁目、番地の表記はハイフンで入力して下さい\n・番地、建物名称が無い場合は入力不要です",null,null,null,null,null,null,null,null,null,null,null,null,80,"31"]
[50,1,null,null,null,null,null,null,"市区町村",null,null,null,null,null,"番地",null,null,null,null,null,null,null,null,null,null,null,null,null,null,null,null,null,null,80,"31"]
[50,1,null,null,null,null,null,null,"建物名称",null,null,null,null,null,null,null,null,null,null,null,null,null,null,null,null,null,null,null,null,null,null,null,null,80,"31"]
[50,1,null,null,null,"申請\n機器","機器一覧の\n掲載有無",null,"コード\n番号","申請スキャンツール",null,null,null,null,null,null,null,null,null,null,"①申請する機器がホームページ掲載資料の「補助対象機器一覧」に該当するか確認して下さい\n②該当の有無を「機器一覧の掲載有無」のチェックボックスで選択して下さい\n　 ※必要箇所のグレーアウトが解除されます\n【掲載されているを選択した場合】\n　・ホームページ掲載の「補助対象機器一覧」の各ページ左側「交付申請時のコード番号」\n　　（４～５桁の英数字）を確認し「コード番号」に入力して下さい\n　・入力後メーカー名～ソフトのバージョンに申請機器の情報が自動で表示されている事を\n　　確認して下さい\n【掲載されていないを選択した場合】\n　・「申請スキャンツール」に入力欄が表示されますので申請する機器の情報を入力して下さい\n　例：メーカー名●●　型式●●　品番●●　バージョン●●\n③同一事業場で２台申請する際は２台目を空欄にせず上に詰めて入力して下さい",null,null,null,null,null,null,null,null,null,null,null,null,80,"31"]
[50,1,null,null,null,null,null,null,null,"メーカー名",null,null,"名称・型式",null,null,"品　　番",null,null,"ソフトのバージョン",null,null,null,null,null,null,null,null,null,null,null,null,null,null,80,"31"]
[50,1,null,null,null,"１台目","掲載されている　　",null,null,{"$f":"IFERROR(VLOOKUP($I775,補助対象機器一覧0916!$A$1:$E$75,2,FALSE),\"\")","v":""},null,null,{"$f":"IFERROR(VLOOKUP($I775,補助対象機器一覧0916!$A$1:$E$75,3,FALSE),\"\")","v":""},null,null,{"$f":"IFERROR(VLOOKUP($I775,補助対象機器一覧0916!$A$1:$E$75,4,FALSE),\"\")","v":""},null,null,{"$f":"IFERROR(VLOOKUP($I775,補助対象機器一覧0916!$A$1:$E$75,5,FALSE),\"\")","v":""},null,null,null,null,null,null,null,null,null,null,false,null,null,null,80,"31"]
[null,null,null,null,null,null,"掲載されていない ",null,null,null,null,null,null,null,null,null,null,null,null,null,null,null,null,null,null,null,null,null,null,false,null,null,null,80,"31"]
[{"$f":"(50+$B777)-A$72","v":50},1,null,null,null,"２台目","掲載されている　　",null,null,{"$f":"IFERROR(VLOOKUP($I777,補助対象機器一覧0916!$A$1:$E$75,2,FALSE),\"\")","v":""},null,null,{"$f":"IFERROR(VLOOKUP($I777,補助対象機器一覧0916!$A$1:$E$75,3,FALSE),\"\")","v":""},null,null,{"$f":"IFERROR(VLOOKUP($I777,補助対象機器一覧0916!$A$1:$E$75,4,FALSE),\"\")","v":""},null,null,{"$f":"IFERROR(VLOOKUP($I777,補助対象機器一覧0916!$A$1:$E$75,5,FALSE),\"\")","v":""},null,null,null,null,null,null,null,null,null,null,false,null,null,null,80,"31"]
[null,null,null,null,null,null,"掲載されていない ",null,null,null,null,null,null,null,null,null,null,null,null,null,null,null,null,null,null,null,null,null,null,false,null,null,null,80,"31"]
[{"$f":"(50+$B779)-A$72","v":50},1,null,null,null,"３台目","掲載されている　　",null,null,{"$f":"IFERROR(VLOOKUP($I779,補助対象機器一覧0916!$A$1:$E$75,2,FALSE),\"\")","v":""},null,null,{"$f":"IFERROR(VLOOKUP($I779,補助対象機器一覧0916!$A$1:$E$75,3,FALSE),\"\")","v":""},null,null,{"$f":"IFERROR(VLOOKUP($I779,補助対象機器一覧0916!$A$1:$E$75,4,FALSE),\"\")","v":""},null,null,{"$f":"IFERROR(VLOOKUP($I779,補助対象機器一覧0916!$A$1:$E$75,5,FALSE),\"\")","v":""},null,null,null,null,null,null,null,null,null,null,false,null,null,null,80,"31"]
[null,null,null,null,null,null,"掲載されていない ",null,null,null,null,null,null,null,null,null,null,null,null,null,null,null,null,null,null,null,null,null,null,false,null,null,null,{"$f":"(50+$AI780)-A$72","v":80},"31"]
[{"$f":"(50+$B781)-A$72","v":50},1,null,null,null,"申請\n機器","補助事業に要する経費",null,null,null,"スキャンツールの価格",null,null,null,null,"情報端末価格",null,null,null,null,"・「補助事業に要する経費」は補助対象外も含む全ての経費を機器毎に分けて入力して下さい\n・「スキャンツールの価格」は正見積書のスキャンツール単体の価格を機器毎に\n　分けて入力して下さい\n・「情報端末価格」は正見積書の情報端末単体の価格を機器毎に分けて入力して下さい",null,null,null,null,null,null,null,null,null,null,null,null,80,"31"]
[{"$f":"(50+$B782)-A$72","v":50},1,null,null,null,null,null,null,null,null,null,null,null,null,null,null,null,null,null,null,null,null,null,null,null,null,null,null,null,null,null,null,null,80,"31"]
[{"$f":"(50+$B783)-A$72","v":50},1,null,null,null,"１台目",null,null,null,null,null,null,null,null,null,null,null,null,null,null,null,null,null,null,null,null,null,null,null,null,null,{"$f":"G783-SUM(K783:T783)","v":0},null,80,"31"]
[{"$f":"(50+$B784)-A$72","v":50},1,null,null,null,"２台目",null,null,null,null,null,null,null,null,null,null,null,null,null,null,null,null,null,null,null,null,null,null,null,null,null,{"$f":"G784-SUM(K784:T784)","v":0},null,80,"31"]
[{"$f":"(50+$B785)-A$72","v":50},1,null,null,null,"３台目",null,null,null,null,null,null,null,null,null,null,null,null,null,null,null,null,null,null,null,null,null,null,null,null,null,0,null,80,"31"]
[null,null,null,null,null,"補助対象経費",null,null,null,null,"補助率",null,null,null,null,"補助金の額",null,null,null,null,null,null,null,null,null,null,null,null,null,null,null,null,null,80,"31"]
[null,null,null,null,null,{"$f":"(K783+P783)+(K784+P784)+(K785+P785)","v":0},null,null,null,null,{"$f":"IF(G783=\"\",\"\",\"1/3\")","v":""},null,null,null,null,{"$f":"IF($F787<>\"\",IF($F787/3>150000,150000,ROUNDDOWN($F787/3,-3)),\"\")","v":0},null,null,null,null,null,null,null,null,null,null,null,null,null,null,null,null,null,80,"31"]
[{"$f":"(50+$B788)-A$72","v":49},null,null,null,null,null,null,null,null,null,null,null,null,null,null,null,null,null,null,null,null,null,null,null,null,null,null,null,null,null,null,null,null,80,"31"]
[50,1,null,null,"事\n業\n場\n32","認証・指定・認定番号\nまたは、整備士合格証書番号",null,null,null,null,null,null,null,null,null,null,null,null,null,null,"以下のいずれかを入力\n・事業場の認証書の認定番号\n・指定書の指定番号\n・事業場に在籍する整備士の整備士合格証書番号",null,null,null,null,null,null,null,null,null,null,null,null,81,"32"]
[50,1,null,null,null,null,null,null,null,null,null,null,null,null,null,null,null,null,null,null,null,null,null,null,null,null,null,null,null,null,null,null,null,81,"32"]
[50,1,null,null,null,null,null,null,null,null,null,null,null,null,null,null,null,null,null,null,null,null,null,null,null,null,null,null,null,null,null,null,null,81,"32"]
[50,1,null,null,null,"設備を設置する事業場名",null,null,null,null,null,null,null,null,null,null,null,null,null,null,"漢字平仮名は全角、英数字は半角で入力して下さい",null,null,null,null,null,null,null,null,null,null,null,null,81,"32"]
[50,1,null,null,null,"事業場住所",null,null,"郵便番号",null,null,null,null,null,"都道府県",null,null,null,null,null,"・郵便番号はハイフンは入れず数字７桁で入力して下さい\n・町名は市区町村欄に入力して下さい\n・丁目、番地の表記はハイフンで入力して下さい\n・番地、建物名称が無い場合は入力不要です",null,null,null,null,null,null,null,null,null,null,null,null,81,"32"]
[50,1,null,null,null,null,null,null,"市区町村",null,null,null,null,null,"番地",null,null,null,null,null,null,null,null,null,null,null,null,null,null,null,null,null,null,81,"32"]
[50,1,null,null,null,null,null,null,"建物名称",null,null,null,null,null,null,null,null,null,null,null,null,null,null,null,null,null,null,null,null,null,null,null,null,81,"32"]
[50,1,null,null,null,"申請\n機器","機器一覧の\n掲載有無",null,"コード\n番号","申請スキャンツール",null,null,null,null,null,null,null,null,null,null,"①申請する機器がホームページ掲載資料の「補助対象機器一覧」に該当するか確認して下さい\n②該当の有無を「機器一覧の掲載有無」のチェックボックスで選択して下さい\n　 ※必要箇所のグレーアウトが解除されます\n【掲載されているを選択した場合】\n　・ホームページ掲載の「補助対象機器一覧」の各ページ左側「交付申請時のコード番号」\n　　（４～５桁の英数字）を確認し「コード番号」に入力して下さい\n　・入力後メーカー名～ソフトのバージョンに申請機器の情報が自動で表示されている事を\n　　確認して下さい\n【掲載されていないを選択した場合】\n　・「申請スキャンツール」に入力欄が表示されますので申請する機器の情報を入力して下さい\n　例：メーカー名●●　型式●●　品番●●　バージョン●●\n③同一事業場で２台申請する際は２台目を空欄にせず上に詰めて入力して下さい",null,null,null,null,null,null,null,null,null,null,null,null,81,"32"]
[50,1,null,null,null,null,null,null,null,"メーカー名",null,null,"名称・型式",null,null,"品　　番",null,null,"ソフトのバージョン",null,null,null,null,null,null,null,null,null,null,null,null,null,null,81,"32"]
[50,1,null,null,null,"１台目","掲載されている　　",null,null,{"$f":"IFERROR(VLOOKUP($I798,補助対象機器一覧0916!$A$1:$E$75,2,FALSE),\"\")","v":""},null,null,{"$f":"IFERROR(VLOOKUP($I798,補助対象機器一覧0916!$A$1:$E$75,3,FALSE),\"\")","v":""},null,null,{"$f":"IFERROR(VLOOKUP($I798,補助対象機器一覧0916!$A$1:$E$75,4,FALSE),\"\")","v":""},null,null,{"$f":"IFERROR(VLOOKUP($I798,補助対象機器一覧0916!$A$1:$E$75,5,FALSE),\"\")","v":""},null,null,null,null,null,null,null,null,null,null,false,null,null,null,81,"32"]
[null,null,null,null,null,null,"掲載されていない ",null,null,null,null,null,null,null,null,null,null,null,null,null,null,null,null,null,null,null,null,null,null,false,null,null,null,81,"32"]
[{"$f":"(50+$B800)-A$72","v":50},1,null,null,null,"２台目","掲載されている　　",null,null,{"$f":"IFERROR(VLOOKUP($I800,補助対象機器一覧0916!$A$1:$E$75,2,FALSE),\"\")","v":""},null,null,{"$f":"IFERROR(VLOOKUP($I800,補助対象機器一覧0916!$A$1:$E$75,3,FALSE),\"\")","v":""},null,null,{"$f":"IFERROR(VLOOKUP($I800,補助対象機器一覧0916!$A$1:$E$75,4,FALSE),\"\")","v":""},null,null,{"$f":"IFERROR(VLOOKUP($I800,補助対象機器一覧0916!$A$1:$E$75,5,FALSE),\"\")","v":""},null,null,null,null,null,null,null,null,null,null,false,null,null,null,81,"32"]
[null,null,null,null,null,null,"掲載されていない ",null,null,null,null,null,null,null,null,null,null,null,null,null,null,null,null,null,null,null,null,null,null,false,null,null,null,81,"32"]
[{"$f":"(50+$B802)-A$72","v":50},1,null,null,null,"３台目","掲載されている　　",null,null,{"$f":"IFERROR(VLOOKUP($I802,補助対象機器一覧0916!$A$1:$E$75,2,FALSE),\"\")","v":""},null,null,{"$f":"IFERROR(VLOOKUP($I802,補助対象機器一覧0916!$A$1:$E$75,3,FALSE),\"\")","v":""},null,null,{"$f":"IFERROR(VLOOKUP($I802,補助対象機器一覧0916!$A$1:$E$75,4,FALSE),\"\")","v":""},null,null,{"$f":"IFERROR(VLOOKUP($I802,補助対象機器一覧0916!$A$1:$E$75,5,FALSE),\"\")","v":""},null,null,null,null,null,null,null,null,null,null,false,null,null,null,81,"32"]
[null,null,null,null,null,null,"掲載されていない ",null,null,null,null,null,null,null,null,null,null,null,null,null,null,null,null,null,null,null,null,null,null,false,null,null,null,81,"32"]
[{"$f":"(50+$B804)-A$72","v":50},1,null,null,null,"申請\n機器","補助事業に要する経費",null,null,null,"スキャンツールの価格",null,null,null,null,"情報端末価格",null,null,null,null,"・「補助事業に要する経費」は補助対象外も含む全ての経費を機器毎に分けて入力して下さい\n・「スキャンツールの価格」は正見積書のスキャンツール単体の価格を機器毎に\n　分けて入力して下さい\n・「情報端末価格」は正見積書の情報端末単体の価格を機器毎に分けて入力して下さい",null,null,null,null,null,null,null,null,null,null,null,null,81,"32"]
[{"$f":"(50+$B805)-A$72","v":50},1,null,null,null,null,null,null,null,null,null,null,null,null,null,null,null,null,null,null,null,null,null,null,null,null,null,null,null,null,null,null,null,81,"32"]
[{"$f":"(50+$B806)-A$72","v":50},1,null,null,null,"１台目",null,null,null,null,null,null,null,null,null,null,null,null,null,null,null,null,null,null,null,null,null,null,null,null,null,{"$f":"G806-SUM(K806:T806)","v":0},null,81,"32"]
[{"$f":"(50+$B807)-A$72","v":50},1,null,null,null,"２台目",null,null,null,null,null,null,null,null,null,null,null,null,null,null,null,null,null,null,null,null,null,null,null,null,null,{"$f":"G807-SUM(K807:T807)","v":0},null,81,"32"]
[{"$f":"(50+$B808)-A$72","v":50},1,null,null,null,"３台目",null,null,null,null,null,null,null,null,null,null,null,null,null,null,null,null,null,null,null,null,null,null,null,null,null,0,null,81,"32"]
[null,null,null,null,null,"補助対象経費",null,null,null,null,"補助率",null,null,null,null,"補助金の額",null,null,null,null,null,null,null,null,null,null,null,null,null,null,null,null,null,81,"32"]
[null,null,null,null,null,{"$f":"(K806+P806)+(K807+P807)+(K808+P808)","v":0},null,null,null,null,{"$f":"IF(G806=\"\",\"\",\"1/3\")","v":""},null,null,null,null,{"$f":"IF($F810<>\"\",IF($F810/3>150000,150000,ROUNDDOWN($F810/3,-3)),\"\")","v":0},null,null,null,null,null,null,null,null,null,null,null,null,null,null,null,null,null,81,"32"]
[{"$f":"(50+$B811)-A$72","v":49},null,null,null,null,null,null,null,null,null,null,null,null,null,null,null,null,null,null,null,null,null,null,null,null,null,null,null,null,null,null,null,null,81,32]
[50,1,null,null,"事\n業\n場\n33","認証・指定・認定番号\nまたは、整備士合格証書番号",null,null,null,null,null,null,null,null,null,null,null,null,null,null,"以下のいずれかを入力\n・事業場の認証書の認定番号\n・指定書の指定番号\n・事業場に在籍する整備士の整備士合格証書番号",null,null,null,null,null,null,null,null,null,null,null,null,82,"33"]
[50,1,null,null,null,null,null,null,null,null,null,null,null,null,null,null,null,null,null,null,null,null,null,null,null,null,null,null,null,null,null,null,null,82,"33"]
[50,1,null,null,null,null,null,null,null,null,null,null,null,null,null,null,null,null,null,null,null,null,null,null,null,null,null,null,null,null,null,null,null,82,"33"]
[50,1,null,null,null,"設備を設置する事業場名",null,null,null,null,null,null,null,null,null,null,null,null,null,null,"漢字平仮名は全角、英数字は半角で入力して下さい",null,null,null,null,null,null,null,null,null,null,null,null,82,"33"]
[50,1,null,null,null,"事業場住所",null,null,"郵便番号",null,null,null,null,null,"都道府県",null,null,null,null,null,"・郵便番号はハイフンは入れず数字７桁で入力して下さい\n・町名は市区町村欄に入力して下さい\n・丁目、番地の表記はハイフンで入力して下さい\n・番地、建物名称が無い場合は入力不要です",null,null,null,null,null,null,null,null,null,null,null,null,82,"33"]
[50,1,null,null,null,null,null,null,"市区町村",null,null,null,null,null,"番地",null,null,null,null,null,null,null,null,null,null,null,null,null,null,null,null,null,null,82,"33"]
[50,1,null,null,null,null,null,null,"建物名称",null,null,null,null,null,null,null,null,null,null,null,null,null,null,null,null,null,null,null,null,null,null,null,null,82,"33"]
[50,1,null,null,null,"申請\n機器","機器一覧の\n掲載有無",null,"コード\n番号","申請スキャンツール",null,null,null,null,null,null,null,null,null,null,"①申請する機器がホームページ掲載資料の「補助対象機器一覧」に該当するか確認して下さい\n②該当の有無を「機器一覧の掲載有無」のチェックボックスで選択して下さい\n　 ※必要箇所のグレーアウトが解除されます\n【掲載されているを選択した場合】\n　・ホームページ掲載の「補助対象機器一覧」の各ページ左側「交付申請時のコード番号」\n　　（４～５桁の英数字）を確認し「コード番号」に入力して下さい\n　・入力後メーカー名～ソフトのバージョンに申請機器の情報が自動で表示されている事を\n　　確認して下さい\n【掲載されていないを選択した場合】\n　・「申請スキャンツール」に入力欄が表示されますので申請する機器の情報を入力して下さい\n　例：メーカー名●●　型式●●　品番●●　バージョン●●\n③同一事業場で２台申請する際は２台目を空欄にせず上に詰めて入力して下さい",null,null,null,null,null,null,null,null,null,null,null,null,82,"33"]
[50,1,null,null,null,null,null,null,null,"メーカー名",null,null,"名称・型式",null,null,"品　　番",null,null,"ソフトのバージョン",null,null,null,null,null,null,null,null,null,null,null,null,null,null,82,"33"]
[50,1,null,null,null,"１台目","掲載されている　　",null,null,{"$f":"IFERROR(VLOOKUP($I821,補助対象機器一覧0916!$A$1:$E$75,2,FALSE),\"\")","v":""},null,null,{"$f":"IFERROR(VLOOKUP($I821,補助対象機器一覧0916!$A$1:$E$75,3,FALSE),\"\")","v":""},null,null,{"$f":"IFERROR(VLOOKUP($I821,補助対象機器一覧0916!$A$1:$E$75,4,FALSE),\"\")","v":""},null,null,{"$f":"IFERROR(VLOOKUP($I821,補助対象機器一覧0916!$A$1:$E$75,5,FALSE),\"\")","v":""},null,null,null,null,null,null,null,null,null,null,false,null,null,null,82,"33"]
[null,null,null,null,null,null,"掲載されていない ",null,null,null,null,null,null,null,null,null,null,null,null,null,null,null,null,null,null,null,null,null,null,false,null,null,null,82,"33"]
[{"$f":"(50+$B823)-A$72","v":50},1,null,null,null,"２台目","掲載されている　　",null,null,{"$f":"IFERROR(VLOOKUP($I823,補助対象機器一覧0916!$A$1:$E$75,2,FALSE),\"\")","v":""},null,null,{"$f":"IFERROR(VLOOKUP($I823,補助対象機器一覧0916!$A$1:$E$75,3,FALSE),\"\")","v":""},null,null,{"$f":"IFERROR(VLOOKUP($I823,補助対象機器一覧0916!$A$1:$E$75,4,FALSE),\"\")","v":""},null,null,{"$f":"IFERROR(VLOOKUP($I823,補助対象機器一覧0916!$A$1:$E$75,5,FALSE),\"\")","v":""},null,null,null,null,null,null,null,null,null,null,false,null,null,null,82,"33"]
[null,null,null,null,null,null,"掲載されていない ",null,null,null,null,null,null,null,null,null,null,null,null,null,null,null,null,null,null,null,null,null,null,false,null,null,null,82,"33"]
[{"$f":"(50+$B825)-A$72","v":50},1,null,null,null,"３台目","掲載されている　　",null,null,{"$f":"IFERROR(VLOOKUP($I825,補助対象機器一覧0916!$A$1:$E$75,2,FALSE),\"\")","v":""},null,null,{"$f":"IFERROR(VLOOKUP($I825,補助対象機器一覧0916!$A$1:$E$75,3,FALSE),\"\")","v":""},null,null,{"$f":"IFERROR(VLOOKUP($I825,補助対象機器一覧0916!$A$1:$E$75,4,FALSE),\"\")","v":""},null,null,{"$f":"IFERROR(VLOOKUP($I825,補助対象機器一覧0916!$A$1:$E$75,5,FALSE),\"\")","v":""},null,null,null,null,null,null,null,null,null,null,false,null,null,null,82,"33"]
[null,null,null,null,null,null,"掲載されていない ",null,null,null,null,null,null,null,null,null,null,null,null,null,null,null,null,null,null,null,null,null,null,false,null,null,null,82,"33"]
[{"$f":"(50+$B827)-A$72","v":50},1,null,null,null,"申請\n機器","補助事業に要する経費",null,null,null,"スキャンツールの価格",null,null,null,null,"情報端末価格",null,null,null,null,"・「補助事業に要する経費」は補助対象外も含む全ての経費を機器毎に分けて入力して下さい\n・「スキャンツールの価格」は正見積書のスキャンツール単体の価格を機器毎に\n　分けて入力して下さい\n・「情報端末価格」は正見積書の情報端末単体の価格を機器毎に分けて入力して下さい",null,null,null,null,null,null,null,null,null,null,null,null,82,"33"]
[{"$f":"(50+$B828)-A$72","v":50},1,null,null,null,null,null,null,null,null,null,null,null,null,null,null,null,null,null,null,null,null,null,null,null,null,null,null,null,null,null,null,null,82,"33"]
[{"$f":"(50+$B829)-A$72","v":50},1,null,null,null,"１台目",null,null,null,null,null,null,null,null,null,null,null,null,null,null,null,null,null,null,null,null,null,null,null,null,null,{"$f":"G829-SUM(K829:T829)","v":0},null,82,"33"]
[{"$f":"(50+$B830)-A$72","v":50},1,null,null,null,"２台目",null,null,null,null,null,null,null,null,null,null,null,null,null,null,null,null,null,null,null,null,null,null,null,null,null,{"$f":"G830-SUM(K830:T830)","v":0},null,82,"33"]
[{"$f":"(50+$B831)-A$72","v":50},1,null,null,null,"３台目",null,null,null,null,null,null,null,null,null,null,null,null,null,null,null,null,null,null,null,null,null,null,null,null,null,0,null,82,"33"]
[null,null,null,null,null,"補助対象経費",null,null,null,null,"補助率",null,null,null,null,"補助金の額",null,null,null,null,null,null,null,null,null,null,null,null,null,null,null,null,null,82,"33"]
[null,null,null,null,null,{"$f":"(K829+P829)+(K830+P830)+(K831+P831)","v":0},null,null,null,null,{"$f":"IF(G829=\"\",\"\",\"1/3\")","v":""},null,null,null,null,{"$f":"IF($F833<>\"\",IF($F833/3>150000,150000,ROUNDDOWN($F833/3,-3)),\"\")","v":0},null,null,null,null,null,null,null,null,null,null,null,null,null,null,null,null,null,82,"33"]
[{"$f":"(50+$B834)-A$72","v":49},null,null,null,null,null,null,null,null,null,null,null,null,null,null,null,null,null,null,null,null,null,null,null,null,null,null,null,null,null,null,null,null,82,"33"]
[50,1,null,null,"事\n業\n場\n34","認証・指定・認定番号\nまたは、整備士合格証書番号",null,null,null,null,null,null,null,null,null,null,null,null,null,null,"以下のいずれかを入力\n・事業場の認証書の認定番号\n・指定書の指定番号\n・事業場に在籍する整備士の整備士合格証書番号",null,null,null,null,null,null,null,null,null,null,null,null,83,"34"]
[50,1,null,null,null,null,null,null,null,null,null,null,null,null,null,null,null,null,null,null,null,null,null,null,null,null,null,null,null,null,null,null,null,83,"34"]
[50,1,null,null,null,null,null,null,null,null,null,null,null,null,null,null,null,null,null,null,null,null,null,null,null,null,null,null,null,null,null,null,null,83,"34"]
[50,1,null,null,null,"設備を設置する事業場名",null,null,null,null,null,null,null,null,null,null,null,null,null,null,"漢字平仮名は全角、英数字は半角で入力して下さい",null,null,null,null,null,null,null,null,null,null,null,null,83,"34"]
[50,1,null,null,null,"事業場住所",null,null,"郵便番号",null,null,null,null,null,"都道府県",null,null,null,null,null,"・郵便番号はハイフンは入れず数字７桁で入力して下さい\n・町名は市区町村欄に入力して下さい\n・丁目、番地の表記はハイフンで入力して下さい\n・番地、建物名称が無い場合は入力不要です",null,null,null,null,null,null,null,null,null,null,null,null,83,"34"]
[50,1,null,null,null,null,null,null,"市区町村",null,null,null,null,null,"番地",null,null,null,null,null,null,null,null,null,null,null,null,null,null,null,null,null,null,83,"34"]
[50,1,null,null,null,null,null,null,"建物名称",null,null,null,null,null,null,null,null,null,null,null,null,null,null,null,null,null,null,null,null,null,null,null,null,83,"34"]
[50,1,null,null,null,"申請\n機器","機器一覧の\n掲載有無",null,"コード\n番号","申請スキャンツール",null,null,null,null,null,null,null,null,null,null,"①申請する機器がホームページ掲載資料の「補助対象機器一覧」に該当するか確認して下さい\n②該当の有無を「機器一覧の掲載有無」のチェックボックスで選択して下さい\n　 ※必要箇所のグレーアウトが解除されます\n【掲載されているを選択した場合】\n　・ホームページ掲載の「補助対象機器一覧」の各ページ左側「交付申請時のコード番号」\n　　（４～５桁の英数字）を確認し「コード番号」に入力して下さい\n　・入力後メーカー名～ソフトのバージョンに申請機器の情報が自動で表示されている事を\n　　確認して下さい\n【掲載されていないを選択した場合】\n　・「申請スキャンツール」に入力欄が表示されますので申請する機器の情報を入力して下さい\n　例：メーカー名●●　型式●●　品番●●　バージョン●●\n③同一事業場で２台申請する際は２台目を空欄にせず上に詰めて入力して下さい",null,null,null,null,null,null,null,null,null,null,null,null,83,"34"]
[50,1,null,null,null,null,null,null,null,"メーカー名",null,null,"名称・型式",null,null,"品　　番",null,null,"ソフトのバージョン",null,null,null,null,null,null,null,null,null,null,null,null,null,null,83,"34"]
[50,1,null,null,null,"１台目","掲載されている　　",null,null,{"$f":"IFERROR(VLOOKUP($I844,補助対象機器一覧0916!$A$1:$E$75,2,FALSE),\"\")","v":""},null,null,{"$f":"IFERROR(VLOOKUP($I844,補助対象機器一覧0916!$A$1:$E$75,3,FALSE),\"\")","v":""},null,null,{"$f":"IFERROR(VLOOKUP($I844,補助対象機器一覧0916!$A$1:$E$75,4,FALSE),\"\")","v":""},null,null,{"$f":"IFERROR(VLOOKUP($I844,補助対象機器一覧0916!$A$1:$E$75,5,FALSE),\"\")","v":""},null,null,null,null,null,null,null,null,null,null,false,null,null,null,{"$f":"(50+$AI844)-A$72","v":83},"34"]
[null,null,null,null,null,null,"掲載されていない ",null,null,null,null,null,null,null,null,null,null,null,null,null,null,null,null,null,null,null,null,null,null,false,null,null,null,83,"34"]
[{"$f":"(50+$B846)-A$72","v":50},1,null,null,null,"２台目","掲載されている　　",null,null,{"$f":"IFERROR(VLOOKUP($I846,補助対象機器一覧0916!$A$1:$E$75,2,FALSE),\"\")","v":""},null,null,{"$f":"IFERROR(VLOOKUP($I846,補助対象機器一覧0916!$A$1:$E$75,3,FALSE),\"\")","v":""},null,null,{"$f":"IFERROR(VLOOKUP($I846,補助対象機器一覧0916!$A$1:$E$75,4,FALSE),\"\")","v":""},null,null,{"$f":"IFERROR(VLOOKUP($I846,補助対象機器一覧0916!$A$1:$E$75,5,FALSE),\"\")","v":""},null,null,null,null,null,null,null,null,null,null,false,null,null,null,83,"34"]
[null,null,null,null,null,null,"掲載されていない ",null,null,null,null,null,null,null,null,null,null,null,null,null,null,null,null,null,null,null,null,null,null,false,null,null,null,83,"34"]
[{"$f":"(50+$B848)-A$72","v":50},1,null,null,null,"３台目","掲載されている　　",null,null,{"$f":"IFERROR(VLOOKUP($I848,補助対象機器一覧0916!$A$1:$E$75,2,FALSE),\"\")","v":""},null,null,{"$f":"IFERROR(VLOOKUP($I848,補助対象機器一覧0916!$A$1:$E$75,3,FALSE),\"\")","v":""},null,null,{"$f":"IFERROR(VLOOKUP($I848,補助対象機器一覧0916!$A$1:$E$75,4,FALSE),\"\")","v":""},null,null,{"$f":"IFERROR(VLOOKUP($I848,補助対象機器一覧0916!$A$1:$E$75,5,FALSE),\"\")","v":""},null,null,null,null,null,null,null,null,null,null,false,null,null,null,83,"34"]
[null,null,null,null,null,null,"掲載されていない ",null,null,null,null,null,null,null,null,null,null,null,null,null,null,null,null,null,null,null,null,null,null,false,null,null,null,83,"34"]
[{"$f":"(50+$B850)-A$72","v":50},1,null,null,null,"申請\n機器","補助事業に要する経費",null,null,null,"スキャンツールの価格",null,null,null,null,"情報端末価格",null,null,null,null,"・「補助事業に要する経費」は補助対象外も含む全ての経費を機器毎に分けて入力して下さい\n・「スキャンツールの価格」は正見積書のスキャンツール単体の価格を機器毎に\n　分けて入力して下さい\n・「情報端末価格」は正見積書の情報端末単体の価格を機器毎に分けて入力して下さい",null,null,null,null,null,null,null,null,null,null,null,null,83,"34"]
[{"$f":"(50+$B851)-A$72","v":50},1,null,null,null,null,null,null,null,null,null,null,null,null,null,null,null,null,null,null,null,null,null,null,null,null,null,null,null,null,null,null,null,83,"34"]
[{"$f":"(50+$B852)-A$72","v":50},1,null,null,null,"１台目",null,null,null,null,null,null,null,null,null,null,null,null,null,null,null,null,null,null,null,null,null,null,null,null,null,{"$f":"G852-SUM(K852:T852)","v":0},null,83,"34"]
[{"$f":"(50+$B853)-A$72","v":50},1,null,null,null,"２台目",null,null,null,null,null,null,null,null,null,null,null,null,null,null,null,null,null,null,null,null,null,null,null,null,null,{"$f":"G853-SUM(K853:T853)","v":0},null,83,"34"]
[{"$f":"(50+$B854)-A$72","v":50},1,null,null,null,"３台目",null,null,null,null,null,null,null,null,null,null,null,null,null,null,null,null,null,null,null,null,null,null,null,null,null,0,null,83,"34"]
[null,null,null,null,null,"補助対象経費",null,null,null,null,"補助率",null,null,null,null,"補助金の額",null,null,null,null,null,null,null,null,null,null,null,null,null,null,null,null,null,83,"34"]
[null,null,null,null,null,{"$f":"(K852+P852)+(K853+P853)+(K854+P854)","v":0},null,null,null,null,{"$f":"IF(G852=\"\",\"\",\"1/3\")","v":""},null,null,null,null,{"$f":"IF($F856<>\"\",IF($F856/3>150000,150000,ROUNDDOWN($F856/3,-3)),\"\")","v":0},null,null,null,null,null,null,null,null,null,null,null,null,null,null,null,null,null,83,"34"]
[{"$f":"(50+$B857)-A$72","v":49},null,null,null,null,null,null,null,null,null,null,null,null,null,null,null,null,null,null,null,null,null,null,null,null,null,null,null,null,null,null,null,null,83,"34"]
[50,1,null,null,"事\n業\n場\n35","認証・指定・認定番号\nまたは、整備士合格証書番号",null,null,null,null,null,null,null,null,null,null,null,null,null,null,"以下のいずれかを入力\n・事業場の認証書の認定番号\n・指定書の指定番号\n・事業場に在籍する整備士の整備士合格証書番号",null,null,null,null,null,null,null,null,null,null,null,null,84,"35"]
[50,1,null,null,null,null,null,null,null,null,null,null,null,null,null,null,null,null,null,null,null,null,null,null,null,null,null,null,null,null,null,null,null,84,"35"]
[50,1,null,null,null,null,null,null,null,null,null,null,null,null,null,null,null,null,null,null,null,null,null,null,null,null,null,null,null,null,null,null,null,84,"35"]
[50,1,null,null,null,"設備を設置する事業場名",null,null,null,null,null,null,null,null,null,null,null,null,null,null,"漢字平仮名は全角、英数字は半角で入力して下さい",null,null,null,null,null,null,null,null,null,null,null,null,84,"35"]
[50,1,null,null,null,"事業場住所",null,null,"郵便番号",null,null,null,null,null,"都道府県",null,null,null,null,null,"・郵便番号はハイフンは入れず数字７桁で入力して下さい\n・町名は市区町村欄に入力して下さい\n・丁目、番地の表記はハイフンで入力して下さい\n・番地、建物名称が無い場合は入力不要です",null,null,null,null,null,null,null,null,null,null,null,null,84,"35"]
[50,1,null,null,null,null,null,null,"市区町村",null,null,null,null,null,"番地",null,null,null,null,null,null,null,null,null,null,null,null,null,null,null,null,null,null,84,"35"]
[50,1,null,null,null,null,null,null,"建物名称",null,null,null,null,null,null,null,null,null,null,null,null,null,null,null,null,null,null,null,null,null,null,null,null,84,"35"]
[50,1,null,null,null,"申請\n機器","機器一覧の\n掲載有無",null,"コード\n番号","申請スキャンツール",null,null,null,null,null,null,null,null,null,null,"①申請する機器がホームページ掲載資料の「補助対象機器一覧」に該当するか確認して下さい\n②該当の有無を「機器一覧の掲載有無」のチェックボックスで選択して下さい\n　 ※必要箇所のグレーアウトが解除されます\n【掲載されているを選択した場合】\n　・ホームページ掲載の「補助対象機器一覧」の各ページ左側「交付申請時のコード番号」\n　　（４～５桁の英数字）を確認し「コード番号」に入力して下さい\n　・入力後メーカー名～ソフトのバージョンに申請機器の情報が自動で表示されている事を\n　　確認して下さい\n【掲載されていないを選択した場合】\n　・「申請スキャンツール」に入力欄が表示されますので申請する機器の情報を入力して下さい\n　例：メーカー名●●　型式●●　品番●●　バージョン●●\n③同一事業場で２台申請する際は２台目を空欄にせず上に詰めて入力して下さい",null,null,null,null,null,null,null,null,null,null,null,null,84,"35"]
[50,1,null,null,null,null,null,null,null,"メーカー名",null,null,"名称・型式",null,null,"品　　番",null,null,"ソフトのバージョン",null,null,null,null,null,null,null,null,null,null,null,null,null,null,84,"35"]
[50,1,null,null,null,"１台目","掲載されている　　",null,null,{"$f":"IFERROR(VLOOKUP($I867,補助対象機器一覧0916!$A$1:$E$75,2,FALSE),\"\")","v":""},null,null,{"$f":"IFERROR(VLOOKUP($I867,補助対象機器一覧0916!$A$1:$E$75,3,FALSE),\"\")","v":""},null,null,{"$f":"IFERROR(VLOOKUP($I867,補助対象機器一覧0916!$A$1:$E$75,4,FALSE),\"\")","v":""},null,null,{"$f":"IFERROR(VLOOKUP($I867,補助対象機器一覧0916!$A$1:$E$75,5,FALSE),\"\")","v":""},null,null,null,null,null,null,null,null,null,null,false,null,null,null,84,"35"]
[null,null,null,null,null,null,"掲載されていない ",null,null,null,null,null,null,null,null,null,null,null,null,null,null,null,null,null,null,null,null,null,null,false,null,null,null,84,"35"]
[{"$f":"(50+$B869)-A$72","v":50},1,null,null,null,"２台目","掲載されている　　",null,null,{"$f":"IFERROR(VLOOKUP($I869,補助対象機器一覧0916!$A$1:$E$75,2,FALSE),\"\")","v":""},null,null,{"$f":"IFERROR(VLOOKUP($I869,補助対象機器一覧0916!$A$1:$E$75,3,FALSE),\"\")","v":""},null,null,{"$f":"IFERROR(VLOOKUP($I869,補助対象機器一覧0916!$A$1:$E$75,4,FALSE),\"\")","v":""},null,null,{"$f":"IFERROR(VLOOKUP($I869,補助対象機器一覧0916!$A$1:$E$75,5,FALSE),\"\")","v":""},null,null,null,null,null,null,null,null,null,null,false,null,null,null,84,"35"]
[null,null,null,null,null,null,"掲載されていない ",null,null,null,null,null,null,null,null,null,null,null,null,null,null,null,null,null,null,null,null,null,null,false,null,null,null,84,"35"]
[{"$f":"(50+$B871)-A$72","v":50},1,null,null,null,"３台目","掲載されている　　",null,null,{"$f":"IFERROR(VLOOKUP($I871,補助対象機器一覧0916!$A$1:$E$75,2,FALSE),\"\")","v":""},null,null,{"$f":"IFERROR(VLOOKUP($I871,補助対象機器一覧0916!$A$1:$E$75,3,FALSE),\"\")","v":""},null,null,{"$f":"IFERROR(VLOOKUP($I871,補助対象機器一覧0916!$A$1:$E$75,4,FALSE),\"\")","v":""},null,null,{"$f":"IFERROR(VLOOKUP($I871,補助対象機器一覧0916!$A$1:$E$75,5,FALSE),\"\")","v":""},null,null,null,null,null,null,null,null,null,null,false,null,null,null,84,"35"]
[null,null,null,null,null,null,"掲載されていない ",null,null,null,null,null,null,null,null,null,null,null,null,null,null,null,null,null,null,null,null,null,null,false,null,null,null,84,"35"]
[{"$f":"(50+$B873)-A$72","v":50},1,null,null,null,"申請\n機器","補助事業に要する経費",null,null,null,"スキャンツールの価格",null,null,null,null,"情報端末価格",null,null,null,null,"・「補助事業に要する経費」は補助対象外も含む全ての経費を機器毎に分けて入力して下さい\n・「スキャンツールの価格」は正見積書のスキャンツール単体の価格を機器毎に\n　分けて入力して下さい\n・「情報端末価格」は正見積書の情報端末単体の価格を機器毎に分けて入力して下さい",null,null,null,null,null,null,null,null,null,null,null,null,84,"35"]
[{"$f":"(50+$B874)-A$72","v":50},1,null,null,null,null,null,null,null,null,null,null,null,null,null,null,null,null,null,null,null,null,null,null,null,null,null,null,null,null,null,null,null,84,"35"]
[{"$f":"(50+$B875)-A$72","v":50},1,null,null,null,"１台目",null,null,null,null,null,null,null,null,null,null,null,null,null,null,null,null,null,null,null,null,null,null,null,null,null,{"$f":"G875-SUM(K875:T875)","v":0},null,84,"35"]
[{"$f":"(50+$B876)-A$72","v":50},1,null,null,null,"２台目",null,null,null,null,null,null,null,null,null,null,null,null,null,null,null,null,null,null,null,null,null,null,null,null,null,{"$f":"G876-SUM(K876:T876)","v":0},null,84,"35"]
[{"$f":"(50+$B877)-A$72","v":50},1,null,null,null,"３台目",null,null,null,null,null,null,null,null,null,null,null,null,null,null,null,null,null,null,null,null,null,null,null,null,null,0,null,84,"35"]
[null,null,null,null,null,"補助対象経費",null,null,null,null,"補助率",null,null,null,null,"補助金の額",null,null,null,null,null,null,null,null,null,null,null,null,null,null,null,null,null,84,"35"]
[null,null,null,null,null,{"$f":"(K875+P875)+(K876+P876)+(K877+P877)","v":0},null,null,null,null,{"$f":"IF(G875=\"\",\"\",\"1/3\")","v":""},null,null,null,null,{"$f":"IF($F879<>\"\",IF($F879/3>150000,150000,ROUNDDOWN($F879/3,-3)),\"\")","v":0},null,null,null,null,null,null,null,null,null,null,null,null,null,null,null,null,null,84,"35"]
[{"$f":"(50+$B880)-A$72","v":49},null,null,null,null,null,null,null,null,null,null,null,null,null,null,null,null,null,null,null,null,null,null,null,null,null,null,null,null,null,null,null,null,84,"35"]
[50,1,null,null,"事\n業\n場\n36","認証・指定・認定番号\nまたは、整備士合格証書番号",null,null,null,null,null,null,null,null,null,null,null,null,null,null,"以下のいずれかを入力\n・事業場の認証書の認定番号\n・指定書の指定番号\n・事業場に在籍する整備士の整備士合格証書番号",null,null,null,null,null,null,null,null,null,null,null,null,85,"36"]
[50,1,null,null,null,null,null,null,null,null,null,null,null,null,null,null,null,null,null,null,null,null,null,null,null,null,null,null,null,null,null,null,null,85,"36"]
[50,1,null,null,null,null,null,null,null,null,null,null,null,null,null,null,null,null,null,null,null,null,null,null,null,null,null,null,null,null,null,null,null,85,"36"]
[50,1,null,null,null,"設備を設置する事業場名",null,null,null,null,null,null,null,null,null,null,null,null,null,null,"漢字平仮名は全角、英数字は半角で入力して下さい",null,null,null,null,null,null,null,null,null,null,null,null,85,"36"]
[50,1,null,null,null,"事業場住所",null,null,"郵便番号",null,null,null,null,null,"都道府県",null,null,null,null,null,"・郵便番号はハイフンは入れず数字７桁で入力して下さい\n・町名は市区町村欄に入力して下さい\n・丁目、番地の表記はハイフンで入力して下さい\n・番地、建物名称が無い場合は入力不要です",null,null,null,null,null,null,null,null,null,null,null,null,85,"36"]
[50,1,null,null,null,null,null,null,"市区町村",null,null,null,null,null,"番地",null,null,null,null,null,null,null,null,null,null,null,null,null,null,null,null,null,null,85,"36"]
[50,1,null,null,null,null,null,null,"建物名称",null,null,null,null,null,null,null,null,null,null,null,null,null,null,null,null,null,null,null,null,null,null,null,null,85,"36"]
[50,1,null,null,null,"申請\n機器","機器一覧の\n掲載有無",null,"コード\n番号","申請スキャンツール",null,null,null,null,null,null,null,null,null,null,"①申請する機器がホームページ掲載資料の「補助対象機器一覧」に該当するか確認して下さい\n②該当の有無を「機器一覧の掲載有無」のチェックボックスで選択して下さい\n　 ※必要箇所のグレーアウトが解除されます\n【掲載されているを選択した場合】\n　・ホームページ掲載の「補助対象機器一覧」の各ページ左側「交付申請時のコード番号」\n　　（４～５桁の英数字）を確認し「コード番号」に入力して下さい\n　・入力後メーカー名～ソフトのバージョンに申請機器の情報が自動で表示されている事を\n　　確認して下さい\n【掲載されていないを選択した場合】\n　・「申請スキャンツール」に入力欄が表示されますので申請する機器の情報を入力して下さい\n　例：メーカー名●●　型式●●　品番●●　バージョン●●\n③同一事業場で２台申請する際は２台目を空欄にせず上に詰めて入力して下さい",null,null,null,null,null,null,null,null,null,null,null,null,85,"36"]
[50,1,null,null,null,null,null,null,null,"メーカー名",null,null,"名称・型式",null,null,"品　　番",null,null,"ソフトのバージョン",null,null,null,null,null,null,null,null,null,null,null,null,null,null,85,"36"]
[50,1,null,null,null,"１台目","掲載されている　　",null,null,{"$f":"IFERROR(VLOOKUP($I890,補助対象機器一覧0916!$A$1:$E$75,2,FALSE),\"\")","v":""},null,null,{"$f":"IFERROR(VLOOKUP($I890,補助対象機器一覧0916!$A$1:$E$75,3,FALSE),\"\")","v":""},null,null,{"$f":"IFERROR(VLOOKUP($I890,補助対象機器一覧0916!$A$1:$E$75,4,FALSE),\"\")","v":""},null,null,{"$f":"IFERROR(VLOOKUP($I890,補助対象機器一覧0916!$A$1:$E$75,5,FALSE),\"\")","v":""},null,null,null,null,null,null,null,null,null,null,false,null,null,null,85,"36"]
[null,null,null,null,null,null,"掲載されていない ",null,null,null,null,null,null,null,null,null,null,null,null,null,null,null,null,null,null,null,null,null,null,false,null,null,null,85,"36"]
[{"$f":"(50+$B892)-A$72","v":50},1,null,null,null,"２台目","掲載されている　　",null,null,{"$f":"IFERROR(VLOOKUP($I892,補助対象機器一覧0916!$A$1:$E$75,2,FALSE),\"\")","v":""},null,null,{"$f":"IFERROR(VLOOKUP($I892,補助対象機器一覧0916!$A$1:$E$75,3,FALSE),\"\")","v":""},null,null,{"$f":"IFERROR(VLOOKUP($I892,補助対象機器一覧0916!$A$1:$E$75,4,FALSE),\"\")","v":""},null,null,{"$f":"IFERROR(VLOOKUP($I892,補助対象機器一覧0916!$A$1:$E$75,5,FALSE),\"\")","v":""},null,null,null,null,null,null,null,null,null,null,false,null,null,null,85,"36"]
[null,null,null,null,null,null,"掲載されていない ",null,null,null,null,null,null,null,null,null,null,null,null,null,null,null,null,null,null,null,null,null,null,false,null,null,null,85,"36"]
[{"$f":"(50+$B894)-A$72","v":50},1,null,null,null,"３台目","掲載されている　　",null,null,{"$f":"IFERROR(VLOOKUP($I894,補助対象機器一覧0916!$A$1:$E$75,2,FALSE),\"\")","v":""},null,null,{"$f":"IFERROR(VLOOKUP($I894,補助対象機器一覧0916!$A$1:$E$75,3,FALSE),\"\")","v":""},null,null,{"$f":"IFERROR(VLOOKUP($I894,補助対象機器一覧0916!$A$1:$E$75,4,FALSE),\"\")","v":""},null,null,{"$f":"IFERROR(VLOOKUP($I894,補助対象機器一覧0916!$A$1:$E$75,5,FALSE),\"\")","v":""},null,null,null,null,null,null,null,null,null,null,false,null,null,null,85,"36"]
[null,null,null,null,null,null,"掲載されていない ",null,null,null,null,null,null,null,null,null,null,null,null,null,null,null,null,null,null,null,null,null,null,false,null,null,null,85,"36"]
[{"$f":"(50+$B896)-A$72","v":50},1,null,null,null,"申請\n機器","補助事業に要する経費",null,null,null,"スキャンツールの価格",null,null,null,null,"情報端末価格",null,null,null,null,"・「補助事業に要する経費」は補助対象外も含む全ての経費を機器毎に分けて入力して下さい\n・「スキャンツールの価格」は正見積書のスキャンツール単体の価格を機器毎に\n　分けて入力して下さい\n・「情報端末価格」は正見積書の情報端末単体の価格を機器毎に分けて入力して下さい",null,null,null,null,null,null,null,null,null,null,null,null,85,"36"]
[{"$f":"(50+$B897)-A$72","v":50},1,null,null,null,null,null,null,null,null,null,null,null,null,null,null,null,null,null,null,null,null,null,null,null,null,null,null,null,null,null,null,null,85,"36"]
[{"$f":"(50+$B898)-A$72","v":50},1,null,null,null,"１台目",null,null,null,null,null,null,null,null,null,null,null,null,null,null,null,null,null,null,null,null,null,null,null,null,null,{"$f":"G898-SUM(K898:T898)","v":0},null,85,"36"]
[{"$f":"(50+$B899)-A$72","v":50},1,null,null,null,"２台目",null,null,null,null,null,null,null,null,null,null,null,null,null,null,null,null,null,null,null,null,null,null,null,null,null,{"$f":"G899-SUM(K899:T899)","v":0},null,85,"36"]
[{"$f":"(50+$B900)-A$72","v":50},1,null,null,null,"３台目",null,null,null,null,null,null,null,null,null,null,null,null,null,null,null,null,null,null,null,null,null,null,null,null,null,0,null,85,"36"]
[null,null,null,null,null,"補助対象経費",null,null,null,null,"補助率",null,null,null,null,"補助金の額",null,null,null,null,null,null,null,null,null,null,null,null,null,null,null,null,null,85,"36"]
[null,null,null,null,null,{"$f":"(K898+P898)+(K899+P899)+(K900+P900)","v":0},null,null,null,null,{"$f":"IF(G898=\"\",\"\",\"1/3\")","v":""},null,null,null,null,{"$f":"IF($F902<>\"\",IF($F902/3>150000,150000,ROUNDDOWN($F902/3,-3)),\"\")","v":0},null,null,null,null,null,null,null,null,null,null,null,null,null,null,null,null,null,85,"36"]
[{"$f":"(50+$B903)-A$72","v":49},null,null,null,null,null,null,null,null,null,null,null,null,null,null,null,null,null,null,null,null,null,null,null,null,null,null,null,null,null,null,null,null,85,"36"]
[50,1,null,null,"事\n業\n場\n37","認証・指定・認定番号\nまたは、整備士合格証書番号",null,null,null,null,null,null,null,null,null,null,null,null,null,null,"以下のいずれかを入力\n・事業場の認証書の認定番号\n・指定書の指定番号\n・事業場に在籍する整備士の整備士合格証書番号",null,null,null,null,null,null,null,null,null,null,null,null,86,"37"]
[50,1,null,null,null,null,null,null,null,null,null,null,null,null,null,null,null,null,null,null,null,null,null,null,null,null,null,null,null,null,null,null,null,86,"37"]
[50,1,null,null,null,null,null,null,null,null,null,null,null,null,null,null,null,null,null,null,null,null,null,null,null,null,null,null,null,null,null,null,null,86,"37"]
[50,1,null,null,null,"設備を設置する事業場名",null,null,null,null,null,null,null,null,null,null,null,null,null,null,"漢字平仮名は全角、英数字は半角で入力して下さい",null,null,null,null,null,null,null,null,null,null,null,null,86,"37"]
[50,1,null,null,null,"事業場住所",null,null,"郵便番号",null,null,null,null,null,"都道府県",null,null,null,null,null,"・郵便番号はハイフンは入れず数字７桁で入力して下さい\n・町名は市区町村欄に入力して下さい\n・丁目、番地の表記はハイフンで入力して下さい\n・番地、建物名称が無い場合は入力不要です",null,null,null,null,null,null,null,null,null,null,null,null,{"$f":"(50+$AI908)-A$72","v":86},"37"]
[50,1,null,null,null,null,null,null,"市区町村",null,null,null,null,null,"番地",null,null,null,null,null,null,null,null,null,null,null,null,null,null,null,null,null,null,86,"37"]
[50,1,null,null,null,null,null,null,"建物名称",null,null,null,null,null,null,null,null,null,null,null,null,null,null,null,null,null,null,null,null,null,null,null,null,86,"37"]
[50,1,null,null,null,"申請\n機器","機器一覧の\n掲載有無",null,"コード\n番号","申請スキャンツール",null,null,null,null,null,null,null,null,null,null,"①申請する機器がホームページ掲載資料の「補助対象機器一覧」に該当するか確認して下さい\n②該当の有無を「機器一覧の掲載有無」のチェックボックスで選択して下さい\n　 ※必要箇所のグレーアウトが解除されます\n【掲載されているを選択した場合】\n　・ホームページ掲載の「補助対象機器一覧」の各ページ左側「交付申請時のコード番号」\n　　（４～５桁の英数字）を確認し「コード番号」に入力して下さい\n　・入力後メーカー名～ソフトのバージョンに申請機器の情報が自動で表示されている事を\n　　確認して下さい\n【掲載されていないを選択した場合】\n　・「申請スキャンツール」に入力欄が表示されますので申請する機器の情報を入力して下さい\n　例：メーカー名●●　型式●●　品番●●　バージョン●●\n③同一事業場で２台申請する際は２台目を空欄にせず上に詰めて入力して下さい",null,null,null,null,null,null,null,null,null,null,null,null,86,"37"]
[50,1,null,null,null,null,null,null,null,"メーカー名",null,null,"名称・型式",null,null,"品　　番",null,null,"ソフトのバージョン",null,null,null,null,null,null,null,null,null,null,null,null,null,null,86,"37"]
[50,1,null,null,null,"１台目","掲載されている　　",null,null,{"$f":"IFERROR(VLOOKUP($I913,補助対象機器一覧0916!$A$1:$E$75,2,FALSE),\"\")","v":""},null,null,{"$f":"IFERROR(VLOOKUP($I913,補助対象機器一覧0916!$A$1:$E$75,3,FALSE),\"\")","v":""},null,null,{"$f":"IFERROR(VLOOKUP($I913,補助対象機器一覧0916!$A$1:$E$75,4,FALSE),\"\")","v":""},null,null,{"$f":"IFERROR(VLOOKUP($I913,補助対象機器一覧0916!$A$1:$E$75,5,FALSE),\"\")","v":""},null,null,null,null,null,null,null,null,null,null,false,null,null,null,86,"37"]
[null,null,null,null,null,null,"掲載されていない ",null,null,null,null,null,null,null,null,null,null,null,null,null,null,null,null,null,null,null,null,null,null,false,null,null,null,86,"37"]
[{"$f":"(50+$B915)-A$72","v":50},1,null,null,null,"２台目","掲載されている　　",null,null,{"$f":"IFERROR(VLOOKUP($I915,補助対象機器一覧0916!$A$1:$E$75,2,FALSE),\"\")","v":""},null,null,{"$f":"IFERROR(VLOOKUP($I915,補助対象機器一覧0916!$A$1:$E$75,3,FALSE),\"\")","v":""},null,null,{"$f":"IFERROR(VLOOKUP($I915,補助対象機器一覧0916!$A$1:$E$75,4,FALSE),\"\")","v":""},null,null,{"$f":"IFERROR(VLOOKUP($I915,補助対象機器一覧0916!$A$1:$E$75,5,FALSE),\"\")","v":""},null,null,null,null,null,null,null,null,null,null,false,null,null,null,86,"37"]
[null,null,null,null,null,null,"掲載されていない ",null,null,null,null,null,null,null,null,null,null,null,null,null,null,null,null,null,null,null,null,null,null,false,null,null,null,86,"37"]
[{"$f":"(50+$B917)-A$72","v":50},1,null,null,null,"３台目","掲載されている　　",null,null,{"$f":"IFERROR(VLOOKUP($I917,補助対象機器一覧0916!$A$1:$E$75,2,FALSE),\"\")","v":""},null,null,{"$f":"IFERROR(VLOOKUP($I917,補助対象機器一覧0916!$A$1:$E$75,3,FALSE),\"\")","v":""},null,null,{"$f":"IFERROR(VLOOKUP($I917,補助対象機器一覧0916!$A$1:$E$75,4,FALSE),\"\")","v":""},null,null,{"$f":"IFERROR(VLOOKUP($I917,補助対象機器一覧0916!$A$1:$E$75,5,FALSE),\"\")","v":""},null,null,null,null,null,null,null,null,null,null,false,null,null,null,86,"37"]
[null,null,null,null,null,null,"掲載されていない ",null,null,null,null,null,null,null,null,null,null,null,null,null,null,null,null,null,null,null,null,null,null,false,null,null,null,86,"37"]
[{"$f":"(50+$B919)-A$72","v":50},1,null,null,null,"申請\n機器","補助事業に要する経費",null,null,null,"スキャンツールの価格",null,null,null,null,"情報端末価格",null,null,null,null,"・「補助事業に要する経費」は補助対象外も含む全ての経費を機器毎に分けて入力して下さい\n・「スキャンツールの価格」は正見積書のスキャンツール単体の価格を機器毎に\n　分けて入力して下さい\n・「情報端末価格」は正見積書の情報端末単体の価格を機器毎に分けて入力して下さい",null,null,null,null,null,null,null,null,null,null,null,null,86,"37"]
[{"$f":"(50+$B920)-A$72","v":50},1,null,null,null,null,null,null,null,null,null,null,null,null,null,null,null,null,null,null,null,null,null,null,null,null,null,null,null,null,null,null,null,86,"37"]
[{"$f":"(50+$B921)-A$72","v":50},1,null,null,null,"１台目",null,null,null,null,null,null,null,null,null,null,null,null,null,null,null,null,null,null,null,null,null,null,null,null,null,{"$f":"G921-SUM(K921:T921)","v":0},null,86,"37"]
[{"$f":"(50+$B922)-A$72","v":50},1,null,null,null,"２台目",null,null,null,null,null,null,null,null,null,null,null,null,null,null,null,null,null,null,null,null,null,null,null,null,null,{"$f":"G922-SUM(K922:T922)","v":0},null,86,"37"]
[{"$f":"(50+$B923)-A$72","v":50},1,null,null,null,"３台目",null,null,null,null,null,null,null,null,null,null,null,null,null,null,null,null,null,null,null,null,null,null,null,null,null,0,null,86,"37"]
[null,null,null,null,null,"補助対象経費",null,null,null,null,"補助率",null,null,null,null,"補助金の額",null,null,null,null,null,null,null,null,null,null,null,null,null,null,null,null,null,86,"37"]
[null,null,null,null,null,{"$f":"(K921+P921)+(K922+P922)+(K923+P923)","v":0},null,null,null,null,{"$f":"IF(G921=\"\",\"\",\"1/3\")","v":""},null,null,null,null,{"$f":"IF($F925<>\"\",IF($F925/3>150000,150000,ROUNDDOWN($F925/3,-3)),\"\")","v":0},null,null,null,null,null,null,null,null,null,null,null,null,null,null,null,null,null,86,"37"]
[{"$f":"(50+$B926)-A$72","v":49},null,null,null,null,null,null,null,null,null,null,null,null,null,null,null,null,null,null,null,null,null,null,null,null,null,null,null,null,null,null,null,null,86,"37"]
[50,1,null,null,"事\n業\n場\n38","認証・指定・認定番号\nまたは、整備士合格証書番号",null,null,null,null,null,null,null,null,null,null,null,null,null,null,"以下のいずれかを入力\n・事業場の認証書の認定番号\n・指定書の指定番号\n・事業場に在籍する整備士の整備士合格証書番号",null,null,null,null,null,null,null,null,null,null,null,null,87,"38"]
[50,1,null,null,null,null,null,null,null,null,null,null,null,null,null,null,null,null,null,null,null,null,null,null,null,null,null,null,null,null,null,null,null,87,"38"]
[50,1,null,null,null,null,null,null,null,null,null,null,null,null,null,null,null,null,null,null,null,null,null,null,null,null,null,null,null,null,null,null,null,87,"38"]
[50,1,null,null,null,"設備を設置する事業場名",null,null,null,null,null,null,null,null,null,null,null,null,null,null,"漢字平仮名は全角、英数字は半角で入力して下さい",null,null,null,null,null,null,null,null,null,null,null,null,87,"38"]
[50,1,null,null,null,"事業場住所",null,null,"郵便番号",null,null,null,null,null,"都道府県",null,null,null,null,null,"・郵便番号はハイフンは入れず数字７桁で入力して下さい\n・町名は市区町村欄に入力して下さい\n・丁目、番地の表記はハイフンで入力して下さい\n・番地、建物名称が無い場合は入力不要です",null,null,null,null,null,null,null,null,null,null,null,null,87,"38"]
[50,1,null,null,null,null,null,null,"市区町村",null,null,null,null,null,"番地",null,null,null,null,null,null,null,null,null,null,null,null,null,null,null,null,null,null,87,"38"]
[50,1,null,null,null,null,null,null,"建物名称",null,null,null,null,null,null,null,null,null,null,null,null,null,null,null,null,null,null,null,null,null,null,null,null,87,"38"]
[50,1,null,null,null,"申請\n機器","機器一覧の\n掲載有無",null,"コード\n番号","申請スキャンツール",null,null,null,null,null,null,null,null,null,null,"①申請する機器がホームページ掲載資料の「補助対象機器一覧」に該当するか確認して下さい\n②該当の有無を「機器一覧の掲載有無」のチェックボックスで選択して下さい\n　 ※必要箇所のグレーアウトが解除されます\n【掲載されているを選択した場合】\n　・ホームページ掲載の「補助対象機器一覧」の各ページ左側「交付申請時のコード番号」\n　　（４～５桁の英数字）を確認し「コード番号」に入力して下さい\n　・入力後メーカー名～ソフトのバージョンに申請機器の情報が自動で表示されている事を\n　　確認して下さい\n【掲載されていないを選択した場合】\n　・「申請スキャンツール」に入力欄が表示されますので申請する機器の情報を入力して下さい\n　例：メーカー名●●　型式●●　品番●●　バージョン●●\n③同一事業場で２台申請する際は２台目を空欄にせず上に詰めて入力して下さい",null,null,null,null,null,null,null,null,null,null,null,null,87,"38"]
[50,1,null,null,null,null,null,null,null,"メーカー名",null,null,"名称・型式",null,null,"品　　番",null,null,"ソフトのバージョン",null,null,null,null,null,null,null,null,null,null,null,null,null,null,87,"38"]
[50,1,null,null,null,"１台目","掲載されている　　",null,null,{"$f":"IFERROR(VLOOKUP($I936,補助対象機器一覧0916!$A$1:$E$75,2,FALSE),\"\")","v":""},null,null,{"$f":"IFERROR(VLOOKUP($I936,補助対象機器一覧0916!$A$1:$E$75,3,FALSE),\"\")","v":""},null,null,{"$f":"IFERROR(VLOOKUP($I936,補助対象機器一覧0916!$A$1:$E$75,4,FALSE),\"\")","v":""},null,null,{"$f":"IFERROR(VLOOKUP($I936,補助対象機器一覧0916!$A$1:$E$75,5,FALSE),\"\")","v":""},null,null,null,null,null,null,null,null,null,null,false,null,null,null,87,"38"]
[null,null,null,null,null,null,"掲載されていない ",null,null,null,null,null,null,null,null,null,null,null,null,null,null,null,null,null,null,null,null,null,null,false,null,null,null,87,"38"]
[{"$f":"(50+$B938)-A$72","v":50},1,null,null,null,"２台目","掲載されている　　",null,null,{"$f":"IFERROR(VLOOKUP($I938,補助対象機器一覧0916!$A$1:$E$75,2,FALSE),\"\")","v":""},null,null,{"$f":"IFERROR(VLOOKUP($I938,補助対象機器一覧0916!$A$1:$E$75,3,FALSE),\"\")","v":""},null,null,{"$f":"IFERROR(VLOOKUP($I938,補助対象機器一覧0916!$A$1:$E$75,4,FALSE),\"\")","v":""},null,null,{"$f":"IFERROR(VLOOKUP($I938,補助対象機器一覧0916!$A$1:$E$75,5,FALSE),\"\")","v":""},null,null,null,null,null,null,null,null,null,null,false,null,null,null,87,"38"]
[null,null,null,null,null,null,"掲載されていない ",null,null,null,null,null,null,null,null,null,null,null,null,null,null,null,null,null,null,null,null,null,null,false,null,null,null,87,"38"]
[{"$f":"(50+$B940)-A$72","v":50},1,null,null,null,"３台目","掲載されている　　",null,null,{"$f":"IFERROR(VLOOKUP($I940,補助対象機器一覧0916!$A$1:$E$75,2,FALSE),\"\")","v":""},null,null,{"$f":"IFERROR(VLOOKUP($I940,補助対象機器一覧0916!$A$1:$E$75,3,FALSE),\"\")","v":""},null,null,{"$f":"IFERROR(VLOOKUP($I940,補助対象機器一覧0916!$A$1:$E$75,4,FALSE),\"\")","v":""},null,null,{"$f":"IFERROR(VLOOKUP($I940,補助対象機器一覧0916!$A$1:$E$75,5,FALSE),\"\")","v":""},null,null,null,null,null,null,null,null,null,null,false,null,null,null,87,"38"]
[null,null,null,null,null,null,"掲載されていない ",null,null,null,null,null,null,null,null,null,null,null,null,null,null,null,null,null,null,null,null,null,null,false,null,null,null,87,"38"]
[{"$f":"(50+$B942)-A$72","v":50},1,null,null,null,"申請\n機器","補助事業に要する経費",null,null,null,"スキャンツールの価格",null,null,null,null,"情報端末価格",null,null,null,null,"・「補助事業に要する経費」は補助対象外も含む全ての経費を機器毎に分けて入力して下さい\n・「スキャンツールの価格」は正見積書のスキャンツール単体の価格を機器毎に\n　分けて入力して下さい\n・「情報端末価格」は正見積書の情報端末単体の価格を機器毎に分けて入力して下さい",null,null,null,null,null,null,null,null,null,null,null,null,87,"38"]
[{"$f":"(50+$B943)-A$72","v":50},1,null,null,null,null,null,null,null,null,null,null,null,null,null,null,null,null,null,null,null,null,null,null,null,null,null,null,null,null,null,null,null,87,"38"]
[{"$f":"(50+$B944)-A$72","v":50},1,null,null,null,"１台目",null,null,null,null,null,null,null,null,null,null,null,null,null,null,null,null,null,null,null,null,null,null,null,null,null,{"$f":"G944-SUM(K944:T944)","v":0},null,87,"38"]
[{"$f":"(50+$B945)-A$72","v":50},1,null,null,null,"２台目",null,null,null,null,null,null,null,null,null,null,null,null,null,null,null,null,null,null,null,null,null,null,null,null,null,{"$f":"G945-SUM(K945:T945)","v":0},null,87,"38"]
[{"$f":"(50+$B946)-A$72","v":50},1,null,null,null,"３台目",null,null,null,null,null,null,null,null,null,null,null,null,null,null,null,null,null,null,null,null,null,null,null,null,null,0,null,87,"38"]
[null,null,null,null,null,"補助対象経費",null,null,null,null,"補助率",null,null,null,null,"補助金の額",null,null,null,null,null,null,null,null,null,null,null,null,null,null,null,null,null,87,"38"]
[null,null,null,null,null,{"$f":"(K944+P944)+(K945+P945)+(K946+P946)","v":0},null,null,null,null,{"$f":"IF(G944=\"\",\"\",\"1/3\")","v":""},null,null,null,null,{"$f":"IF($F948<>\"\",IF($F948/3>150000,150000,ROUNDDOWN($F948/3,-3)),\"\")","v":0},null,null,null,null,null,null,null,null,null,null,null,null,null,null,null,null,null,87,"38"]
[{"$f":"(50+$B949)-A$72","v":49},null,null,null,null,null,null,null,null,null,null,null,null,null,null,null,null,null,null,null,null,null,null,null,null,null,null,null,null,null,null,null,null,87,"38"]
[50,1,null,null,"事\n業\n場\n39","認証・指定・認定番号\nまたは、整備士合格証書番号",null,null,null,null,null,null,null,null,null,null,null,null,null,null,"以下のいずれかを入力\n・事業場の認証書の認定番号\n・指定書の指定番号\n・事業場に在籍する整備士の整備士合格証書番号",null,null,null,null,null,null,null,null,null,null,null,null,88,"39"]
[50,1,null,null,null,null,null,null,null,null,null,null,null,null,null,null,null,null,null,null,null,null,null,null,null,null,null,null,null,null,null,null,null,88,"39"]
[50,1,null,null,null,null,null,null,null,null,null,null,null,null,null,null,null,null,null,null,null,null,null,null,null,null,null,null,null,null,null,null,null,88,"39"]
[50,1,null,null,null,"設備を設置する事業場名",null,null,null,null,null,null,null,null,null,null,null,null,null,null,"漢字平仮名は全角、英数字は半角で入力して下さい",null,null,null,null,null,null,null,null,null,null,null,null,88,"39"]
[50,1,null,null,null,"事業場住所",null,null,"郵便番号",null,null,null,null,null,"都道府県",null,null,null,null,null,"・郵便番号はハイフンは入れず数字７桁で入力して下さい\n・町名は市区町村欄に入力して下さい\n・丁目、番地の表記はハイフンで入力して下さい\n・番地、建物名称が無い場合は入力不要です",null,null,null,null,null,null,null,null,null,null,null,null,88,"39"]
[50,1,null,null,null,null,null,null,"市区町村",null,null,null,null,null,"番地",null,null,null,null,null,null,null,null,null,null,null,null,null,null,null,null,null,null,88,"39"]
[50,1,null,null,null,null,null,null,"建物名称",null,null,null,null,null,null,null,null,null,null,null,null,null,null,null,null,null,null,null,null,null,null,null,null,88,"39"]
[50,1,null,null,null,"申請\n機器","機器一覧の\n掲載有無",null,"コード\n番号","申請スキャンツール",null,null,null,null,null,null,null,null,null,null,"①申請する機器がホームページ掲載資料の「補助対象機器一覧」に該当するか確認して下さい\n②該当の有無を「機器一覧の掲載有無」のチェックボックスで選択して下さい\n　 ※必要箇所のグレーアウトが解除されます\n【掲載されているを選択した場合】\n　・ホームページ掲載の「補助対象機器一覧」の各ページ左側「交付申請時のコード番号」\n　　（４～５桁の英数字）を確認し「コード番号」に入力して下さい\n　・入力後メーカー名～ソフトのバージョンに申請機器の情報が自動で表示されている事を\n　　確認して下さい\n【掲載されていないを選択した場合】\n　・「申請スキャンツール」に入力欄が表示されますので申請する機器の情報を入力して下さい\n　例：メーカー名●●　型式●●　品番●●　バージョン●●\n③同一事業場で２台申請する際は２台目を空欄にせず上に詰めて入力して下さい",null,null,null,null,null,null,null,null,null,null,null,null,88,"39"]
[50,1,null,null,null,null,null,null,null,"メーカー名",null,null,"名称・型式",null,null,"品　　番",null,null,"ソフトのバージョン",null,null,null,null,null,null,null,null,null,null,null,null,null,null,88,"39"]
[50,1,null,null,null,"１台目","掲載されている　　",null,null,{"$f":"IFERROR(VLOOKUP($I959,補助対象機器一覧0916!$A$1:$E$75,2,FALSE),\"\")","v":""},null,null,{"$f":"IFERROR(VLOOKUP($I959,補助対象機器一覧0916!$A$1:$E$75,3,FALSE),\"\")","v":""},null,null,{"$f":"IFERROR(VLOOKUP($I959,補助対象機器一覧0916!$A$1:$E$75,4,FALSE),\"\")","v":""},null,null,{"$f":"IFERROR(VLOOKUP($I959,補助対象機器一覧0916!$A$1:$E$75,5,FALSE),\"\")","v":""},null,null,null,null,null,null,null,null,null,null,false,null,null,null,88,"39"]
[null,null,null,null,null,null,"掲載されていない ",null,null,null,null,null,null,null,null,null,null,null,null,null,null,null,null,null,null,null,null,null,null,false,null,null,null,88,"39"]
[{"$f":"(50+$B961)-A$72","v":50},1,null,null,null,"２台目","掲載されている　　",null,null,{"$f":"IFERROR(VLOOKUP($I961,補助対象機器一覧0916!$A$1:$E$75,2,FALSE),\"\")","v":""},null,null,{"$f":"IFERROR(VLOOKUP($I961,補助対象機器一覧0916!$A$1:$E$75,3,FALSE),\"\")","v":""},null,null,{"$f":"IFERROR(VLOOKUP($I961,補助対象機器一覧0916!$A$1:$E$75,4,FALSE),\"\")","v":""},null,null,{"$f":"IFERROR(VLOOKUP($I961,補助対象機器一覧0916!$A$1:$E$75,5,FALSE),\"\")","v":""},null,null,null,null,null,null,null,null,null,null,false,null,null,null,88,"39"]
[null,null,null,null,null,null,"掲載されていない ",null,null,null,null,null,null,null,null,null,null,null,null,null,null,null,null,null,null,null,null,null,null,false,null,null,null,88,"39"]
[{"$f":"(50+$B963)-A$72","v":50},1,null,null,null,"３台目","掲載されている　　",null,null,{"$f":"IFERROR(VLOOKUP($I963,補助対象機器一覧0916!$A$1:$E$75,2,FALSE),\"\")","v":""},null,null,{"$f":"IFERROR(VLOOKUP($I963,補助対象機器一覧0916!$A$1:$E$75,3,FALSE),\"\")","v":""},null,null,{"$f":"IFERROR(VLOOKUP($I963,補助対象機器一覧0916!$A$1:$E$75,4,FALSE),\"\")","v":""},null,null,{"$f":"IFERROR(VLOOKUP($I963,補助対象機器一覧0916!$A$1:$E$75,5,FALSE),\"\")","v":""},null,null,null,null,null,null,null,null,null,null,false,null,null,null,88,"39"]
[null,null,null,null,null,null,"掲載されていない ",null,null,null,null,null,null,null,null,null,null,null,null,null,null,null,null,null,null,null,null,null,null,false,null,null,null,88,"39"]
[{"$f":"(50+$B965)-A$72","v":50},1,null,null,null,"申請\n機器","補助事業に要する経費",null,null,null,"スキャンツールの価格",null,null,null,null,"情報端末価格",null,null,null,null,"・「補助事業に要する経費」は補助対象外も含む全ての経費を機器毎に分けて入力して下さい\n・「スキャンツールの価格」は正見積書のスキャンツール単体の価格を機器毎に\n　分けて入力して下さい\n・「情報端末価格」は正見積書の情報端末単体の価格を機器毎に分けて入力して下さい",null,null,null,null,null,null,null,null,null,null,null,null,88,"39"]
[{"$f":"(50+$B966)-A$72","v":50},1,null,null,null,null,null,null,null,null,null,null,null,null,null,null,null,null,null,null,null,null,null,null,null,null,null,null,null,null,null,null,null,88,"39"]
[{"$f":"(50+$B967)-A$72","v":50},1,null,null,null,"１台目",null,null,null,null,null,null,null,null,null,null,null,null,null,null,null,null,null,null,null,null,null,null,null,null,null,{"$f":"G967-SUM(K967:T967)","v":0},null,88,"39"]
[{"$f":"(50+$B968)-A$72","v":50},1,null,null,null,"２台目",null,null,null,null,null,null,null,null,null,null,null,null,null,null,null,null,null,null,null,null,null,null,null,null,null,{"$f":"G968-SUM(K968:T968)","v":0},null,88,"39"]
[{"$f":"(50+$B969)-A$72","v":50},1,null,null,null,"３台目",null,null,null,null,null,null,null,null,null,null,null,null,null,null,null,null,null,null,null,null,null,null,null,null,null,0,null,88,"39"]
[null,null,null,null,null,"補助対象経費",null,null,null,null,"補助率",null,null,null,null,"補助金の額",null,null,null,null,null,null,null,null,null,null,null,null,null,null,null,null,null,88,"39"]
[null,null,null,null,null,{"$f":"(K967+P967)+(K968+P968)+(K969+P969)","v":0},null,null,null,null,{"$f":"IF(G967=\"\",\"\",\"1/3\")","v":""},null,null,null,null,{"$f":"IF($F971<>\"\",IF($F971/3>150000,150000,ROUNDDOWN($F971/3,-3)),\"\")","v":0},null,null,null,null,null,null,null,null,null,null,null,null,null,null,null,null,null,88,"39"]
[{"$f":"(50+$B972)-A$72","v":49},null,null,null,null,null,null,null,null,null,null,null,null,null,null,null,null,null,null,null,null,null,null,null,null,null,null,null,null,null,null,null,null,{"$f":"(50+$AI972)-A$72","v":88},"39"]
[50,1,null,null,"事\n業\n場\n40","認証・指定・認定番号\nまたは、整備士合格証書番号",null,null,null,null,null,null,null,null,null,null,null,null,null,null,"以下のいずれかを入力\n・事業場の認証書の認定番号\n・指定書の指定番号\n・事業場に在籍する整備士の整備士合格証書番号",null,null,null,null,null,null,null,null,null,null,null,null,89,"40"]
[50,1,null,null,null,null,null,null,null,null,null,null,null,null,null,null,null,null,null,null,null,null,null,null,null,null,null,null,null,null,null,null,null,89,"40"]
[50,1,null,null,null,null,null,null,null,null,null,null,null,null,null,null,null,null,null,null,null,null,null,null,null,null,null,null,null,null,null,null,null,89,"40"]
[50,1,null,null,null,"設備を設置する事業場名",null,null,null,null,null,null,null,null,null,null,null,null,null,null,"漢字平仮名は全角、英数字は半角で入力して下さい",null,null,null,null,null,null,null,null,null,null,null,null,89,"40"]
[50,1,null,null,null,"事業場住所",null,null,"郵便番号",null,null,null,null,null,"都道府県",null,null,null,null,null,"・郵便番号はハイフンは入れず数字７桁で入力して下さい\n・町名は市区町村欄に入力して下さい\n・丁目、番地の表記はハイフンで入力して下さい\n・番地、建物名称が無い場合は入力不要です",null,null,null,null,null,null,null,null,null,null,null,null,89,"40"]
[50,1,null,null,null,null,null,null,"市区町村",null,null,null,null,null,"番地",null,null,null,null,null,null,null,null,null,null,null,null,null,null,null,null,null,null,89,"40"]
[50,1,null,null,null,null,null,null,"建物名称",null,null,null,null,null,null,null,null,null,null,null,null,null,null,null,null,null,null,null,null,null,null,null,null,89,"40"]
[50,1,null,null,null,"申請\n機器","機器一覧の\n掲載有無",null,"コード\n番号","申請スキャンツール",null,null,null,null,null,null,null,null,null,null,"①申請する機器がホームページ掲載資料の「補助対象機器一覧」に該当するか確認して下さい\n②該当の有無を「機器一覧の掲載有無」のチェックボックスで選択して下さい\n　 ※必要箇所のグレーアウトが解除されます\n【掲載されているを選択した場合】\n　・ホームページ掲載の「補助対象機器一覧」の各ページ左側「交付申請時のコード番号」\n　　（４～５桁の英数字）を確認し「コード番号」に入力して下さい\n　・入力後メーカー名～ソフトのバージョンに申請機器の情報が自動で表示されている事を\n　　確認して下さい\n【掲載されていないを選択した場合】\n　・「申請スキャンツール」に入力欄が表示されますので申請する機器の情報を入力して下さい\n　例：メーカー名●●　型式●●　品番●●　バージョン●●\n③同一事業場で２台申請する際は２台目を空欄にせず上に詰めて入力して下さい",null,null,null,null,null,null,null,null,null,null,null,null,89,"40"]
[50,1,null,null,null,null,null,null,null,"メーカー名",null,null,"名称・型式",null,null,"品　　番",null,null,"ソフトのバージョン",null,null,null,null,null,null,null,null,null,null,null,null,null,null,89,"40"]
[50,1,null,null,null,"１台目","掲載されている　　",null,null,{"$f":"IFERROR(VLOOKUP($I982,補助対象機器一覧0916!$A$1:$E$75,2,FALSE),\"\")","v":""},null,null,{"$f":"IFERROR(VLOOKUP($I982,補助対象機器一覧0916!$A$1:$E$75,3,FALSE),\"\")","v":""},null,null,{"$f":"IFERROR(VLOOKUP($I982,補助対象機器一覧0916!$A$1:$E$75,4,FALSE),\"\")","v":""},null,null,{"$f":"IFERROR(VLOOKUP($I982,補助対象機器一覧0916!$A$1:$E$75,5,FALSE),\"\")","v":""},null,null,null,null,null,null,null,null,null,null,false,null,null,null,89,"40"]
[null,null,null,null,null,null,"掲載されていない ",null,null,null,null,null,null,null,null,null,null,null,null,null,null,null,null,null,null,null,null,null,null,false,null,null,null,89,"40"]
[{"$f":"(50+$B984)-A$72","v":50},1,null,null,null,"２台目","掲載されている　　",null,null,{"$f":"IFERROR(VLOOKUP($I984,補助対象機器一覧0916!$A$1:$E$75,2,FALSE),\"\")","v":""},null,null,{"$f":"IFERROR(VLOOKUP($I984,補助対象機器一覧0916!$A$1:$E$75,3,FALSE),\"\")","v":""},null,null,{"$f":"IFERROR(VLOOKUP($I984,補助対象機器一覧0916!$A$1:$E$75,4,FALSE),\"\")","v":""},null,null,{"$f":"IFERROR(VLOOKUP($I984,補助対象機器一覧0916!$A$1:$E$75,5,FALSE),\"\")","v":""},null,null,null,null,null,null,null,null,null,null,false,null,null,null,89,"40"]
[null,null,null,null,null,null,"掲載されていない ",null,null,null,null,null,null,null,null,null,null,null,null,null,null,null,null,null,null,null,null,null,null,false,null,null,null,89,"40"]
[{"$f":"(50+$B986)-A$72","v":50},1,null,null,null,"３台目","掲載されている　　",null,null,{"$f":"IFERROR(VLOOKUP($I986,補助対象機器一覧0916!$A$1:$E$75,2,FALSE),\"\")","v":""},null,null,{"$f":"IFERROR(VLOOKUP($I986,補助対象機器一覧0916!$A$1:$E$75,3,FALSE),\"\")","v":""},null,null,{"$f":"IFERROR(VLOOKUP($I986,補助対象機器一覧0916!$A$1:$E$75,4,FALSE),\"\")","v":""},null,null,{"$f":"IFERROR(VLOOKUP($I986,補助対象機器一覧0916!$A$1:$E$75,5,FALSE),\"\")","v":""},null,null,null,null,null,null,null,null,null,null,false,null,null,null,89,"40"]
[null,null,null,null,null,null,"掲載されていない ",null,null,null,null,null,null,null,null,null,null,null,null,null,null,null,null,null,null,null,null,null,null,false,null,null,null,89,"40"]
[{"$f":"(50+$B988)-A$72","v":50},1,null,null,null,"申請\n機器","補助事業に要する経費",null,null,null,"スキャンツールの価格",null,null,null,null,"情報端末価格",null,null,null,null,"・「補助事業に要する経費」は補助対象外も含む全ての経費を機器毎に分けて入力して下さい\n・「スキャンツールの価格」は正見積書のスキャンツール単体の価格を機器毎に\n　分けて入力して下さい\n・「情報端末価格」は正見積書の情報端末単体の価格を機器毎に分けて入力して下さい",null,null,null,null,null,null,null,null,null,null,null,null,89,"40"]
[{"$f":"(50+$B989)-A$72","v":50},1,null,null,null,null,null,null,null,null,null,null,null,null,null,null,null,null,null,null,null,null,null,null,null,null,null,null,null,null,null,null,null,89,"40"]
[{"$f":"(50+$B990)-A$72","v":50},1,null,null,null,"１台目",null,null,null,null,null,null,null,null,null,null,null,null,null,null,null,null,null,null,null,null,null,null,null,null,null,{"$f":"G990-SUM(K990:T990)","v":0},null,89,"40"]
[{"$f":"(50+$B991)-A$72","v":50},1,null,null,null,"２台目",null,null,null,null,null,null,null,null,null,null,null,null,null,null,null,null,null,null,null,null,null,null,null,null,null,{"$f":"G991-SUM(K991:T991)","v":0},null,89,"40"]
[{"$f":"(50+$B992)-A$72","v":50},1,null,null,null,"３台目",null,null,null,null,null,null,null,null,null,null,null,null,null,null,null,null,null,null,null,null,null,null,null,null,null,0,null,89,"40"]
[null,null,null,null,null,"補助対象経費",null,null,null,null,"補助率",null,null,null,null,"補助金の額",null,null,null,null,null,null,null,null,null,null,null,null,null,null,null,null,null,89,"40"]
[null,null,null,null,null,{"$f":"(K990+P990)+(K991+P991)+(K992+P992)","v":0},null,null,null,null,{"$f":"IF(G990=\"\",\"\",\"1/3\")","v":""},null,null,null,null,{"$f":"IF($F994<>\"\",IF($F994/3>150000,150000,ROUNDDOWN($F994/3,-3)),\"\")","v":0},null,null,null,null,null,null,null,null,null,null,null,null,null,null,null,null,null,89,"40"]
[{"$f":"(50+$B995)-A$72","v":49},null,null,null,null,null,null,null,null,null,null,null,null,null,null,null,null,null,null,null,null,null,null,null,null,null,null,null,null,null,null,null,null,89,"40"]
[50,1,null,null,"事\n業\n場\n41","認証・指定・認定番号\nまたは、整備士合格証書番号",null,null,null,null,null,null,null,null,null,null,null,null,null,null,"以下のいずれかを入力\n・事業場の認証書の認定番号\n・指定書の指定番号\n・事業場に在籍する整備士の整備士合格証書番号",null,null,null,null,null,null,null,null,null,null,null,null,90,"41",{"$f":"SUM($G1013:$J1015+$G1036:$J1038+$G1059:$J1061+$G1082:$J1084+$G1105:$J1107+$G1128:$J1130+$G1151:$J1153+$G1174:$J1176+$G1197:$J1199+G1220:J1222)","v":0},{"$f":"$F1017+$F1040+$F1063+$F1086+$F1109+$F1132+$F1155+$F1178+$F1201+$F1224","v":0},{"$f":"$P1017+$P1040+$P1063+$P1086+$P1109+$P1132+$P1155+$P1178+$P1201+$P1224","v":0}]
[50,1,null,null,null,null,null,null,null,null,null,null,null,null,null,null,null,null,null,null,null,null,null,null,null,null,null,null,null,null,null,null,null,90,"41"]
[50,1,null,null,null,null,null,null,null,null,null,null,null,null,null,null,null,null,null,null,null,null,null,null,null,null,null,null,null,null,null,null,null,90,"41"]
[50,1,null,null,null,"設備を設置する事業場名",null,null,null,null,null,null,null,null,null,null,null,null,null,null,"漢字平仮名は全角、英数字は半角で入力して下さい",null,null,null,null,null,null,null,null,null,null,null,null,90,"41"]
[50,1,null,null,null,"事業場住所",null,null,"郵便番号",null,null,null,null,null,"都道府県",null,null,null,null,null,"・郵便番号はハイフンは入れず数字７桁で入力して下さい\n・町名は市区町村欄に入力して下さい\n・丁目、番地の表記はハイフンで入力して下さい\n・番地、建物名称が無い場合は入力不要です",null,null,null,null,null,null,null,null,null,null,null,null,90,"41"]
[50,1,null,null,null,null,null,null,"市区町村",null,null,null,null,null,"番地",null,null,null,null,null,null,null,null,null,null,null,null,null,null,null,null,null,null,90,"41"]
[50,1,null,null,null,null,null,null,"建物名称",null,null,null,null,null,null,null,null,null,null,null,null,null,null,null,null,null,null,null,null,null,null,null,null,90,"41"]
[50,1,null,null,null,"申請\n機器","機器一覧の\n掲載有無",null,"コード\n番号","申請スキャンツール",null,null,null,null,null,null,null,null,null,null,"①申請する機器がホームページ掲載資料の「補助対象機器一覧」に該当するか確認して下さい\n②該当の有無を「機器一覧の掲載有無」のチェックボックスで選択して下さい\n　 ※必要箇所のグレーアウトが解除されます\n【掲載されているを選択した場合】\n　・ホームページ掲載の「補助対象機器一覧」の各ページ左側「交付申請時のコード番号」\n　　（４～５桁の英数字）を確認し「コード番号」に入力して下さい\n　・入力後メーカー名～ソフトのバージョンに申請機器の情報が自動で表示されている事を\n　　確認して下さい\n【掲載されていないを選択した場合】\n　・「申請スキャンツール」に入力欄が表示されますので申請する機器の情報を入力して下さい\n　例：メーカー名●●　型式●●　品番●●　バージョン●●\n③同一事業場で２台申請する際は２台目を空欄にせず上に詰めて入力して下さい",null,null,null,null,null,null,null,null,null,null,null,null,90,"41"]
[50,1,null,null,null,null,null,null,null,"メーカー名",null,null,"名称・型式",null,null,"品　　番",null,null,"ソフトのバージョン",null,null,null,null,null,null,null,null,null,null,null,null,null,null,90,"41"]
[50,1,null,null,null,"１台目","掲載されている　　",null,null,{"$f":"IFERROR(VLOOKUP($I1005,補助対象機器一覧0916!$A$1:$E$75,2,FALSE),\"\")","v":""},null,null,{"$f":"IFERROR(VLOOKUP($I1005,補助対象機器一覧0916!$A$1:$E$75,3,FALSE),\"\")","v":""},null,null,{"$f":"IFERROR(VLOOKUP($I1005,補助対象機器一覧0916!$A$1:$E$75,4,FALSE),\"\")","v":""},null,null,{"$f":"IFERROR(VLOOKUP($I1005,補助対象機器一覧0916!$A$1:$E$75,5,FALSE),\"\")","v":""},null,null,null,null,null,null,null,null,null,null,false,null,null,null,90,"41"]
[null,null,null,null,null,null,"掲載されていない ",null,null,null,null,null,null,null,null,null,null,null,null,null,null,null,null,null,null,null,null,null,null,false,null,null,null,90,"41"]
[{"$f":"(50+$B1007)-A$72","v":50},1,null,null,null,"２台目","掲載されている　　",null,null,{"$f":"IFERROR(VLOOKUP($I1007,補助対象機器一覧0916!$A$1:$E$75,2,FALSE),\"\")","v":""},null,null,{"$f":"IFERROR(VLOOKUP($I1007,補助対象機器一覧0916!$A$1:$E$75,3,FALSE),\"\")","v":""},null,null,{"$f":"IFERROR(VLOOKUP($I1007,補助対象機器一覧0916!$A$1:$E$75,4,FALSE),\"\")","v":""},null,null,{"$f":"IFERROR(VLOOKUP($I1007,補助対象機器一覧0916!$A$1:$E$75,5,FALSE),\"\")","v":""},null,null,null,null,null,null,null,null,null,null,false,null,null,null,90,"41"]
[null,null,null,null,null,null,"掲載されていない ",null,null,null,null,null,null,null,null,null,null,null,null,null,null,null,null,null,null,null,null,null,null,false,null,null,null,90,"41"]
[{"$f":"(50+$B1009)-A$72","v":50},1,null,null,null,"３台目","掲載されている　　",null,null,{"$f":"IFERROR(VLOOKUP($I1009,補助対象機器一覧0916!$A$1:$E$75,2,FALSE),\"\")","v":""},null,null,{"$f":"IFERROR(VLOOKUP($I1009,補助対象機器一覧0916!$A$1:$E$75,3,FALSE),\"\")","v":""},null,null,{"$f":"IFERROR(VLOOKUP($I1009,補助対象機器一覧0916!$A$1:$E$75,4,FALSE),\"\")","v":""},null,null,{"$f":"IFERROR(VLOOKUP($I1009,補助対象機器一覧0916!$A$1:$E$75,5,FALSE),\"\")","v":""},null,null,null,null,null,null,null,null,null,null,false,null,null,null,90,"41"]
[null,null,null,null,null,null,"掲載されていない ",null,null,null,null,null,null,null,null,null,null,null,null,null,null,null,null,null,null,null,null,null,null,false,null,null,null,90,"41"]
[{"$f":"(50+$B1011)-A$72","v":50},1,null,null,null,"申請\n機器","補助事業に要する経費",null,null,null,"スキャンツールの価格",null,null,null,null,"情報端末価格",null,null,null,null,"・「補助事業に要する経費」は補助対象外も含む全ての経費を機器毎に分けて入力して下さい\n・「スキャンツールの価格」は正見積書のスキャンツール単体の価格を機器毎に\n　分けて入力して下さい\n・「情報端末価格」は正見積書の情報端末単体の価格を機器毎に分けて入力して下さい",null,null,null,null,null,null,null,null,null,null,null,null,90,"41"]
[{"$f":"(50+$B1012)-A$72","v":50},1,null,null,null,null,null,null,null,null,null,null,null,null,null,null,null,null,null,null,null,null,null,null,null,null,null,null,null,null,null,null,null,90,"41"]
[{"$f":"(50+$B1013)-A$72","v":50},1,null,null,null,"１台目",null,null,null,null,null,null,null,null,null,null,null,null,null,null,null,null,null,null,null,null,null,null,null,null,null,{"$f":"G1013-SUM(K1013:T1013)","v":0},null,90,"41"]
[{"$f":"(50+$B1014)-A$72","v":50},1,null,null,null,"２台目",null,null,null,null,null,null,null,null,null,null,null,null,null,null,null,null,null,null,null,null,null,null,null,null,null,{"$f":"G1014-SUM(K1014:T1014)","v":0},null,90,"41"]
[{"$f":"(50+$B1015)-A$72","v":50},1,null,null,null,"３台目",null,null,null,null,null,null,null,null,null,null,null,null,null,null,null,null,null,null,null,null,null,null,null,null,null,0,null,90,"41"]
[null,null,null,null,null,"補助対象経費",null,null,null,null,"補助率",null,null,null,null,"補助金の額",null,null,null,null,null,null,null,null,null,null,null,null,null,null,null,null,null,90,"41"]
[null,null,null,null,null,{"$f":"(K1013+P1013)+(K1014+P1014)+(K1015+P1015)","v":0},null,null,null,null,{"$f":"IF(G1013=\"\",\"\",\"1/3\")","v":""},null,null,null,null,{"$f":"IF($F1017<>\"\",IF($F1017/3>150000,150000,ROUNDDOWN($F1017/3,-3)),\"\")","v":0},null,null,null,null,null,null,null,null,null,null,null,null,null,null,null,null,null,90,"41"]
[{"$f":"(50+$B1018)-A$72","v":49},null,null,null,null,null,null,null,null,null,null,null,null,null,null,null,null,null,null,null,null,null,null,null,null,null,null,null,null,null,null,null,null,90,"41"]
[50,1,null,null,"事\n業\n場\n42","認証・指定・認定番号\nまたは、整備士合格証書番号",null,null,null,null,null,null,null,null,null,null,null,null,null,null,"以下のいずれかを入力\n・事業場の認証書の認定番号\n・指定書の指定番号\n・事業場に在籍する整備士の整備士合格証書番号",null,null,null,null,null,null,null,null,null,null,null,null,91,"42"]
[50,1,null,null,null,null,null,null,null,null,null,null,null,null,null,null,null,null,null,null,null,null,null,null,null,null,null,null,null,null,null,null,null,91,"42"]
[50,1,null,null,null,null,null,null,null,null,null,null,null,null,null,null,null,null,null,null,null,null,null,null,null,null,null,null,null,null,null,null,null,91,"42"]
[50,1,null,null,null,"設備を設置する事業場名",null,null,null,null,null,null,null,null,null,null,null,null,null,null,"漢字平仮名は全角、英数字は半角で入力して下さい",null,null,null,null,null,null,null,null,null,null,null,null,91,"42"]
[50,1,null,null,null,"事業場住所",null,null,"郵便番号",null,null,null,null,null,"都道府県",null,null,null,null,null,"・郵便番号はハイフンは入れず数字７桁で入力して下さい\n・町名は市区町村欄に入力して下さい\n・丁目、番地の表記はハイフンで入力して下さい\n・番地、建物名称が無い場合は入力不要です",null,null,null,null,null,null,null,null,null,null,null,null,91,"42"]
[50,1,null,null,null,null,null,null,"市区町村",null,null,null,null,null,"番地",null,null,null,null,null,null,null,null,null,null,null,null,null,null,null,null,null,null,91,"42"]
[50,1,null,null,null,null,null,null,"建物名称",null,null,null,null,null,null,null,null,null,null,null,null,null,null,null,null,null,null,null,null,null,null,null,null,91,"42"]
[50,1,null,null,null,"申請\n機器","機器一覧の\n掲載有無",null,"コード\n番号","申請スキャンツール",null,null,null,null,null,null,null,null,null,null,"①申請する機器がホームページ掲載資料の「補助対象機器一覧」に該当するか確認して下さい\n②該当の有無を「機器一覧の掲載有無」のチェックボックスで選択して下さい\n　 ※必要箇所のグレーアウトが解除されます\n【掲載されているを選択した場合】\n　・ホームページ掲載の「補助対象機器一覧」の各ページ左側「交付申請時のコード番号」\n　　（４～５桁の英数字）を確認し「コード番号」に入力して下さい\n　・入力後メーカー名～ソフトのバージョンに申請機器の情報が自動で表示されている事を\n　　確認して下さい\n【掲載されていないを選択した場合】\n　・「申請スキャンツール」に入力欄が表示されますので申請する機器の情報を入力して下さい\n　例：メーカー名●●　型式●●　品番●●　バージョン●●\n③同一事業場で２台申請する際は２台目を空欄にせず上に詰めて入力して下さい",null,null,null,null,null,null,null,null,null,null,null,null,91,"42"]
[50,1,null,null,null,null,null,null,null,"メーカー名",null,null,"名称・型式",null,null,"品　　番",null,null,"ソフトのバージョン",null,null,null,null,null,null,null,null,null,null,null,null,null,null,91,"42"]
[50,1,null,null,null,"１台目","掲載されている　　",null,null,{"$f":"IFERROR(VLOOKUP($I1028,補助対象機器一覧0916!$A$1:$E$75,2,FALSE),\"\")","v":""},null,null,{"$f":"IFERROR(VLOOKUP($I1028,補助対象機器一覧0916!$A$1:$E$75,3,FALSE),\"\")","v":""},null,null,{"$f":"IFERROR(VLOOKUP($I1028,補助対象機器一覧0916!$A$1:$E$75,4,FALSE),\"\")","v":""},null,null,{"$f":"IFERROR(VLOOKUP($I1028,補助対象機器一覧0916!$A$1:$E$75,5,FALSE),\"\")","v":""},null,null,null,null,null,null,null,null,null,null,false,null,null,null,91,"42"]
[null,null,null,null,null,null,"掲載されていない ",null,null,null,null,null,null,null,null,null,null,null,null,null,null,null,null,null,null,null,null,null,null,false,null,null,null,91,"42"]
[{"$f":"(50+$B1030)-A$72","v":50},1,null,null,null,"２台目","掲載されている　　",null,null,{"$f":"IFERROR(VLOOKUP($I1030,補助対象機器一覧0916!$A$1:$E$75,2,FALSE),\"\")","v":""},null,null,{"$f":"IFERROR(VLOOKUP($I1030,補助対象機器一覧0916!$A$1:$E$75,3,FALSE),\"\")","v":""},null,null,{"$f":"IFERROR(VLOOKUP($I1030,補助対象機器一覧0916!$A$1:$E$75,4,FALSE),\"\")","v":""},null,null,{"$f":"IFERROR(VLOOKUP($I1030,補助対象機器一覧0916!$A$1:$E$75,5,FALSE),\"\")","v":""},null,null,null,null,null,null,null,null,null,null,false,null,null,null,91,"42"]
[null,null,null,null,null,null,"掲載されていない ",null,null,null,null,null,null,null,null,null,null,null,null,null,null,null,null,null,null,null,null,null,null,false,null,null,null,91,"42"]
[{"$f":"(50+$B1032)-A$72","v":50},1,null,null,null,"３台目","掲載されている　　",null,null,{"$f":"IFERROR(VLOOKUP($I1032,補助対象機器一覧0916!$A$1:$E$75,2,FALSE),\"\")","v":""},null,null,{"$f":"IFERROR(VLOOKUP($I1032,補助対象機器一覧0916!$A$1:$E$75,3,FALSE),\"\")","v":""},null,null,{"$f":"IFERROR(VLOOKUP($I1032,補助対象機器一覧0916!$A$1:$E$75,4,FALSE),\"\")","v":""},null,null,{"$f":"IFERROR(VLOOKUP($I1032,補助対象機器一覧0916!$A$1:$E$75,5,FALSE),\"\")","v":""},null,null,null,null,null,null,null,null,null,null,false,null,null,null,91,"42"]
[null,null,null,null,null,null,"掲載されていない ",null,null,null,null,null,null,null,null,null,null,null,null,null,null,null,null,null,null,null,null,null,null,false,null,null,null,91,"42"]
[{"$f":"(50+$B1034)-A$72","v":50},1,null,null,null,"申請\n機器","補助事業に要する経費",null,null,null,"スキャンツールの価格",null,null,null,null,"情報端末価格",null,null,null,null,"・「補助事業に要する経費」は補助対象外も含む全ての経費を機器毎に分けて入力して下さい\n・「スキャンツールの価格」は正見積書のスキャンツール単体の価格を機器毎に\n　分けて入力して下さい\n・「情報端末価格」は正見積書の情報端末単体の価格を機器毎に分けて入力して下さい",null,null,null,null,null,null,null,null,null,null,null,null,91,"42"]
[{"$f":"(50+$B1035)-A$72","v":50},1,null,null,null,null,null,null,null,null,null,null,null,null,null,null,null,null,null,null,null,null,null,null,null,null,null,null,null,null,null,null,null,91,"42"]
[{"$f":"(50+$B1036)-A$72","v":50},1,null,null,null,"１台目",null,null,null,null,null,null,null,null,null,null,null,null,null,null,null,null,null,null,null,null,null,null,null,null,null,{"$f":"G1036-SUM(K1036:T1036)","v":0},null,{"$f":"(50+$AI1036)-A$72","v":91},"42"]
[{"$f":"(50+$B1037)-A$72","v":50},1,null,null,null,"２台目",null,null,null,null,null,null,null,null,null,null,null,null,null,null,null,null,null,null,null,null,null,null,null,null,null,{"$f":"G1037-SUM(K1037:T1037)","v":0},null,91,"42"]
[{"$f":"(50+$B1038)-A$72","v":50},1,null,null,null,"３台目",null,null,null,null,null,null,null,null,null,null,null,null,null,null,null,null,null,null,null,null,null,null,null,null,null,0,null,91,"42"]
[null,null,null,null,null,"補助対象経費",null,null,null,null,"補助率",null,null,null,null,"補助金の額",null,null,null,null,null,null,null,null,null,null,null,null,null,null,null,null,null,91,"42"]
[null,null,null,null,null,{"$f":"(K1036+P1036)+(K1037+P1037)+(K1038+P1038)","v":0},null,null,null,null,{"$f":"IF(G1036=\"\",\"\",\"1/3\")","v":""},null,null,null,null,{"$f":"IF($F1040<>\"\",IF($F1040/3>150000,150000,ROUNDDOWN($F1040/3,-3)),\"\")","v":0},null,null,null,null,null,null,null,null,null,null,null,null,null,null,null,null,null,91,"42"]
[{"$f":"(50+$B1041)-A$72","v":49},null,null,null,null,null,null,null,null,null,null,null,null,null,null,null,null,null,null,null,null,null,null,null,null,null,null,null,null,null,null,null,null,91,42]
[50,1,null,null,"事\n業\n場\n43","認証・指定・認定番号\nまたは、整備士合格証書番号",null,null,null,null,null,null,null,null,null,null,null,null,null,null,"以下のいずれかを入力\n・事業場の認証書の認定番号\n・指定書の指定番号\n・事業場に在籍する整備士の整備士合格証書番号",null,null,null,null,null,null,null,null,null,null,null,null,92,"43"]
[50,1,null,null,null,null,null,null,null,null,null,null,null,null,null,null,null,null,null,null,null,null,null,null,null,null,null,null,null,null,null,null,null,92,"43"]
[50,1,null,null,null,null,null,null,null,null,null,null,null,null,null,null,null,null,null,null,null,null,null,null,null,null,null,null,null,null,null,null,null,92,"43"]
[50,1,null,null,null,"設備を設置する事業場名",null,null,null,null,null,null,null,null,null,null,null,null,null,null,"漢字平仮名は全角、英数字は半角で入力して下さい",null,null,null,null,null,null,null,null,null,null,null,null,92,"43"]
[50,1,null,null,null,"事業場住所",null,null,"郵便番号",null,null,null,null,null,"都道府県",null,null,null,null,null,"・郵便番号はハイフンは入れず数字７桁で入力して下さい\n・町名は市区町村欄に入力して下さい\n・丁目、番地の表記はハイフンで入力して下さい\n・番地、建物名称が無い場合は入力不要です",null,null,null,null,null,null,null,null,null,null,null,null,92,"43"]
[50,1,null,null,null,null,null,null,"市区町村",null,null,null,null,null,"番地",null,null,null,null,null,null,null,null,null,null,null,null,null,null,null,null,null,null,92,"43"]
[50,1,null,null,null,null,null,null,"建物名称",null,null,null,null,null,null,null,null,null,null,null,null,null,null,null,null,null,null,null,null,null,null,null,null,92,"43"]
[50,1,null,null,null,"申請\n機器","機器一覧の\n掲載有無",null,"コード\n番号","申請スキャンツール",null,null,null,null,null,null,null,null,null,null,"①申請する機器がホームページ掲載資料の「補助対象機器一覧」に該当するか確認して下さい\n②該当の有無を「機器一覧の掲載有無」のチェックボックスで選択して下さい\n　 ※必要箇所のグレーアウトが解除されます\n【掲載されているを選択した場合】\n　・ホームページ掲載の「補助対象機器一覧」の各ページ左側「交付申請時のコード番号」\n　　（４～５桁の英数字）を確認し「コード番号」に入力して下さい\n　・入力後メーカー名～ソフトのバージョンに申請機器の情報が自動で表示されている事を\n　　確認して下さい\n【掲載されていないを選択した場合】\n　・「申請スキャンツール」に入力欄が表示されますので申請する機器の情報を入力して下さい\n　例：メーカー名●●　型式●●　品番●●　バージョン●●\n③同一事業場で２台申請する際は２台目を空欄にせず上に詰めて入力して下さい",null,null,null,null,null,null,null,null,null,null,null,null,92,"43"]
[50,1,null,null,null,null,null,null,null,"メーカー名",null,null,"名称・型式",null,null,"品　　番",null,null,"ソフトのバージョン",null,null,null,null,null,null,null,null,null,null,null,null,null,null,92,"43"]
[50,1,null,null,null,"１台目","掲載されている　　",null,null,{"$f":"IFERROR(VLOOKUP($I1051,補助対象機器一覧0916!$A$1:$E$75,2,FALSE),\"\")","v":""},null,null,{"$f":"IFERROR(VLOOKUP($I1051,補助対象機器一覧0916!$A$1:$E$75,3,FALSE),\"\")","v":""},null,null,{"$f":"IFERROR(VLOOKUP($I1051,補助対象機器一覧0916!$A$1:$E$75,4,FALSE),\"\")","v":""},null,null,{"$f":"IFERROR(VLOOKUP($I1051,補助対象機器一覧0916!$A$1:$E$75,5,FALSE),\"\")","v":""},null,null,null,null,null,null,null,null,null,null,false,null,null,null,92,"43"]
[null,null,null,null,null,null,"掲載されていない ",null,null,null,null,null,null,null,null,null,null,null,null,null,null,null,null,null,null,null,null,null,null,false,null,null,null,92,"43"]
[{"$f":"(50+$B1053)-A$72","v":50},1,null,null,null,"２台目","掲載されている　　",null,null,{"$f":"IFERROR(VLOOKUP($I1053,補助対象機器一覧0916!$A$1:$E$75,2,FALSE),\"\")","v":""},null,null,{"$f":"IFERROR(VLOOKUP($I1053,補助対象機器一覧0916!$A$1:$E$75,3,FALSE),\"\")","v":""},null,null,{"$f":"IFERROR(VLOOKUP($I1053,補助対象機器一覧0916!$A$1:$E$75,4,FALSE),\"\")","v":""},null,null,{"$f":"IFERROR(VLOOKUP($I1053,補助対象機器一覧0916!$A$1:$E$75,5,FALSE),\"\")","v":""},null,null,null,null,null,null,null,null,null,null,false,null,null,null,92,"43"]
[null,null,null,null,null,null,"掲載されていない ",null,null,null,null,null,null,null,null,null,null,null,null,null,null,null,null,null,null,null,null,null,null,false,null,null,null,92,"43"]
[{"$f":"(50+$B1055)-A$72","v":50},1,null,null,null,"３台目","掲載されている　　",null,null,{"$f":"IFERROR(VLOOKUP($I1055,補助対象機器一覧0916!$A$1:$E$75,2,FALSE),\"\")","v":""},null,null,{"$f":"IFERROR(VLOOKUP($I1055,補助対象機器一覧0916!$A$1:$E$75,3,FALSE),\"\")","v":""},null,null,{"$f":"IFERROR(VLOOKUP($I1055,補助対象機器一覧0916!$A$1:$E$75,4,FALSE),\"\")","v":""},null,null,{"$f":"IFERROR(VLOOKUP($I1055,補助対象機器一覧0916!$A$1:$E$75,5,FALSE),\"\")","v":""},null,null,null,null,null,null,null,null,null,null,false,null,null,null,92,"43"]
[null,null,null,null,null,null,"掲載されていない ",null,null,null,null,null,null,null,null,null,null,null,null,null,null,null,null,null,null,null,null,null,null,false,null,null,null,92,"43"]
[{"$f":"(50+$B1057)-A$72","v":50},1,null,null,null,"申請\n機器","補助事業に要する経費",null,null,null,"スキャンツールの価格",null,null,null,null,"情報端末価格",null,null,null,null,"・「補助事業に要する経費」は補助対象外も含む全ての経費を機器毎に分けて入力して下さい\n・「スキャンツールの価格」は正見積書のスキャンツール単体の価格を機器毎に\n　分けて入力して下さい\n・「情報端末価格」は正見積書の情報端末単体の価格を機器毎に分けて入力して下さい",null,null,null,null,null,null,null,null,null,null,null,null,92,"43"]
[{"$f":"(50+$B1058)-A$72","v":50},1,null,null,null,null,null,null,null,null,null,null,null,null,null,null,null,null,null,null,null,null,null,null,null,null,null,null,null,null,null,null,null,92,"43"]
[{"$f":"(50+$B1059)-A$72","v":50},1,null,null,null,"１台目",null,null,null,null,null,null,null,null,null,null,null,null,null,null,null,null,null,null,null,null,null,null,null,null,null,{"$f":"G1059-SUM(K1059:T1059)","v":0},null,92,"43"]
[{"$f":"(50+$B1060)-A$72","v":50},1,null,null,null,"２台目",null,null,null,null,null,null,null,null,null,null,null,null,null,null,null,null,null,null,null,null,null,null,null,null,null,{"$f":"G1060-SUM(K1060:T1060)","v":0},null,92,"43"]
[{"$f":"(50+$B1061)-A$72","v":50},1,null,null,null,"３台目",null,null,null,null,null,null,null,null,null,null,null,null,null,null,null,null,null,null,null,null,null,null,null,null,null,0,null,92,"43"]
[null,null,null,null,null,"補助対象経費",null,null,null,null,"補助率",null,null,null,null,"補助金の額",null,null,null,null,null,null,null,null,null,null,null,null,null,null,null,null,null,92,"43"]
[null,null,null,null,null,{"$f":"(K1059+P1059)+(K1060+P1060)+(K1061+P1061)","v":0},null,null,null,null,{"$f":"IF(G1059=\"\",\"\",\"1/3\")","v":""},null,null,null,null,{"$f":"IF($F1063<>\"\",IF($F1063/3>150000,150000,ROUNDDOWN($F1063/3,-3)),\"\")","v":0},null,null,null,null,null,null,null,null,null,null,null,null,null,null,null,null,null,92,"43"]
[{"$f":"(50+$B1064)-A$72","v":49},null,null,null,null,null,null,null,null,null,null,null,null,null,null,null,null,null,null,null,null,null,null,null,null,null,null,null,null,null,null,null,null,92,"43"]
[50,1,null,null,"事\n業\n場\n44","認証・指定・認定番号\nまたは、整備士合格証書番号",null,null,null,null,null,null,null,null,null,null,null,null,null,null,"以下のいずれかを入力\n・事業場の認証書の認定番号\n・指定書の指定番号\n・事業場に在籍する整備士の整備士合格証書番号",null,null,null,null,null,null,null,null,null,null,null,null,93,"44"]
[50,1,null,null,null,null,null,null,null,null,null,null,null,null,null,null,null,null,null,null,null,null,null,null,null,null,null,null,null,null,null,null,null,93,"44"]
[50,1,null,null,null,null,null,null,null,null,null,null,null,null,null,null,null,null,null,null,null,null,null,null,null,null,null,null,null,null,null,null,null,93,"44"]
[50,1,null,null,null,"設備を設置する事業場名",null,null,null,null,null,null,null,null,null,null,null,null,null,null,"漢字平仮名は全角、英数字は半角で入力して下さい",null,null,null,null,null,null,null,null,null,null,null,null,93,"44"]
[50,1,null,null,null,"事業場住所",null,null,"郵便番号",null,null,null,null,null,"都道府県",null,null,null,null,null,"・郵便番号はハイフンは入れず数字７桁で入力して下さい\n・町名は市区町村欄に入力して下さい\n・丁目、番地の表記はハイフンで入力して下さい\n・番地、建物名称が無い場合は入力不要です",null,null,null,null,null,null,null,null,null,null,null,null,93,"44"]
[50,1,null,null,null,null,null,null,"市区町村",null,null,null,null,null,"番地",null,null,null,null,null,null,null,null,null,null,null,null,null,null,null,null,null,null,93,"44"]
[50,1,null,null,null,null,null,null,"建物名称",null,null,null,null,null,null,null,null,null,null,null,null,null,null,null,null,null,null,null,null,null,null,null,null,93,"44"]
[50,1,null,null,null,"申請\n機器","機器一覧の\n掲載有無",null,"コード\n番号","申請スキャンツール",null,null,null,null,null,null,null,null,null,null,"①申請する機器がホームページ掲載資料の「補助対象機器一覧」に該当するか確認して下さい\n②該当の有無を「機器一覧の掲載有無」のチェックボックスで選択して下さい\n　 ※必要箇所のグレーアウトが解除されます\n【掲載されているを選択した場合】\n　・ホームページ掲載の「補助対象機器一覧」の各ページ左側「交付申請時のコード番号」\n　　（４～５桁の英数字）を確認し「コード番号」に入力して下さい\n　・入力後メーカー名～ソフトのバージョンに申請機器の情報が自動で表示されている事を\n　　確認して下さい\n【掲載されていないを選択した場合】\n　・「申請スキャンツール」に入力欄が表示されますので申請する機器の情報を入力して下さい\n　例：メーカー名●●　型式●●　品番●●　バージョン●●\n③同一事業場で２台申請する際は２台目を空欄にせず上に詰めて入力して下さい",null,null,null,null,null,null,null,null,null,null,null,null,93,"44"]
[50,1,null,null,null,null,null,null,null,"メーカー名",null,null,"名称・型式",null,null,"品　　番",null,null,"ソフトのバージョン",null,null,null,null,null,null,null,null,null,null,null,null,null,null,93,"44"]
[50,1,null,null,null,"１台目","掲載されている　　",null,null,{"$f":"IFERROR(VLOOKUP($I1074,補助対象機器一覧0916!$A$1:$E$75,2,FALSE),\"\")","v":""},null,null,{"$f":"IFERROR(VLOOKUP($I1074,補助対象機器一覧0916!$A$1:$E$75,3,FALSE),\"\")","v":""},null,null,{"$f":"IFERROR(VLOOKUP($I1074,補助対象機器一覧0916!$A$1:$E$75,4,FALSE),\"\")","v":""},null,null,{"$f":"IFERROR(VLOOKUP($I1074,補助対象機器一覧0916!$A$1:$E$75,5,FALSE),\"\")","v":""},null,null,null,null,null,null,null,null,null,null,false,null,null,null,93,"44"]
[null,null,null,null,null,null,"掲載されていない ",null,null,null,null,null,null,null,null,null,null,null,null,null,null,null,null,null,null,null,null,null,null,false,null,null,null,93,"44"]
[{"$f":"(50+$B1076)-A$72","v":50},1,null,null,null,"２台目","掲載されている　　",null,null,{"$f":"IFERROR(VLOOKUP($I1076,補助対象機器一覧0916!$A$1:$E$75,2,FALSE),\"\")","v":""},null,null,{"$f":"IFERROR(VLOOKUP($I1076,補助対象機器一覧0916!$A$1:$E$75,3,FALSE),\"\")","v":""},null,null,{"$f":"IFERROR(VLOOKUP($I1076,補助対象機器一覧0916!$A$1:$E$75,4,FALSE),\"\")","v":""},null,null,{"$f":"IFERROR(VLOOKUP($I1076,補助対象機器一覧0916!$A$1:$E$75,5,FALSE),\"\")","v":""},null,null,null,null,null,null,null,null,null,null,false,null,null,null,93,"44"]
[null,null,null,null,null,null,"掲載されていない ",null,null,null,null,null,null,null,null,null,null,null,null,null,null,null,null,null,null,null,null,null,null,false,null,null,null,93,"44"]
[{"$f":"(50+$B1078)-A$72","v":50},1,null,null,null,"３台目","掲載されている　　",null,null,{"$f":"IFERROR(VLOOKUP($I1078,補助対象機器一覧0916!$A$1:$E$75,2,FALSE),\"\")","v":""},null,null,{"$f":"IFERROR(VLOOKUP($I1078,補助対象機器一覧0916!$A$1:$E$75,3,FALSE),\"\")","v":""},null,null,{"$f":"IFERROR(VLOOKUP($I1078,補助対象機器一覧0916!$A$1:$E$75,4,FALSE),\"\")","v":""},null,null,{"$f":"IFERROR(VLOOKUP($I1078,補助対象機器一覧0916!$A$1:$E$75,5,FALSE),\"\")","v":""},null,null,null,null,null,null,null,null,null,null,false,null,null,null,93,"44"]
[null,null,null,null,null,null,"掲載されていない ",null,null,null,null,null,null,null,null,null,null,null,null,null,null,null,null,null,null,null,null,null,null,false,null,null,null,93,"44"]
[{"$f":"(50+$B1080)-A$72","v":50},1,null,null,null,"申請\n機器","補助事業に要する経費",null,null,null,"スキャンツールの価格",null,null,null,null,"情報端末価格",null,null,null,null,"・「補助事業に要する経費」は補助対象外も含む全ての経費を機器毎に分けて入力して下さい\n・「スキャンツールの価格」は正見積書のスキャンツール単体の価格を機器毎に\n　分けて入力して下さい\n・「情報端末価格」は正見積書の情報端末単体の価格を機器毎に分けて入力して下さい",null,null,null,null,null,null,null,null,null,null,null,null,93,"44"]
[{"$f":"(50+$B1081)-A$72","v":50},1,null,null,null,null,null,null,null,null,null,null,null,null,null,null,null,null,null,null,null,null,null,null,null,null,null,null,null,null,null,null,null,93,"44"]
[{"$f":"(50+$B1082)-A$72","v":50},1,null,null,null,"１台目",null,null,null,null,null,null,null,null,null,null,null,null,null,null,null,null,null,null,null,null,null,null,null,null,null,{"$f":"G1082-SUM(K1082:T1082)","v":0},null,93,"44"]
[{"$f":"(50+$B1083)-A$72","v":50},1,null,null,null,"２台目",null,null,null,null,null,null,null,null,null,null,null,null,null,null,null,null,null,null,null,null,null,null,null,null,null,{"$f":"G1083-SUM(K1083:T1083)","v":0},null,93,"44"]
[{"$f":"(50+$B1084)-A$72","v":50},1,null,null,null,"３台目",null,null,null,null,null,null,null,null,null,null,null,null,null,null,null,null,null,null,null,null,null,null,null,null,null,0,null,93,"44"]
[null,null,null,null,null,"補助対象経費",null,null,null,null,"補助率",null,null,null,null,"補助金の額",null,null,null,null,null,null,null,null,null,null,null,null,null,null,null,null,null,93,"44"]
[null,null,null,null,null,{"$f":"(K1082+P1082)+(K1083+P1083)+(K1084+P1084)","v":0},null,null,null,null,{"$f":"IF(G1082=\"\",\"\",\"1/3\")","v":""},null,null,null,null,{"$f":"IF($F1086<>\"\",IF($F1086/3>150000,150000,ROUNDDOWN($F1086/3,-3)),\"\")","v":0},null,null,null,null,null,null,null,null,null,null,null,null,null,null,null,null,null,93,"44"]
[{"$f":"(50+$B1087)-A$72","v":49},null,null,null,null,null,null,null,null,null,null,null,null,null,null,null,null,null,null,null,null,null,null,null,null,null,null,null,null,null,null,null,null,93,"44"]
[50,1,null,null,"事\n業\n場\n45","認証・指定・認定番号\nまたは、整備士合格証書番号",null,null,null,null,null,null,null,null,null,null,null,null,null,null,"以下のいずれかを入力\n・事業場の認証書の認定番号\n・指定書の指定番号\n・事業場に在籍する整備士の整備士合格証書番号",null,null,null,null,null,null,null,null,null,null,null,null,94,"45"]
[50,1,null,null,null,null,null,null,null,null,null,null,null,null,null,null,null,null,null,null,null,null,null,null,null,null,null,null,null,null,null,null,null,94,"45"]
[50,1,null,null,null,null,null,null,null,null,null,null,null,null,null,null,null,null,null,null,null,null,null,null,null,null,null,null,null,null,null,null,null,94,"45"]
[50,1,null,null,null,"設備を設置する事業場名",null,null,null,null,null,null,null,null,null,null,null,null,null,null,"漢字平仮名は全角、英数字は半角で入力して下さい",null,null,null,null,null,null,null,null,null,null,null,null,94,"45"]
[50,1,null,null,null,"事業場住所",null,null,"郵便番号",null,null,null,null,null,"都道府県",null,null,null,null,null,"・郵便番号はハイフンは入れず数字７桁で入力して下さい\n・町名は市区町村欄に入力して下さい\n・丁目、番地の表記はハイフンで入力して下さい\n・番地、建物名称が無い場合は入力不要です",null,null,null,null,null,null,null,null,null,null,null,null,94,"45"]
[50,1,null,null,null,null,null,null,"市区町村",null,null,null,null,null,"番地",null,null,null,null,null,null,null,null,null,null,null,null,null,null,null,null,null,null,94,"45"]
[50,1,null,null,null,null,null,null,"建物名称",null,null,null,null,null,null,null,null,null,null,null,null,null,null,null,null,null,null,null,null,null,null,null,null,94,"45"]
[50,1,null,null,null,"申請\n機器","機器一覧の\n掲載有無",null,"コード\n番号","申請スキャンツール",null,null,null,null,null,null,null,null,null,null,"①申請する機器がホームページ掲載資料の「補助対象機器一覧」に該当するか確認して下さい\n②該当の有無を「機器一覧の掲載有無」のチェックボックスで選択して下さい\n　 ※必要箇所のグレーアウトが解除されます\n【掲載されているを選択した場合】\n　・ホームページ掲載の「補助対象機器一覧」の各ページ左側「交付申請時のコード番号」\n　　（４～５桁の英数字）を確認し「コード番号」に入力して下さい\n　・入力後メーカー名～ソフトのバージョンに申請機器の情報が自動で表示されている事を\n　　確認して下さい\n【掲載されていないを選択した場合】\n　・「申請スキャンツール」に入力欄が表示されますので申請する機器の情報を入力して下さい\n　例：メーカー名●●　型式●●　品番●●　バージョン●●\n③同一事業場で２台申請する際は２台目を空欄にせず上に詰めて入力して下さい",null,null,null,null,null,null,null,null,null,null,null,null,94,"45"]
[50,1,null,null,null,null,null,null,null,"メーカー名",null,null,"名称・型式",null,null,"品　　番",null,null,"ソフトのバージョン",null,null,null,null,null,null,null,null,null,null,null,null,null,null,94,"45"]
[50,1,null,null,null,"１台目","掲載されている　　",null,null,{"$f":"IFERROR(VLOOKUP($I1097,補助対象機器一覧0916!$A$1:$E$75,2,FALSE),\"\")","v":""},null,null,{"$f":"IFERROR(VLOOKUP($I1097,補助対象機器一覧0916!$A$1:$E$75,3,FALSE),\"\")","v":""},null,null,{"$f":"IFERROR(VLOOKUP($I1097,補助対象機器一覧0916!$A$1:$E$75,4,FALSE),\"\")","v":""},null,null,{"$f":"IFERROR(VLOOKUP($I1097,補助対象機器一覧0916!$A$1:$E$75,5,FALSE),\"\")","v":""},null,null,null,null,null,null,null,null,null,null,false,null,null,null,94,"45"]
[null,null,null,null,null,null,"掲載されていない ",null,null,null,null,null,null,null,null,null,null,null,null,null,null,null,null,null,null,null,null,null,null,false,null,null,null,94,"45"]
[{"$f":"(50+$B1099)-A$72","v":50},1,null,null,null,"２台目","掲載されている　　",null,null,{"$f":"IFERROR(VLOOKUP($I1099,補助対象機器一覧0916!$A$1:$E$75,2,FALSE),\"\")","v":""},null,null,{"$f":"IFERROR(VLOOKUP($I1099,補助対象機器一覧0916!$A$1:$E$75,3,FALSE),\"\")","v":""},null,null,{"$f":"IFERROR(VLOOKUP($I1099,補助対象機器一覧0916!$A$1:$E$75,4,FALSE),\"\")","v":""},null,null,{"$f":"IFERROR(VLOOKUP($I1099,補助対象機器一覧0916!$A$1:$E$75,5,FALSE),\"\")","v":""},null,null,null,null,null,null,null,null,null,null,false,null,null,null,94,"45"]
[null,null,null,null,null,null,"掲載されていない ",null,null,null,null,null,null,null,null,null,null,null,null,null,null,null,null,null,null,null,null,null,null,false,null,null,null,{"$f":"(50+$AI1100)-A$72","v":94},"45"]
[{"$f":"(50+$B1101)-A$72","v":50},1,null,null,null,"３台目","掲載されている　　",null,null,{"$f":"IFERROR(VLOOKUP($I1101,補助対象機器一覧0916!$A$1:$E$75,2,FALSE),\"\")","v":""},null,null,{"$f":"IFERROR(VLOOKUP($I1101,補助対象機器一覧0916!$A$1:$E$75,3,FALSE),\"\")","v":""},null,null,{"$f":"IFERROR(VLOOKUP($I1101,補助対象機器一覧0916!$A$1:$E$75,4,FALSE),\"\")","v":""},null,null,{"$f":"IFERROR(VLOOKUP($I1101,補助対象機器一覧0916!$A$1:$E$75,5,FALSE),\"\")","v":""},null,null,null,null,null,null,null,null,null,null,false,null,null,null,94,"45"]
[null,null,null,null,null,null,"掲載されていない ",null,null,null,null,null,null,null,null,null,null,null,null,null,null,null,null,null,null,null,null,null,null,false,null,null,null,94,"45"]
[{"$f":"(50+$B1103)-A$72","v":50},1,null,null,null,"申請\n機器","補助事業に要する経費",null,null,null,"スキャンツールの価格",null,null,null,null,"情報端末価格",null,null,null,null,"・「補助事業に要する経費」は補助対象外も含む全ての経費を機器毎に分けて入力して下さい\n・「スキャンツールの価格」は正見積書のスキャンツール単体の価格を機器毎に\n　分けて入力して下さい\n・「情報端末価格」は正見積書の情報端末単体の価格を機器毎に分けて入力して下さい",null,null,null,null,null,null,null,null,null,null,null,null,94,"45"]
[{"$f":"(50+$B1104)-A$72","v":50},1,null,null,null,null,null,null,null,null,null,null,null,null,null,null,null,null,null,null,null,null,null,null,null,null,null,null,null,null,null,null,null,94,"45"]
[{"$f":"(50+$B1105)-A$72","v":50},1,null,null,null,"１台目",null,null,null,null,null,null,null,null,null,null,null,null,null,null,null,null,null,null,null,null,null,null,null,null,null,{"$f":"G1105-SUM(K1105:T1105)","v":0},null,94,"45"]
[{"$f":"(50+$B1106)-A$72","v":50},1,null,null,null,"２台目",null,null,null,null,null,null,null,null,null,null,null,null,null,null,null,null,null,null,null,null,null,null,null,null,null,{"$f":"G1106-SUM(K1106:T1106)","v":0},null,94,"45"]
[{"$f":"(50+$B1107)-A$72","v":50},1,null,null,null,"３台目",null,null,null,null,null,null,null,null,null,null,null,null,null,null,null,null,null,null,null,null,null,null,null,null,null,0,null,94,"45"]
[null,null,null,null,null,"補助対象経費",null,null,null,null,"補助率",null,null,null,null,"補助金の額",null,null,null,null,null,null,null,null,null,null,null,null,null,null,null,null,null,94,"45"]
[null,null,null,null,null,{"$f":"(K1105+P1105)+(K1106+P1106)+(K1107+P1107)","v":0},null,null,null,null,{"$f":"IF(G1105=\"\",\"\",\"1/3\")","v":""},null,null,null,null,{"$f":"IF($F1109<>\"\",IF($F1109/3>150000,150000,ROUNDDOWN($F1109/3,-3)),\"\")","v":0},null,null,null,null,null,null,null,null,null,null,null,null,null,null,null,null,null,94,"45"]
[{"$f":"(50+$B1110)-A$72","v":49},null,null,null,null,null,null,null,null,null,null,null,null,null,null,null,null,null,null,null,null,null,null,null,null,null,null,null,null,null,null,null,null,94,"45"]
[50,1,null,null,"事\n業\n場\n46","認証・指定・認定番号\nまたは、整備士合格証書番号",null,null,null,null,null,null,null,null,null,null,null,null,null,null,"以下のいずれかを入力\n・事業場の認証書の認定番号\n・指定書の指定番号\n・事業場に在籍する整備士の整備士合格証書番号",null,null,null,null,null,null,null,null,null,null,null,null,95,"46"]
[50,1,null,null,null,null,null,null,null,null,null,null,null,null,null,null,null,null,null,null,null,null,null,null,null,null,null,null,null,null,null,null,null,95,"46"]
[50,1,null,null,null,null,null,null,null,null,null,null,null,null,null,null,null,null,null,null,null,null,null,null,null,null,null,null,null,null,null,null,null,95,"46"]
[50,1,null,null,null,"設備を設置する事業場名",null,null,null,null,null,null,null,null,null,null,null,null,null,null,"漢字平仮名は全角、英数字は半角で入力して下さい",null,null,null,null,null,null,null,null,null,null,null,null,95,"46"]
[50,1,null,null,null,"事業場住所",null,null,"郵便番号",null,null,null,null,null,"都道府県",null,null,null,null,null,"・郵便番号はハイフンは入れず数字７桁で入力して下さい\n・町名は市区町村欄に入力して下さい\n・丁目、番地の表記はハイフンで入力して下さい\n・番地、建物名称が無い場合は入力不要です",null,null,null,null,null,null,null,null,null,null,null,null,95,"46"]
[50,1,null,null,null,null,null,null,"市区町村",null,null,null,null,null,"番地",null,null,null,null,null,null,null,null,null,null,null,null,null,null,null,null,null,null,95,"46"]
[50,1,null,null,null,null,null,null,"建物名称",null,null,null,null,null,null,null,null,null,null,null,null,null,null,null,null,null,null,null,null,null,null,null,null,95,"46"]
[50,1,null,null,null,"申請\n機器","機器一覧の\n掲載有無",null,"コード\n番号","申請スキャンツール",null,null,null,null,null,null,null,null,null,null,"①申請する機器がホームページ掲載資料の「補助対象機器一覧」に該当するか確認して下さい\n②該当の有無を「機器一覧の掲載有無」のチェックボックスで選択して下さい\n　 ※必要箇所のグレーアウトが解除されます\n【掲載されているを選択した場合】\n　・ホームページ掲載の「補助対象機器一覧」の各ページ左側「交付申請時のコード番号」\n　　（４～５桁の英数字）を確認し「コード番号」に入力して下さい\n　・入力後メーカー名～ソフトのバージョンに申請機器の情報が自動で表示されている事を\n　　確認して下さい\n【掲載されていないを選択した場合】\n　・「申請スキャンツール」に入力欄が表示されますので申請する機器の情報を入力して下さい\n　例：メーカー名●●　型式●●　品番●●　バージョン●●\n③同一事業場で２台申請する際は２台目を空欄にせず上に詰めて入力して下さい",null,null,null,null,null,null,null,null,null,null,null,null,95,"46"]
[50,1,null,null,null,null,null,null,null,"メーカー名",null,null,"名称・型式",null,null,"品　　番",null,null,"ソフトのバージョン",null,null,null,null,null,null,null,null,null,null,null,null,null,null,95,"46"]
[50,1,null,null,null,"１台目","掲載されている　　",null,null,{"$f":"IFERROR(VLOOKUP($I1120,補助対象機器一覧0916!$A$1:$E$75,2,FALSE),\"\")","v":""},null,null,{"$f":"IFERROR(VLOOKUP($I1120,補助対象機器一覧0916!$A$1:$E$75,3,FALSE),\"\")","v":""},null,null,{"$f":"IFERROR(VLOOKUP($I1120,補助対象機器一覧0916!$A$1:$E$75,4,FALSE),\"\")","v":""},null,null,{"$f":"IFERROR(VLOOKUP($I1120,補助対象機器一覧0916!$A$1:$E$75,5,FALSE),\"\")","v":""},null,null,null,null,null,null,null,null,null,null,false,null,null,null,95,"46"]
[null,null,null,null,null,null,"掲載されていない ",null,null,null,null,null,null,null,null,null,null,null,null,null,null,null,null,null,null,null,null,null,null,false,null,null,null,95,"46"]
[{"$f":"(50+$B1122)-A$72","v":50},1,null,null,null,"２台目","掲載されている　　",null,null,{"$f":"IFERROR(VLOOKUP($I1122,補助対象機器一覧0916!$A$1:$E$75,2,FALSE),\"\")","v":""},null,null,{"$f":"IFERROR(VLOOKUP($I1122,補助対象機器一覧0916!$A$1:$E$75,3,FALSE),\"\")","v":""},null,null,{"$f":"IFERROR(VLOOKUP($I1122,補助対象機器一覧0916!$A$1:$E$75,4,FALSE),\"\")","v":""},null,null,{"$f":"IFERROR(VLOOKUP($I1122,補助対象機器一覧0916!$A$1:$E$75,5,FALSE),\"\")","v":""},null,null,null,null,null,null,null,null,null,null,false,null,null,null,95,"46"]
[null,null,null,null,null,null,"掲載されていない ",null,null,null,null,null,null,null,null,null,null,null,null,null,null,null,null,null,null,null,null,null,null,false,null,null,null,95,"46"]
[{"$f":"(50+$B1124)-A$72","v":50},1,null,null,null,"３台目","掲載されている　　",null,null,{"$f":"IFERROR(VLOOKUP($I1124,補助対象機器一覧0916!$A$1:$E$75,2,FALSE),\"\")","v":""},null,null,{"$f":"IFERROR(VLOOKUP($I1124,補助対象機器一覧0916!$A$1:$E$75,3,FALSE),\"\")","v":""},null,null,{"$f":"IFERROR(VLOOKUP($I1124,補助対象機器一覧0916!$A$1:$E$75,4,FALSE),\"\")","v":""},null,null,{"$f":"IFERROR(VLOOKUP($I1124,補助対象機器一覧0916!$A$1:$E$75,5,FALSE),\"\")","v":""},null,null,null,null,null,null,null,null,null,null,false,null,null,null,95,"46"]
[null,null,null,null,null,null,"掲載されていない ",null,null,null,null,null,null,null,null,null,null,null,null,null,null,null,null,null,null,null,null,null,null,false,null,null,null,95,"46"]
[{"$f":"(50+$B1126)-A$72","v":50},1,null,null,null,"申請\n機器","補助事業に要する経費",null,null,null,"スキャンツールの価格",null,null,null,null,"情報端末価格",null,null,null,null,"・「補助事業に要する経費」は補助対象外も含む全ての経費を機器毎に分けて入力して下さい\n・「スキャンツールの価格」は正見積書のスキャンツール単体の価格を機器毎に\n　分けて入力して下さい\n・「情報端末価格」は正見積書の情報端末単体の価格を機器毎に分けて入力して下さい",null,null,null,null,null,null,null,null,null,null,null,null,95,"46"]
[{"$f":"(50+$B1127)-A$72","v":50},1,null,null,null,null,null,null,null,null,null,null,null,null,null,null,null,null,null,null,null,null,null,null,null,null,null,null,null,null,null,null,null,95,"46"]
[{"$f":"(50+$B1128)-A$72","v":50},1,null,null,null,"１台目",null,null,null,null,null,null,null,null,null,null,null,null,null,null,null,null,null,null,null,null,null,null,null,null,null,{"$f":"G1128-SUM(K1128:T1128)","v":0},null,95,"46"]
[{"$f":"(50+$B1129)-A$72","v":50},1,null,null,null,"２台目",null,null,null,null,null,null,null,null,null,null,null,null,null,null,null,null,null,null,null,null,null,null,null,null,null,{"$f":"G1129-SUM(K1129:T1129)","v":0},null,95,"46"]
[{"$f":"(50+$B1130)-A$72","v":50},1,null,null,null,"３台目",null,null,null,null,null,null,null,null,null,null,null,null,null,null,null,null,null,null,null,null,null,null,null,null,null,0,null,95,"46"]
[null,null,null,null,null,"補助対象経費",null,null,null,null,"補助率",null,null,null,null,"補助金の額",null,null,null,null,null,null,null,null,null,null,null,null,null,null,null,null,null,95,"46"]
[null,null,null,null,null,{"$f":"(K1128+P1128)+(K1129+P1129)+(K1130+P1130)","v":0},null,null,null,null,{"$f":"IF(G1128=\"\",\"\",\"1/3\")","v":""},null,null,null,null,{"$f":"IF($F1132<>\"\",IF($F1132/3>150000,150000,ROUNDDOWN($F1132/3,-3)),\"\")","v":0},null,null,null,null,null,null,null,null,null,null,null,null,null,null,null,null,null,95,"46"]
[{"$f":"(50+$B1133)-A$72","v":49},null,null,null,null,null,null,null,null,null,null,null,null,null,null,null,null,null,null,null,null,null,null,null,null,null,null,null,null,null,null,null,null,95,"46"]
[50,1,null,null,"事\n業\n場\n47","認証・指定・認定番号\nまたは、整備士合格証書番号",null,null,null,null,null,null,null,null,null,null,null,null,null,null,"以下のいずれかを入力\n・事業場の認証書の認定番号\n・指定書の指定番号\n・事業場に在籍する整備士の整備士合格証書番号",null,null,null,null,null,null,null,null,null,null,null,null,96,"47"]
[50,1,null,null,null,null,null,null,null,null,null,null,null,null,null,null,null,null,null,null,null,null,null,null,null,null,null,null,null,null,null,null,null,96,"47"]
[50,1,null,null,null,null,null,null,null,null,null,null,null,null,null,null,null,null,null,null,null,null,null,null,null,null,null,null,null,null,null,null,null,96,"47"]
[50,1,null,null,null,"設備を設置する事業場名",null,null,null,null,null,null,null,null,null,null,null,null,null,null,"漢字平仮名は全角、英数字は半角で入力して下さい",null,null,null,null,null,null,null,null,null,null,null,null,96,"47"]
[50,1,null,null,null,"事業場住所",null,null,"郵便番号",null,null,null,null,null,"都道府県",null,null,null,null,null,"・郵便番号はハイフンは入れず数字７桁で入力して下さい\n・町名は市区町村欄に入力して下さい\n・丁目、番地の表記はハイフンで入力して下さい\n・番地、建物名称が無い場合は入力不要です",null,null,null,null,null,null,null,null,null,null,null,null,96,"47"]
[50,1,null,null,null,null,null,null,"市区町村",null,null,null,null,null,"番地",null,null,null,null,null,null,null,null,null,null,null,null,null,null,null,null,null,null,96,"47"]
[50,1,null,null,null,null,null,null,"建物名称",null,null,null,null,null,null,null,null,null,null,null,null,null,null,null,null,null,null,null,null,null,null,null,null,96,"47"]
[50,1,null,null,null,"申請\n機器","機器一覧の\n掲載有無",null,"コード\n番号","申請スキャンツール",null,null,null,null,null,null,null,null,null,null,"①申請する機器がホームページ掲載資料の「補助対象機器一覧」に該当するか確認して下さい\n②該当の有無を「機器一覧の掲載有無」のチェックボックスで選択して下さい\n　 ※必要箇所のグレーアウトが解除されます\n【掲載されているを選択した場合】\n　・ホームページ掲載の「補助対象機器一覧」の各ページ左側「交付申請時のコード番号」\n　　（４～５桁の英数字）を確認し「コード番号」に入力して下さい\n　・入力後メーカー名～ソフトのバージョンに申請機器の情報が自動で表示されている事を\n　　確認して下さい\n【掲載されていないを選択した場合】\n　・「申請スキャンツール」に入力欄が表示されますので申請する機器の情報を入力して下さい\n　例：メーカー名●●　型式●●　品番●●　バージョン●●\n③同一事業場で２台申請する際は２台目を空欄にせず上に詰めて入力して下さい",null,null,null,null,null,null,null,null,null,null,null,null,96,"47"]
[50,1,null,null,null,null,null,null,null,"メーカー名",null,null,"名称・型式",null,null,"品　　番",null,null,"ソフトのバージョン",null,null,null,null,null,null,null,null,null,null,null,null,null,null,96,"47"]
[50,1,null,null,null,"１台目","掲載されている　　",null,null,{"$f":"IFERROR(VLOOKUP($I1143,補助対象機器一覧0916!$A$1:$E$75,2,FALSE),\"\")","v":""},null,null,{"$f":"IFERROR(VLOOKUP($I1143,補助対象機器一覧0916!$A$1:$E$75,3,FALSE),\"\")","v":""},null,null,{"$f":"IFERROR(VLOOKUP($I1143,補助対象機器一覧0916!$A$1:$E$75,4,FALSE),\"\")","v":""},null,null,{"$f":"IFERROR(VLOOKUP($I1143,補助対象機器一覧0916!$A$1:$E$75,5,FALSE),\"\")","v":""},null,null,null,null,null,null,null,null,null,null,false,null,null,null,96,"47"]
[null,null,null,null,null,null,"掲載されていない ",null,null,null,null,null,null,null,null,null,null,null,null,null,null,null,null,null,null,null,null,null,null,false,null,null,null,96,"47"]
[{"$f":"(50+$B1145)-A$72","v":50},1,null,null,null,"２台目","掲載されている　　",null,null,{"$f":"IFERROR(VLOOKUP($I1145,補助対象機器一覧0916!$A$1:$E$75,2,FALSE),\"\")","v":""},null,null,{"$f":"IFERROR(VLOOKUP($I1145,補助対象機器一覧0916!$A$1:$E$75,3,FALSE),\"\")","v":""},null,null,{"$f":"IFERROR(VLOOKUP($I1145,補助対象機器一覧0916!$A$1:$E$75,4,FALSE),\"\")","v":""},null,null,{"$f":"IFERROR(VLOOKUP($I1145,補助対象機器一覧0916!$A$1:$E$75,5,FALSE),\"\")","v":""},null,null,null,null,null,null,null,null,null,null,false,null,null,null,96,"47"]
[null,null,null,null,null,null,"掲載されていない ",null,null,null,null,null,null,null,null,null,null,null,null,null,null,null,null,null,null,null,null,null,null,false,null,null,null,96,"47"]
[{"$f":"(50+$B1147)-A$72","v":50},1,null,null,null,"３台目","掲載されている　　",null,null,{"$f":"IFERROR(VLOOKUP($I1147,補助対象機器一覧0916!$A$1:$E$75,2,FALSE),\"\")","v":""},null,null,{"$f":"IFERROR(VLOOKUP($I1147,補助対象機器一覧0916!$A$1:$E$75,3,FALSE),\"\")","v":""},null,null,{"$f":"IFERROR(VLOOKUP($I1147,補助対象機器一覧0916!$A$1:$E$75,4,FALSE),\"\")","v":""},null,null,{"$f":"IFERROR(VLOOKUP($I1147,補助対象機器一覧0916!$A$1:$E$75,5,FALSE),\"\")","v":""},null,null,null,null,null,null,null,null,null,null,false,null,null,null,96,"47"]
[null,null,null,null,null,null,"掲載されていない ",null,null,null,null,null,null,null,null,null,null,null,null,null,null,null,null,null,null,null,null,null,null,false,null,null,null,96,"47"]
[{"$f":"(50+$B1149)-A$72","v":50},1,null,null,null,"申請\n機器","補助事業に要する経費",null,null,null,"スキャンツールの価格",null,null,null,null,"情報端末価格",null,null,null,null,"・「補助事業に要する経費」は補助対象外も含む全ての経費を機器毎に分けて入力して下さい\n・「スキャンツールの価格」は正見積書のスキャンツール単体の価格を機器毎に\n　分けて入力して下さい\n・「情報端末価格」は正見積書の情報端末単体の価格を機器毎に分けて入力して下さい",null,null,null,null,null,null,null,null,null,null,null,null,96,"47"]
[{"$f":"(50+$B1150)-A$72","v":50},1,null,null,null,null,null,null,null,null,null,null,null,null,null,null,null,null,null,null,null,null,null,null,null,null,null,null,null,null,null,null,null,96,"47"]
[{"$f":"(50+$B1151)-A$72","v":50},1,null,null,null,"１台目",null,null,null,null,null,null,null,null,null,null,null,null,null,null,null,null,null,null,null,null,null,null,null,null,null,{"$f":"G1151-SUM(K1151:T1151)","v":0},null,96,"47"]
[{"$f":"(50+$B1152)-A$72","v":50},1,null,null,null,"２台目",null,null,null,null,null,null,null,null,null,null,null,null,null,null,null,null,null,null,null,null,null,null,null,null,null,{"$f":"G1152-SUM(K1152:T1152)","v":0},null,96,"47"]
[{"$f":"(50+$B1153)-A$72","v":50},1,null,null,null,"３台目",null,null,null,null,null,null,null,null,null,null,null,null,null,null,null,null,null,null,null,null,null,null,null,null,null,0,null,96,"47"]
[null,null,null,null,null,"補助対象経費",null,null,null,null,"補助率",null,null,null,null,"補助金の額",null,null,null,null,null,null,null,null,null,null,null,null,null,null,null,null,null,96,"47"]
[null,null,null,null,null,{"$f":"(K1151+P1151)+(K1152+P1152)+(K1153+P1153)","v":0},null,null,null,null,{"$f":"IF(G1151=\"\",\"\",\"1/3\")","v":""},null,null,null,null,{"$f":"IF($F1155<>\"\",IF($F1155/3>150000,150000,ROUNDDOWN($F1155/3,-3)),\"\")","v":0},null,null,null,null,null,null,null,null,null,null,null,null,null,null,null,null,null,96,"47"]
[{"$f":"(50+$B1156)-A$72","v":49},null,null,null,null,null,null,null,null,null,null,null,null,null,null,null,null,null,null,null,null,null,null,null,null,null,null,null,null,null,null,null,null,96,"47"]
[50,1,null,null,"事\n業\n場\n48","認証・指定・認定番号\nまたは、整備士合格証書番号",null,null,null,null,null,null,null,null,null,null,null,null,null,null,"以下のいずれかを入力\n・事業場の認証書の認定番号\n・指定書の指定番号\n・事業場に在籍する整備士の整備士合格証書番号",null,null,null,null,null,null,null,null,null,null,null,null,97,"48"]
[50,1,null,null,null,null,null,null,null,null,null,null,null,null,null,null,null,null,null,null,null,null,null,null,null,null,null,null,null,null,null,null,null,97,"48"]
[50,1,null,null,null,null,null,null,null,null,null,null,null,null,null,null,null,null,null,null,null,null,null,null,null,null,null,null,null,null,null,null,null,97,"48"]
[50,1,null,null,null,"設備を設置する事業場名",null,null,null,null,null,null,null,null,null,null,null,null,null,null,"漢字平仮名は全角、英数字は半角で入力して下さい",null,null,null,null,null,null,null,null,null,null,null,null,97,"48"]
[50,1,null,null,null,"事業場住所",null,null,"郵便番号",null,null,null,null,null,"都道府県",null,null,null,null,null,"・郵便番号はハイフンは入れず数字７桁で入力して下さい\n・町名は市区町村欄に入力して下さい\n・丁目、番地の表記はハイフンで入力して下さい\n・番地、建物名称が無い場合は入力不要です",null,null,null,null,null,null,null,null,null,null,null,null,97,"48"]
[50,1,null,null,null,null,null,null,"市区町村",null,null,null,null,null,"番地",null,null,null,null,null,null,null,null,null,null,null,null,null,null,null,null,null,null,97,"48"]
[50,1,null,null,null,null,null,null,"建物名称",null,null,null,null,null,null,null,null,null,null,null,null,null,null,null,null,null,null,null,null,null,null,null,null,97,"48"]
[50,1,null,null,null,"申請\n機器","機器一覧の\n掲載有無",null,"コード\n番号","申請スキャンツール",null,null,null,null,null,null,null,null,null,null,"①申請する機器がホームページ掲載資料の「補助対象機器一覧」に該当するか確認して下さい\n②該当の有無を「機器一覧の掲載有無」のチェックボックスで選択して下さい\n　 ※必要箇所のグレーアウトが解除されます\n【掲載されているを選択した場合】\n　・ホームページ掲載の「補助対象機器一覧」の各ページ左側「交付申請時のコード番号」\n　　（４～５桁の英数字）を確認し「コード番号」に入力して下さい\n　・入力後メーカー名～ソフトのバージョンに申請機器の情報が自動で表示されている事を\n　　確認して下さい\n【掲載されていないを選択した場合】\n　・「申請スキャンツール」に入力欄が表示されますので申請する機器の情報を入力して下さい\n　例：メーカー名●●　型式●●　品番●●　バージョン●●\n③同一事業場で２台申請する際は２台目を空欄にせず上に詰めて入力して下さい",null,null,null,null,null,null,null,null,null,null,null,null,{"$f":"(50+$AI1164)-A$72","v":97},"48"]
[50,1,null,null,null,null,null,null,null,"メーカー名",null,null,"名称・型式",null,null,"品　　番",null,null,"ソフトのバージョン",null,null,null,null,null,null,null,null,null,null,null,null,null,null,97,"48"]
[50,1,null,null,null,"１台目","掲載されている　　",null,null,{"$f":"IFERROR(VLOOKUP($I1166,補助対象機器一覧0916!$A$1:$E$75,2,FALSE),\"\")","v":""},null,null,{"$f":"IFERROR(VLOOKUP($I1166,補助対象機器一覧0916!$A$1:$E$75,3,FALSE),\"\")","v":""},null,null,{"$f":"IFERROR(VLOOKUP($I1166,補助対象機器一覧0916!$A$1:$E$75,4,FALSE),\"\")","v":""},null,null,{"$f":"IFERROR(VLOOKUP($I1166,補助対象機器一覧0916!$A$1:$E$75,5,FALSE),\"\")","v":""},null,null,null,null,null,null,null,null,null,null,false,null,null,null,97,"48"]
[null,null,null,null,null,null,"掲載されていない ",null,null,null,null,null,null,null,null,null,null,null,null,null,null,null,null,null,null,null,null,null,null,false,null,null,null,97,"48"]
[{"$f":"(50+$B1168)-A$72","v":50},1,null,null,null,"２台目","掲載されている　　",null,null,{"$f":"IFERROR(VLOOKUP($I1168,補助対象機器一覧0916!$A$1:$E$75,2,FALSE),\"\")","v":""},null,null,{"$f":"IFERROR(VLOOKUP($I1168,補助対象機器一覧0916!$A$1:$E$75,3,FALSE),\"\")","v":""},null,null,{"$f":"IFERROR(VLOOKUP($I1168,補助対象機器一覧0916!$A$1:$E$75,4,FALSE),\"\")","v":""},null,null,{"$f":"IFERROR(VLOOKUP($I1168,補助対象機器一覧0916!$A$1:$E$75,5,FALSE),\"\")","v":""},null,null,null,null,null,null,null,null,null,null,false,null,null,null,97,"48"]
[null,null,null,null,null,null,"掲載されていない ",null,null,null,null,null,null,null,null,null,null,null,null,null,null,null,null,null,null,null,null,null,null,false,null,null,null,97,"48"]
[{"$f":"(50+$B1170)-A$72","v":50},1,null,null,null,"３台目","掲載されている　　",null,null,{"$f":"IFERROR(VLOOKUP($I1170,補助対象機器一覧0916!$A$1:$E$75,2,FALSE),\"\")","v":""},null,null,{"$f":"IFERROR(VLOOKUP($I1170,補助対象機器一覧0916!$A$1:$E$75,3,FALSE),\"\")","v":""},null,null,{"$f":"IFERROR(VLOOKUP($I1170,補助対象機器一覧0916!$A$1:$E$75,4,FALSE),\"\")","v":""},null,null,{"$f":"IFERROR(VLOOKUP($I1170,補助対象機器一覧0916!$A$1:$E$75,5,FALSE),\"\")","v":""},null,null,null,null,null,null,null,null,null,null,false,null,null,null,97,"48"]
[null,null,null,null,null,null,"掲載されていない ",null,null,null,null,null,null,null,null,null,null,null,null,null,null,null,null,null,null,null,null,null,null,false,null,null,null,97,"48"]
[{"$f":"(50+$B1172)-A$72","v":50},1,null,null,null,"申請\n機器","補助事業に要する経費",null,null,null,"スキャンツールの価格",null,null,null,null,"情報端末価格",null,null,null,null,"・「補助事業に要する経費」は補助対象外も含む全ての経費を機器毎に分けて入力して下さい\n・「スキャンツールの価格」は正見積書のスキャンツール単体の価格を機器毎に\n　分けて入力して下さい\n・「情報端末価格」は正見積書の情報端末単体の価格を機器毎に分けて入力して下さい",null,null,null,null,null,null,null,null,null,null,null,null,97,"48"]
[{"$f":"(50+$B1173)-A$72","v":50},1,null,null,null,null,null,null,null,null,null,null,null,null,null,null,null,null,null,null,null,null,null,null,null,null,null,null,null,null,null,null,null,97,"48"]
[{"$f":"(50+$B1174)-A$72","v":50},1,null,null,null,"１台目",null,null,null,null,null,null,null,null,null,null,null,null,null,null,null,null,null,null,null,null,null,null,null,null,null,{"$f":"G1174-SUM(K1174:T1174)","v":0},null,97,"48"]
[{"$f":"(50+$B1175)-A$72","v":50},1,null,null,null,"２台目",null,null,null,null,null,null,null,null,null,null,null,null,null,null,null,null,null,null,null,null,null,null,null,null,null,{"$f":"G1175-SUM(K1175:T1175)","v":0},null,97,"48"]
[{"$f":"(50+$B1176)-A$72","v":50},1,null,null,null,"３台目",null,null,null,null,null,null,null,null,null,null,null,null,null,null,null,null,null,null,null,null,null,null,null,null,null,0,null,97,"48"]
[null,null,null,null,null,"補助対象経費",null,null,null,null,"補助率",null,null,null,null,"補助金の額",null,null,null,null,null,null,null,null,null,null,null,null,null,null,null,null,null,97,"48"]
[null,null,null,null,null,{"$f":"(K1174+P1174)+(K1175+P1175)+(K1176+P1176)","v":0},null,null,null,null,{"$f":"IF(G1174=\"\",\"\",\"1/3\")","v":""},null,null,null,null,{"$f":"IF($F1178<>\"\",IF($F1178/3>150000,150000,ROUNDDOWN($F1178/3,-3)),\"\")","v":0},null,null,null,null,null,null,null,null,null,null,null,null,null,null,null,null,null,97,"48"]
[{"$f":"(50+$B1179)-A$72","v":49},null,null,null,null,null,null,null,null,null,null,null,null,null,null,null,null,null,null,null,null,null,null,null,null,null,null,null,null,null,null,null,null,97,"48"]
[50,1,null,null,"事\n業\n場\n49","認証・指定・認定番号\nまたは、整備士合格証書番号",null,null,null,null,null,null,null,null,null,null,null,null,null,null,"以下のいずれかを入力\n・事業場の認証書の認定番号\n・指定書の指定番号\n・事業場に在籍する整備士の整備士合格証書番号",null,null,null,null,null,null,null,null,null,null,null,null,98,"49"]
[50,1,null,null,null,null,null,null,null,null,null,null,null,null,null,null,null,null,null,null,null,null,null,null,null,null,null,null,null,null,null,null,null,98,"49"]
[50,1,null,null,null,null,null,null,null,null,null,null,null,null,null,null,null,null,null,null,null,null,null,null,null,null,null,null,null,null,null,null,null,98,"49"]
[50,1,null,null,null,"設備を設置する事業場名",null,null,null,null,null,null,null,null,null,null,null,null,null,null,"漢字平仮名は全角、英数字は半角で入力して下さい",null,null,null,null,null,null,null,null,null,null,null,null,98,"49"]
[50,1,null,null,null,"事業場住所",null,null,"郵便番号",null,null,null,null,null,"都道府県",null,null,null,null,null,"・郵便番号はハイフンは入れず数字７桁で入力して下さい\n・町名は市区町村欄に入力して下さい\n・丁目、番地の表記はハイフンで入力して下さい\n・番地、建物名称が無い場合は入力不要です",null,null,null,null,null,null,null,null,null,null,null,null,98,"49"]
[50,1,null,null,null,null,null,null,"市区町村",null,null,null,null,null,"番地",null,null,null,null,null,null,null,null,null,null,null,null,null,null,null,null,null,null,98,"49"]
[50,1,null,null,null,null,null,null,"建物名称",null,null,null,null,null,null,null,null,null,null,null,null,null,null,null,null,null,null,null,null,null,null,null,null,98,"49"]
[50,1,null,null,null,"申請\n機器","機器一覧の\n掲載有無",null,"コード\n番号","申請スキャンツール",null,null,null,null,null,null,null,null,null,null,"①申請する機器がホームページ掲載資料の「補助対象機器一覧」に該当するか確認して下さい\n②該当の有無を「機器一覧の掲載有無」のチェックボックスで選択して下さい\n　 ※必要箇所のグレーアウトが解除されます\n【掲載されているを選択した場合】\n　・ホームページ掲載の「補助対象機器一覧」の各ページ左側「交付申請時のコード番号」\n　　（４～５桁の英数字）を確認し「コード番号」に入力して下さい\n　・入力後メーカー名～ソフトのバージョンに申請機器の情報が自動で表示されている事を\n　　確認して下さい\n【掲載されていないを選択した場合】\n　・「申請スキャンツール」に入力欄が表示されますので申請する機器の情報を入力して下さい\n　例：メーカー名●●　型式●●　品番●●　バージョン●●\n③同一事業場で２台申請する際は２台目を空欄にせず上に詰めて入力して下さい",null,null,null,null,null,null,null,null,null,null,null,null,98,"49"]
[50,1,null,null,null,null,null,null,null,"メーカー名",null,null,"名称・型式",null,null,"品　　番",null,null,"ソフトのバージョン",null,null,null,null,null,null,null,null,null,null,null,null,null,null,98,"49"]
[50,1,null,null,null,"１台目","掲載されている　　",null,null,{"$f":"IFERROR(VLOOKUP($I1189,補助対象機器一覧0916!$A$1:$E$75,2,FALSE),\"\")","v":""},null,null,{"$f":"IFERROR(VLOOKUP($I1189,補助対象機器一覧0916!$A$1:$E$75,3,FALSE),\"\")","v":""},null,null,{"$f":"IFERROR(VLOOKUP($I1189,補助対象機器一覧0916!$A$1:$E$75,4,FALSE),\"\")","v":""},null,null,{"$f":"IFERROR(VLOOKUP($I1189,補助対象機器一覧0916!$A$1:$E$75,5,FALSE),\"\")","v":""},null,null,null,null,null,null,null,null,null,null,false,null,null,null,98,"49"]
[null,null,null,null,null,null,"掲載されていない ",null,null,null,null,null,null,null,null,null,null,null,null,null,null,null,null,null,null,null,null,null,null,false,null,null,null,98,"49"]
[{"$f":"(50+$B1191)-A$72","v":50},1,null,null,null,"２台目","掲載されている　　",null,null,{"$f":"IFERROR(VLOOKUP($I1191,補助対象機器一覧0916!$A$1:$E$75,2,FALSE),\"\")","v":""},null,null,{"$f":"IFERROR(VLOOKUP($I1191,補助対象機器一覧0916!$A$1:$E$75,3,FALSE),\"\")","v":""},null,null,{"$f":"IFERROR(VLOOKUP($I1191,補助対象機器一覧0916!$A$1:$E$75,4,FALSE),\"\")","v":""},null,null,{"$f":"IFERROR(VLOOKUP($I1191,補助対象機器一覧0916!$A$1:$E$75,5,FALSE),\"\")","v":""},null,null,null,null,null,null,null,null,null,null,false,null,null,null,98,"49"]
[null,null,null,null,null,null,"掲載されていない ",null,null,null,null,null,null,null,null,null,null,null,null,null,null,null,null,null,null,null,null,null,null,false,null,null,null,98,"49"]
[{"$f":"(50+$B1193)-A$72","v":50},1,null,null,null,"３台目","掲載されている　　",null,null,{"$f":"IFERROR(VLOOKUP($I1193,補助対象機器一覧0916!$A$1:$E$75,2,FALSE),\"\")","v":""},null,null,{"$f":"IFERROR(VLOOKUP($I1193,補助対象機器一覧0916!$A$1:$E$75,3,FALSE),\"\")","v":""},null,null,{"$f":"IFERROR(VLOOKUP($I1193,補助対象機器一覧0916!$A$1:$E$75,4,FALSE),\"\")","v":""},null,null,{"$f":"IFERROR(VLOOKUP($I1193,補助対象機器一覧0916!$A$1:$E$75,5,FALSE),\"\")","v":""},null,null,null,null,null,null,null,null,null,null,false,null,null,null,98,"49"]
[null,null,null,null,null,null,"掲載されていない ",null,null,null,null,null,null,null,null,null,null,null,null,null,null,null,null,null,null,null,null,null,null,false,null,null,null,98,"49"]
[{"$f":"(50+$B1195)-A$72","v":50},1,null,null,null,"申請\n機器","補助事業に要する経費",null,null,null,"スキャンツールの価格",null,null,null,null,"情報端末価格",null,null,null,null,"・「補助事業に要する経費」は補助対象外も含む全ての経費を機器毎に分けて入力して下さい\n・「スキャンツールの価格」は正見積書のスキャンツール単体の価格を機器毎に\n　分けて入力して下さい\n・「情報端末価格」は正見積書の情報端末単体の価格を機器毎に分けて入力して下さい",null,null,null,null,null,null,null,null,null,null,null,null,98,"49"]
[{"$f":"(50+$B1196)-A$72","v":50},1,null,null,null,null,null,null,null,null,null,null,null,null,null,null,null,null,null,null,null,null,null,null,null,null,null,null,null,null,null,null,null,98,"49"]
[{"$f":"(50+$B1197)-A$72","v":50},1,null,null,null,"１台目",null,null,null,null,null,null,null,null,null,null,null,null,null,null,null,null,null,null,null,null,null,null,null,null,null,{"$f":"G1197-SUM(K1197:T1197)","v":0},null,98,"49"]
[{"$f":"(50+$B1198)-A$72","v":50},1,null,null,null,"２台目",null,null,null,null,null,null,null,null,null,null,null,null,null,null,null,null,null,null,null,null,null,null,null,null,null,{"$f":"G1198-SUM(K1198:T1198)","v":0},null,98,"49"]
[{"$f":"(50+$B1199)-A$72","v":50},1,null,null,null,"３台目",null,null,null,null,null,null,null,null,null,null,null,null,null,null,null,null,null,null,null,null,null,null,null,null,null,0,null,98,"49"]
[null,null,null,null,null,"補助対象経費",null,null,null,null,"補助率",null,null,null,null,"補助金の額",null,null,null,null,null,null,null,null,null,null,null,null,null,null,null,null,null,98,"49"]
[null,null,null,null,null,{"$f":"(K1197+P1197)+(K1198+P1198)+(K1199+P1199)","v":0},null,null,null,null,{"$f":"IF(G1197=\"\",\"\",\"1/3\")","v":""},null,null,null,null,{"$f":"IF($F1201<>\"\",IF($F1201/3>150000,150000,ROUNDDOWN($F1201/3,-3)),\"\")","v":0},null,null,null,null,null,null,null,null,null,null,null,null,null,null,null,null,null,98,"49"]
[{"$f":"(50+$B1202)-A$72","v":49},null,null,null,null,null,null,null,null,null,null,null,null,null,null,null,null,null,null,null,null,null,null,null,null,null,null,null,null,null,null,null,null,98,"49"]
[50,1,null,null,"事\n業\n場\n50","認証・指定・認定番号\nまたは、整備士合格証書番号",null,null,null,null,null,null,null,null,null,null,null,null,null,null,"以下のいずれかを入力\n・事業場の認証書の認定番号\n・指定書の指定番号\n・事業場に在籍する整備士の整備士合格証書番号",null,null,null,null,null,null,null,null,null,null,null,null,99,"50"]
[50,1,null,null,null,null,null,null,null,null,null,null,null,null,null,null,null,null,null,null,null,null,null,null,null,null,null,null,null,null,null,null,null,99,"50"]
[50,1,null,null,null,null,null,null,null,null,null,null,null,null,null,null,null,null,null,null,null,null,null,null,null,null,null,null,null,null,null,null,null,99,"50"]
[50,1,null,null,null,"設備を設置する事業場名",null,null,null,null,null,null,null,null,null,null,null,null,null,null,"漢字平仮名は全角、英数字は半角で入力して下さい",null,null,null,null,null,null,null,null,null,null,null,null,99,"50"]
[50,1,null,null,null,"事業場住所",null,null,"郵便番号",null,null,null,null,null,"都道府県",null,null,null,null,null,"・郵便番号はハイフンは入れず数字７桁で入力して下さい\n・町名は市区町村欄に入力して下さい\n・丁目、番地の表記はハイフンで入力して下さい\n・番地、建物名称が無い場合は入力不要です",null,null,null,null,null,null,null,null,null,null,null,null,99,"50"]
[50,1,null,null,null,null,null,null,"市区町村",null,null,null,null,null,"番地",null,null,null,null,null,null,null,null,null,null,null,null,null,null,null,null,null,null,99,"50"]
[50,1,null,null,null,null,null,null,"建物名称",null,null,null,null,null,null,null,null,null,null,null,null,null,null,null,null,null,null,null,null,null,null,null,null,99,"50"]
[50,1,null,null,null,"申請\n機器","機器一覧の\n掲載有無",null,"コード\n番号","申請スキャンツール",null,null,null,null,null,null,null,null,null,null,"①申請する機器がホームページ掲載資料の「補助対象機器一覧」に該当するか確認して下さい\n②該当の有無を「機器一覧の掲載有無」のチェックボックスで選択して下さい\n　 ※必要箇所のグレーアウトが解除されます\n【掲載されているを選択した場合】\n　・ホームページ掲載の「補助対象機器一覧」の各ページ左側「交付申請時のコード番号」\n　　（４～５桁の英数字）を確認し「コード番号」に入力して下さい\n　・入力後メーカー名～ソフトのバージョンに申請機器の情報が自動で表示されている事を\n　　確認して下さい\n【掲載されていないを選択した場合】\n　・「申請スキャンツール」に入力欄が表示されますので申請する機器の情報を入力して下さい\n　例：メーカー名●●　型式●●　品番●●　バージョン●●\n③同一事業場で２台申請する際は２台目を空欄にせず上に詰めて入力して下さい",null,null,null,null,null,null,null,null,null,null,null,null,99,"50"]
[50,1,null,null,null,null,null,null,null,"メーカー名",null,null,"名称・型式",null,null,"品　　番",null,null,"ソフトのバージョン",null,null,null,null,null,null,null,null,null,null,null,null,null,null,99,"50"]
[50,1,null,null,null,"１台目","掲載されている　　",null,null,{"$f":"IFERROR(VLOOKUP($I1212,補助対象機器一覧0916!$A$1:$E$75,2,FALSE),\"\")","v":""},null,null,{"$f":"IFERROR(VLOOKUP($I1212,補助対象機器一覧0916!$A$1:$E$75,3,FALSE),\"\")","v":""},null,null,{"$f":"IFERROR(VLOOKUP($I1212,補助対象機器一覧0916!$A$1:$E$75,4,FALSE),\"\")","v":""},null,null,{"$f":"IFERROR(VLOOKUP($I1212,補助対象機器一覧0916!$A$1:$E$75,5,FALSE),\"\")","v":""},null,null,null,null,null,null,null,null,null,null,false,null,null,null,99,"50"]
[null,null,null,null,null,null,"掲載されていない ",null,null,null,null,null,null,null,null,null,null,null,null,null,null,null,null,null,null,null,null,null,null,false,null,null,null,99,"50"]
[{"$f":"(50+$B1214)-A$72","v":50},1,null,null,null,"２台目","掲載されている　　",null,null,{"$f":"IFERROR(VLOOKUP($I1214,補助対象機器一覧0916!$A$1:$E$75,2,FALSE),\"\")","v":""},null,null,{"$f":"IFERROR(VLOOKUP($I1214,補助対象機器一覧0916!$A$1:$E$75,3,FALSE),\"\")","v":""},null,null,{"$f":"IFERROR(VLOOKUP($I1214,補助対象機器一覧0916!$A$1:$E$75,4,FALSE),\"\")","v":""},null,null,{"$f":"IFERROR(VLOOKUP($I1214,補助対象機器一覧0916!$A$1:$E$75,5,FALSE),\"\")","v":""},null,null,null,null,null,null,null,null,null,null,false,null,null,null,99,"50"]
[null,null,null,null,null,null,"掲載されていない ",null,null,null,null,null,null,null,null,null,null,null,null,null,null,null,null,null,null,null,null,null,null,false,null,null,null,99,"50"]
[{"$f":"(50+$B1216)-A$72","v":50},1,null,null,null,"３台目","掲載されている　　",null,null,{"$f":"IFERROR(VLOOKUP($I1216,補助対象機器一覧0916!$A$1:$E$75,2,FALSE),\"\")","v":""},null,null,{"$f":"IFERROR(VLOOKUP($I1216,補助対象機器一覧0916!$A$1:$E$75,3,FALSE),\"\")","v":""},null,null,{"$f":"IFERROR(VLOOKUP($I1216,補助対象機器一覧0916!$A$1:$E$75,4,FALSE),\"\")","v":""},null,null,{"$f":"IFERROR(VLOOKUP($I1216,補助対象機器一覧0916!$A$1:$E$75,5,FALSE),\"\")","v":""},null,null,null,null,null,null,null,null,null,null,false,null,null,null,99,"50"]
[null,null,null,null,null,null,"掲載されていない ",null,null,null,null,null,null,null,null,null,null,null,null,null,null,null,null,null,null,null,null,null,null,false,null,null,null,99,"50"]
[{"$f":"(50+$B1218)-A$72","v":50},1,null,null,null,"申請\n機器","補助事業に要する経費",null,null,null,"スキャンツールの価格",null,null,null,null,"情報端末価格",null,null,null,null,"・「補助事業に要する経費」は補助対象外も含む全ての経費を機器毎に分けて入力して下さい\n・「スキャンツールの価格」は正見積書のスキャンツール単体の価格を機器毎に\n　分けて入力して下さい\n・「情報端末価格」は正見積書の情報端末単体の価格を機器毎に分けて入力して下さい",null,null,null,null,null,null,null,null,null,null,null,null,99,"50"]
[{"$f":"(50+$B1219)-A$72","v":50},1,null,null,null,null,null,null,null,null,null,null,null,null,null,null,null,null,null,null,null,null,null,null,null,null,null,null,null,null,null,null,null,99,"50"]
[{"$f":"(50+$B1220)-A$72","v":50},1,null,null,null,"１台目",null,null,null,null,null,null,null,null,null,null,null,null,null,null,null,null,null,null,null,null,null,null,null,null,null,{"$f":"G1220-SUM(K1220:T1220)","v":0},null,99,"50"]
[{"$f":"(50+$B1221)-A$72","v":50},1,null,null,null,"２台目",null,null,null,null,null,null,null,null,null,null,null,null,null,null,null,null,null,null,null,null,null,null,null,null,null,{"$f":"G1221-SUM(K1221:T1221)","v":0},null,99,"50"]
[{"$f":"(50+$B1222)-A$72","v":50},1,null,null,null,"３台目",null,null,null,null,null,null,null,null,null,null,null,null,null,null,null,null,null,null,null,null,null,null,null,null,null,0,null,99,"50"]
[null,null,null,null,null,"補助対象経費",null,null,null,null,"補助率",null,null,null,null,"補助金の額",null,null,null,null,null,null,null,null,null,null,null,null,null,null,null,null,null,99,"50"]
[null,null,null,null,null,{"$f":"(K1220+P1220)+(K1221+P1221)+(K1222+P1222)","v":0},null,null,null,null,{"$f":"IF(G1220=\"\",\"\",\"1/3\")","v":""},null,null,null,null,{"$f":"IF($F1224<>\"\",IF($F1224/3>150000,150000,ROUNDDOWN($F1224/3,-3)),\"\")","v":0},null,null,null,null,null,null,null,null,null,null,null,null,null,null,null,null,null,99,"50"]
[{"$f":"(50+$B1225)-A$72","v":49},null,null,null,null,null,null,null,null,null,null,null,null,null,null,null,null,null,null,null,null,null,null,null,null,null,null,null,null,null,null,null,null,100,"51"]

{"sheet":"リンク貼付用シート","index":2,"n_rows":20,"n_cols":42,"rows_kept":20,"cut":false,"hidden":true,"merged":[[1,0,2,1],[1,3,2,4],[1,6,2,7],[3,0,3,1],[3,3,3,4],[3,6,3,7],[3,17,3,18],[1,17,2,18],[1,15,2,15],[1,9,2,9],[1,10,2,10],[1,11,2,11],[1,12,2,12],[1,13,2,13],[1,14,2,14]]}
[]
["補助事業に\n要する経費合計",null,null,"補助対象\n経費合計",null,null,"補助金の額\n合計",null,null,"1.申請者情報","２．質問等連絡先\n及び担当者名","３．通知書\n送付方法","４．様式関連","５．役員名簿","６．申請する\n事業場とｽｷｬﾝﾂｰﾙ","事業場1",null,"必須項目入力チェック",null,null,null,null,"←様式第１に関連する入力項目",null,null,null,"←様式第１別紙１に関連する入力項目",null,null,null,"←様式第１別紙２に関連する入力項目",null,null,null,null,"←様式第１と様式第１別紙２に共通する入力項目",null,null,null,null,null,"←入力不要の項目"]
[]
[{"$f":"SUM(入力シート!$AJ:$AJ)","v":0},null,null,{"$f":"SUM(入力シート!$AK:$AK)","v":0},null,null,{"$f":"SUM(入力シート!$AL:$AL)","v":0},null,null,{"$f":"\"残り\"&12-COUNTA(入力シート!$L$15,入力シート!$O$15,入力シート!$R$15,入力シート!$J$17,入力シート!$J$19,入力シート!$J$20,入力シート!$J$21,入力シート!$Q$20,入力シート!$Q$21,入力シート!$J$23,入力シート!$Q$23,入力シート!$J$24)+IF(入力シート!$J$19<>2,COUNTBLANK(入力シート!$J$22),0)&\"項目\"","v":"残り13項目"},{"$f":"\"残り\"&6-COUNTA(入力シート!$J$28,入力シート!$Q$28,入力シート!$J$30,入力シート!$N$30,入力シート!$R$30,入力シート!$J$32)&\"項目\"","v":"残り6項目"},{"$f":"\"残り\"&IF(入力シート!$J$35=3,4-COUNTA(入力シート!$J$39,入力シート!$Q$39,入力シート!$J$40,入力シート!$J$42),1-COUNTA(入力シート!$J$35))+IF(入力シート!$J$42=3,2-COUNTA(入力シート!$J$44,入力シート!$Q$44),0)&\"項目\"","v":"残り0項目"},{"$f":"\"残り\"&3-COUNTA(入力シート!$L$49,入力シート!$O$49,入力シート!$R$49)&\"項目\"","v":"残り3項目"},{"$f":"\"残り\"&COUNTBLANK(入力シート!$P$55:'入力シート'!$T$55)&\"項目\"","v":"残り5項目"},{"$f":"\"残り\"&2-COUNTA(入力シート!$J$72,入力シート!$J$74)&\"項目\"","v":"残り2項目"},{"$f":"\"残り\"&8-(COUNTA(入力シート!$K$76,入力シート!$K$79,入力シート!$K$80,入力シート!$Q$80,入力シート!$K$81,入力シート!$G$93,入力シート!$K$93)+COUNT(入力シート!$AF$85))&\"項目\"","v":"残り8項目"},{"$f":"SUM(J5:P5)","v":37},{"$f":"IF(Q4=0,\"必須項目が全て入力されています\",\"必須項目が\"&Q4&\"項目未入力です\")","v":"必須項目が37項目未入力です"}]
[null,null,null,null,null,null,null,null,null,{"$f":"12-COUNTA(入力シート!$L$15,入力シート!$O$15,入力シート!$R$15,入力シート!$J$17,入力シート!$J$19,入力シート!$J$20,入力シート!$J$21,入力シート!$Q$20,入力シート!$Q$21,入力シート!$J$23,入力シート!$Q$23,入力シート!$J$24)+IF(入力シート!$J$19<>2,COUNTBLANK(入力シート!$J$22),0)","v":13},{"$f":"6-COUNTA(入力シート!$J$28,入力シート!$Q$28,入力シート!$J$30,入力シート!$N$30,入力シート!$R$30,入力シート!$J$32)","v":6},{"$f":"IF(入力シート!$J$35=3,4-COUNTA(入力シート!$J$39,入力シート!$Q$39,入力シート!$J$40,入力シート!$J$42),1-COUNTA(入力シート!$J$35))+IF(入力シート!$J$42=3,2-COUNTA(入力シート!$J$44,入力シート!$Q$44),0)","v":0},{"$f":"3-COUNTA(入力シート!$L$49,入力シート!$O$49,入力シート!$R$49)","v":3},{"$f":"COUNTBLANK(入力シート!$P$55:'入力シート'!$T$55)","v":5},{"$f":"2-COUNTA(入力シート!$J$72,入力シート!$J$74)","v":2},{"$f":"8-(COUNTA(入力シート!$K$76,入力シート!$K$79,入力シート!$K$80,入力シート!$Q$80,入力シート!$K$81,入力シート!$G$93,入力シート!$K$93)+COUNT(入力シート!$AF$85))","v":8}]
[]
[null,null,null,null,null,null,null,null,null,"↓↓必須カウント項目"]
[null,null,null,null,null,null,null,null,null,"法人名（個人事業主の場合は\n商号・屋号等）","担当者氏名　姓","送付方法","補助事業の完了予定年月日１","和暦","申請合計事業場数","認証・指定・認定番号または、整備士合格証書番号"]
[null,null,null,null,null,null,null,null,null,"法人・個人事業主の選択","担当者氏名　名",null,"補助事業の完了予定年月日２","年","申請合計台数","設備を設置する事業場名"]
[null,null,null,null,null,null,null,null,null,"代表者氏名　姓","電話１","※送付方法が３の場合","補助事業の完了予定年月日３","月",null,"郵便番号"]
[null,null,null,null,null,null,null,null,null,"代表者氏名　名","電話２","送付先郵便番号",null,"日",null,"　都道府県"]
[null,null,null,null,null,null,null,null,null,"代表者氏名　セイ","電話３","送付先都道府県",null,"性別",null,"市区町村"]
[null,null,null,null,null,null,null,null,null,"代表者氏名　メイ","メール","送付先市区町村",null,null,null,"掲載されている、されていないどちらかにチェックかつ該当先に値有"]
[null,null,null,null,null,null,null,null,null,"郵便番号",null,"送付先担当者",null,null,null,"補助事業に要する経費"]
[null,null,null,null,null,null,null,null,null,"都道府県",null,null,null,null,null,"スキャンツール価格"]
[null,null,null,null,null,null,null,null,null,"市区町村",null,"※送付先担当者が3の場合"]
[null,null,null,null,null,null,null,null,null,"書類作成日(8/31追加)",null,"送付先担当者氏名　姓"]
[null,null,null,null,null,null,null,null,null,null,null,"送付先担当者氏名　名"]
[null,null,null,null,null,null,null,null,null,"※個人事業主以外の時"]
[null,null,null,null,null,null,null,null,null,"役職"]

{"sheet":"都道府県シート","index":3,"n_rows":48,"n_cols":1,"rows_kept":48,"cut":false,"hidden":true,"merged":[]}
["都道府県"]
["北海道"]
["青森県"]
["岩手県"]
["宮城県"]
["秋田県"]
["山形県"]
["福島県"]
["茨城県"]
["栃木県"]
["群馬県"]
["埼玉県"]
["千葉県"]
["東京都"]
["神奈川県"]
["新潟県"]
["富山県"]
["石川県"]
["福井県"]
["山梨県"]
["長野県"]
["岐阜県"]
["静岡県"]
["愛知県"]
["三重県"]
["滋賀県"]
["京都府"]
["大阪府"]
["兵庫県"]
["奈良県"]
["和歌山県"]
["鳥取県"]
["島根県"]
["岡山県"]
["広島県"]
["山口県"]
["徳島県"]
["香川県"]
["愛媛県"]
["高知県"]
["福岡県"]
["佐賀県"]
["長崎県"]
["熊本県"]
["大分県"]
["宮崎県"]
["鹿児島県"]
["沖縄県"]

{"sheet":"中間シート","index":4,"n_rows":260,"n_cols":29,"rows_kept":260,"cut":false,"hidden":true,"merged":[]}
["非表示シート","グレーアウト=FALSE","入力欄はピンク"]
["DBへの取り込み可否","グレーアウト項目_入力対象","該当項目","入力項目","入力欄"]
["〇",null,"申請合計事業場数","申請合計事業場数",{"$f":"入力シート!$J$72","v":0}]
["〇",null,"申請合計台数","申請合計台数",{"$f":"入力シート!$J$74","v":0}]
["〇",null,"申請者情報","法人名（個人事業主の場合は商号・屋号等）",{"$f":"入力シート!$J$17&\"\"","v":""}]
["〇",null,"申請者情報","※法人または個人事業主どちらか当てはまる数字を以下から選択して右のプルダウンに入力してください。",{"$f":"入力シート!$J$19","v":0}]
["〇",null,"申請者情報","代表者氏名　姓",{"$f":"入力シート!$J$21&\"\"","v":""}]
["〇",null,"申請者情報","代表者氏名　名",{"$f":"入力シート!$Q$21&\"\"","v":""}]
["〇",null,"申請者情報","代表者氏名　セイ",{"$f":"入力シート!$J$20&\"\"","v":""}]
["〇",null,"申請者情報","代表者氏名　メイ",{"$f":"入力シート!$Q$20&\"\"","v":""}]
["〇",{"$f":"IF($E$6=2,FALSE,TRUE)","v":true},"申請者情報","代表者役職",{"$f":"入力シート!$J$22&\"\"","v":""}]
["〇",null,"申請者情報","郵便番号",{"$f":"入力シート!$J$23&\"\"","v":""}]
["〇",null,"申請者情報","都道府県",{"$f":"入力シート!$Q$23&\"\"","v":""}]
["〇",null,"申請者情報","市区町村",{"$f":"入力シート!$J$24&\"\"","v":""}]
["〇",null,"申請者情報","番地",{"$f":"入力シート!$Q$24&\"\"","v":""}]
["〇",null,"申請者情報","建物名称",{"$f":"入力シート!$J$25&\"\"","v":""}]
["〇",null,"本交付申請書に係る質問等連絡先及び担当者名","担当者氏名　姓",{"$f":"入力シート!$J$28&\"\"","v":""}]
["〇",null,"本交付申請書に係る質問等連絡先及び担当者名","担当者氏名　名",{"$f":"入力シート!$Q$28&\"\"","v":""}]
["〇",null,"本交付申請書に係る質問等連絡先及び担当者名","担当部署",{"$f":"入力シート!$J$29&\"\"","v":""}]
["〇",null,"本交付申請書に係る質問等連絡先及び担当者名","担当者役職",{"$f":"入力シート!$R$29&\"\"","v":""}]
["〇",null,"本交付申請書に係る質問等連絡先及び担当者名","電話",{"$f":"入力シート!$J$30&\"\"","v":""},{"$f":"入力シート!$N$30&\"\"","v":""},{"$f":"入力シート!$R$30&\"\"","v":""}]
["〇",null,"本交付申請書に係る質問等連絡先及び担当者名","FAX",{"$f":"入力シート!$J$31&\"\"","v":""},{"$f":"入力シート!$N$31&\"\"","v":""},{"$f":"入力シート!$R$31&\"\"","v":""}]
["〇",null,"本交付申請書に係る質問等連絡先及び担当者名","メール",{"$f":"入力シート!$J$32&\"\"","v":""}]
["〇",null,"郵送での返送を希望","メール送付を希望する場合は「1」を会社所在地への郵送を希望する場合は「2」を会社所在地以外の住所へ郵送を希望する場合は「3」を入力して下さい",{"$f":"入力シート!$J$35","v":1}]
["〇",{"$f":"IF(OR($E$24=1,$E$24=2),FALSE,TRUE)","v":false},"通知書等送付先","送付先法人名・屋号等",{"$f":"IF(OR($E$24=1,$E$24=0),\"\",IF($E$24=2,入力シート!$J$17,IF($E$24=3,入力シート!$J$38,)))&\"\"","v":""}]
["〇",{"$f":"IF(OR($E$24=1,$E$24=2),FALSE,TRUE)","v":false},"通知書等送付先","送付先郵便番号",{"$f":"IF(OR($E$24=1,$E$24=0),\"\",IF($E$24=2,入力シート!$J$23,IF($E$24=3,入力シート!$J$39)))&\"\"","v":""}]
["〇",false,"通知書等送付先","送付先都道府県",{"$f":"IF(OR($E$24=1,$E$24=0),\"\",IF($E$24=2,入力シート!$Q$23,IF($E$24=3,入力シート!$Q$39)))&\"\"","v":""}]
["〇",false,"通知書等送付先","送付先市区町村",{"$f":"IF(OR($E$24=1,$E$24=0),\"\",IF($E$24=2,入力シート!$J$24,IF($E$24=3,入力シート!$J$40)))&\"\"","v":""}]
["〇",false,"通知書等送付先","送付先番地",{"$f":"IF(OR($E$24=1,$E$24=0),\"\",IF($E$24=2,入力シート!$Q$24,IF($E$24=3,入力シート!$Q$40)))&\"\"","v":""}]
["〇",false,"通知書等送付先","送付先建物名称",{"$f":"IF(OR($E$24=1,$E$24=0),\"\",IF($E$24=2,入力シート!$J$25,IF($E$24=3,入力シート!$J$41)))&\"\"","v":""}]
["△",false,"通知書等送付先","「送付先担当者」が代表者と同一の場合は「1」を担当者と同一の場合は「2」を代表者と担当者以外の場合は「3」を入力して下さい",{"$f":"入力シート!J42","v":0}]
["〇",{"$f":"IF(OR($E$24=1,$E$24=2,$E$31=1,$E$31=2),FALSE,TRUE)","v":false},"通知書等送付先","送付先担当者氏名　姓",{"$f":"IF($E$24=2,$E$7,IF($E$24=3,IF($E$31=1,$E$7,IF($E$31=2,$E$17,IF($E$31=3,入力シート!$J$44,\"\"))),\"\"))&\"\"","v":""}]
["〇",{"$f":"IF(OR($E$24=1,$E$24=2,$E$31=1,$E$31=2),FALSE,TRUE)","v":false},"通知書等送付先","送付先担当者氏名　名",{"$f":"IF($E$24=2,$E$8,IF($E$24=3,IF($E$31=1,$E$8,IF($E$31=2,$E$18,IF($E$31=3,入力シート!$Q$44,\"\"))),\"\"))&\"\"","v":""}]
["〇",false,"通知書等送付先","送付先担当部署",{"$f":"IF($E$24<=2,\"\",IF($E$24=3,IF($E$31=1,\"\",IF($E$31=2,入力シート!$J$29,IF($E$31=3,入力シート!$J$45,\"\")))))&\"\"","v":""}]
["〇",false,"通知書等送付先","送付先担当者役職",{"$f":"IF($E$24=2,入力シート!$J$22,IF($E$24=3,IF($E$31=1,入力シート!$J$22,IF($E$31=2,入力シート!$R$29,IF($E$31=3,入力シート!$R$45,\"\"))),\"\"))&\"\"","v":""}]
["〇",null,"様式１","様式１の文書番号",{"$f":"入力シート!$J$48&\"\"","v":""}]
["〇",null,"様式１","様式第１作成日",{"$f":"入力シート!$L$15&\"\"","v":""},{"$f":"入力シート!$O$15&\"\"","v":""},{"$f":"入力シート!$R$15&\"\"","v":""}]
["✕",null,"様式１別紙２","役員名簿作成日",{"$f":"入力シート!$L$15&\"\"","v":""},{"$f":"入力シート!$O$15&\"\"","v":""},{"$f":"入力シート!$R$15&\"\"","v":""}]
["〇",null,"様式１","補助事業の完了予定年月日",{"$f":"入力シート!$L$49&\"\"","v":""},{"$f":"入力シート!$O$49&\"\"","v":""},{"$f":"入力シート!$R$49&\"\"","v":""}]
[]
[null,null,"役員名簿","役職名","氏名　姓","氏名　名","氏名　セイ","氏名　メイ","和暦","年","月","日","性別"]
["✕",null,"１行目",null,null,null,null,null,{"$f":"MID(入力シート!P55,4,1)&\"\"","v":""},{"$f":"入力シート!Q55&\"\"","v":""},{"$f":"入力シート!R55&\"\"","v":""},{"$f":"入力シート!S55&\"\"","v":""},{"$f":"MID(入力シート!T55,3,1)&\"\"","v":""}]
["✕",null,"２行目",{"$f":"入力シート!E56&\"\"","v":""},{"$f":"入力シート!H56&\"\"","v":""},{"$f":"入力シート!J56&\"\"","v":""},{"$f":"入力シート!L56&\"\"","v":""},{"$f":"入力シート!N56&\"\"","v":""},{"$f":"MID(入力シート!P56,4,1)&\"\"","v":""},{"$f":"入力シート!Q56&\"\"","v":""},{"$f":"入力シート!R56&\"\"","v":""},{"$f":"入力シート!S56&\"\"","v":""},{"$f":"MID(入力シート!T56,3,1)&\"\"","v":""}]
["✕",null,"３行目",{"$f":"入力シート!E57&\"\"","v":""},{"$f":"入力シート!H57&\"\"","v":""},{"$f":"入力シート!J57&\"\"","v":""},{"$f":"入力シート!L57&\"\"","v":""},{"$f":"入力シート!N57&\"\"","v":""},{"$f":"MID(入力シート!P57,4,1)&\"\"","v":""},{"$f":"入力シート!Q57&\"\"","v":""},{"$f":"入力シート!R57&\"\"","v":""},{"$f":"入力シート!S57&\"\"","v":""},{"$f":"MID(入力シート!T57,3,1)&\"\"","v":""}]
["✕",null,"４行目",{"$f":"入力シート!E58&\"\"","v":""},{"$f":"入力シート!H58&\"\"","v":""},{"$f":"入力シート!J58&\"\"","v":""},{"$f":"入力シート!L58&\"\"","v":""},{"$f":"入力シート!N58&\"\"","v":""},{"$f":"MID(入力シート!P58,4,1)&\"\"","v":""},{"$f":"入力シート!Q58&\"\"","v":""},{"$f":"入力シート!R58&\"\"","v":""},{"$f":"入力シート!S58&\"\"","v":""},{"$f":"MID(入力シート!T58,3,1)&\"\"","v":""}]
["✕",null,"５行目",{"$f":"入力シート!E59&\"\"","v":""},{"$f":"入力シート!H59&\"\"","v":""},{"$f":"入力シート!J59&\"\"","v":""},{"$f":"入力シート!L59&\"\"","v":""},{"$f":"入力シート!N59&\"\"","v":""},{"$f":"MID(入力シート!P59,4,1)&\"\"","v":""},{"$f":"入力シート!Q59&\"\"","v":""},{"$f":"入力シート!R59&\"\"","v":""},{"$f":"入力シート!S59&\"\"","v":""},{"$f":"MID(入力シート!T59,3,1)&\"\"","v":""}]
["✕",null,"６行目",{"$f":"入力シート!E60&\"\"","v":""},{"$f":"入力シート!H60&\"\"","v":""},{"$f":"入力シート!J60&\"\"","v":""},{"$f":"入力シート!L60&\"\"","v":""},{"$f":"入力シート!N60&\"\"","v":""},{"$f":"MID(入力シート!P60,4,1)&\"\"","v":""},{"$f":"入力シート!Q60&\"\"","v":""},{"$f":"入力シート!R60&\"\"","v":""},{"$f":"入力シート!S60&\"\"","v":""},{"$f":"MID(入力シート!T60,3,1)&\"\"","v":""}]
["✕",null,"７行目",{"$f":"入力シート!E61&\"\"","v":""},{"$f":"入力シート!H61&\"\"","v":""},{"$f":"入力シート!J61&\"\"","v":""},{"$f":"入力シート!L61&\"\"","v":""},{"$f":"入力シート!N61&\"\"","v":""},{"$f":"MID(入力シート!P61,4,1)&\"\"","v":""},{"$f":"入力シート!Q61&\"\"","v":""},{"$f":"入力シート!R61&\"\"","v":""},{"$f":"入力シート!S61&\"\"","v":""},{"$f":"MID(入力シート!T61,3,1)&\"\"","v":""}]
["✕",null,"８行目",{"$f":"入力シート!E62&\"\"","v":""},{"$f":"入力シート!H62&\"\"","v":""},{"$f":"入力シート!J62&\"\"","v":""},{"$f":"入力シート!L62&\"\"","v":""},{"$f":"入力シート!N62&\"\"","v":""},{"$f":"MID(入力シート!P62,4,1)&\"\"","v":""},{"$f":"入力シート!Q62&\"\"","v":""},{"$f":"入力シート!R62&\"\"","v":""},{"$f":"入力シート!S62&\"\"","v":""},{"$f":"MID(入力シート!T62,3,1)&\"\"","v":""}]
["✕",null,"９行目",{"$f":"入力シート!E63&\"\"","v":""},{"$f":"入力シート!H63&\"\"","v":""},{"$f":"入力シート!J63&\"\"","v":""},{"$f":"入力シート!L63&\"\"","v":""},{"$f":"入力シート!N63&\"\"","v":""},{"$f":"MID(入力シート!P63,4,1)&\"\"","v":""},{"$f":"入力シート!Q63&\"\"","v":""},{"$f":"入力シート!R63&\"\"","v":""},{"$f":"入力シート!S63&\"\"","v":""},{"$f":"MID(入力シート!T63,3,1)&\"\"","v":""}]
["✕",null,"１０行目",{"$f":"入力シート!E64&\"\"","v":""},{"$f":"入力シート!H64&\"\"","v":""},{"$f":"入力シート!J64&\"\"","v":""},{"$f":"入力シート!L64&\"\"","v":""},{"$f":"入力シート!N64&\"\"","v":""},{"$f":"MID(入力シート!P64,4,1)&\"\"","v":""},{"$f":"入力シート!Q64&\"\"","v":""},{"$f":"入力シート!R64&\"\"","v":""},{"$f":"入力シート!S64&\"\"","v":""},{"$f":"MID(入力シート!T64,3,1)&\"\"","v":""}]
["✕",null,"１１行目",{"$f":"入力シート!E65&\"\"","v":""},{"$f":"入力シート!H65&\"\"","v":""},{"$f":"入力シート!J65&\"\"","v":""},{"$f":"入力シート!L65&\"\"","v":""},{"$f":"入力シート!N65&\"\"","v":""},{"$f":"MID(入力シート!P65,4,1)&\"\"","v":""},{"$f":"入力シート!Q65&\"\"","v":""},{"$f":"入力シート!R65&\"\"","v":""},{"$f":"入力シート!S65&\"\"","v":""},{"$f":"MID(入力シート!T65,3,1)&\"\"","v":""}]
["✕",null,"１２行目",{"$f":"入力シート!E66&\"\"","v":""},{"$f":"入力シート!H66&\"\"","v":""},{"$f":"入力シート!J66&\"\"","v":""},{"$f":"入力シート!L66&\"\"","v":""},{"$f":"入力シート!N66&\"\"","v":""},{"$f":"MID(入力シート!P66,4,1)&\"\"","v":""},{"$f":"入力シート!Q66&\"\"","v":""},{"$f":"入力シート!R66&\"\"","v":""},{"$f":"入力シート!S66&\"\"","v":""},{"$f":"MID(入力シート!T66,3,1)&\"\"","v":""}]
["✕",null,"１３行目",{"$f":"入力シート!E67&\"\"","v":""},{"$f":"入力シート!H67&\"\"","v":""},{"$f":"入力シート!J67&\"\"","v":""},{"$f":"入力シート!L67&\"\"","v":""},{"$f":"入力シート!N67&\"\"","v":""},{"$f":"MID(入力シート!P67,4,1)&\"\"","v":""},{"$f":"入力シート!Q67&\"\"","v":""},{"$f":"入力シート!R67&\"\"","v":""},{"$f":"入力シート!S67&\"\"","v":""},{"$f":"MID(入力シート!T67,3,1)&\"\"","v":""}]
["✕",null,"１４行目",{"$f":"入力シート!E68&\"\"","v":""},{"$f":"入力シート!H68&\"\"","v":""},{"$f":"入力シート!J68&\"\"","v":""},{"$f":"入力シート!L68&\"\"","v":""},{"$f":"入力シート!N68&\"\"","v":""},{"$f":"MID(入力シート!P68,4,1)&\"\"","v":""},{"$f":"入力シート!Q68&\"\"","v":""},{"$f":"入力シート!R68&\"\"","v":""},{"$f":"入力シート!S68&\"\"","v":""},{"$f":"MID(入力シート!T68,3,1)&\"\"","v":""}]
["✕",null,"１５行目",{"$f":"入力シート!E69&\"\"","v":""},{"$f":"入力シート!H69&\"\"","v":""},{"$f":"入力シート!J69&\"\"","v":""},{"$f":"入力シート!L69&\"\"","v":""},{"$f":"入力シート!N69&\"\"","v":""},{"$f":"MID(入力シート!P69,4,1)&\"\"","v":""},{"$f":"入力シート!Q69&\"\"","v":""},{"$f":"入力シート!R69&\"\"","v":""},{"$f":"入力シート!S69&\"\"","v":""},{"$f":"MID(入力シート!T69,3,1)&\"\"","v":""}]
[]
[null,null,"補助対象スキャンツールを設置する事業場","認証・指定・認定番号または、整備士合格証書番号","設備を設置する事業場名","郵便番号","　都道府県","市区町村","番地","建物名称"]
["〇",null,"事業場１",{"$f":"入力シート!$K$76&\"\"","v":""},{"$f":"入力シート!$K$79&\"\"","v":""},{"$f":"入力シート!$K$80&\"\"","v":""},{"$f":"入力シート!$Q$80&\"\"","v":""},{"$f":"入力シート!$K$81&\"\"","v":""},{"$f":"入力シート!$Q$81&\"\"","v":""},{"$f":"入力シート!$K$82&\"\"","v":""}]
["〇",{"$f":"IF(入力シート!AH99>50,FALSE,TRUE)","v":false},"事業場２",{"$f":"入力シート!$K$99&\"\"","v":""},{"$f":"入力シート!K102&\"\"","v":""},{"$f":"入力シート!K103&\"\"","v":""},{"$f":"入力シート!Q103&\"\"","v":""},{"$f":"入力シート!K104&\"\"","v":""},{"$f":"入力シート!Q104&\"\"","v":""},{"$f":"入力シート!K105&\"\"","v":""}]
["〇",{"$f":"IF(入力シート!AH122>50,FALSE,TRUE)","v":false},"事業場３",{"$f":"入力シート!$K$122&\"\"","v":""},{"$f":"入力シート!K125&\"\"","v":""},{"$f":"入力シート!K126&\"\"","v":""},{"$f":"入力シート!Q126&\"\"","v":""},{"$f":"入力シート!K127&\"\"","v":""},{"$f":"入力シート!Q127&\"\"","v":""},{"$f":"入力シート!K128&\"\"","v":""}]
["〇",{"$f":"IF(入力シート!AH145>50,FALSE,TRUE)","v":false},"事業場４",{"$f":"入力シート!$K$145&\"\"","v":""},{"$f":"入力シート!K148&\"\"","v":""},{"$f":"入力シート!K149&\"\"","v":""},{"$f":"入力シート!Q149&\"\"","v":""},{"$f":"入力シート!K150&\"\"","v":""},{"$f":"入力シート!Q150&\"\"","v":""},{"$f":"入力シート!K151&\"\"","v":""}]
["〇",{"$f":"IF(入力シート!AH168>50,FALSE,TRUE)","v":false},"事業場５",{"$f":"入力シート!$K$168&\"\"","v":""},{"$f":"入力シート!K171&\"\"","v":""},{"$f":"入力シート!K172&\"\"","v":""},{"$f":"入力シート!Q172&\"\"","v":""},{"$f":"入力シート!K173&\"\"","v":""},{"$f":"入力シート!Q173&\"\"","v":""},{"$f":"入力シート!K174&\"\"","v":""}]
["〇",{"$f":"IF(入力シート!AH191>50,FALSE,TRUE)","v":false},"事業場６",{"$f":"入力シート!$K$191&\"\"","v":""},{"$f":"入力シート!K194&\"\"","v":""},{"$f":"入力シート!K195&\"\"","v":""},{"$f":"入力シート!Q195&\"\"","v":""},{"$f":"入力シート!K196&\"\"","v":""},{"$f":"入力シート!Q196&\"\"","v":""},{"$f":"入力シート!K197&\"\"","v":""}]
["〇",{"$f":"IF(入力シート!AH214>50,FALSE,TRUE)","v":false},"事業場７",{"$f":"入力シート!$K$214&\"\"","v":""},{"$f":"入力シート!K217&\"\"","v":""},{"$f":"入力シート!K218&\"\"","v":""},{"$f":"入力シート!Q218&\"\"","v":""},{"$f":"入力シート!K219&\"\"","v":""},{"$f":"入力シート!Q219&\"\"","v":""},{"$f":"入力シート!K220&\"\"","v":""}]
["〇",{"$f":"IF(入力シート!AH237>50,FALSE,TRUE)","v":false},"事業場８",{"$f":"入力シート!$K$237&\"\"","v":""},{"$f":"入力シート!K240&\"\"","v":""},{"$f":"入力シート!K241&\"\"","v":""},{"$f":"入力シート!Q241&\"\"","v":""},{"$f":"入力シート!K242&\"\"","v":""},{"$f":"入力シート!Q242&\"\"","v":""},{"$f":"入力シート!K243&\"\"","v":""}]
["〇",{"$f":"IF(入力シート!AH260>50,FALSE,TRUE)","v":false},"事業場９",{"$f":"入力シート!$K$260&\"\"","v":""},{"$f":"入力シート!K263&\"\"","v":""},{"$f":"入力シート!K264&\"\"","v":""},{"$f":"入力シート!Q264&\"\"","v":""},{"$f":"入力シート!K265&\"\"","v":""},{"$f":"入力シート!Q265&\"\"","v":""},{"$f":"入力シート!K266&\"\"","v":""}]
["〇",{"$f":"IF(入力シート!AH283>50,FALSE,TRUE)","v":false},"事業場１０",{"$f":"入力シート!$K$283&\"\"","v":""},{"$f":"入力シート!K286&\"\"","v":""},{"$f":"入力シート!K287&\"\"","v":""},{"$f":"入力シート!Q287&\"\"","v":""},{"$f":"入力シート!K288&\"\"","v":""},{"$f":"入力シート!Q288&\"\"","v":""},{"$f":"入力シート!K289&\"\"","v":""}]
["〇",{"$f":"IF(入力シート!AH306>50,FALSE,TRUE)","v":false},"事業場１１",{"$f":"入力シート!$K$306&\"\"","v":""},{"$f":"入力シート!K309&\"\"","v":""},{"$f":"入力シート!K310&\"\"","v":""},{"$f":"入力シート!Q310&\"\"","v":""},{"$f":"入力シート!K311&\"\"","v":""},{"$f":"入力シート!Q311&\"\"","v":""},{"$f":"入力シート!K312&\"\"","v":""}]
["〇",{"$f":"IF(入力シート!AH329>50,FALSE,TRUE)","v":false},"事業場１２",{"$f":"入力シート!$K$329&\"\"","v":""},{"$f":"入力シート!K332&\"\"","v":""},{"$f":"入力シート!K333&\"\"","v":""},{"$f":"入力シート!Q333&\"\"","v":""},{"$f":"入力シート!K334&\"\"","v":""},{"$f":"入力シート!Q334&\"\"","v":""},{"$f":"入力シート!K335&\"\"","v":""}]
["〇",{"$f":"IF(入力シート!AH352>50,FALSE,TRUE)","v":false},"事業場１３",{"$f":"入力シート!$K$352&\"\"","v":""},{"$f":"入力シート!K355&\"\"","v":""},{"$f":"入力シート!K356&\"\"","v":""},{"$f":"入力シート!Q356&\"\"","v":""},{"$f":"入力シート!K357&\"\"","v":""},{"$f":"入力シート!Q357&\"\"","v":""},{"$f":"入力シート!K358&\"\"","v":""}]
["〇",{"$f":"IF(入力シート!AH375>50,FALSE,TRUE)","v":false},"事業場１４",{"$f":"入力シート!$K$375&\"\"","v":""},{"$f":"入力シート!K378&\"\"","v":""},{"$f":"入力シート!K379&\"\"","v":""},{"$f":"入力シート!Q379&\"\"","v":""},{"$f":"入力シート!K380&\"\"","v":""},{"$f":"入力シート!Q380&\"\"","v":""},{"$f":"入力シート!K381&\"\"","v":""}]
["〇",{"$f":"IF(入力シート!AH398>50,FALSE,TRUE)","v":false},"事業場１５",{"$f":"入力シート!$K$398&\"\"","v":""},{"$f":"入力シート!K401&\"\"","v":""},{"$f":"入力シート!K402&\"\"","v":""},{"$f":"入力シート!Q402&\"\"","v":""},{"$f":"入力シート!K403&\"\"","v":""},{"$f":"入力シート!Q403&\"\"","v":""},{"$f":"入力シート!K404&\"\"","v":""}]
["〇",{"$f":"IF(入力シート!AH421>50,FALSE,TRUE)","v":false},"事業場１６",{"$f":"入力シート!$K$421&\"\"","v":""},{"$f":"入力シート!K424&\"\"","v":""},{"$f":"入力シート!K425&\"\"","v":""},{"$f":"入力シート!Q425&\"\"","v":""},{"$f":"入力シート!K426&\"\"","v":""},{"$f":"入力シート!Q426&\"\"","v":""},{"$f":"入力シート!K427&\"\"","v":""}]
["〇",{"$f":"IF(入力シート!AH444>50,FALSE,TRUE)","v":false},"事業場１７",{"$f":"入力シート!$K$444&\"\"","v":""},{"$f":"入力シート!K447&\"\"","v":""},{"$f":"入力シート!K448&\"\"","v":""},{"$f":"入力シート!Q448&\"\"","v":""},{"$f":"入力シート!K449&\"\"","v":""},{"$f":"入力シート!Q449&\"\"","v":""},{"$f":"入力シート!K450&\"\"","v":""}]
["〇",{"$f":"IF(入力シート!AH467>50,FALSE,TRUE)","v":false},"事業場１８",{"$f":"入力シート!$K$467&\"\"","v":""},{"$f":"入力シート!K470&\"\"","v":""},{"$f":"入力シート!K471&\"\"","v":""},{"$f":"入力シート!Q471&\"\"","v":""},{"$f":"入力シート!K472&\"\"","v":""},{"$f":"入力シート!Q472&\"\"","v":""},{"$f":"入力シート!K473&\"\"","v":""}]
["〇",{"$f":"IF(入力シート!AH490>50,FALSE,TRUE)","v":false},"事業場１９",{"$f":"入力シート!$K$490&\"\"","v":""},{"$f":"入力シート!K493&\"\"","v":""},{"$f":"入力シート!K494&\"\"","v":""},{"$f":"入力シート!Q494&\"\"","v":""},{"$f":"入力シート!K495&\"\"","v":""},{"$f":"入力シート!Q495&\"\"","v":""},{"$f":"入力シート!K496&\"\"","v":""}]
["〇",{"$f":"IF(入力シート!AH513>50,FALSE,TRUE)","v":false},"事業場２０",{"$f":"入力シート!$K$513&\"\"","v":""},{"$f":"入力シート!K516&\"\"","v":""},{"$f":"入力シート!K517&\"\"","v":""},{"$f":"入力シート!Q517&\"\"","v":""},{"$f":"入力シート!K518&\"\"","v":""},{"$f":"入力シート!Q518&\"\"","v":""},{"$f":"入力シート!K519&\"\"","v":""}]
["〇",{"$f":"IF(入力シート!AH536>50,FALSE,TRUE)","v":false},"事業場２１",{"$f":"入力シート!$K$536&\"\"","v":""},{"$f":"入力シート!K539&\"\"","v":""},{"$f":"入力シート!K540&\"\"","v":""},{"$f":"入力シート!Q540&\"\"","v":""},{"$f":"入力シート!K541&\"\"","v":""},{"$f":"入力シート!Q541&\"\"","v":""},{"$f":"入力シート!K542&\"\"","v":""}]
["〇",{"$f":"IF(入力シート!AH559>50,FALSE,TRUE)","v":false},"事業場２２",{"$f":"入力シート!$K$559&\"\"","v":""},{"$f":"入力シート!K562&\"\"","v":""},{"$f":"入力シート!K563&\"\"","v":""},{"$f":"入力シート!Q563&\"\"","v":""},{"$f":"入力シート!K564&\"\"","v":""},{"$f":"入力シート!Q564&\"\"","v":""},{"$f":"入力シート!K565&\"\"","v":""}]
["〇",{"$f":"IF(入力シート!AH582>50,FALSE,TRUE)","v":false},"事業場２３",{"$f":"入力シート!$K$582&\"\"","v":""},{"$f":"入力シート!K585&\"\"","v":""},{"$f":"入力シート!K586&\"\"","v":""},{"$f":"入力シート!Q586&\"\"","v":""},{"$f":"入力シート!K587&\"\"","v":""},{"$f":"入力シート!Q587&\"\"","v":""},{"$f":"入力シート!K588&\"\"","v":""}]
["〇",{"$f":"IF(入力シート!AH605>50,FALSE,TRUE)","v":false},"事業場２４",{"$f":"入力シート!$K$605&\"\"","v":""},{"$f":"入力シート!K608&\"\"","v":""},{"$f":"入力シート!K609&\"\"","v":""},{"$f":"入力シート!Q609&\"\"","v":""},{"$f":"入力シート!K610&\"\"","v":""},{"$f":"入力シート!Q610&\"\"","v":""},{"$f":"入力シート!K611&\"\"","v":""}]
["〇",{"$f":"IF(入力シート!AH628>50,FALSE,TRUE)","v":false},"事業場２５",{"$f":"入力シート!$K$628&\"\"","v":""},{"$f":"入力シート!K631&\"\"","v":""},{"$f":"入力シート!K632&\"\"","v":""},{"$f":"入力シート!Q632&\"\"","v":""},{"$f":"入力シート!K633&\"\"","v":""},{"$f":"入力シート!Q633&\"\"","v":""},{"$f":"入力シート!K634&\"\"","v":""}]
["〇",{"$f":"IF(入力シート!AH651>50,FALSE,TRUE)","v":false},"事業場２６",{"$f":"入力シート!$K$651&\"\"","v":""},{"$f":"入力シート!K654&\"\"","v":""},{"$f":"入力シート!K655&\"\"","v":""},{"$f":"入力シート!Q655&\"\"","v":""},{"$f":"入力シート!K656&\"\"","v":""},{"$f":"入力シート!Q656&\"\"","v":""},{"$f":"入力シート!K657&\"\"","v":""}]
["〇",{"$f":"IF(入力シート!AH674>50,FALSE,TRUE)","v":false},"事業場２７",{"$f":"入力シート!$K$674&\"\"","v":""},{"$f":"入力シート!K677&\"\"","v":""},{"$f":"入力シート!K678&\"\"","v":""},{"$f":"入力シート!Q678&\"\"","v":""},{"$f":"入力シート!K679&\"\"","v":""},{"$f":"入力シート!Q679&\"\"","v":""},{"$f":"入力シート!K680&\"\"","v":""}]
["〇",{"$f":"IF(入力シート!AH697>50,FALSE,TRUE)","v":false},"事業場２８",{"$f":"入力シート!$K$697&\"\"","v":""},{"$f":"入力シート!K700&\"\"","v":""},{"$f":"入力シート!K701&\"\"","v":""},{"$f":"入力シート!Q701&\"\"","v":""},{"$f":"入力シート!K702&\"\"","v":""},{"$f":"入力シート!Q702&\"\"","v":""},{"$f":"入力シート!K703&\"\"","v":""}]
["〇",{"$f":"IF(入力シート!AH720>50,FALSE,TRUE)","v":false},"事業場２９",{"$f":"入力シート!$K720&\"\"","v":""},{"$f":"入力シート!K723&\"\"","v":""},{"$f":"入力シート!K724&\"\"","v":""},{"$f":"入力シート!Q724&\"\"","v":""},{"$f":"入力シート!K725&\"\"","v":""},{"$f":"入力シート!Q725&\"\"","v":""},{"$f":"入力シート!K726&\"\"","v":""}]
["〇",{"$f":"IF(入力シート!AH743>50,FALSE,TRUE)","v":false},"事業場３０",{"$f":"入力シート!$K$743&\"\"","v":""},{"$f":"入力シート!K746&\"\"","v":""},{"$f":"入力シート!K747&\"\"","v":""},{"$f":"入力シート!Q747&\"\"","v":""},{"$f":"入力シート!K748&\"\"","v":""},{"$f":"入力シート!Q748&\"\"","v":""},{"$f":"入力シート!K749&\"\"","v":""}]
["〇",{"$f":"IF(入力シート!AH766>50,FALSE,TRUE)","v":false},"事業場３１",{"$f":"入力シート!$K$766&\"\"","v":""},{"$f":"入力シート!K769&\"\"","v":""},{"$f":"入力シート!K770&\"\"","v":""},{"$f":"入力シート!Q770&\"\"","v":""},{"$f":"入力シート!K771&\"\"","v":""},{"$f":"入力シート!Q771&\"\"","v":""},{"$f":"入力シート!K772&\"\"","v":""}]
["〇",{"$f":"IF(入力シート!AH789>50,FALSE,TRUE)","v":false},"事業場３２",{"$f":"入力シート!$K$789&\"\"","v":""},{"$f":"入力シート!K792&\"\"","v":""},{"$f":"入力シート!K793&\"\"","v":""},{"$f":"入力シート!Q793&\"\"","v":""},{"$f":"入力シート!K794&\"\"","v":""},{"$f":"入力シート!Q794&\"\"","v":""},{"$f":"入力シート!K795&\"\"","v":""}]
["〇",{"$f":"IF(入力シート!AH812>50,FALSE,TRUE)","v":false},"事業場３３",{"$f":"入力シート!$K$812&\"\"","v":""},{"$f":"入力シート!K815&\"\"","v":""},{"$f":"入力シート!K816&\"\"","v":""},{"$f":"入力シート!Q816&\"\"","v":""},{"$f":"入力シート!K817&\"\"","v":""},{"$f":"入力シート!Q817&\"\"","v":""},{"$f":"入力シート!K818&\"\"","v":""}]
["〇",{"$f":"IF(入力シート!AH835>50,FALSE,TRUE)","v":false},"事業場３４",{"$f":"入力シート!$K$835&\"\"","v":""},{"$f":"入力シート!K838&\"\"","v":""},{"$f":"入力シート!K839&\"\"","v":""},{"$f":"入力シート!Q839&\"\"","v":""},{"$f":"入力シート!K840&\"\"","v":""},{"$f":"入力シート!Q840&\"\"","v":""},{"$f":"入力シート!K841&\"\"","v":""}]
["〇",{"$f":"IF(入力シート!AH858>50,FALSE,TRUE)","v":false},"事業場３５",{"$f":"入力シート!$K$858&\"\"","v":""},{"$f":"入力シート!K861&\"\"","v":""},{"$f":"入力シート!K862&\"\"","v":""},{"$f":"入力シート!Q862&\"\"","v":""},{"$f":"入力シート!K863&\"\"","v":""},{"$f":"入力シート!Q863&\"\"","v":""},{"$f":"入力シート!K864&\"\"","v":""}]
["〇",{"$f":"IF(入力シート!AH881>50,FALSE,TRUE)","v":false},"事業場３６",{"$f":"入力シート!$K$881&\"\"","v":""},{"$f":"入力シート!K884&\"\"","v":""},{"$f":"入力シート!K885&\"\"","v":""},{"$f":"入力シート!Q885&\"\"","v":""},{"$f":"入力シート!K886&\"\"","v":""},{"$f":"入力シート!Q886&\"\"","v":""},{"$f":"入力シート!K887&\"\"","v":""}]
["〇",{"$f":"IF(入力シート!AH904>50,FALSE,TRUE)","v":false},"事業場３７",{"$f":"入力シート!$K$904&\"\"","v":""},{"$f":"入力シート!K907&\"\"","v":""},{"$f":"入力シート!K908&\"\"","v":""},{"$f":"入力シート!Q908&\"\"","v":""},{"$f":"入力シート!K909&\"\"","v":""},{"$f":"入力シート!Q909&\"\"","v":""},{"$f":"入力シート!K910&\"\"","v":""}]
["〇",{"$f":"IF(入力シート!AH927>50,FALSE,TRUE)","v":false},"事業場３８",{"$f":"入力シート!$K$927&\"\"","v":""},{"$f":"入力シート!K930&\"\"","v":""},{"$f":"入力シート!K931&\"\"","v":""},{"$f":"入力シート!Q931&\"\"","v":""},{"$f":"入力シート!K932&\"\"","v":""},{"$f":"入力シート!Q932&\"\"","v":""},{"$f":"入力シート!K933&\"\"","v":""}]
["〇",{"$f":"IF(入力シート!AH950>50,FALSE,TRUE)","v":false},"事業場３９",{"$f":"入力シート!$K$950&\"\"","v":""},{"$f":"入力シート!K953&\"\"","v":""},{"$f":"入力シート!K954&\"\"","v":""},{"$f":"入力シート!Q954&\"\"","v":""},{"$f":"入力シート!K955&\"\"","v":""},{"$f":"入力シート!Q955&\"\"","v":""},{"$f":"入力シート!K956&\"\"","v":""}]
["〇",{"$f":"IF(入力シート!AH973>50,FALSE,TRUE)","v":false},"事業場４０",{"$f":"入力シート!$K$973&\"\"","v":""},{"$f":"入力シート!K976&\"\"","v":""},{"$f":"入力シート!K977&\"\"","v":""},{"$f":"入力シート!Q977&\"\"","v":""},{"$f":"入力シート!K978&\"\"","v":""},{"$f":"入力シート!Q978&\"\"","v":""},{"$f":"入力シート!K979&\"\"","v":""}]
["〇",{"$f":"IF(入力シート!AH996>50,FALSE,TRUE)","v":false},"事業場４１",{"$f":"入力シート!$K$996&\"\"","v":""},{"$f":"入力シート!K999&\"\"","v":""},{"$f":"入力シート!K1000&\"\"","v":""},{"$f":"入力シート!Q1000&\"\"","v":""},{"$f":"入力シート!K1001&\"\"","v":""},{"$f":"入力シート!Q1001&\"\"","v":""},{"$f":"入力シート!K1002&\"\"","v":""}]
["〇",{"$f":"IF(入力シート!AH1019>50,FALSE,TRUE)","v":false},"事業場４２",{"$f":"入力シート!$K$1019&\"\"","v":""},{"$f":"入力シート!K1022&\"\"","v":""},{"$f":"入力シート!K1023&\"\"","v":""},{"$f":"入力シート!Q1023&\"\"","v":""},{"$f":"入力シート!K1024&\"\"","v":""},{"$f":"入力シート!Q1024&\"\"","v":""},{"$f":"入力シート!K1025&\"\"","v":""}]
["〇",{"$f":"IF(入力シート!AH1042>50,FALSE,TRUE)","v":false},"事業場４３",{"$f":"入力シート!$K$1042&\"\"","v":""},{"$f":"入力シート!K1045&\"\"","v":""},{"$f":"入力シート!K1046&\"\"","v":""},{"$f":"入力シート!Q1046&\"\"","v":""},{"$f":"入力シート!K1047&\"\"","v":""},{"$f":"入力シート!Q1047&\"\"","v":""},{"$f":"入力シート!K1048&\"\"","v":""}]
["〇",{"$f":"IF(入力シート!AH1065>50,FALSE,TRUE)","v":false},"事業場４４",{"$f":"入力シート!$K$1065&\"\"","v":""},{"$f":"入力シート!K1068&\"\"","v":""},{"$f":"入力シート!K1069&\"\"","v":""},{"$f":"入力シート!Q1069&\"\"","v":""},{"$f":"入力シート!K1070&\"\"","v":""},{"$f":"入力シート!Q1070&\"\"","v":""},{"$f":"入力シート!K1071&\"\"","v":""}]
["〇",{"$f":"IF(入力シート!AH1088>50,FALSE,TRUE)","v":false},"事業場４５",{"$f":"入力シート!$K$1088&\"\"","v":""},{"$f":"入力シート!K1091&\"\"","v":""},{"$f":"入力シート!K1092&\"\"","v":""},{"$f":"入力シート!Q1092&\"\"","v":""},{"$f":"入力シート!K1093&\"\"","v":""},{"$f":"入力シート!Q1093&\"\"","v":""},{"$f":"入力シート!K1094&\"\"","v":""}]
["〇",{"$f":"IF(入力シート!AH1111>50,FALSE,TRUE)","v":false},"事業場４６",{"$f":"入力シート!$K$1111&\"\"","v":""},{"$f":"入力シート!K1114&\"\"","v":""},{"$f":"入力シート!K1115&\"\"","v":""},{"$f":"入力シート!Q1115&\"\"","v":""},{"$f":"入力シート!K1116&\"\"","v":""},{"$f":"入力シート!Q1116&\"\"","v":""},{"$f":"入力シート!K1117&\"\"","v":""}]
["〇",{"$f":"IF(入力シート!AH1134>50,FALSE,TRUE)","v":false},"事業場４７",{"$f":"入力シート!$K$1134&\"\"","v":""},{"$f":"入力シート!K1137&\"\"","v":""},{"$f":"入力シート!K1138&\"\"","v":""},{"$f":"入力シート!Q1138&\"\"","v":""},{"$f":"入力シート!K1139&\"\"","v":""},{"$f":"入力シート!Q1139&\"\"","v":""},{"$f":"入力シート!K1140&\"\"","v":""}]
["〇",{"$f":"IF(入力シート!AH1157>50,FALSE,TRUE)","v":false},"事業場４８",{"$f":"入力シート!$K$1157&\"\"","v":""},{"$f":"入力シート!K1160&\"\"","v":""},{"$f":"入力シート!K1161&\"\"","v":""},{"$f":"入力シート!Q1161&\"\"","v":""},{"$f":"入力シート!K1162&\"\"","v":""},{"$f":"入力シート!Q1162&\"\"","v":""},{"$f":"入力シート!K1163&\"\"","v":""}]
["〇",{"$f":"IF(入力シート!AH1180>50,FALSE,TRUE)","v":false},"事業場４９",{"$f":"入力シート!$K$1180&\"\"","v":""},{"$f":"入力シート!K1183&\"\"","v":""},{"$f":"入力シート!K1184&\"\"","v":""},{"$f":"入力シート!Q1184&\"\"","v":""},{"$f":"入力シート!K1185&\"\"","v":""},{"$f":"入力シート!Q1185&\"\"","v":""},{"$f":"入力シート!K1186&\"\"","v":""},null,null,null,null,null,null,null,null,null,"※B列がFALSEの場合ノーカウント",null,null,null,null,null,null,"※B列がFALSEの場合ノーカウント"]
["〇",{"$f":"IF(入力シート!AH1203>50,FALSE,TRUE)","v":false},"事業場５０",{"$f":"入力シート!$K$1203&\"\"","v":""},{"$f":"入力シート!K1206&\"\"","v":""},{"$f":"入力シート!K1207&\"\"","v":""},{"$f":"入力シート!Q1207&\"\"","v":""},{"$f":"入力シート!K1208&\"\"","v":""},{"$f":"入力シート!Q1208&\"\"","v":""},{"$f":"入力シート!K1209&\"\"","v":""},null,null,null,null,null,null,null,null,"作業列"]
[null,null,null,null,null,null,null,null,null,null,null,null,null,null,null,null,null,null,null,null,null,null,null,"機器",null,"金額"]
[null,"グレーアウト項目_入力対象_事業場","購入台数","機器一覧の掲載有無_掲載されている","メーカー名コード","名称・型式コード","品　　番コード","ｿﾌﾄのﾊﾞｰｼﾞｮﾝコード","機器一覧の掲載有無_掲載されていない","機器一覧外_メーカー名","機器一覧外_名称・型式","機器一覧外_品　　番","機器一覧外_ｿﾌﾄのﾊﾞｰｼﾞｮﾝ","補助事業に要する経費","スキャンツール価格","情報端末価格","機器一覧の掲載有無(掲載されている,掲載されていない,選択なし,両方選択)",null,"事業場","台数","入力無し=9999","9999以外順番","事業場","台数","入力有_購入台数","掲載有無","事業場","要する経費","補助事業経費"]
["〇",{"$f":"IF(入力シート!AH76>50,FALSE,TRUE)","v":true},"事業場１　１台目",{"$f":"入力シート!AD85","v":false},{"$f":"UPPER(MID(入力シート!$I85,1,1))","v":""},{"$f":"UPPER(MID(入力シート!$I85,2,1))","v":""},{"$f":"IF(LEN(入力シート!$I85)=4,MID(入力シート!$I85,3,1),MID(入力シート!$I85,3,2))","v":""},{"$f":"LOWER(RIGHT(入力シート!$I85,1))","v":""},{"$f":"入力シート!$AD86","v":false},{"$f":"入力シート!J86&\"\"","v":""},{"$f":"入力シート!M86&\"\"","v":""},{"$f":"入力シート!P86&\"\"","v":""},{"$f":"入力シート!S86&\"\"","v":""},{"$f":"入力シート!G93","v":0},{"$f":"入力シート!K93","v":0},{"$f":"入力シート!P93","v":0},{"$f":"SUBSTITUTE(SUBSTITUTE(SUBSTITUTE(SUBSTITUTE(D111&I111,\"TRUEFALSE\",\"掲載されている\"),\"FALSETRUE\",\"掲載されていない\"),\"FALSEFALSE\",\"選択なし\"),\"TRUETRUE\",\"両方選択\")","v":"選択なし"},null,1,1,{"$f":"VALUE(IF(OR(B111=FALSE,AND(E111=\"\",J111=\"\")),9999,S111&0&T111))","v":9999},{"$f":"SMALL($U$111:$U$260,1)","v":9999},{"$f":"IF(LEN(V111)=3,LEFT(V111,1),LEFT(V111,2))","v":"99"},{"$f":"RIGHT(V111,1)","v":"9"},{"$f":"DBCS(\"事業場\"&W111&\"　\"&X111&\"台目\")","v":"事業場９９　９台目"},{"$f":"VLOOKUP(Y111,$C$110:$D$260,2,FALSE)","v":{"$error":"#N/A"}},"事業場１",{"$f":"SUMIF($C$111:$N$260,$AA111&\"　*\",$N$111:$N$260)","v":0},{"$f":"SUMIF($C$111:$N$260,$AA111&\"　*\",$O$111:$O$260)+SUMIF($C$111:$N$260,$AA111&\"　*\",$P$111:$P$260)","v":0}]
["〇",{"$f":"IF(入力シート!AH76>50,FALSE,TRUE)","v":true},"事業場１　２台目",{"$f":"入力シート!AD87","v":false},{"$f":"UPPER(MID(入力シート!$I87,1,1))","v":""},{"$f":"UPPER(MID(入力シート!$I87,2,1))","v":""},{"$f":"IF(LEN(入力シート!$I87)=4,MID(入力シート!$I87,3,1),MID(入力シート!$I87,3,2))","v":""},{"$f":"LOWER(RIGHT(入力シート!$I87,1))","v":""},{"$f":"入力シート!$AD88","v":false},{"$f":"入力シート!J88&\"\"","v":""},{"$f":"入力シート!M88&\"\"","v":""},{"$f":"入力シート!P88&\"\"","v":""},{"$f":"入力シート!S88&\"\"","v":""},{"$f":"入力シート!G94","v":0},{"$f":"入力シート!K94","v":0},{"$f":"入力シート!P94","v":0},"選択なし",null,1,2,9999,{"$f":"SMALL($U$111:$U$260,2)","v":9999},{"$f":"IF(LEN(V112)=3,LEFT(V112,1),LEFT(V112,2))","v":"99"},{"$f":"RIGHT(V112,1)","v":"9"},{"$f":"DBCS(\"事業場\"&W112&\"　\"&X112&\"台目\")","v":"事業場９９　９台目"},{"$error":"#N/A"},"事業場２",{"$f":"IF(B60=TRUE,SUMIF($C$111:$N$260,$AA112&\"　*\",$N$111:$N$260),0)","v":0},{"$f":"IF(B60=TRUE,SUMIF($C$111:$N$260,$AA112&\"　*\",$O$111:$O$260)+SUMIF($C$111:$N$260,$AA112&\"　*\",$P$111:$P$260),0)","v":0}]
["〇",{"$f":"IF(入力シート!AH76>50,FALSE,TRUE)","v":true},"事業場１　３台目",{"$f":"入力シート!AD89","v":false},{"$f":"UPPER(MID(入力シート!$I89,1,1))","v":""},{"$f":"UPPER(MID(入力シート!$I89,2,1))","v":""},{"$f":"IF(LEN(入力シート!$I89)=4,MID(入力シート!$I89,3,1),MID(入力シート!$I89,3,2))","v":""},{"$f":"LOWER(RIGHT(入力シート!$I89,1))","v":""},{"$f":"入力シート!$AD90","v":false},{"$f":"入力シート!J90&\"\"","v":""},{"$f":"入力シート!M90&\"\"","v":""},{"$f":"入力シート!P90&\"\"","v":""},{"$f":"入力シート!S90&\"\"","v":""},{"$f":"入力シート!G95","v":0},{"$f":"入力シート!K95","v":0},{"$f":"入力シート!P95","v":0},"選択なし",null,1,3,9999,{"$f":"SMALL($U$111:$U$260,3)","v":9999},"99","9","事業場９９　９台目",{"$error":"#N/A"},"事業場３",0,0]
["〇",{"$f":"IF(入力シート!AH99>50,FALSE,TRUE)","v":false},"事業場２　１台目",{"$f":"入力シート!AD108","v":false},{"$f":"UPPER(MID(入力シート!$I108,1,1))","v":""},{"$f":"UPPER(MID(入力シート!$I108,2,1))","v":""},{"$f":"IF(LEN(入力シート!$I108)=4,MID(入力シート!$I108,3,1),MID(入力シート!$I108,3,2))","v":""},{"$f":"LOWER(RIGHT(入力シート!$I108,1))","v":""},{"$f":"入力シート!$AD109","v":false},{"$f":"入力シート!J109&\"\"","v":""},{"$f":"入力シート!M109&\"\"","v":""},{"$f":"入力シート!P109&\"\"","v":""},{"$f":"入力シート!S109&\"\"","v":""},{"$f":"入力シート!G116","v":0},{"$f":"入力シート!K116","v":0},{"$f":"入力シート!P116","v":0},"選択なし",null,2,1,9999,{"$f":"SMALL($U$111:$U$260,4)","v":9999},"99","9","事業場９９　９台目",{"$error":"#N/A"},"事業場４",0,0]
["〇",{"$f":"IF(入力シート!AH99>50,FALSE,TRUE)","v":false},"事業場２　２台目",{"$f":"入力シート!AD110","v":false},{"$f":"UPPER(MID(入力シート!$I110,1,1))","v":""},{"$f":"UPPER(MID(入力シート!$I110,2,1))","v":""},{"$f":"IF(LEN(入力シート!$I110)=4,MID(入力シート!$I110,3,1),MID(入力シート!$I110,3,2))","v":""},{"$f":"LOWER(RIGHT(入力シート!$I110,1))","v":""},{"$f":"入力シート!$AD111","v":false},{"$f":"入力シート!J111&\"\"","v":""},{"$f":"入力シート!M111&\"\"","v":""},{"$f":"入力シート!P111&\"\"","v":""},{"$f":"入力シート!S111&\"\"","v":""},{"$f":"入力シート!G117","v":0},{"$f":"入力シート!K117","v":0},{"$f":"入力シート!P117","v":0},"選択なし",null,2,2,9999,{"$f":"SMALL($U$111:$U$260,5)","v":9999},"99","9","事業場９９　９台目",{"$error":"#N/A"},"事業場５",0,0]
["〇",{"$f":"IF(入力シート!AH99>50,FALSE,TRUE)","v":false},"事業場２　３台目",{"$f":"入力シート!AD112","v":false},{"$f":"UPPER(MID(入力シート!$I112,1,1))","v":""},{"$f":"UPPER(MID(入力シート!$I112,2,1))","v":""},{"$f":"IF(LEN(入力シート!$I112)=4,MID(入力シート!$I112,3,1),MID(入力シート!$I112,3,2))","v":""},{"$f":"LOWER(RIGHT(入力シート!$I112,1))","v":""},{"$f":"入力シート!$AD113","v":false},{"$f":"入力シート!J113&\"\"","v":""},{"$f":"入力シート!$M113&\"\"","v":""},{"$f":"入力シート!$P113&\"\"","v":""},{"$f":"入力シート!S113&\"\"","v":""},{"$f":"入力シート!G118","v":0},{"$f":"入力シート!K118","v":0},{"$f":"入力シート!P118","v":0},"選択なし",null,2,3,9999,{"$f":"SMALL($U$111:$U$260,6)","v":9999},"99","9","事業場９９　９台目",{"$error":"#N/A"},"事業場６",0,0]
["〇",{"$f":"IF(入力シート!AH122>50,FALSE,TRUE)","v":false},"事業場３　１台目",{"$f":"入力シート!$AD131","v":false},{"$f":"UPPER(MID(入力シート!$I131,1,1))","v":""},{"$f":"UPPER(MID(入力シート!$I131,2,1))","v":""},{"$f":"IF(LEN(入力シート!$I131)=4,MID(入力シート!$I131,3,1),MID(入力シート!$I131,3,2))","v":""},{"$f":"LOWER(RIGHT(入力シート!$I131,1))","v":""},{"$f":"入力シート!$AD132","v":false},{"$f":"入力シート!$J132&\"\"","v":""},{"$f":"入力シート!$M132&\"\"","v":""},{"$f":"入力シート!$P132&\"\"","v":""},{"$f":"入力シート!$S132&\"\"","v":""},{"$f":"入力シート!$G139","v":0},{"$f":"入力シート!$K139","v":0},{"$f":"入力シート!$P139","v":0},"選択なし",null,3,1,9999,{"$f":"SMALL($U$111:$U$260,7)","v":9999},"99","9","事業場９９　９台目",{"$error":"#N/A"},"事業場７",0,0]
["〇",{"$f":"IF(入力シート!AH122>50,FALSE,TRUE)","v":false},"事業場３　２台目",{"$f":"入力シート!$AD133","v":false},{"$f":"UPPER(MID(入力シート!$I133,1,1))","v":""},{"$f":"UPPER(MID(入力シート!$I133,2,1))","v":""},{"$f":"IF(LEN(入力シート!$I133)=4,MID(入力シート!$I133,3,1),MID(入力シート!$I133,3,2))","v":""},{"$f":"LOWER(RIGHT(入力シート!$I133,1))","v":""},{"$f":"入力シート!$AD134","v":false},{"$f":"入力シート!$J134&\"\"","v":""},{"$f":"入力シート!$M134&\"\"","v":""},{"$f":"入力シート!$P134&\"\"","v":""},{"$f":"入力シート!$S134&\"\"","v":""},{"$f":"入力シート!$G140","v":0},{"$f":"入力シート!$K140","v":0},{"$f":"入力シート!$P140","v":0},"選択なし",null,3,2,9999,{"$f":"SMALL($U$111:$U$260,8)","v":9999},"99","9","事業場９９　９台目",{"$error":"#N/A"},"事業場８",0,0]
["〇",{"$f":"IF(入力シート!AH122>50,FALSE,TRUE)","v":false},"事業場３　３台目",{"$f":"入力シート!$AD135","v":false},{"$f":"UPPER(MID(入力シート!$I135,1,1))","v":""},{"$f":"UPPER(MID(入力シート!$I135,2,1))","v":""},{"$f":"IF(LEN(入力シート!$I135)=4,MID(入力シート!$I135,3,1),MID(入力シート!$I135,3,2))","v":""},{"$f":"LOWER(RIGHT(入力シート!$I135,1))","v":""},{"$f":"入力シート!$AD136","v":false},{"$f":"入力シート!$J136&\"\"","v":""},{"$f":"入力シート!$M136&\"\"","v":""},{"$f":"入力シート!$P136&\"\"","v":""},{"$f":"入力シート!$S136&\"\"","v":""},{"$f":"入力シート!$G141","v":0},{"$f":"入力シート!$K141","v":0},{"$f":"入力シート!$P141","v":0},"選択なし",null,3,3,9999,{"$f":"SMALL($U$111:$U$260,9)","v":9999},"99","9","事業場９９　９台目",{"$error":"#N/A"},"事業場９",0,0]
["〇",{"$f":"IF(入力シート!AH145>50,FALSE,TRUE)","v":false},"事業場４　１台目",{"$f":"入力シート!$AD154","v":false},{"$f":"UPPER(MID(入力シート!$I154,1,1))","v":""},{"$f":"UPPER(MID(入力シート!$I154,2,1))","v":""},{"$f":"IF(LEN(入力シート!$I154)=4,MID(入力シート!$I154,3,1),MID(入力シート!$I154,3,2))","v":""},{"$f":"LOWER(RIGHT(入力シート!$I154,1))","v":""},{"$f":"入力シート!$AD155","v":false},{"$f":"入力シート!$J155&\"\"","v":""},{"$f":"入力シート!$M155&\"\"","v":""},{"$f":"入力シート!$P155&\"\"","v":""},{"$f":"入力シート!$S155&\"\"","v":""},{"$f":"入力シート!$G162","v":0},{"$f":"入力シート!$K162","v":0},{"$f":"入力シート!$P162","v":0},"選択なし",null,4,1,9999,{"$f":"SMALL($U$111:$U$260,10)","v":9999},"99","9","事業場９９　９台目",{"$error":"#N/A"},"事業場１０",0,0]
["〇",{"$f":"IF(入力シート!AH145>50,FALSE,TRUE)","v":false},"事業場４　２台目",{"$f":"入力シート!$AD156","v":false},{"$f":"UPPER(MID(入力シート!$I156,1,1))","v":""},{"$f":"UPPER(MID(入力シート!$I156,2,1))","v":""},{"$f":"IF(LEN(入力シート!$I156)=4,MID(入力シート!$I156,3,1),MID(入力シート!$I156,3,2))","v":""},{"$f":"LOWER(RIGHT(入力シート!$I156,1))","v":""},{"$f":"入力シート!$AD157","v":false},{"$f":"入力シート!$J157&\"\"","v":""},{"$f":"入力シート!$M157&\"\"","v":""},{"$f":"入力シート!$P157&\"\"","v":""},{"$f":"入力シート!$S157&\"\"","v":""},{"$f":"入力シート!$G163","v":0},{"$f":"入力シート!$K163","v":0},{"$f":"入力シート!$P163","v":0},"選択なし",null,4,2,9999,{"$f":"SMALL($U$111:$U$260,11)","v":9999},"99","9","事業場９９　９台目",{"$error":"#N/A"},"事業場１１",0,0]
["〇",{"$f":"IF(入力シート!AH145>50,FALSE,TRUE)","v":false},"事業場４　３台目",{"$f":"入力シート!$AD158","v":false},{"$f":"UPPER(MID(入力シート!$I158,1,1))","v":""},{"$f":"UPPER(MID(入力シート!$I158,2,1))","v":""},{"$f":"IF(LEN(入力シート!$I158)=4,MID(入力シート!$I158,3,1),MID(入力シート!$I158,3,2))","v":""},{"$f":"LOWER(RIGHT(入力シート!$I158,1))","v":""},{"$f":"入力シート!$AD159","v":false},{"$f":"入力シート!$J159&\"\"","v":""},{"$f":"入力シート!$M159&\"\"","v":""},{"$f":"入力シート!$P159&\"\"","v":""},{"$f":"入力シート!$S159&\"\"","v":""},{"$f":"入力シート!$G164","v":0},{"$f":"入力シート!$K164","v":0},{"$f":"入力シート!$P164","v":0},"選択なし",null,4,3,9999,{"$f":"SMALL($U$111:$U$260,12)","v":9999},"99","9","事業場９９　９台目",{"$error":"#N/A"},"事業場１２",0,0]
["〇",{"$f":"IF(入力シート!AH168>50,FALSE,TRUE)","v":false},"事業場５　１台目",{"$f":"入力シート!$AD177","v":false},{"$f":"UPPER(MID(入力シート!$I177,1,1))","v":""},{"$f":"UPPER(MID(入力シート!$I177,2,1))","v":""},{"$f":"IF(LEN(入力シート!$I177)=4,MID(入力シート!$I177,3,1),MID(入力シート!$I177,3,2))","v":""},{"$f":"LOWER(RIGHT(入力シート!$I177,1))","v":""},{"$f":"入力シート!$AD178","v":false},{"$f":"入力シート!$J178&\"\"","v":""},{"$f":"入力シート!$M178&\"\"","v":""},{"$f":"入力シート!$P178&\"\"","v":""},{"$f":"入力シート!$S178&\"\"","v":""},{"$f":"入力シート!$G185","v":0},{"$f":"入力シート!$K185","v":0},{"$f":"入力シート!$P185","v":0},"選択なし",null,5,1,9999,{"$f":"SMALL($U$111:$U$260,13)","v":9999},"99","9","事業場９９　９台目",{"$error":"#N/A"},"事業場１３",0,0]
["〇",{"$f":"IF(入力シート!AH168>50,FALSE,TRUE)","v":false},"事業場５　２台目",{"$f":"入力シート!$AD179","v":false},{"$f":"UPPER(MID(入力シート!$I179,1,1))","v":""},{"$f":"UPPER(MID(入力シート!$I179,2,1))","v":""},{"$f":"IF(LEN(入力シート!$I179)=4,MID(入力シート!$I179,3,1),MID(入力シート!$I179,3,2))","v":""},{"$f":"LOWER(RIGHT(入力シート!$I179,1))","v":""},{"$f":"入力シート!$AD180","v":false},{"$f":"入力シート!$J180&\"\"","v":""},{"$f":"入力シート!$M180&\"\"","v":""},{"$f":"入力シート!$P180&\"\"","v":""},{"$f":"入力シート!$S180&\"\"","v":""},{"$f":"入力シート!$G186","v":0},{"$f":"入力シート!$K186","v":0},{"$f":"入力シート!$P186","v":0},"選択なし",null,5,2,9999,{"$f":"SMALL($U$111:$U$260,14)","v":9999},"99","9","事業場９９　９台目",{"$error":"#N/A"},"事業場１４",0,0]
["〇",{"$f":"IF(入力シート!AH168>50,FALSE,TRUE)","v":false},"事業場５　３台目",{"$f":"入力シート!$AD181","v":false},{"$f":"UPPER(MID(入力シート!$I181,1,1))","v":""},{"$f":"UPPER(MID(入力シート!$I181,2,1))","v":""},{"$f":"IF(LEN(入力シート!$I181)=4,MID(入力シート!$I181,3,1),MID(入力シート!$I181,3,2))","v":""},{"$f":"LOWER(RIGHT(入力シート!$I181,1))","v":""},{"$f":"入力シート!$AD182","v":false},{"$f":"入力シート!$J182&\"\"","v":""},{"$f":"入力シート!$M182&\"\"","v":""},{"$f":"入力シート!$P182&\"\"","v":""},{"$f":"入力シート!$S182&\"\"","v":""},{"$f":"入力シート!$G187","v":0},{"$f":"入力シート!$K187","v":0},{"$f":"入力シート!$P187","v":0},"選択なし",null,5,3,9999,{"$f":"SMALL($U$111:$U$260,15)","v":9999},"99","9","事業場９９　９台目",{"$error":"#N/A"},"事業場１５",0,0]
["〇",{"$f":"IF(入力シート!AH191>50,FALSE,TRUE)","v":false},"事業場６　１台目",{"$f":"入力シート!$AD200","v":false},{"$f":"UPPER(MID(入力シート!$I200,1,1))","v":""},{"$f":"UPPER(MID(入力シート!$I200,2,1))","v":""},{"$f":"IF(LEN(入力シート!$I200)=4,MID(入力シート!$I200,3,1),MID(入力シート!$I200,3,2))","v":""},{"$f":"LOWER(RIGHT(入力シート!$I200,1))","v":""},{"$f":"入力シート!$AD201","v":false},{"$f":"入力シート!$J201&\"\"","v":""},{"$f":"入力シート!$M201&\"\"","v":""},{"$f":"入力シート!$P201&\"\"","v":""},{"$f":"入力シート!$S201&\"\"","v":""},{"$f":"入力シート!$G208","v":0},{"$f":"入力シート!$K208","v":0},{"$f":"入力シート!$P208","v":0},"選択なし",null,6,1,9999,{"$f":"SMALL($U$111:$U$260,16)","v":9999},"99","9","事業場９９　９台目",{"$error":"#N/A"},"事業場１６",0,0]
["〇",{"$f":"IF(入力シート!AH191>50,FALSE,TRUE)","v":false},"事業場６　２台目",{"$f":"入力シート!$AD202","v":false},{"$f":"UPPER(MID(入力シート!$I202,1,1))","v":""},{"$f":"UPPER(MID(入力シート!$I202,2,1))","v":""},{"$f":"IF(LEN(入力シート!$I202)=4,MID(入力シート!$I202,3,1),MID(入力シート!$I202,3,2))","v":""},{"$f":"LOWER(RIGHT(入力シート!$I202,1))","v":""},{"$f":"入力シート!$AD203","v":false},{"$f":"入力シート!$J203&\"\"","v":""},{"$f":"入力シート!$M203&\"\"","v":""},{"$f":"入力シート!$P203&\"\"","v":""},{"$f":"入力シート!$S203&\"\"","v":""},{"$f":"入力シート!$G209","v":0},{"$f":"入力シート!$K209","v":0},{"$f":"入力シート!$P209","v":0},"選択なし",null,6,2,9999,{"$f":"SMALL($U$111:$U$260,17)","v":9999},"99","9","事業場９９　９台目",{"$error":"#N/A"},"事業場１７",0,0]
["〇",{"$f":"IF(入力シート!AH191>50,FALSE,TRUE)","v":false},"事業場６　３台目",{"$f":"入力シート!$AD204","v":false},{"$f":"UPPER(MID(入力シート!$I204,1,1))","v":""},{"$f":"UPPER(MID(入力シート!$I204,2,1))","v":""},{"$f":"IF(LEN(入力シート!$I204)=4,MID(入力シート!$I204,3,1),MID(入力シート!$I204,3,2))","v":""},{"$f":"LOWER(RIGHT(入力シート!$I204,1))","v":""},{"$f":"入力シート!$AD205","v":false},{"$f":"入力シート!$J205&\"\"","v":""},{"$f":"入力シート!$M205&\"\"","v":""},{"$f":"入力シート!$P205&\"\"","v":""},{"$f":"入力シート!$S205&\"\"","v":""},{"$f":"入力シート!$G210","v":0},{"$f":"入力シート!$K210","v":0},{"$f":"入力シート!$P210","v":0},"選択なし",null,6,3,9999,{"$f":"SMALL($U$111:$U$260,18)","v":9999},"99","9","事業場９９　９台目",{"$error":"#N/A"},"事業場１８",0,0]
["〇",{"$f":"IF(入力シート!AH214>50,FALSE,TRUE)","v":false},"事業場７　１台目",{"$f":"入力シート!$AD223","v":false},{"$f":"UPPER(MID(入力シート!$I223,1,1))","v":""},{"$f":"UPPER(MID(入力シート!$I223,2,1))","v":""},{"$f":"IF(LEN(入力シート!$I223)=4,MID(入力シート!$I223,3,1),MID(入力シート!$I223,3,2))","v":""},{"$f":"LOWER(RIGHT(入力シート!$I223,1))","v":""},{"$f":"入力シート!$AD224","v":false},{"$f":"入力シート!$J224&\"\"","v":""},{"$f":"入力シート!$M224&\"\"","v":""},{"$f":"入力シート!$P224&\"\"","v":""},{"$f":"入力シート!$S224&\"\"","v":""},{"$f":"入力シート!$G231","v":0},{"$f":"入力シート!$K231","v":0},{"$f":"入力シート!$P231","v":0},"選択なし",null,7,1,9999,{"$f":"SMALL($U$111:$U$260,19)","v":9999},"99","9","事業場９９　９台目",{"$error":"#N/A"},"事業場１９",0,0]
["〇",{"$f":"IF(入力シート!AH214>50,FALSE,TRUE)","v":false},"事業場７　２台目",{"$f":"入力シート!$AD225","v":false},{"$f":"UPPER(MID(入力シート!$I225,1,1))","v":""},{"$f":"UPPER(MID(入力シート!$I225,2,1))","v":""},{"$f":"IF(LEN(入力シート!$I225)=4,MID(入力シート!$I225,3,1),MID(入力シート!$I225,3,2))","v":""},{"$f":"LOWER(RIGHT(入力シート!$I225,1))","v":""},{"$f":"入力シート!$AD226","v":false},{"$f":"入力シート!$J226&\"\"","v":""},{"$f":"入力シート!$M226&\"\"","v":""},{"$f":"入力シート!$P226&\"\"","v":""},{"$f":"入力シート!$S226&\"\"","v":""},{"$f":"入力シート!$G232","v":0},{"$f":"入力シート!$K232","v":0},{"$f":"入力シート!$P232","v":0},"選択なし",null,7,2,9999,{"$f":"SMALL($U$111:$U$260,20)","v":9999},"99","9","事業場９９　９台目",{"$error":"#N/A"},"事業場２０",0,0]
["〇",{"$f":"IF(入力シート!AH214>50,FALSE,TRUE)","v":false},"事業場７　３台目",{"$f":"入力シート!$AD227","v":false},{"$f":"UPPER(MID(入力シート!$I227,1,1))","v":""},{"$f":"UPPER(MID(入力シート!$I227,2,1))","v":""},{"$f":"IF(LEN(入力シート!$I227)=4,MID(入力シート!$I227,3,1),MID(入力シート!$I227,3,2))","v":""},{"$f":"LOWER(RIGHT(入力シート!$I227,1))","v":""},{"$f":"入力シート!$AD228","v":false},{"$f":"入力シート!$J228&\"\"","v":""},{"$f":"入力シート!$M228&\"\"","v":""},{"$f":"入力シート!$P228&\"\"","v":""},{"$f":"入力シート!$S228&\"\"","v":""},{"$f":"入力シート!$G233","v":0},{"$f":"入力シート!$K233","v":0},{"$f":"入力シート!$P233","v":0},"選択なし",null,7,3,9999,{"$f":"SMALL($U$111:$U$260,21)","v":9999},"99","9","事業場９９　９台目",{"$error":"#N/A"},"事業場２１",0,0]
["〇",{"$f":"IF(入力シート!AH237>50,FALSE,TRUE)","v":false},"事業場８　１台目",{"$f":"入力シート!$AD246","v":false},{"$f":"UPPER(MID(入力シート!$I246,1,1))","v":""},{"$f":"UPPER(MID(入力シート!$I246,2,1))","v":""},{"$f":"IF(LEN(入力シート!$I246)=4,MID(入力シート!$I246,3,1),MID(入力シート!$I246,3,2))","v":""},{"$f":"LOWER(RIGHT(入力シート!$I246,1))","v":""},{"$f":"入力シート!$AD247","v":false},{"$f":"入力シート!$J247&\"\"","v":""},{"$f":"入力シート!$M247&\"\"","v":""},{"$f":"入力シート!$P247&\"\"","v":""},{"$f":"入力シート!$S247&\"\"","v":""},{"$f":"入力シート!$G254","v":0},{"$f":"入力シート!$K254","v":0},{"$f":"入力シート!$P254","v":0},"選択なし",null,8,1,9999,{"$f":"SMALL($U$111:$U$260,22)","v":9999},"99","9","事業場９９　９台目",{"$error":"#N/A"},"事業場２２",0,0]
["〇",{"$f":"IF(入力シート!AH237>50,FALSE,TRUE)","v":false},"事業場８　２台目",{"$f":"入力シート!$AD248","v":false},{"$f":"UPPER(MID(入力シート!$I248,1,1))","v":""},{"$f":"UPPER(MID(入力シート!$I248,2,1))","v":""},{"$f":"IF(LEN(入力シート!$I248)=4,MID(入力シート!$I248,3,1),MID(入力シート!$I248,3,2))","v":""},{"$f":"LOWER(RIGHT(入力シート!$I248,1))","v":""},{"$f":"入力シート!$AD249","v":false},{"$f":"入力シート!$J249&\"\"","v":""},{"$f":"入力シート!$M249&\"\"","v":""},{"$f":"入力シート!$P249&\"\"","v":""},{"$f":"入力シート!$S249&\"\"","v":""},{"$f":"入力シート!$G255","v":0},{"$f":"入力シート!$K255","v":0},{"$f":"入力シート!$P255","v":0},"選択なし",null,8,2,9999,{"$f":"SMALL($U$111:$U$260,23)","v":9999},"99","9","事業場９９　９台目",{"$error":"#N/A"},"事業場２３",0,0]
["〇",{"$f":"IF(入力シート!AH237>50,FALSE,TRUE)","v":false},"事業場８　３台目",{"$f":"入力シート!$AD250","v":false},{"$f":"UPPER(MID(入力シート!$I250,1,1))","v":""},{"$f":"UPPER(MID(入力シート!$I250,2,1))","v":""},{"$f":"IF(LEN(入力シート!$I250)=4,MID(入力シート!$I250,3,1),MID(入力シート!$I250,3,2))","v":""},{"$f":"LOWER(RIGHT(入力シート!$I250,1))","v":""},{"$f":"入力シート!$AD251","v":false},{"$f":"入力シート!$J251&\"\"","v":""},{"$f":"入力シート!$M251&\"\"","v":""},{"$f":"入力シート!$P251&\"\"","v":""},{"$f":"入力シート!$S251&\"\"","v":""},{"$f":"入力シート!$G256","v":0},{"$f":"入力シート!$K256","v":0},{"$f":"入力シート!$P256","v":0},"選択なし",null,8,3,9999,{"$f":"SMALL($U$111:$U$260,24)","v":9999},"99","9","事業場９９　９台目",{"$error":"#N/A"},"事業場２４",0,0]
["〇",{"$f":"IF(入力シート!AH260>50,FALSE,TRUE)","v":false},"事業場９　１台目",{"$f":"入力シート!$AD269","v":false},{"$f":"UPPER(MID(入力シート!$I269,1,1))","v":""},{"$f":"UPPER(MID(入力シート!$I269,2,1))","v":""},{"$f":"IF(LEN(入力シート!$I269)=4,MID(入力シート!$I269,3,1),MID(入力シート!$I269,3,2))","v":""},{"$f":"LOWER(RIGHT(入力シート!$I269,1))","v":""},{"$f":"入力シート!$AD270","v":false},{"$f":"入力シート!$J270&\"\"","v":""},{"$f":"入力シート!$M270&\"\"","v":""},{"$f":"入力シート!$P270&\"\"","v":""},{"$f":"入力シート!$S270&\"\"","v":""},{"$f":"入力シート!$G277","v":0},{"$f":"入力シート!$K277","v":0},{"$f":"入力シート!$P277","v":0},"選択なし",null,9,1,9999,{"$f":"SMALL($U$111:$U$260,25)","v":9999},"99","9","事業場９９　９台目",{"$error":"#N/A"},"事業場２５",0,0]
["〇",{"$f":"IF(入力シート!AH260>50,FALSE,TRUE)","v":false},"事業場９　２台目",{"$f":"入力シート!$AD271","v":false},{"$f":"UPPER(MID(入力シート!$I271,1,1))","v":""},{"$f":"UPPER(MID(入力シート!$I271,2,1))","v":""},{"$f":"IF(LEN(入力シート!$I271)=4,MID(入力シート!$I271,3,1),MID(入力シート!$I271,3,2))","v":""},{"$f":"LOWER(RIGHT(入力シート!$I271,1))","v":""},{"$f":"入力シート!$AD272","v":false},{"$f":"入力シート!$J272&\"\"","v":""},{"$f":"入力シート!$M272&\"\"","v":""},{"$f":"入力シート!$P272&\"\"","v":""},{"$f":"入力シート!$S272&\"\"","v":""},{"$f":"入力シート!$G278","v":0},{"$f":"入力シート!$K278","v":0},{"$f":"入力シート!$P278","v":0},"選択なし",null,9,2,9999,{"$f":"SMALL($U$111:$U$260,26)","v":9999},"99","9","事業場９９　９台目",{"$error":"#N/A"},"事業場２６",0,0]
["〇",{"$f":"IF(入力シート!AH260>50,FALSE,TRUE)","v":false},"事業場９　３台目",{"$f":"入力シート!$AD273","v":false},{"$f":"UPPER(MID(入力シート!$I273,1,1))","v":""},{"$f":"UPPER(MID(入力シート!$I273,2,1))","v":""},{"$f":"IF(LEN(入力シート!$I273)=4,MID(入力シート!$I273,3,1),MID(入力シート!$I273,3,2))","v":""},{"$f":"LOWER(RIGHT(入力シート!$I273,1))","v":""},{"$f":"入力シート!$AD274","v":false},{"$f":"入力シート!$J274&\"\"","v":""},{"$f":"入力シート!$M274&\"\"","v":""},{"$f":"入力シート!$P274&\"\"","v":""},{"$f":"入力シート!$S274&\"\"","v":""},{"$f":"入力シート!$G279","v":0},{"$f":"入力シート!$K279","v":0},{"$f":"入力シート!$P279","v":0},"選択なし",null,9,3,9999,{"$f":"SMALL($U$111:$U$260,27)","v":9999},"99","9","事業場９９　９台目",{"$error":"#N/A"},"事業場２７",0,0]
["〇",{"$f":"IF(入力シート!AH283>50,FALSE,TRUE)","v":false},"事業場１０　１台目",{"$f":"入力シート!$AD292","v":false},{"$f":"UPPER(MID(入力シート!$I292,1,1))","v":""},{"$f":"UPPER(MID(入力シート!$I292,2,1))","v":""},{"$f":"IF(LEN(入力シート!$I292)=4,MID(入力シート!$I292,3,1),MID(入力シート!$I292,3,2))","v":""},{"$f":"LOWER(RIGHT(入力シート!$I292,1))","v":""},{"$f":"入力シート!$AD293","v":false},{"$f":"入力シート!$J293&\"\"","v":""},{"$f":"入力シート!$M293&\"\"","v":""},{"$f":"入力シート!$P293&\"\"","v":""},{"$f":"入力シート!$S293&\"\"","v":""},{"$f":"入力シート!$G300","v":0},{"$f":"入力シート!$K300","v":0},{"$f":"入力シート!$P300","v":0},"選択なし",null,10,1,9999,{"$f":"SMALL($U$111:$U$260,28)","v":9999},"99","9","事業場９９　９台目",{"$error":"#N/A"},"事業場２８",0,0]
["〇",{"$f":"IF(入力シート!AH283>50,FALSE,TRUE)","v":false},"事業場１０　２台目",{"$f":"入力シート!$AD294","v":false},{"$f":"UPPER(MID(入力シート!$I294,1,1))","v":""},{"$f":"UPPER(MID(入力シート!$I294,2,1))","v":""},{"$f":"IF(LEN(入力シート!$I294)=4,MID(入力シート!$I294,3,1),MID(入力シート!$I294,3,2))","v":""},{"$f":"LOWER(RIGHT(入力シート!$I294,1))","v":""},{"$f":"入力シート!$AD295","v":false},{"$f":"入力シート!$J295&\"\"","v":""},{"$f":"入力シート!$M295&\"\"","v":""},{"$f":"入力シート!$P295&\"\"","v":""},{"$f":"入力シート!$S295&\"\"","v":""},{"$f":"入力シート!$G301","v":0},{"$f":"入力シート!$K301","v":0},{"$f":"入力シート!$P301","v":0},"選択なし",null,10,2,9999,{"$f":"SMALL($U$111:$U$260,29)","v":9999},"99","9","事業場９９　９台目",{"$error":"#N/A"},"事業場２９",0,0]
["〇",{"$f":"IF(入力シート!AH283>50,FALSE,TRUE)","v":false},"事業場１０　３台目",{"$f":"入力シート!$AD296","v":false},{"$f":"UPPER(MID(入力シート!$I296,1,1))","v":""},{"$f":"UPPER(MID(入力シート!$I296,2,1))","v":""},{"$f":"IF(LEN(入力シート!$I296)=4,MID(入力シート!$I296,3,1),MID(入力シート!$I296,3,2))","v":""},{"$f":"LOWER(RIGHT(入力シート!$I296,1))","v":""},{"$f":"入力シート!$AD297","v":false},{"$f":"入力シート!$J297&\"\"","v":""},{"$f":"入力シート!$M297&\"\"","v":""},{"$f":"入力シート!$P297&\"\"","v":""},{"$f":"入力シート!$S297&\"\"","v":""},{"$f":"入力シート!$G302","v":0},{"$f":"入力シート!$K302","v":0},{"$f":"入力シート!$P302","v":0},"選択なし",null,10,3,9999,{"$f":"SMALL($U$111:$U$260,30)","v":9999},"99","9","事業場９９　９台目",{"$error":"#N/A"},"事業場３０",0,0]
["〇",{"$f":"IF(入力シート!AH306>50,FALSE,TRUE)","v":false},"事業場１１　１台目",{"$f":"入力シート!$AD315","v":false},{"$f":"UPPER(MID(入力シート!$I315,1,1))","v":""},{"$f":"UPPER(MID(入力シート!$I315,2,1))","v":""},{"$f":"IF(LEN(入力シート!$I315)=4,MID(入力シート!$I315,3,1),MID(入力シート!$I315,3,2))","v":""},{"$f":"LOWER(RIGHT(入力シート!$I315,1))","v":""},{"$f":"入力シート!$AD316","v":false},{"$f":"入力シート!$J316&\"\"","v":""},{"$f":"入力シート!$M316&\"\"","v":""},{"$f":"入力シート!$P316&\"\"","v":""},{"$f":"入力シート!$S316&\"\"","v":""},{"$f":"入力シート!$G323","v":0},{"$f":"入力シート!$K323","v":0},{"$f":"入力シート!$P323","v":0},"選択なし",null,11,1,9999,{"$f":"SMALL($U$111:$U$260,31)","v":9999},"99","9","事業場９９　９台目",{"$error":"#N/A"},"事業場３１",0,0]
["〇",{"$f":"IF(入力シート!AH306>50,FALSE,TRUE)","v":false},"事業場１１　２台目",{"$f":"入力シート!$AD317","v":false},{"$f":"UPPER(MID(入力シート!$I317,1,1))","v":""},{"$f":"UPPER(MID(入力シート!$I317,2,1))","v":""},{"$f":"IF(LEN(入力シート!$I317)=4,MID(入力シート!$I317,3,1),MID(入力シート!$I317,3,2))","v":""},{"$f":"LOWER(RIGHT(入力シート!$I317,1))","v":""},{"$f":"入力シート!$AD318","v":false},{"$f":"入力シート!$J318&\"\"","v":""},{"$f":"入力シート!$M318&\"\"","v":""},{"$f":"入力シート!$P318&\"\"","v":""},{"$f":"入力シート!$S318&\"\"","v":""},{"$f":"入力シート!$G324","v":0},{"$f":"入力シート!$K324","v":0},{"$f":"入力シート!$P324","v":0},"選択なし",null,11,2,9999,{"$f":"SMALL($U$111:$U$260,32)","v":9999},"99","9","事業場９９　９台目",{"$error":"#N/A"},"事業場３２",0,0]
["〇",{"$f":"IF(入力シート!AH306>50,FALSE,TRUE)","v":false},"事業場１１　３台目",{"$f":"入力シート!$AD319","v":false},{"$f":"UPPER(MID(入力シート!$I319,1,1))","v":""},{"$f":"UPPER(MID(入力シート!$I319,2,1))","v":""},{"$f":"IF(LEN(入力シート!$I319)=4,MID(入力シート!$I319,3,1),MID(入力シート!$I319,3,2))","v":""},{"$f":"LOWER(RIGHT(入力シート!$I319,1))","v":""},{"$f":"入力シート!$AD320","v":false},{"$f":"入力シート!$J320&\"\"","v":""},{"$f":"入力シート!$M320&\"\"","v":""},{"$f":"入力シート!$P320&\"\"","v":""},{"$f":"入力シート!$S320&\"\"","v":""},{"$f":"入力シート!$G325","v":0},{"$f":"入力シート!$K325","v":0},{"$f":"入力シート!$P325","v":0},{"$f":"SUBSTITUTE(SUBSTITUTE(SUBSTITUTE(SUBSTITUTE(D143&I143,\"TRUEFALSE\",\"掲載されている\"),\"FALSETRUE\",\"掲載されていない\"),\"FALSEFALSE\",\"選択なし\"),\"TRUETRUE\",\"両方選択\")","v":"選択なし"},null,11,3,{"$f":"VALUE(IF(OR(B143=FALSE,AND(E143=\"\",J143=\"\")),9999,S143&0&T143))","v":9999},{"$f":"SMALL($U$111:$U$260,33)","v":9999},"99","9","事業場９９　９台目",{"$f":"VLOOKUP(Y143,$C$110:$D$260,2,FALSE)","v":{"$error":"#N/A"}},"事業場３３",0,0]
["〇",{"$f":"IF(入力シート!AH329>50,FALSE,TRUE)","v":false},"事業場１２　１台目",{"$f":"入力シート!$AD338","v":false},{"$f":"UPPER(MID(入力シート!$I338,1,1))","v":""},{"$f":"UPPER(MID(入力シート!$I338,2,1))","v":""},{"$f":"IF(LEN(入力シート!$I338)=4,MID(入力シート!$I338,3,1),MID(入力シート!$I338,3,2))","v":""},{"$f":"LOWER(RIGHT(入力シート!$I338,1))","v":""},{"$f":"入力シート!$AD339","v":false},{"$f":"入力シート!$J339&\"\"","v":""},{"$f":"入力シート!$M339&\"\"","v":""},{"$f":"入力シート!$P339&\"\"","v":""},{"$f":"入力シート!$S339&\"\"","v":""},{"$f":"入力シート!$G346","v":0},{"$f":"入力シート!$K346","v":0},{"$f":"入力シート!$P346","v":0},"選択なし",null,12,1,9999,{"$f":"SMALL($U$111:$U$260,34)","v":9999},"99","9","事業場９９　９台目",{"$error":"#N/A"},"事業場３４",{"$f":"IF(B92=TRUE,SUMIF($C$111:$N$260,$AA144&\"　*\",$N$111:$N$260),0)","v":0},{"$f":"IF(B92=TRUE,SUMIF($C$111:$N$260,$AA144&\"　*\",$O$111:$O$260)+SUMIF($C$111:$N$260,$AA144&\"　*\",$P$111:$P$260),0)","v":0}]
["〇",{"$f":"IF(入力シート!AH329>50,FALSE,TRUE)","v":false},"事業場１２　２台目",{"$f":"入力シート!$AD340","v":false},{"$f":"UPPER(MID(入力シート!$I340,1,1))","v":""},{"$f":"UPPER(MID(入力シート!$I340,2,1))","v":""},{"$f":"IF(LEN(入力シート!$I340)=4,MID(入力シート!$I340,3,1),MID(入力シート!$I340,3,2))","v":""},{"$f":"LOWER(RIGHT(入力シート!$I340,1))","v":""},{"$f":"入力シート!$AD341","v":false},{"$f":"入力シート!$J341&\"\"","v":""},{"$f":"入力シート!$M341&\"\"","v":""},{"$f":"入力シート!$P341&\"\"","v":""},{"$f":"入力シート!$S341&\"\"","v":""},{"$f":"入力シート!$G347","v":0},{"$f":"入力シート!$K347","v":0},{"$f":"入力シート!$P347","v":0},"選択なし",null,12,2,9999,{"$f":"SMALL($U$111:$U$260,35)","v":9999},"99","9","事業場９９　９台目",{"$error":"#N/A"},"事業場３５",0,0]
["〇",{"$f":"IF(入力シート!AH329>50,FALSE,TRUE)","v":false},"事業場１２　３台目",{"$f":"入力シート!$AD342","v":false},{"$f":"UPPER(MID(入力シート!$I342,1,1))","v":""},{"$f":"UPPER(MID(入力シート!$I342,2,1))","v":""},{"$f":"IF(LEN(入力シート!$I342)=4,MID(入力シート!$I342,3,1),MID(入力シート!$I342,3,2))","v":""},{"$f":"LOWER(RIGHT(入力シート!$I342,1))","v":""},{"$f":"入力シート!$AD343","v":false},{"$f":"入力シート!$J343&\"\"","v":""},{"$f":"入力シート!$M343&\"\"","v":""},{"$f":"入力シート!$P343&\"\"","v":""},{"$f":"入力シート!$S343&\"\"","v":""},{"$f":"入力シート!$G348","v":0},{"$f":"入力シート!$K348","v":0},{"$f":"入力シート!$P348","v":0},"選択なし",null,12,3,9999,{"$f":"SMALL($U$111:$U$260,36)","v":9999},"99","9","事業場９９　９台目",{"$error":"#N/A"},"事業場３６",0,0]
["〇",{"$f":"IF(入力シート!AH352>50,FALSE,TRUE)","v":false},"事業場１３　１台目",{"$f":"入力シート!$AD361","v":false},{"$f":"UPPER(MID(入力シート!$I361,1,1))","v":""},{"$f":"UPPER(MID(入力シート!$I361,2,1))","v":""},{"$f":"IF(LEN(入力シート!$I361)=4,MID(入力シート!$I361,3,1),MID(入力シート!$I361,3,2))","v":""},{"$f":"LOWER(RIGHT(入力シート!$I361,1))","v":""},{"$f":"入力シート!$AD362","v":false},{"$f":"入力シート!$J362&\"\"","v":""},{"$f":"入力シート!$M362&\"\"","v":""},{"$f":"入力シート!$P362&\"\"","v":""},{"$f":"入力シート!$S362&\"\"","v":""},{"$f":"入力シート!$G369","v":0},{"$f":"入力シート!$K369","v":0},{"$f":"入力シート!$P369","v":0},"選択なし",null,13,1,9999,{"$f":"SMALL($U$111:$U$260,37)","v":9999},"99","9","事業場９９　９台目",{"$error":"#N/A"},"事業場３７",0,0]
["〇",{"$f":"IF(入力シート!AH352>50,FALSE,TRUE)","v":false},"事業場１３　２台目",{"$f":"入力シート!$AD363","v":false},{"$f":"UPPER(MID(入力シート!$I363,1,1))","v":""},{"$f":"UPPER(MID(入力シート!$I363,2,1))","v":""},{"$f":"IF(LEN(入力シート!$I363)=4,MID(入力シート!$I363,3,1),MID(入力シート!$I363,3,2))","v":""},{"$f":"LOWER(RIGHT(入力シート!$I363,1))","v":""},{"$f":"入力シート!$AD364","v":false},{"$f":"入力シート!$J364&\"\"","v":""},{"$f":"入力シート!$M364&\"\"","v":""},{"$f":"入力シート!$P364&\"\"","v":""},{"$f":"入力シート!$S364&\"\"","v":""},{"$f":"入力シート!$G370","v":0},{"$f":"入力シート!$K370","v":0},{"$f":"入力シート!$P370","v":0},"選択なし",null,13,2,9999,{"$f":"SMALL($U$111:$U$260,38)","v":9999},"99","9","事業場９９　９台目",{"$error":"#N/A"},"事業場３８",0,0]
["〇",{"$f":"IF(入力シート!AH352>50,FALSE,TRUE)","v":false},"事業場１３　３台目",{"$f":"入力シート!$AD365","v":false},{"$f":"UPPER(MID(入力シート!$I365,1,1))","v":""},{"$f":"UPPER(MID(入力シート!$I365,2,1))","v":""},{"$f":"IF(LEN(入力シート!$I365)=4,MID(入力シート!$I365,3,1),MID(入力シート!$I365,3,2))","v":""},{"$f":"LOWER(RIGHT(入力シート!$I365,1))","v":""},{"$f":"入力シート!$AD366","v":false},{"$f":"入力シート!$J366&\"\"","v":""},{"$f":"入力シート!$M366&\"\"","v":""},{"$f":"入力シート!$P366&\"\"","v":""},{"$f":"入力シート!$S366&\"\"","v":""},{"$f":"入力シート!$G371","v":0},{"$f":"入力シート!$K371","v":0},{"$f":"入力シート!$P371","v":0},"選択なし",null,13,3,9999,{"$f":"SMALL($U$111:$U$260,39)","v":9999},"99","9","事業場９９　９台目",{"$error":"#N/A"},"事業場３９",0,0]
["〇",{"$f":"IF(入力シート!AH375>50,FALSE,TRUE)","v":false},"事業場１４　１台目",{"$f":"入力シート!$AD384","v":false},{"$f":"UPPER(MID(入力シート!$I384,1,1))","v":""},{"$f":"UPPER(MID(入力シート!$I384,2,1))","v":""},{"$f":"IF(LEN(入力シート!$I384)=4,MID(入力シート!$I384,3,1),MID(入力シート!$I384,3,2))","v":""},{"$f":"LOWER(RIGHT(入力シート!$I384,1))","v":""},{"$f":"入力シート!$AD385","v":false},{"$f":"入力シート!$J385&\"\"","v":""},{"$f":"入力シート!$M385&\"\"","v":""},{"$f":"入力シート!$P385&\"\"","v":""},{"$f":"入力シート!$S385&\"\"","v":""},{"$f":"入力シート!$G392","v":0},{"$f":"入力シート!$K392","v":0},{"$f":"入力シート!$P392","v":0},"選択なし",null,14,1,9999,{"$f":"SMALL($U$111:$U$260,40)","v":9999},"99","9","事業場９９　９台目",{"$error":"#N/A"},"事業場４０",0,0]
["〇",{"$f":"IF(入力シート!AH375>50,FALSE,TRUE)","v":false},"事業場１４　２台目",{"$f":"入力シート!$AD386","v":false},{"$f":"UPPER(MID(入力シート!$I386,1,1))","v":""},{"$f":"UPPER(MID(入力シート!$I386,2,1))","v":""},{"$f":"IF(LEN(入力シート!$I386)=4,MID(入力シート!$I386,3,1),MID(入力シート!$I386,3,2))","v":""},{"$f":"LOWER(RIGHT(入力シート!$I386,1))","v":""},{"$f":"入力シート!$AD387","v":false},{"$f":"入力シート!$J387&\"\"","v":""},{"$f":"入力シート!$M387&\"\"","v":""},{"$f":"入力シート!$P387&\"\"","v":""},{"$f":"入力シート!$S387&\"\"","v":""},{"$f":"入力シート!$G393","v":0},{"$f":"入力シート!$K393","v":0},{"$f":"入力シート!$P393","v":0},"選択なし",null,14,2,9999,{"$f":"SMALL($U$111:$U$260,41)","v":9999},"99","9","事業場９９　９台目",{"$error":"#N/A"},"事業場４１",0,0]
["〇",{"$f":"IF(入力シート!AH375>50,FALSE,TRUE)","v":false},"事業場１４　３台目",{"$f":"入力シート!$AD388","v":false},{"$f":"UPPER(MID(入力シート!$I388,1,1))","v":""},{"$f":"UPPER(MID(入力シート!$I388,2,1))","v":""},{"$f":"IF(LEN(入力シート!$I388)=4,MID(入力シート!$I388,3,1),MID(入力シート!$I388,3,2))","v":""},{"$f":"LOWER(RIGHT(入力シート!$I388,1))","v":""},{"$f":"入力シート!$AD389","v":false},{"$f":"入力シート!$J389&\"\"","v":""},{"$f":"入力シート!$M389&\"\"","v":""},{"$f":"入力シート!$P389&\"\"","v":""},{"$f":"入力シート!$S389&\"\"","v":""},{"$f":"入力シート!$G394","v":0},{"$f":"入力シート!$K394","v":0},{"$f":"入力シート!$P394","v":0},"選択なし",null,14,3,9999,{"$f":"SMALL($U$111:$U$260,42)","v":9999},"99","9","事業場９９　９台目",{"$error":"#N/A"},"事業場４２",0,0]
["〇",{"$f":"IF(入力シート!AH398>50,FALSE,TRUE)","v":false},"事業場１５　１台目",{"$f":"入力シート!$AD407","v":false},{"$f":"UPPER(MID(入力シート!$I407,1,1))","v":""},{"$f":"UPPER(MID(入力シート!$I407,2,1))","v":""},{"$f":"IF(LEN(入力シート!$I407)=4,MID(入力シート!$I407,3,1),MID(入力シート!$I407,3,2))","v":""},{"$f":"LOWER(RIGHT(入力シート!$I407,1))","v":""},{"$f":"入力シート!$AD408","v":false},{"$f":"入力シート!$J408&\"\"","v":""},{"$f":"入力シート!$M408&\"\"","v":""},{"$f":"入力シート!$P408&\"\"","v":""},{"$f":"入力シート!$S408&\"\"","v":""},{"$f":"入力シート!$G415","v":0},{"$f":"入力シート!$K415","v":0},{"$f":"入力シート!$P415","v":0},"選択なし",null,15,1,9999,{"$f":"SMALL($U$111:$U$260,43)","v":9999},"99","9","事業場９９　９台目",{"$error":"#N/A"},"事業場４３",0,0]
["〇",{"$f":"IF(入力シート!AH398>50,FALSE,TRUE)","v":false},"事業場１５　２台目",{"$f":"入力シート!$AD409","v":false},{"$f":"UPPER(MID(入力シート!$I409,1,1))","v":""},{"$f":"UPPER(MID(入力シート!$I409,2,1))","v":""},{"$f":"IF(LEN(入力シート!$I409)=4,MID(入力シート!$I409,3,1),MID(入力シート!$I409,3,2))","v":""},{"$f":"LOWER(RIGHT(入力シート!$I409,1))","v":""},{"$f":"入力シート!$AD410","v":false},{"$f":"入力シート!$J410&\"\"","v":""},{"$f":"入力シート!$M410&\"\"","v":""},{"$f":"入力シート!$P410&\"\"","v":""},{"$f":"入力シート!$S410&\"\"","v":""},{"$f":"入力シート!$G416","v":0},{"$f":"入力シート!$K416","v":0},{"$f":"入力シート!$P416","v":0},"選択なし",null,15,2,9999,{"$f":"SMALL($U$111:$U$260,44)","v":9999},"99","9","事業場９９　９台目",{"$error":"#N/A"},"事業場４４",0,0]
["〇",{"$f":"IF(入力シート!AH398>50,FALSE,TRUE)","v":false},"事業場１５　３台目",{"$f":"入力シート!$AD411","v":false},{"$f":"UPPER(MID(入力シート!$I411,1,1))","v":""},{"$f":"UPPER(MID(入力シート!$I411,2,1))","v":""},{"$f":"IF(LEN(入力シート!$I411)=4,MID(入力シート!$I411,3,1),MID(入力シート!$I411,3,2))","v":""},{"$f":"LOWER(RIGHT(入力シート!$I411,1))","v":""},{"$f":"入力シート!$AD412","v":false},{"$f":"入力シート!$J412&\"\"","v":""},{"$f":"入力シート!$M412&\"\"","v":""},{"$f":"入力シート!$P412&\"\"","v":""},{"$f":"入力シート!$S412&\"\"","v":""},{"$f":"入力シート!$G417","v":0},{"$f":"入力シート!$K417","v":0},{"$f":"入力シート!$P417","v":0},"選択なし",null,15,3,9999,{"$f":"SMALL($U$111:$U$260,45)","v":9999},"99","9","事業場９９　９台目",{"$error":"#N/A"},"事業場４５",0,0]
["〇",{"$f":"IF(入力シート!AH421>50,FALSE,TRUE)","v":false},"事業場１６　１台目",{"$f":"入力シート!$AD430","v":false},{"$f":"UPPER(MID(入力シート!$I430,1,1))","v":""},{"$f":"UPPER(MID(入力シート!$I430,2,1))","v":""},{"$f":"IF(LEN(入力シート!$I430)=4,MID(入力シート!$I430,3,1),MID(入力シート!$I430,3,2))","v":""},{"$f":"LOWER(RIGHT(入力シート!$I430,1))","v":""},{"$f":"入力シート!$AD431","v":false},{"$f":"入力シート!$J431&\"\"","v":""},{"$f":"入力シート!$M431&\"\"","v":""},{"$f":"入力シート!$P431&\"\"","v":""},{"$f":"入力シート!$S431&\"\"","v":""},{"$f":"入力シート!$G438","v":0},{"$f":"入力シート!$K438","v":0},{"$f":"入力シート!$P438","v":0},"選択なし",null,16,1,9999,{"$f":"SMALL($U$111:$U$260,46)","v":9999},"99","9","事業場９９　９台目",{"$error":"#N/A"},"事業場４６",0,0]
["〇",{"$f":"IF(入力シート!AH421>50,FALSE,TRUE)","v":false},"事業場１６　２台目",{"$f":"入力シート!$AD432","v":false},{"$f":"UPPER(MID(入力シート!$I432,1,1))","v":""},{"$f":"UPPER(MID(入力シート!$I432,2,1))","v":""},{"$f":"IF(LEN(入力シート!$I432)=4,MID(入力シート!$I432,3,1),MID(入力シート!$I432,3,2))","v":""},{"$f":"LOWER(RIGHT(入力シート!$I432,1))","v":""},{"$f":"入力シート!$AD433","v":false},{"$f":"入力シート!$J433&\"\"","v":""},{"$f":"入力シート!$M433&\"\"","v":""},{"$f":"入力シート!$P433&\"\"","v":""},{"$f":"入力シート!$S433&\"\"","v":""},{"$f":"入力シート!$G439","v":0},{"$f":"入力シート!$K439","v":0},{"$f":"入力シート!$P439","v":0},"選択なし",null,16,2,9999,{"$f":"SMALL($U$111:$U$260,47)","v":9999},"99","9","事業場９９　９台目",{"$error":"#N/A"},"事業場４７",0,0]
["〇",{"$f":"IF(入力シート!AH421>50,FALSE,TRUE)","v":false},"事業場１６　３台目",{"$f":"入力シート!$AD434","v":false},{"$f":"UPPER(MID(入力シート!$I434,1,1))","v":""},{"$f":"UPPER(MID(入力シート!$I434,2,1))","v":""},{"$f":"IF(LEN(入力シート!$I434)=4,MID(入力シート!$I434,3,1),MID(入力シート!$I434,3,2))","v":""},{"$f":"LOWER(RIGHT(入力シート!$I434,1))","v":""},{"$f":"入力シート!$AD435","v":false},{"$f":"入力シート!$J435&\"\"","v":""},{"$f":"入力シート!$M435&\"\"","v":""},{"$f":"入力シート!$P435&\"\"","v":""},{"$f":"入力シート!$S435&\"\"","v":""},{"$f":"入力シート!$G440","v":0},{"$f":"入力シート!$K440","v":0},{"$f":"入力シート!$P440","v":0},"選択なし",null,16,3,9999,{"$f":"SMALL($U$111:$U$260,48)","v":9999},"99","9","事業場９９　９台目",{"$error":"#N/A"},"事業場４８",0,0]
["〇",{"$f":"IF(入力シート!AH444>50,FALSE,TRUE)","v":false},"事業場１７　１台目",{"$f":"入力シート!$AD453","v":false},{"$f":"UPPER(MID(入力シート!$I453,1,1))","v":""},{"$f":"UPPER(MID(入力シート!$I453,2,1))","v":""},{"$f":"IF(LEN(入力シート!$I453)=4,MID(入力シート!$I453,3,1),MID(入力シート!$I453,3,2))","v":""},{"$f":"LOWER(RIGHT(入力シート!$I453,1))","v":""},{"$f":"入力シート!$AD454","v":false},{"$f":"入力シート!$J454&\"\"","v":""},{"$f":"入力シート!$M454&\"\"","v":""},{"$f":"入力シート!$P454&\"\"","v":""},{"$f":"入力シート!$S454&\"\"","v":""},{"$f":"入力シート!$G461","v":0},{"$f":"入力シート!$K461","v":0},{"$f":"入力シート!$P461","v":0},"選択なし",null,17,1,9999,{"$f":"SMALL($U$111:$U$260,49)","v":9999},"99","9","事業場９９　９台目",{"$error":"#N/A"},"事業場４９",0,0]
["〇",{"$f":"IF(入力シート!AH444>50,FALSE,TRUE)","v":false},"事業場１７　２台目",{"$f":"入力シート!$AD455","v":false},{"$f":"UPPER(MID(入力シート!$I455,1,1))","v":""},{"$f":"UPPER(MID(入力シート!$I455,2,1))","v":""},{"$f":"IF(LEN(入力シート!$I455)=4,MID(入力シート!$I455,3,1),MID(入力シート!$I455,3,2))","v":""},{"$f":"LOWER(RIGHT(入力シート!$I455,1))","v":""},{"$f":"入力シート!$AD456","v":false},{"$f":"入力シート!$J456&\"\"","v":""},{"$f":"入力シート!$M456&\"\"","v":""},{"$f":"入力シート!$P456&\"\"","v":""},{"$f":"入力シート!$S456&\"\"","v":""},{"$f":"入力シート!$G462","v":0},{"$f":"入力シート!$K462","v":0},{"$f":"入力シート!$P462","v":0},"選択なし",null,17,2,9999,{"$f":"SMALL($U$111:$U$260,50)","v":9999},"99","9","事業場９９　９台目",{"$error":"#N/A"},"事業場５０",0,0]
["〇",{"$f":"IF(入力シート!AH444>50,FALSE,TRUE)","v":false},"事業場１７　３台目",{"$f":"入力シート!$AD457","v":false},{"$f":"UPPER(MID(入力シート!$I457,1,1))","v":""},{"$f":"UPPER(MID(入力シート!$I457,2,1))","v":""},{"$f":"IF(LEN(入力シート!$I457)=4,MID(入力シート!$I457,3,1),MID(入力シート!$I457,3,2))","v":""},{"$f":"LOWER(RIGHT(入力シート!$I457,1))","v":""},{"$f":"入力シート!$AD458","v":false},{"$f":"入力シート!$J458&\"\"","v":""},{"$f":"入力シート!$M458&\"\"","v":""},{"$f":"入力シート!$P458&\"\"","v":""},{"$f":"入力シート!$S458&\"\"","v":""},{"$f":"入力シート!$G463","v":0},{"$f":"入力シート!$K463","v":0},{"$f":"入力シート!$P463","v":0},"選択なし",null,17,3,9999,{"$f":"SMALL($U$111:$U$260,51)","v":9999},{"$f":"IF(LEN(V161)=3,LEFT(V161,1),LEFT(V161,2))","v":"99"},{"$f":"RIGHT(V161,1)","v":"9"},{"$f":"DBCS(\"事業場\"&W161&\"　\"&X161&\"台目\")","v":"事業場９９　９台目"},{"$error":"#N/A"}]
["〇",{"$f":"IF(入力シート!AH467>50,FALSE,TRUE)","v":false},"事業場１８　１台目",{"$f":"入力シート!$AD476","v":false},{"$f":"UPPER(MID(入力シート!$I476,1,1))","v":""},{"$f":"UPPER(MID(入力シート!$I476,2,1))","v":""},{"$f":"IF(LEN(入力シート!$I476)=4,MID(入力シート!$I476,3,1),MID(入力シート!$I476,3,2))","v":""},{"$f":"LOWER(RIGHT(入力シート!$I476,1))","v":""},{"$f":"入力シート!$AD477","v":false},{"$f":"入力シート!$J477&\"\"","v":""},{"$f":"入力シート!$M477&\"\"","v":""},{"$f":"入力シート!$P477&\"\"","v":""},{"$f":"入力シート!$S477&\"\"","v":""},{"$f":"入力シート!$G484","v":0},{"$f":"入力シート!$K484","v":0},{"$f":"入力シート!$P484","v":0},"選択なし",null,18,1,9999,{"$f":"SMALL($U$111:$U$260,52)","v":9999},"99","9","事業場９９　９台目",{"$error":"#N/A"}]
["〇",{"$f":"IF(入力シート!AH467>50,FALSE,TRUE)","v":false},"事業場１８　２台目",{"$f":"入力シート!$AD478","v":false},{"$f":"UPPER(MID(入力シート!$I478,1,1))","v":""},{"$f":"UPPER(MID(入力シート!$I478,2,1))","v":""},{"$f":"IF(LEN(入力シート!$I478)=4,MID(入力シート!$I478,3,1),MID(入力シート!$I478,3,2))","v":""},{"$f":"LOWER(RIGHT(入力シート!$I478,1))","v":""},{"$f":"入力シート!$AD479","v":false},{"$f":"入力シート!$J479&\"\"","v":""},{"$f":"入力シート!$M479&\"\"","v":""},{"$f":"入力シート!$P479&\"\"","v":""},{"$f":"入力シート!$S479&\"\"","v":""},{"$f":"入力シート!$G485","v":0},{"$f":"入力シート!$K485","v":0},{"$f":"入力シート!$P485","v":0},"選択なし",null,18,2,9999,{"$f":"SMALL($U$111:$U$260,53)","v":9999},"99","9","事業場９９　９台目",{"$error":"#N/A"}]
["〇",{"$f":"IF(入力シート!AH467>50,FALSE,TRUE)","v":false},"事業場１８　３台目",{"$f":"入力シート!$AD480","v":false},{"$f":"UPPER(MID(入力シート!$I480,1,1))","v":""},{"$f":"UPPER(MID(入力シート!$I480,2,1))","v":""},{"$f":"IF(LEN(入力シート!$I480)=4,MID(入力シート!$I480,3,1),MID(入力シート!$I480,3,2))","v":""},{"$f":"LOWER(RIGHT(入力シート!$I480,1))","v":""},{"$f":"入力シート!$AD481","v":false},{"$f":"入力シート!$J481&\"\"","v":""},{"$f":"入力シート!$M481&\"\"","v":""},{"$f":"入力シート!$P481&\"\"","v":""},{"$f":"入力シート!$S481&\"\"","v":""},{"$f":"入力シート!$G486","v":0},{"$f":"入力シート!$K486","v":0},{"$f":"入力シート!$P486","v":0},"選択なし",null,18,3,9999,{"$f":"SMALL($U$111:$U$260,54)","v":9999},"99","9","事業場９９　９台目",{"$error":"#N/A"}]
["〇",{"$f":"IF(入力シート!AH490>50,FALSE,TRUE)","v":false},"事業場１９　１台目",{"$f":"入力シート!$AD499","v":false},{"$f":"UPPER(MID(入力シート!$I499,1,1))","v":""},{"$f":"UPPER(MID(入力シート!$I499,2,1))","v":""},{"$f":"IF(LEN(入力シート!$I499)=4,MID(入力シート!$I499,3,1),MID(入力シート!$I499,3,2))","v":""},{"$f":"LOWER(RIGHT(入力シート!$I499,1))","v":""},{"$f":"入力シート!$AD500","v":false},{"$f":"入力シート!$J500&\"\"","v":""},{"$f":"入力シート!$M500&\"\"","v":""},{"$f":"入力シート!$P500&\"\"","v":""},{"$f":"入力シート!$S500&\"\"","v":""},{"$f":"入力シート!$G507","v":0},{"$f":"入力シート!$K507","v":0},{"$f":"入力シート!$P507","v":0},"選択なし",null,19,1,9999,{"$f":"SMALL($U$111:$U$260,55)","v":9999},"99","9","事業場９９　９台目",{"$error":"#N/A"}]
["〇",{"$f":"IF(入力シート!AH490>50,FALSE,TRUE)","v":false},"事業場１９　２台目",{"$f":"入力シート!$AD501","v":false},{"$f":"UPPER(MID(入力シート!$I501,1,1))","v":""},{"$f":"UPPER(MID(入力シート!$I501,2,1))","v":""},{"$f":"IF(LEN(入力シート!$I501)=4,MID(入力シート!$I501,3,1),MID(入力シート!$I501,3,2))","v":""},{"$f":"LOWER(RIGHT(入力シート!$I501,1))","v":""},{"$f":"入力シート!$AD502","v":false},{"$f":"入力シート!$J502&\"\"","v":""},{"$f":"入力シート!$M502&\"\"","v":""},{"$f":"入力シート!$P502&\"\"","v":""},{"$f":"入力シート!$S502&\"\"","v":""},{"$f":"入力シート!$G508","v":0},{"$f":"入力シート!$K508","v":0},{"$f":"入力シート!$P508","v":0},"選択なし",null,19,2,9999,{"$f":"SMALL($U$111:$U$260,56)","v":9999},"99","9","事業場９９　９台目",{"$error":"#N/A"}]
["〇",{"$f":"IF(入力シート!AH490>50,FALSE,TRUE)","v":false},"事業場１９　３台目",{"$f":"入力シート!$AD503","v":false},{"$f":"UPPER(MID(入力シート!$I503,1,1))","v":""},{"$f":"UPPER(MID(入力シート!$I503,2,1))","v":""},{"$f":"IF(LEN(入力シート!$I503)=4,MID(入力シート!$I503,3,1),MID(入力シート!$I503,3,2))","v":""},{"$f":"LOWER(RIGHT(入力シート!$I503,1))","v":""},{"$f":"入力シート!$AD504","v":false},{"$f":"入力シート!$J504&\"\"","v":""},{"$f":"入力シート!$M504&\"\"","v":""},{"$f":"入力シート!$P504&\"\"","v":""},{"$f":"入力シート!$S504&\"\"","v":""},{"$f":"入力シート!$G509","v":0},{"$f":"入力シート!$K509","v":0},{"$f":"入力シート!$P509","v":0},"選択なし",null,19,3,9999,{"$f":"SMALL($U$111:$U$260,57)","v":9999},"99","9","事業場９９　９台目",{"$error":"#N/A"}]
["〇",{"$f":"IF(入力シート!AH513>50,FALSE,TRUE)","v":false},"事業場２０　１台目",{"$f":"入力シート!$AD522","v":false},{"$f":"UPPER(MID(入力シート!$I522,1,1))","v":""},{"$f":"UPPER(MID(入力シート!$I522,2,1))","v":""},{"$f":"IF(LEN(入力シート!$I522)=4,MID(入力シート!$I522,3,1),MID(入力シート!$I522,3,2))","v":""},{"$f":"LOWER(RIGHT(入力シート!$I522,1))","v":""},{"$f":"入力シート!$AD523","v":false},{"$f":"入力シート!$J523&\"\"","v":""},{"$f":"入力シート!$M523&\"\"","v":""},{"$f":"入力シート!$P523&\"\"","v":""},{"$f":"入力シート!$S523&\"\"","v":""},{"$f":"入力シート!$G530","v":0},{"$f":"入力シート!$K530","v":0},{"$f":"入力シート!$P530","v":0},"選択なし",null,20,1,9999,{"$f":"SMALL($U$111:$U$260,58)","v":9999},"99","9","事業場９９　９台目",{"$error":"#N/A"}]
["〇",{"$f":"IF(入力シート!AH513>50,FALSE,TRUE)","v":false},"事業場２０　２台目",{"$f":"入力シート!$AD524","v":false},{"$f":"UPPER(MID(入力シート!$I524,1,1))","v":""},{"$f":"UPPER(MID(入力シート!$I524,2,1))","v":""},{"$f":"IF(LEN(入力シート!$I524)=4,MID(入力シート!$I524,3,1),MID(入力シート!$I524,3,2))","v":""},{"$f":"LOWER(RIGHT(入力シート!$I524,1))","v":""},{"$f":"入力シート!$AD525","v":false},{"$f":"入力シート!$J525&\"\"","v":""},{"$f":"入力シート!$M525&\"\"","v":""},{"$f":"入力シート!$P525&\"\"","v":""},{"$f":"入力シート!$S525&\"\"","v":""},{"$f":"入力シート!$G531","v":0},{"$f":"入力シート!$K531","v":0},{"$f":"入力シート!$P531","v":0},"選択なし",null,20,2,9999,{"$f":"SMALL($U$111:$U$260,59)","v":9999},"99","9","事業場９９　９台目",{"$error":"#N/A"}]
["〇",{"$f":"IF(入力シート!AH513>50,FALSE,TRUE)","v":false},"事業場２０　３台目",{"$f":"入力シート!$AD526","v":false},{"$f":"UPPER(MID(入力シート!$I526,1,1))","v":""},{"$f":"UPPER(MID(入力シート!$I526,2,1))","v":""},{"$f":"IF(LEN(入力シート!$I526)=4,MID(入力シート!$I526,3,1),MID(入力シート!$I526,3,2))","v":""},{"$f":"LOWER(RIGHT(入力シート!$I526,1))","v":""},{"$f":"入力シート!$AD527","v":false},{"$f":"入力シート!$J527&\"\"","v":""},{"$f":"入力シート!$M527&\"\"","v":""},{"$f":"入力シート!$P527&\"\"","v":""},{"$f":"入力シート!$S527&\"\"","v":""},{"$f":"入力シート!$G532","v":0},{"$f":"入力シート!$K532","v":0},{"$f":"入力シート!$P532","v":0},"選択なし",null,20,3,9999,{"$f":"SMALL($U$111:$U$260,60)","v":9999},"99","9","事業場９９　９台目",{"$error":"#N/A"}]
["〇",{"$f":"IF(入力シート!AH536>50,FALSE,TRUE)","v":false},"事業場２１　１台目",{"$f":"入力シート!$AD545","v":false},{"$f":"UPPER(MID(入力シート!$I545,1,1))","v":""},{"$f":"UPPER(MID(入力シート!$I545,2,1))","v":""},{"$f":"IF(LEN(入力シート!$I545)=4,MID(入力シート!$I545,3,1),MID(入力シート!$I545,3,2))","v":""},{"$f":"LOWER(RIGHT(入力シート!$I545,1))","v":""},{"$f":"入力シート!$AD546","v":false},{"$f":"入力シート!$J546&\"\"","v":""},{"$f":"入力シート!$M546&\"\"","v":""},{"$f":"入力シート!$P546&\"\"","v":""},{"$f":"入力シート!$S546&\"\"","v":""},{"$f":"入力シート!$G553","v":0},{"$f":"入力シート!$K553","v":0},{"$f":"入力シート!$P553","v":0},"選択なし",null,21,1,9999,{"$f":"SMALL($U$111:$U$260,61)","v":9999},"99","9","事業場９９　９台目",{"$error":"#N/A"}]
["〇",{"$f":"IF(入力シート!AH536>50,FALSE,TRUE)","v":false},"事業場２１　２台目",{"$f":"入力シート!$AD547","v":false},{"$f":"UPPER(MID(入力シート!$I547,1,1))","v":""},{"$f":"UPPER(MID(入力シート!$I547,2,1))","v":""},{"$f":"IF(LEN(入力シート!$I547)=4,MID(入力シート!$I547,3,1),MID(入力シート!$I547,3,2))","v":""},{"$f":"LOWER(RIGHT(入力シート!$I547,1))","v":""},{"$f":"入力シート!$AD548","v":false},{"$f":"入力シート!$J548&\"\"","v":""},{"$f":"入力シート!$M548&\"\"","v":""},{"$f":"入力シート!$P548&\"\"","v":""},{"$f":"入力シート!$S548&\"\"","v":""},{"$f":"入力シート!$G554","v":0},{"$f":"入力シート!$K554","v":0},{"$f":"入力シート!$P554","v":0},"選択なし",null,21,2,9999,{"$f":"SMALL($U$111:$U$260,62)","v":9999},"99","9","事業場９９　９台目",{"$error":"#N/A"}]
["〇",{"$f":"IF(入力シート!AH536>50,FALSE,TRUE)","v":false},"事業場２１　３台目",{"$f":"入力シート!$AD549","v":false},{"$f":"UPPER(MID(入力シート!$I549,1,1))","v":""},{"$f":"UPPER(MID(入力シート!$I549,2,1))","v":""},{"$f":"IF(LEN(入力シート!$I549)=4,MID(入力シート!$I549,3,1),MID(入力シート!$I549,3,2))","v":""},{"$f":"LOWER(RIGHT(入力シート!$I549,1))","v":""},{"$f":"入力シート!$AD550","v":false},{"$f":"入力シート!$J550&\"\"","v":""},{"$f":"入力シート!$M550&\"\"","v":""},{"$f":"入力シート!$P550&\"\"","v":""},{"$f":"入力シート!$S550&\"\"","v":""},{"$f":"入力シート!$G555","v":0},{"$f":"入力シート!$K555","v":0},{"$f":"入力シート!$P555","v":0},"選択なし",null,21,3,9999,{"$f":"SMALL($U$111:$U$260,63)","v":9999},"99","9","事業場９９　９台目",{"$error":"#N/A"}]
["〇",{"$f":"IF(入力シート!AH559>50,FALSE,TRUE)","v":false},"事業場２２　１台目",{"$f":"入力シート!$AD568","v":false},{"$f":"UPPER(MID(入力シート!$I568,1,1))","v":""},{"$f":"UPPER(MID(入力シート!$I568,2,1))","v":""},{"$f":"IF(LEN(入力シート!$I568)=4,MID(入力シート!$I568,3,1),MID(入力シート!$I568,3,2))","v":""},{"$f":"LOWER(RIGHT(入力シート!$I568,1))","v":""},{"$f":"入力シート!$AD569","v":false},{"$f":"入力シート!$J569&\"\"","v":""},{"$f":"入力シート!$M569&\"\"","v":""},{"$f":"入力シート!$P569&\"\"","v":""},{"$f":"入力シート!$S569&\"\"","v":""},{"$f":"入力シート!$G576","v":0},{"$f":"入力シート!$K576","v":0},{"$f":"入力シート!$P576","v":0},"選択なし",null,22,1,9999,{"$f":"SMALL($U$111:$U$260,64)","v":9999},"99","9","事業場９９　９台目",{"$error":"#N/A"}]
["〇",{"$f":"IF(入力シート!AH559>50,FALSE,TRUE)","v":false},"事業場２２　２台目",{"$f":"入力シート!$AD570","v":false},{"$f":"UPPER(MID(入力シート!$I570,1,1))","v":""},{"$f":"UPPER(MID(入力シート!$I570,2,1))","v":""},{"$f":"IF(LEN(入力シート!$I570)=4,MID(入力シート!$I570,3,1),MID(入力シート!$I570,3,2))","v":""},{"$f":"LOWER(RIGHT(入力シート!$I570,1))","v":""},{"$f":"入力シート!$AD571","v":false},{"$f":"入力シート!$J571&\"\"","v":""},{"$f":"入力シート!$M571&\"\"","v":""},{"$f":"入力シート!$P571&\"\"","v":""},{"$f":"入力シート!$S571&\"\"","v":""},{"$f":"入力シート!$G577","v":0},{"$f":"入力シート!$K577","v":0},{"$f":"入力シート!$P577","v":0},{"$f":"SUBSTITUTE(SUBSTITUTE(SUBSTITUTE(SUBSTITUTE(D175&I175,\"TRUEFALSE\",\"掲載されている\"),\"FALSETRUE\",\"掲載されていない\"),\"FALSEFALSE\",\"選択なし\"),\"TRUETRUE\",\"両方選択\")","v":"選択なし"},null,22,2,{"$f":"VALUE(IF(OR(B175=FALSE,AND(E175=\"\",J175=\"\")),9999,S175&0&T175))","v":9999},{"$f":"SMALL($U$111:$U$260,65)","v":9999},"99","9","事業場９９　９台目",{"$f":"VLOOKUP(Y175,$C$110:$D$260,2,FALSE)","v":{"$error":"#N/A"}}]
["〇",{"$f":"IF(入力シート!AH559>50,FALSE,TRUE)","v":false},"事業場２２　３台目",{"$f":"入力シート!$AD572","v":false},{"$f":"UPPER(MID(入力シート!$I572,1,1))","v":""},{"$f":"UPPER(MID(入力シート!$I572,2,1))","v":""},{"$f":"IF(LEN(入力シート!$I572)=4,MID(入力シート!$I572,3,1),MID(入力シート!$I572,3,2))","v":""},{"$f":"LOWER(RIGHT(入力シート!$I572,1))","v":""},{"$f":"入力シート!$AD573","v":false},{"$f":"入力シート!$J573&\"\"","v":""},{"$f":"入力シート!$M573&\"\"","v":""},{"$f":"入力シート!$P573&\"\"","v":""},{"$f":"入力シート!$S573&\"\"","v":""},{"$f":"入力シート!$G578","v":0},{"$f":"入力シート!$K578","v":0},{"$f":"入力シート!$P578","v":0},"選択なし",null,22,3,9999,{"$f":"SMALL($U$111:$U$260,66)","v":9999},"99","9","事業場９９　９台目",{"$error":"#N/A"}]
["〇",{"$f":"IF(入力シート!AH582>50,FALSE,TRUE)","v":false},"事業場２３　１台目",{"$f":"入力シート!$AD591","v":false},{"$f":"UPPER(MID(入力シート!$I591,1,1))","v":""},{"$f":"UPPER(MID(入力シート!$I591,2,1))","v":""},{"$f":"IF(LEN(入力シート!$I591)=4,MID(入力シート!$I591,3,1),MID(入力シート!$I591,3,2))","v":""},{"$f":"LOWER(RIGHT(入力シート!$I591,1))","v":""},{"$f":"入力シート!$AD592","v":false},{"$f":"入力シート!$J592&\"\"","v":""},{"$f":"入力シート!$M592&\"\"","v":""},{"$f":"入力シート!$P592&\"\"","v":""},{"$f":"入力シート!$S592&\"\"","v":""},{"$f":"入力シート!$G599","v":0},{"$f":"入力シート!$K599","v":0},{"$f":"入力シート!$P599","v":0},"選択なし",null,23,1,9999,{"$f":"SMALL($U$111:$U$260,67)","v":9999},"99","9","事業場９９　９台目",{"$error":"#N/A"}]
["〇",{"$f":"IF(入力シート!AH582>50,FALSE,TRUE)","v":false},"事業場２３　２台目",{"$f":"入力シート!$AD593","v":false},{"$f":"UPPER(MID(入力シート!$I593,1,1))","v":""},{"$f":"UPPER(MID(入力シート!$I593,2,1))","v":""},{"$f":"IF(LEN(入力シート!$I593)=4,MID(入力シート!$I593,3,1),MID(入力シート!$I593,3,2))","v":""},{"$f":"LOWER(RIGHT(入力シート!$I593,1))","v":""},{"$f":"入力シート!$AD594","v":false},{"$f":"入力シート!$J594&\"\"","v":""},{"$f":"入力シート!$M594&\"\"","v":""},{"$f":"入力シート!$P594&\"\"","v":""},{"$f":"入力シート!$S594&\"\"","v":""},{"$f":"入力シート!$G600","v":0},{"$f":"入力シート!$K600","v":0},{"$f":"入力シート!$P600","v":0},"選択なし",null,23,2,9999,{"$f":"SMALL($U$111:$U$260,68)","v":9999},"99","9","事業場９９　９台目",{"$error":"#N/A"}]
["〇",{"$f":"IF(入力シート!AH582>50,FALSE,TRUE)","v":false},"事業場２３　３台目",{"$f":"入力シート!$AD595","v":false},{"$f":"UPPER(MID(入力シート!$I595,1,1))","v":""},{"$f":"UPPER(MID(入力シート!$I595,2,1))","v":""},{"$f":"IF(LEN(入力シート!$I595)=4,MID(入力シート!$I595,3,1),MID(入力シート!$I595,3,2))","v":""},{"$f":"LOWER(RIGHT(入力シート!$I595,1))","v":""},{"$f":"入力シート!$AD596","v":false},{"$f":"入力シート!$J596&\"\"","v":""},{"$f":"入力シート!$M596&\"\"","v":""},{"$f":"入力シート!$P596&\"\"","v":""},{"$f":"入力シート!$S596&\"\"","v":""},{"$f":"入力シート!$G601","v":0},{"$f":"入力シート!$K601","v":0},{"$f":"入力シート!$P601","v":0},"選択なし",null,23,3,9999,{"$f":"SMALL($U$111:$U$260,69)","v":9999},"99","9","事業場９９　９台目",{"$error":"#N/A"}]
["〇",{"$f":"IF(入力シート!AH605>50,FALSE,TRUE)","v":false},"事業場２４　１台目",{"$f":"入力シート!$AD614","v":false},{"$f":"UPPER(MID(入力シート!$I614,1,1))","v":""},{"$f":"UPPER(MID(入力シート!$I614,2,1))","v":""},{"$f":"IF(LEN(入力シート!$I614)=4,MID(入力シート!$I614,3,1),MID(入力シート!$I614,3,2))","v":""},{"$f":"LOWER(RIGHT(入力シート!$I614,1))","v":""},{"$f":"入力シート!$AD615","v":false},{"$f":"入力シート!$J615&\"\"","v":""},{"$f":"入力シート!$M615&\"\"","v":""},{"$f":"入力シート!$P615&\"\"","v":""},{"$f":"入力シート!$S615&\"\"","v":""},{"$f":"入力シート!$G622","v":0},{"$f":"入力シート!$K622","v":0},{"$f":"入力シート!$P622","v":0},"選択なし",null,24,1,9999,{"$f":"SMALL($U$111:$U$260,70)","v":9999},"99","9","事業場９９　９台目",{"$error":"#N/A"}]
["〇",{"$f":"IF(入力シート!AH605>50,FALSE,TRUE)","v":false},"事業場２４　２台目",{"$f":"入力シート!$AD616","v":false},{"$f":"UPPER(MID(入力シート!$I616,1,1))","v":""},{"$f":"UPPER(MID(入力シート!$I616,2,1))","v":""},{"$f":"IF(LEN(入力シート!$I616)=4,MID(入力シート!$I616,3,1),MID(入力シート!$I616,3,2))","v":""},{"$f":"LOWER(RIGHT(入力シート!$I616,1))","v":""},{"$f":"入力シート!$AD617","v":false},{"$f":"入力シート!$J617&\"\"","v":""},{"$f":"入力シート!$M617&\"\"","v":""},{"$f":"入力シート!$P617&\"\"","v":""},{"$f":"入力シート!$S617&\"\"","v":""},{"$f":"入力シート!$G623","v":0},{"$f":"入力シート!$K623","v":0},{"$f":"入力シート!$P623","v":0},"選択なし",null,24,2,9999,{"$f":"SMALL($U$111:$U$260,71)","v":9999},"99","9","事業場９９　９台目",{"$error":"#N/A"}]
["〇",{"$f":"IF(入力シート!AH605>50,FALSE,TRUE)","v":false},"事業場２４　３台目",{"$f":"入力シート!$AD618","v":false},{"$f":"UPPER(MID(入力シート!$I618,1,1))","v":""},{"$f":"UPPER(MID(入力シート!$I618,2,1))","v":""},{"$f":"IF(LEN(入力シート!$I618)=4,MID(入力シート!$I618,3,1),MID(入力シート!$I618,3,2))","v":""},{"$f":"LOWER(RIGHT(入力シート!$I618,1))","v":""},{"$f":"入力シート!$AD619","v":false},{"$f":"入力シート!$J619&\"\"","v":""},{"$f":"入力シート!$M619&\"\"","v":""},{"$f":"入力シート!$P619&\"\"","v":""},{"$f":"入力シート!$S619&\"\"","v":""},{"$f":"入力シート!$G624","v":0},{"$f":"入力シート!$K624","v":0},{"$f":"入力シート!$P624","v":0},"選択なし",null,24,3,9999,{"$f":"SMALL($U$111:$U$260,72)","v":9999},"99","9","事業場９９　９台目",{"$error":"#N/A"}]
["〇",{"$f":"IF(入力シート!AH628>50,FALSE,TRUE)","v":false},"事業場２５　１台目",{"$f":"入力シート!$AD637","v":false},{"$f":"UPPER(MID(入力シート!$I637,1,1))","v":""},{"$f":"UPPER(MID(入力シート!$I637,2,1))","v":""},{"$f":"IF(LEN(入力シート!$I637)=4,MID(入力シート!$I637,3,1),MID(入力シート!$I637,3,2))","v":""},{"$f":"LOWER(RIGHT(入力シート!$I637,1))","v":""},{"$f":"入力シート!$AD638","v":false},{"$f":"入力シート!$J638&\"\"","v":""},{"$f":"入力シート!$M638&\"\"","v":""},{"$f":"入力シート!$P638&\"\"","v":""},{"$f":"入力シート!$S638&\"\"","v":""},{"$f":"入力シート!$G645","v":0},{"$f":"入力シート!$K645","v":0},{"$f":"入力シート!$P645","v":0},"選択なし",null,25,1,9999,{"$f":"SMALL($U$111:$U$260,73)","v":9999},"99","9","事業場９９　９台目",{"$error":"#N/A"}]
["〇",{"$f":"IF(入力シート!AH628>50,FALSE,TRUE)","v":false},"事業場２５　２台目",{"$f":"入力シート!$AD639","v":false},{"$f":"UPPER(MID(入力シート!$I639,1,1))","v":""},{"$f":"UPPER(MID(入力シート!$I639,2,1))","v":""},{"$f":"IF(LEN(入力シート!$I639)=4,MID(入力シート!$I639,3,1),MID(入力シート!$I639,3,2))","v":""},{"$f":"LOWER(RIGHT(入力シート!$I639,1))","v":""},{"$f":"入力シート!$AD640","v":false},{"$f":"入力シート!$J640&\"\"","v":""},{"$f":"入力シート!$M640&\"\"","v":""},{"$f":"入力シート!$P640&\"\"","v":""},{"$f":"入力シート!$S640&\"\"","v":""},{"$f":"入力シート!$G646","v":0},{"$f":"入力シート!$K646","v":0},{"$f":"入力シート!$P646","v":0},"選択なし",null,25,2,9999,{"$f":"SMALL($U$111:$U$260,74)","v":9999},"99","9","事業場９９　９台目",{"$error":"#N/A"}]
["〇",{"$f":"IF(入力シート!AH628>50,FALSE,TRUE)","v":false},"事業場２５　３台目",{"$f":"入力シート!$AD641","v":false},{"$f":"UPPER(MID(入力シート!$I641,1,1))","v":""},{"$f":"UPPER(MID(入力シート!$I641,2,1))","v":""},{"$f":"IF(LEN(入力シート!$I641)=4,MID(入力シート!$I641,3,1),MID(入力シート!$I641,3,2))","v":""},{"$f":"LOWER(RIGHT(入力シート!$I641,1))","v":""},{"$f":"入力シート!$AD642","v":false},{"$f":"入力シート!$J642&\"\"","v":""},{"$f":"入力シート!$M642&\"\"","v":""},{"$f":"入力シート!$P642&\"\"","v":""},{"$f":"入力シート!$S642&\"\"","v":""},{"$f":"入力シート!$G647","v":0},{"$f":"入力シート!$K647","v":0},{"$f":"入力シート!$P647","v":0},"選択なし",null,25,3,9999,{"$f":"SMALL($U$111:$U$260,75)","v":9999},"99","9","事業場９９　９台目",{"$error":"#N/A"}]
["〇",{"$f":"IF(入力シート!AH651>50,FALSE,TRUE)","v":false},"事業場２６　１台目",{"$f":"入力シート!$AD660","v":false},{"$f":"UPPER(MID(入力シート!$I660,1,1))","v":""},{"$f":"UPPER(MID(入力シート!$I660,2,1))","v":""},{"$f":"IF(LEN(入力シート!$I660)=4,MID(入力シート!$I660,3,1),MID(入力シート!$I660,3,2))","v":""},{"$f":"LOWER(RIGHT(入力シート!$I660,1))","v":""},{"$f":"入力シート!$AD661","v":false},{"$f":"入力シート!$J661&\"\"","v":""},{"$f":"入力シート!$M661&\"\"","v":""},{"$f":"入力シート!$P661&\"\"","v":""},{"$f":"入力シート!$S661&\"\"","v":""},{"$f":"入力シート!$G668","v":0},{"$f":"入力シート!$K668","v":0},{"$f":"入力シート!$P668","v":0},"選択なし",null,26,1,9999,{"$f":"SMALL($U$111:$U$260,76)","v":9999},"99","9","事業場９９　９台目",{"$error":"#N/A"}]
["〇",{"$f":"IF(入力シート!AH651>50,FALSE,TRUE)","v":false},"事業場２６　２台目",{"$f":"入力シート!$AD662","v":false},{"$f":"UPPER(MID(入力シート!$I662,1,1))","v":""},{"$f":"UPPER(MID(入力シート!$I662,2,1))","v":""},{"$f":"IF(LEN(入力シート!$I662)=4,MID(入力シート!$I662,3,1),MID(入力シート!$I662,3,2))","v":""},{"$f":"LOWER(RIGHT(入力シート!$I662,1))","v":""},{"$f":"入力シート!$AD663","v":false},{"$f":"入力シート!$J663&\"\"","v":""},{"$f":"入力シート!$M663&\"\"","v":""},{"$f":"入力シート!$P663&\"\"","v":""},{"$f":"入力シート!$S663&\"\"","v":""},{"$f":"入力シート!$G669","v":0},{"$f":"入力シート!$K669","v":0},{"$f":"入力シート!$P669","v":0},"選択なし",null,26,2,9999,{"$f":"SMALL($U$111:$U$260,77)","v":9999},"99","9","事業場９９　９台目",{"$error":"#N/A"}]
["〇",{"$f":"IF(入力シート!AH651>50,FALSE,TRUE)","v":false},"事業場２６　３台目",{"$f":"入力シート!$AD664","v":false},{"$f":"UPPER(MID(入力シート!$I664,1,1))","v":""},{"$f":"UPPER(MID(入力シート!$I664,2,1))","v":""},{"$f":"IF(LEN(入力シート!$I664)=4,MID(入力シート!$I664,3,1),MID(入力シート!$I664,3,2))","v":""},{"$f":"LOWER(RIGHT(入力シート!$I664,1))","v":""},{"$f":"入力シート!$AD665","v":false},{"$f":"入力シート!$J665&\"\"","v":""},{"$f":"入力シート!$M665&\"\"","v":""},{"$f":"入力シート!$P665&\"\"","v":""},{"$f":"入力シート!$S665&\"\"","v":""},{"$f":"入力シート!$G670","v":0},{"$f":"入力シート!$K670","v":0},{"$f":"入力シート!$P670","v":0},"選択なし",null,26,3,9999,{"$f":"SMALL($U$111:$U$260,78)","v":9999},"99","9","事業場９９　９台目",{"$error":"#N/A"}]
["〇",{"$f":"IF(入力シート!AH674>50,FALSE,TRUE)","v":false},"事業場２７　１台目",{"$f":"入力シート!$AD683","v":false},{"$f":"UPPER(MID(入力シート!$I683,1,1))","v":""},{"$f":"UPPER(MID(入力シート!$I683,2,1))","v":""},{"$f":"IF(LEN(入力シート!$I683)=4,MID(入力シート!$I683,3,1),MID(入力シート!$I683,3,2))","v":""},{"$f":"LOWER(RIGHT(入力シート!$I683,1))","v":""},{"$f":"入力シート!$AD684","v":false},{"$f":"入力シート!$J684&\"\"","v":""},{"$f":"入力シート!$M684&\"\"","v":""},{"$f":"入力シート!$P684&\"\"","v":""},{"$f":"入力シート!$S684&\"\"","v":""},{"$f":"入力シート!$G691","v":0},{"$f":"入力シート!$K691","v":0},{"$f":"入力シート!$P691","v":0},"選択なし",null,27,1,9999,{"$f":"SMALL($U$111:$U$260,79)","v":9999},"99","9","事業場９９　９台目",{"$error":"#N/A"}]
["〇",{"$f":"IF(入力シート!AH674>50,FALSE,TRUE)","v":false},"事業場２７　２台目",{"$f":"入力シート!$AD685","v":false},{"$f":"UPPER(MID(入力シート!$I685,1,1))","v":""},{"$f":"UPPER(MID(入力シート!$I685,2,1))","v":""},{"$f":"IF(LEN(入力シート!$I685)=4,MID(入力シート!$I685,3,1),MID(入力シート!$I685,3,2))","v":""},{"$f":"LOWER(RIGHT(入力シート!$I685,1))","v":""},{"$f":"入力シート!$AD686","v":false},{"$f":"入力シート!$J686&\"\"","v":""},{"$f":"入力シート!$M686&\"\"","v":""},{"$f":"入力シート!$P686&\"\"","v":""},{"$f":"入力シート!$S686&\"\"","v":""},{"$f":"入力シート!$G692","v":0},{"$f":"入力シート!$K692","v":0},{"$f":"入力シート!$P692","v":0},"選択なし",null,27,2,9999,{"$f":"SMALL($U$111:$U$260,80)","v":9999},"99","9","事業場９９　９台目",{"$error":"#N/A"}]
["〇",{"$f":"IF(入力シート!AH674>50,FALSE,TRUE)","v":false},"事業場２７　３台目",{"$f":"入力シート!$AD687","v":false},{"$f":"UPPER(MID(入力シート!$I687,1,1))","v":""},{"$f":"UPPER(MID(入力シート!$I687,2,1))","v":""},{"$f":"IF(LEN(入力シート!$I687)=4,MID(入力シート!$I687,3,1),MID(入力シート!$I687,3,2))","v":""},{"$f":"LOWER(RIGHT(入力シート!$I687,1))","v":""},{"$f":"入力シート!$AD688","v":false},{"$f":"入力シート!$J688&\"\"","v":""},{"$f":"入力シート!$M688&\"\"","v":""},{"$f":"入力シート!$P688&\"\"","v":""},{"$f":"入力シート!$S688&\"\"","v":""},{"$f":"入力シート!$G693","v":0},{"$f":"入力シート!$K693","v":0},{"$f":"入力シート!$P693","v":0},"選択なし",null,27,3,9999,{"$f":"SMALL($U$111:$U$260,81)","v":9999},"99","9","事業場９９　９台目",{"$error":"#N/A"}]
["〇",{"$f":"IF(入力シート!AH697>50,FALSE,TRUE)","v":false},"事業場２８　１台目",{"$f":"入力シート!$AD706","v":false},{"$f":"UPPER(MID(入力シート!$I706,1,1))","v":""},{"$f":"UPPER(MID(入力シート!$I706,2,1))","v":""},{"$f":"IF(LEN(入力シート!$I706)=4,MID(入力シート!$I706,3,1),MID(入力シート!$I706,3,2))","v":""},{"$f":"LOWER(RIGHT(入力シート!$I706,1))","v":""},{"$f":"入力シート!$AD707","v":false},{"$f":"入力シート!$J707&\"\"","v":""},{"$f":"入力シート!$M707&\"\"","v":""},{"$f":"入力シート!$P707&\"\"","v":""},{"$f":"入力シート!$S707&\"\"","v":""},{"$f":"入力シート!$G714","v":0},{"$f":"入力シート!$K714","v":0},{"$f":"入力シート!$P714","v":0},"選択なし",null,28,1,9999,{"$f":"SMALL($U$111:$U$260,82)","v":9999},"99","9","事業場９９　９台目",{"$error":"#N/A"}]
["〇",{"$f":"IF(入力シート!AH697>50,FALSE,TRUE)","v":false},"事業場２８　２台目",{"$f":"入力シート!$AD708","v":false},{"$f":"UPPER(MID(入力シート!$I708,1,1))","v":""},{"$f":"UPPER(MID(入力シート!$I708,2,1))","v":""},{"$f":"IF(LEN(入力シート!$I708)=4,MID(入力シート!$I708,3,1),MID(入力シート!$I708,3,2))","v":""},{"$f":"LOWER(RIGHT(入力シート!$I708,1))","v":""},{"$f":"入力シート!$AD709","v":false},{"$f":"入力シート!$J709&\"\"","v":""},{"$f":"入力シート!$M709&\"\"","v":""},{"$f":"入力シート!$P709&\"\"","v":""},{"$f":"入力シート!$S709&\"\"","v":""},{"$f":"入力シート!$G715","v":0},{"$f":"入力シート!$K715","v":0},{"$f":"入力シート!$P715","v":0},"選択なし",null,28,2,9999,{"$f":"SMALL($U$111:$U$260,83)","v":9999},"99","9","事業場９９　９台目",{"$error":"#N/A"}]
["〇",{"$f":"IF(入力シート!AH697>50,FALSE,TRUE)","v":false},"事業場２８　３台目",{"$f":"入力シート!$AD710","v":false},{"$f":"UPPER(MID(入力シート!$I710,1,1))","v":""},{"$f":"UPPER(MID(入力シート!$I710,2,1))","v":""},{"$f":"IF(LEN(入力シート!$I710)=4,MID(入力シート!$I710,3,1),MID(入力シート!$I710,3,2))","v":""},{"$f":"LOWER(RIGHT(入力シート!$I710,1))","v":""},{"$f":"入力シート!$AD711","v":false},{"$f":"入力シート!$J711&\"\"","v":""},{"$f":"入力シート!$M711&\"\"","v":""},{"$f":"入力シート!$P711&\"\"","v":""},{"$f":"入力シート!$S711&\"\"","v":""},{"$f":"入力シート!$G716","v":0},{"$f":"入力シート!$K716","v":0},{"$f":"入力シート!$P716","v":0},"選択なし",null,28,3,9999,{"$f":"SMALL($U$111:$U$260,84)","v":9999},"99","9","事業場９９　９台目",{"$error":"#N/A"}]
["〇",{"$f":"IF(入力シート!AH720>50,FALSE,TRUE)","v":false},"事業場２９　１台目",{"$f":"入力シート!$AD729","v":false},{"$f":"UPPER(MID(入力シート!$I729,1,1))","v":""},{"$f":"UPPER(MID(入力シート!$I729,2,1))","v":""},{"$f":"IF(LEN(入力シート!$I729)=4,MID(入力シート!$I729,3,1),MID(入力シート!$I729,3,2))","v":""},{"$f":"LOWER(RIGHT(入力シート!$I729,1))","v":""},{"$f":"入力シート!$AD730","v":false},{"$f":"入力シート!$J730&\"\"","v":""},{"$f":"入力シート!$M730&\"\"","v":""},{"$f":"入力シート!$P730&\"\"","v":""},{"$f":"入力シート!$S730&\"\"","v":""},{"$f":"入力シート!$G737","v":0},{"$f":"入力シート!$K737","v":0},{"$f":"入力シート!$P737","v":0},"選択なし",null,29,1,9999,{"$f":"SMALL($U$111:$U$260,85)","v":9999},"99","9","事業場９９　９台目",{"$error":"#N/A"}]
["〇",{"$f":"IF(入力シート!AH720>50,FALSE,TRUE)","v":false},"事業場２９　２台目",{"$f":"入力シート!$AD731","v":false},{"$f":"UPPER(MID(入力シート!$I731,1,1))","v":""},{"$f":"UPPER(MID(入力シート!$I731,2,1))","v":""},{"$f":"IF(LEN(入力シート!$I731)=4,MID(入力シート!$I731,3,1),MID(入力シート!$I731,3,2))","v":""},{"$f":"LOWER(RIGHT(入力シート!$I731,1))","v":""},{"$f":"入力シート!$AD732","v":false},{"$f":"入力シート!$J732&\"\"","v":""},{"$f":"入力シート!$M732&\"\"","v":""},{"$f":"入力シート!$P732&\"\"","v":""},{"$f":"入力シート!$S732&\"\"","v":""},{"$f":"入力シート!$G738","v":0},{"$f":"入力シート!$K738","v":0},{"$f":"入力シート!$P738","v":0},"選択なし",null,29,2,9999,{"$f":"SMALL($U$111:$U$260,86)","v":9999},"99","9","事業場９９　９台目",{"$error":"#N/A"}]
["〇",{"$f":"IF(入力シート!AH720>50,FALSE,TRUE)","v":false},"事業場２９　３台目",{"$f":"入力シート!$AD733","v":false},{"$f":"UPPER(MID(入力シート!$I733,1,1))","v":""},{"$f":"UPPER(MID(入力シート!$I733,2,1))","v":""},{"$f":"IF(LEN(入力シート!$I733)=4,MID(入力シート!$I733,3,1),MID(入力シート!$I733,3,2))","v":""},{"$f":"LOWER(RIGHT(入力シート!$I733,1))","v":""},{"$f":"入力シート!$AD734","v":false},{"$f":"入力シート!$J734&\"\"","v":""},{"$f":"入力シート!$M734&\"\"","v":""},{"$f":"入力シート!$P734&\"\"","v":""},{"$f":"入力シート!$S734&\"\"","v":""},{"$f":"入力シート!$G739","v":0},{"$f":"入力シート!$K739","v":0},{"$f":"入力シート!$P739","v":0},"選択なし",null,29,3,9999,{"$f":"SMALL($U$111:$U$260,87)","v":9999},"99","9","事業場９９　９台目",{"$error":"#N/A"}]
["〇",{"$f":"IF(入力シート!AH743>50,FALSE,TRUE)","v":false},"事業場３０　１台目",{"$f":"入力シート!$AD752","v":false},{"$f":"UPPER(MID(入力シート!$I752,1,1))","v":""},{"$f":"UPPER(MID(入力シート!$I752,2,1))","v":""},{"$f":"IF(LEN(入力シート!$I752)=4,MID(入力シート!$I752,3,1),MID(入力シート!$I752,3,2))","v":""},{"$f":"LOWER(RIGHT(入力シート!$I752,1))","v":""},{"$f":"入力シート!$AD753","v":false},{"$f":"入力シート!$J753&\"\"","v":""},{"$f":"入力シート!$M753&\"\"","v":""},{"$f":"入力シート!$P753&\"\"","v":""},{"$f":"入力シート!$S753&\"\"","v":""},{"$f":"入力シート!$G760","v":0},{"$f":"入力シート!$K760","v":0},{"$f":"入力シート!$P760","v":0},"選択なし",null,30,1,9999,{"$f":"SMALL($U$111:$U$260,88)","v":9999},"99","9","事業場９９　９台目",{"$error":"#N/A"}]
["〇",{"$f":"IF(入力シート!AH743>50,FALSE,TRUE)","v":false},"事業場３０　２台目",{"$f":"入力シート!$AD754","v":false},{"$f":"UPPER(MID(入力シート!$I754,1,1))","v":""},{"$f":"UPPER(MID(入力シート!$I754,2,1))","v":""},{"$f":"IF(LEN(入力シート!$I754)=4,MID(入力シート!$I754,3,1),MID(入力シート!$I754,3,2))","v":""},{"$f":"LOWER(RIGHT(入力シート!$I754,1))","v":""},{"$f":"入力シート!$AD755","v":false},{"$f":"入力シート!$J755&\"\"","v":""},{"$f":"入力シート!$M755&\"\"","v":""},{"$f":"入力シート!$P755&\"\"","v":""},{"$f":"入力シート!$S755&\"\"","v":""},{"$f":"入力シート!$G761","v":0},{"$f":"入力シート!$K761","v":0},{"$f":"入力シート!$P761","v":0},"選択なし",null,30,2,9999,{"$f":"SMALL($U$111:$U$260,89)","v":9999},"99","9","事業場９９　９台目",{"$error":"#N/A"}]
["〇",{"$f":"IF(入力シート!AH743>50,FALSE,TRUE)","v":false},"事業場３０　３台目",{"$f":"入力シート!$AD756","v":false},{"$f":"UPPER(MID(入力シート!$I756,1,1))","v":""},{"$f":"UPPER(MID(入力シート!$I756,2,1))","v":""},{"$f":"IF(LEN(入力シート!$I756)=4,MID(入力シート!$I756,3,1),MID(入力シート!$I756,3,2))","v":""},{"$f":"LOWER(RIGHT(入力シート!$I756,1))","v":""},{"$f":"入力シート!$AD757","v":false},{"$f":"入力シート!$J757&\"\"","v":""},{"$f":"入力シート!$M757&\"\"","v":""},{"$f":"入力シート!$P757&\"\"","v":""},{"$f":"入力シート!$S757&\"\"","v":""},{"$f":"入力シート!$G762","v":0},{"$f":"入力シート!$K762","v":0},{"$f":"入力シート!$P762","v":0},"選択なし",null,30,3,9999,{"$f":"SMALL($U$111:$U$260,90)","v":9999},"99","9","事業場９９　９台目",{"$error":"#N/A"}]
["〇",{"$f":"IF(入力シート!AH766>50,FALSE,TRUE)","v":false},"事業場３１　１台目",{"$f":"入力シート!$AD775","v":false},{"$f":"UPPER(MID(入力シート!$I775,1,1))","v":""},{"$f":"UPPER(MID(入力シート!$I775,2,1))","v":""},{"$f":"IF(LEN(入力シート!$I775)=4,MID(入力シート!$I775,3,1),MID(入力シート!$I775,3,2))","v":""},{"$f":"LOWER(RIGHT(入力シート!$I775,1))","v":""},{"$f":"入力シート!$AD776","v":false},{"$f":"入力シート!$J776&\"\"","v":""},{"$f":"入力シート!$M776&\"\"","v":""},{"$f":"入力シート!$P776&\"\"","v":""},{"$f":"入力シート!$S776&\"\"","v":""},{"$f":"入力シート!$G783","v":0},{"$f":"入力シート!$K783","v":0},{"$f":"入力シート!$P783","v":0},"選択なし",null,31,1,9999,{"$f":"SMALL($U$111:$U$260,91)","v":9999},"99","9","事業場９９　９台目",{"$error":"#N/A"}]
["〇",{"$f":"IF(入力シート!AH766>50,FALSE,TRUE)","v":false},"事業場３１　２台目",{"$f":"入力シート!$AD777","v":false},{"$f":"UPPER(MID(入力シート!$I777,1,1))","v":""},{"$f":"UPPER(MID(入力シート!$I777,2,1))","v":""},{"$f":"IF(LEN(入力シート!$I777)=4,MID(入力シート!$I777,3,1),MID(入力シート!$I777,3,2))","v":""},{"$f":"LOWER(RIGHT(入力シート!$I777,1))","v":""},{"$f":"入力シート!$AD778","v":false},{"$f":"入力シート!$J778&\"\"","v":""},{"$f":"入力シート!$M778&\"\"","v":""},{"$f":"入力シート!$P778&\"\"","v":""},{"$f":"入力シート!$S778&\"\"","v":""},{"$f":"入力シート!$G784","v":0},{"$f":"入力シート!$K784","v":0},{"$f":"入力シート!$P784","v":0},"選択なし",null,31,2,9999,{"$f":"SMALL($U$111:$U$260,92)","v":9999},"99","9","事業場９９　９台目",{"$error":"#N/A"}]
["〇",{"$f":"IF(入力シート!AH766>50,FALSE,TRUE)","v":false},"事業場３１　３台目",{"$f":"入力シート!$AD779","v":false},{"$f":"UPPER(MID(入力シート!$I779,1,1))","v":""},{"$f":"UPPER(MID(入力シート!$I779,2,1))","v":""},{"$f":"IF(LEN(入力シート!$I779)=4,MID(入力シート!$I779,3,1),MID(入力シート!$I779,3,2))","v":""},{"$f":"LOWER(RIGHT(入力シート!$I779,1))","v":""},{"$f":"入力シート!$AD780","v":false},{"$f":"入力シート!$J780&\"\"","v":""},{"$f":"入力シート!$M780&\"\"","v":""},{"$f":"入力シート!$P780&\"\"","v":""},{"$f":"入力シート!$S780&\"\"","v":""},{"$f":"入力シート!$G785","v":0},{"$f":"入力シート!$K785","v":0},{"$f":"入力シート!$P785","v":0},"選択なし",null,31,3,9999,{"$f":"SMALL($U$111:$U$260,93)","v":9999},"99","9","事業場９９　９台目",{"$error":"#N/A"}]
["〇",{"$f":"IF(入力シート!AH789>50,FALSE,TRUE)","v":false},"事業場３２　１台目",{"$f":"入力シート!$AD798","v":false},{"$f":"UPPER(MID(入力シート!$I798,1,1))","v":""},{"$f":"UPPER(MID(入力シート!$I798,2,1))","v":""},{"$f":"IF(LEN(入力シート!$I798)=4,MID(入力シート!$I798,3,1),MID(入力シート!$I798,3,2))","v":""},{"$f":"LOWER(RIGHT(入力シート!$I798,1))","v":""},{"$f":"入力シート!$AD799","v":false},{"$f":"入力シート!$J799&\"\"","v":""},{"$f":"入力シート!$M799&\"\"","v":""},{"$f":"入力シート!$P799&\"\"","v":""},{"$f":"入力シート!$S799&\"\"","v":""},{"$f":"入力シート!$G806","v":0},{"$f":"入力シート!$K806","v":0},{"$f":"入力シート!$P806","v":0},"選択なし",null,32,1,9999,{"$f":"SMALL($U$111:$U$260,94)","v":9999},"99","9","事業場９９　９台目",{"$error":"#N/A"}]
["〇",{"$f":"IF(入力シート!AH789>50,FALSE,TRUE)","v":false},"事業場３２　２台目",{"$f":"入力シート!$AD800","v":false},{"$f":"UPPER(MID(入力シート!$I800,1,1))","v":""},{"$f":"UPPER(MID(入力シート!$I800,2,1))","v":""},{"$f":"IF(LEN(入力シート!$I800)=4,MID(入力シート!$I800,3,1),MID(入力シート!$I800,3,2))","v":""},{"$f":"LOWER(RIGHT(入力シート!$I800,1))","v":""},{"$f":"入力シート!$AD801","v":false},{"$f":"入力シート!$J801&\"\"","v":""},{"$f":"入力シート!$M801&\"\"","v":""},{"$f":"入力シート!$P801&\"\"","v":""},{"$f":"入力シート!$S801&\"\"","v":""},{"$f":"入力シート!$G807","v":0},{"$f":"入力シート!$K807","v":0},{"$f":"入力シート!$P807","v":0},"選択なし",null,32,2,9999,{"$f":"SMALL($U$111:$U$260,95)","v":9999},"99","9","事業場９９　９台目",{"$error":"#N/A"}]
["〇",{"$f":"IF(入力シート!AH789>50,FALSE,TRUE)","v":false},"事業場３２　３台目",{"$f":"入力シート!$AD802","v":false},{"$f":"UPPER(MID(入力シート!$I802,1,1))","v":""},{"$f":"UPPER(MID(入力シート!$I802,2,1))","v":""},{"$f":"IF(LEN(入力シート!$I802)=4,MID(入力シート!$I802,3,1),MID(入力シート!$I802,3,2))","v":""},{"$f":"LOWER(RIGHT(入力シート!$I802,1))","v":""},{"$f":"入力シート!$AD803","v":false},{"$f":"入力シート!$J803&\"\"","v":""},{"$f":"入力シート!$M803&\"\"","v":""},{"$f":"入力シート!$P803&\"\"","v":""},{"$f":"入力シート!$S803&\"\"","v":""},{"$f":"入力シート!$G808","v":0},{"$f":"入力シート!$K808","v":0},{"$f":"入力シート!$P808","v":0},"選択なし",null,32,3,9999,{"$f":"SMALL($U$111:$U$260,96)","v":9999},"99","9","事業場９９　９台目",{"$error":"#N/A"}]
["〇",{"$f":"IF(入力シート!AH812>50,FALSE,TRUE)","v":false},"事業場３３　１台目",{"$f":"入力シート!$AD821","v":false},{"$f":"UPPER(MID(入力シート!$I821,1,1))","v":""},{"$f":"UPPER(MID(入力シート!$I821,2,1))","v":""},{"$f":"IF(LEN(入力シート!$I821)=4,MID(入力シート!$I821,3,1),MID(入力シート!$I821,3,2))","v":""},{"$f":"LOWER(RIGHT(入力シート!$I821,1))","v":""},{"$f":"入力シート!$AD822","v":false},{"$f":"入力シート!$J822&\"\"","v":""},{"$f":"入力シート!$M822&\"\"","v":""},{"$f":"入力シート!$P822&\"\"","v":""},{"$f":"入力シート!$S822&\"\"","v":""},{"$f":"入力シート!$G829","v":0},{"$f":"入力シート!$K829","v":0},{"$f":"入力シート!$P829","v":0},{"$f":"SUBSTITUTE(SUBSTITUTE(SUBSTITUTE(SUBSTITUTE(D207&I207,\"TRUEFALSE\",\"掲載されている\"),\"FALSETRUE\",\"掲載されていない\"),\"FALSEFALSE\",\"選択なし\"),\"TRUETRUE\",\"両方選択\")","v":"選択なし"},null,33,1,{"$f":"VALUE(IF(OR(B207=FALSE,AND(E207=\"\",J207=\"\")),9999,S207&0&T207))","v":9999},{"$f":"SMALL($U$111:$U$260,97)","v":9999},"99","9","事業場９９　９台目",{"$f":"VLOOKUP(Y207,$C$110:$D$260,2,FALSE)","v":{"$error":"#N/A"}}]
["〇",{"$f":"IF(入力シート!AH812>50,FALSE,TRUE)","v":false},"事業場３３　２台目",{"$f":"入力シート!$AD823","v":false},{"$f":"UPPER(MID(入力シート!$I823,1,1))","v":""},{"$f":"UPPER(MID(入力シート!$I823,2,1))","v":""},{"$f":"IF(LEN(入力シート!$I823)=4,MID(入力シート!$I823,3,1),MID(入力シート!$I823,3,2))","v":""},{"$f":"LOWER(RIGHT(入力シート!$I823,1))","v":""},{"$f":"入力シート!$AD824","v":false},{"$f":"入力シート!$J824&\"\"","v":""},{"$f":"入力シート!$M824&\"\"","v":""},{"$f":"入力シート!$P824&\"\"","v":""},{"$f":"入力シート!$S824&\"\"","v":""},{"$f":"入力シート!$G830","v":0},{"$f":"入力シート!$K830","v":0},{"$f":"入力シート!$P830","v":0},"選択なし",null,33,2,9999,{"$f":"SMALL($U$111:$U$260,98)","v":9999},"99","9","事業場９９　９台目",{"$error":"#N/A"}]
["〇",{"$f":"IF(入力シート!AH812>50,FALSE,TRUE)","v":false},"事業場３３　３台目",{"$f":"入力シート!$AD825","v":false},{"$f":"UPPER(MID(入力シート!$I825,1,1))","v":""},{"$f":"UPPER(MID(入力シート!$I825,2,1))","v":""},{"$f":"IF(LEN(入力シート!$I825)=4,MID(入力シート!$I825,3,1),MID(入力シート!$I825,3,2))","v":""},{"$f":"LOWER(RIGHT(入力シート!$I825,1))","v":""},{"$f":"入力シート!$AD826","v":false},{"$f":"入力シート!$J826&\"\"","v":""},{"$f":"入力シート!$M826&\"\"","v":""},{"$f":"入力シート!$P826&\"\"","v":""},{"$f":"入力シート!$S826&\"\"","v":""},{"$f":"入力シート!$G831","v":0},{"$f":"入力シート!$K831","v":0},{"$f":"入力シート!$P831","v":0},"選択なし",null,33,3,9999,{"$f":"SMALL($U$111:$U$260,99)","v":9999},"99","9","事業場９９　９台目",{"$error":"#N/A"}]
["〇",{"$f":"IF(入力シート!AH835>50,FALSE,TRUE)","v":false},"事業場３４　１台目",{"$f":"入力シート!$AD844","v":false},{"$f":"UPPER(MID(入力シート!$I844,1,1))","v":""},{"$f":"UPPER(MID(入力シート!$I844,2,1))","v":""},{"$f":"IF(LEN(入力シート!$I844)=4,MID(入力シート!$I844,3,1),MID(入力シート!$I844,3,2))","v":""},{"$f":"LOWER(RIGHT(入力シート!$I844,1))","v":""},{"$f":"入力シート!$AD845","v":false},{"$f":"入力シート!$J845&\"\"","v":""},{"$f":"入力シート!$M845&\"\"","v":""},{"$f":"入力シート!$P845&\"\"","v":""},{"$f":"入力シート!$S845&\"\"","v":""},{"$f":"入力シート!$G852","v":0},{"$f":"入力シート!$K852","v":0},{"$f":"入力シート!$P852","v":0},"選択なし",null,34,1,9999,{"$f":"SMALL($U$111:$U$260,100)","v":9999},"99","9","事業場９９　９台目",{"$error":"#N/A"}]
["〇",{"$f":"IF(入力シート!AH835>50,FALSE,TRUE)","v":false},"事業場３４　２台目",{"$f":"入力シート!$AD846","v":false},{"$f":"UPPER(MID(入力シート!$I846,1,1))","v":""},{"$f":"UPPER(MID(入力シート!$I846,2,1))","v":""},{"$f":"IF(LEN(入力シート!$I846)=4,MID(入力シート!$I846,3,1),MID(入力シート!$I846,3,2))","v":""},{"$f":"LOWER(RIGHT(入力シート!$I846,1))","v":""},{"$f":"入力シート!$AD847","v":false},{"$f":"入力シート!$J847&\"\"","v":""},{"$f":"入力シート!$M847&\"\"","v":""},{"$f":"入力シート!$P847&\"\"","v":""},{"$f":"入力シート!$S847&\"\"","v":""},{"$f":"入力シート!$G853","v":0},{"$f":"入力シート!$K853","v":0},{"$f":"入力シート!$P853","v":0},"選択なし",null,34,2,9999,{"$f":"SMALL($U$111:$U$260,101)","v":9999},"99","9","事業場９９　９台目",{"$error":"#N/A"}]
["〇",{"$f":"IF(入力シート!AH835>50,FALSE,TRUE)","v":false},"事業場３４　３台目",{"$f":"入力シート!$AD848","v":false},{"$f":"UPPER(MID(入力シート!$I848,1,1))","v":""},{"$f":"UPPER(MID(入力シート!$I848,2,1))","v":""},{"$f":"IF(LEN(入力シート!$I848)=4,MID(入力シート!$I848,3,1),MID(入力シート!$I848,3,2))","v":""},{"$f":"LOWER(RIGHT(入力シート!$I848,1))","v":""},{"$f":"入力シート!$AD849","v":false},{"$f":"入力シート!$J849&\"\"","v":""},{"$f":"入力シート!$M849&\"\"","v":""},{"$f":"入力シート!$P849&\"\"","v":""},{"$f":"入力シート!$S849&\"\"","v":""},{"$f":"入力シート!$G854","v":0},{"$f":"入力シート!$K854","v":0},{"$f":"入力シート!$P854","v":0},"選択なし",null,34,3,9999,{"$f":"SMALL($U$111:$U$260,102)","v":9999},"99","9","事業場９９　９台目",{"$error":"#N/A"}]
["〇",{"$f":"IF(入力シート!AH858>50,FALSE,TRUE)","v":false},"事業場３５　１台目",{"$f":"入力シート!$AD867","v":false},{"$f":"UPPER(MID(入力シート!$I867,1,1))","v":""},{"$f":"UPPER(MID(入力シート!$I867,2,1))","v":""},{"$f":"IF(LEN(入力シート!$I867)=4,MID(入力シート!$I867,3,1),MID(入力シート!$I867,3,2))","v":""},{"$f":"LOWER(RIGHT(入力シート!$I867,1))","v":""},{"$f":"入力シート!$AD868","v":false},{"$f":"入力シート!$J868&\"\"","v":""},{"$f":"入力シート!$M868&\"\"","v":""},{"$f":"入力シート!$P868&\"\"","v":""},{"$f":"入力シート!$S868&\"\"","v":""},{"$f":"入力シート!$G875","v":0},{"$f":"入力シート!$K875","v":0},{"$f":"入力シート!$P875","v":0},"選択なし",null,35,1,9999,{"$f":"SMALL($U$111:$U$260,103)","v":9999},"99","9","事業場９９　９台目",{"$error":"#N/A"}]
["〇",{"$f":"IF(入力シート!AH858>50,FALSE,TRUE)","v":false},"事業場３５　２台目",{"$f":"入力シート!$AD869","v":false},{"$f":"UPPER(MID(入力シート!$I869,1,1))","v":""},{"$f":"UPPER(MID(入力シート!$I869,2,1))","v":""},{"$f":"IF(LEN(入力シート!$I869)=4,MID(入力シート!$I869,3,1),MID(入力シート!$I869,3,2))","v":""},{"$f":"LOWER(RIGHT(入力シート!$I869,1))","v":""},{"$f":"入力シート!$AD870","v":false},{"$f":"入力シート!$J870&\"\"","v":""},{"$f":"入力シート!$M870&\"\"","v":""},{"$f":"入力シート!$P870&\"\"","v":""},{"$f":"入力シート!$S870&\"\"","v":""},{"$f":"入力シート!$G876","v":0},{"$f":"入力シート!$K876","v":0},{"$f":"入力シート!$P876","v":0},"選択なし",null,35,2,9999,{"$f":"SMALL($U$111:$U$260,104)","v":9999},"99","9","事業場９９　９台目",{"$error":"#N/A"}]
["〇",{"$f":"IF(入力シート!AH858>50,FALSE,TRUE)","v":false},"事業場３５　３台目",{"$f":"入力シート!$AD871","v":false},{"$f":"UPPER(MID(入力シート!$I871,1,1))","v":""},{"$f":"UPPER(MID(入力シート!$I871,2,1))","v":""},{"$f":"IF(LEN(入力シート!$I871)=4,MID(入力シート!$I871,3,1),MID(入力シート!$I871,3,2))","v":""},{"$f":"LOWER(RIGHT(入力シート!$I871,1))","v":""},{"$f":"入力シート!$AD872","v":false},{"$f":"入力シート!$J872&\"\"","v":""},{"$f":"入力シート!$M872&\"\"","v":""},{"$f":"入力シート!$P872&\"\"","v":""},{"$f":"入力シート!$S872&\"\"","v":""},{"$f":"入力シート!$G877","v":0},{"$f":"入力シート!$K877","v":0},{"$f":"入力シート!$P877","v":0},"選択なし",null,35,3,9999,{"$f":"SMALL($U$111:$U$260,105)","v":9999},"99","9","事業場９９　９台目",{"$error":"#N/A"}]
["〇",{"$f":"IF(入力シート!AH881>50,FALSE,TRUE)","v":false},"事業場３６　１台目",{"$f":"入力シート!$AD890","v":false},{"$f":"UPPER(MID(入力シート!$I890,1,1))","v":""},{"$f":"UPPER(MID(入力シート!$I890,2,1))","v":""},{"$f":"IF(LEN(入力シート!$I890)=4,MID(入力シート!$I890,3,1),MID(入力シート!$I890,3,2))","v":""},{"$f":"LOWER(RIGHT(入力シート!$I890,1))","v":""},{"$f":"入力シート!$AD891","v":false},{"$f":"入力シート!$J891&\"\"","v":""},{"$f":"入力シート!$M891&\"\"","v":""},{"$f":"入力シート!$P891&\"\"","v":""},{"$f":"入力シート!$S891&\"\"","v":""},{"$f":"入力シート!$G898","v":0},{"$f":"入力シート!$K898","v":0},{"$f":"入力シート!$P898","v":0},"選択なし",null,36,1,9999,{"$f":"SMALL($U$111:$U$260,106)","v":9999},"99","9","事業場９９　９台目",{"$error":"#N/A"}]
["〇",{"$f":"IF(入力シート!AH881>50,FALSE,TRUE)","v":false},"事業場３６　２台目",{"$f":"入力シート!$AD892","v":false},{"$f":"UPPER(MID(入力シート!$I892,1,1))","v":""},{"$f":"UPPER(MID(入力シート!$I892,2,1))","v":""},{"$f":"IF(LEN(入力シート!$I892)=4,MID(入力シート!$I892,3,1),MID(入力シート!$I892,3,2))","v":""},{"$f":"LOWER(RIGHT(入力シート!$I892,1))","v":""},{"$f":"入力シート!$AD893","v":false},{"$f":"入力シート!$J893&\"\"","v":""},{"$f":"入力シート!$M893&\"\"","v":""},{"$f":"入力シート!$P893&\"\"","v":""},{"$f":"入力シート!$S893&\"\"","v":""},{"$f":"入力シート!$G899","v":0},{"$f":"入力シート!$K899","v":0},{"$f":"入力シート!$P899","v":0},"選択なし",null,36,2,9999,{"$f":"SMALL($U$111:$U$260,107)","v":9999},"99","9","事業場９９　９台目",{"$error":"#N/A"}]
["〇",{"$f":"IF(入力シート!AH881>50,FALSE,TRUE)","v":false},"事業場３６　３台目",{"$f":"入力シート!$AD894","v":false},{"$f":"UPPER(MID(入力シート!$I894,1,1))","v":""},{"$f":"UPPER(MID(入力シート!$I894,2,1))","v":""},{"$f":"IF(LEN(入力シート!$I894)=4,MID(入力シート!$I894,3,1),MID(入力シート!$I894,3,2))","v":""},{"$f":"LOWER(RIGHT(入力シート!$I894,1))","v":""},{"$f":"入力シート!$AD895","v":false},{"$f":"入力シート!$J895&\"\"","v":""},{"$f":"入力シート!$M895&\"\"","v":""},{"$f":"入力シート!$P895&\"\"","v":""},{"$f":"入力シート!$S895&\"\"","v":""},{"$f":"入力シート!$G900","v":0},{"$f":"入力シート!$K900","v":0},{"$f":"入力シート!$P900","v":0},"選択なし",null,36,3,9999,{"$f":"SMALL($U$111:$U$260,108)","v":9999},"99","9","事業場９９　９台目",{"$error":"#N/A"}]
["〇",{"$f":"IF(入力シート!AH904>50,FALSE,TRUE)","v":false},"事業場３７　１台目",{"$f":"入力シート!$AD913","v":false},{"$f":"UPPER(MID(入力シート!$I913,1,1))","v":""},{"$f":"UPPER(MID(入力シート!$I913,2,1))","v":""},{"$f":"IF(LEN(入力シート!$I913)=4,MID(入力シート!$I913,3,1),MID(入力シート!$I913,3,2))","v":""},{"$f":"LOWER(RIGHT(入力シート!$I913,1))","v":""},{"$f":"入力シート!$AD914","v":false},{"$f":"入力シート!$J914&\"\"","v":""},{"$f":"入力シート!$M914&\"\"","v":""},{"$f":"入力シート!$P914&\"\"","v":""},{"$f":"入力シート!$S914&\"\"","v":""},{"$f":"入力シート!$G921","v":0},{"$f":"入力シート!$K921","v":0},{"$f":"入力シート!$P921","v":0},"選択なし",null,37,1,9999,{"$f":"SMALL($U$111:$U$260,109)","v":9999},"99","9","事業場９９　９台目",{"$error":"#N/A"}]
["〇",{"$f":"IF(入力シート!AH904>50,FALSE,TRUE)","v":false},"事業場３７　２台目",{"$f":"入力シート!$AD915","v":false},{"$f":"UPPER(MID(入力シート!$I915,1,1))","v":""},{"$f":"UPPER(MID(入力シート!$I915,2,1))","v":""},{"$f":"IF(LEN(入力シート!$I915)=4,MID(入力シート!$I915,3,1),MID(入力シート!$I915,3,2))","v":""},{"$f":"LOWER(RIGHT(入力シート!$I915,1))","v":""},{"$f":"入力シート!$AD916","v":false},{"$f":"入力シート!$J916&\"\"","v":""},{"$f":"入力シート!$M916&\"\"","v":""},{"$f":"入力シート!$P916&\"\"","v":""},{"$f":"入力シート!$S916&\"\"","v":""},{"$f":"入力シート!$G922","v":0},{"$f":"入力シート!$K922","v":0},{"$f":"入力シート!$P922","v":0},"選択なし",null,37,2,9999,{"$f":"SMALL($U$111:$U$260,110)","v":9999},"99","9","事業場９９　９台目",{"$error":"#N/A"}]
["〇",{"$f":"IF(入力シート!AH904>50,FALSE,TRUE)","v":false},"事業場３７　３台目",{"$f":"入力シート!$AD917","v":false},{"$f":"UPPER(MID(入力シート!$I917,1,1))","v":""},{"$f":"UPPER(MID(入力シート!$I917,2,1))","v":""},{"$f":"IF(LEN(入力シート!$I917)=4,MID(入力シート!$I917,3,1),MID(入力シート!$I917,3,2))","v":""},{"$f":"LOWER(RIGHT(入力シート!$I917,1))","v":""},{"$f":"入力シート!$AD918","v":false},{"$f":"入力シート!$J918&\"\"","v":""},{"$f":"入力シート!$M918&\"\"","v":""},{"$f":"入力シート!$P918&\"\"","v":""},{"$f":"入力シート!$S918&\"\"","v":""},{"$f":"入力シート!$G923","v":0},{"$f":"入力シート!$K923","v":0},{"$f":"入力シート!$P923","v":0},"選択なし",null,37,3,9999,{"$f":"SMALL($U$111:$U$260,111)","v":9999},"99","9","事業場９９　９台目",{"$error":"#N/A"}]
["〇",{"$f":"IF(入力シート!AH927>50,FALSE,TRUE)","v":false},"事業場３８　１台目",{"$f":"入力シート!$AD936","v":false},{"$f":"UPPER(MID(入力シート!$I936,1,1))","v":""},{"$f":"UPPER(MID(入力シート!$I936,2,1))","v":""},{"$f":"IF(LEN(入力シート!$I936)=4,MID(入力シート!$I936,3,1),MID(入力シート!$I936,3,2))","v":""},{"$f":"LOWER(RIGHT(入力シート!$I936,1))","v":""},{"$f":"入力シート!$AD937","v":false},{"$f":"入力シート!$J937&\"\"","v":""},{"$f":"入力シート!$M937&\"\"","v":""},{"$f":"入力シート!$P937&\"\"","v":""},{"$f":"入力シート!$S937&\"\"","v":""},{"$f":"入力シート!$G944","v":0},{"$f":"入力シート!$K944","v":0},{"$f":"入力シート!$P944","v":0},"選択なし",null,38,1,9999,{"$f":"SMALL($U$111:$U$260,112)","v":9999},"99","9","事業場９９　９台目",{"$error":"#N/A"}]
["〇",{"$f":"IF(入力シート!AH927>50,FALSE,TRUE)","v":false},"事業場３８　２台目",{"$f":"入力シート!$AD938","v":false},{"$f":"UPPER(MID(入力シート!$I938,1,1))","v":""},{"$f":"UPPER(MID(入力シート!$I938,2,1))","v":""},{"$f":"IF(LEN(入力シート!$I938)=4,MID(入力シート!$I938,3,1),MID(入力シート!$I938,3,2))","v":""},{"$f":"LOWER(RIGHT(入力シート!$I938,1))","v":""},{"$f":"入力シート!$AD939","v":false},{"$f":"入力シート!$J939&\"\"","v":""},{"$f":"入力シート!$M939&\"\"","v":""},{"$f":"入力シート!$P939&\"\"","v":""},{"$f":"入力シート!$S939&\"\"","v":""},{"$f":"入力シート!$G945","v":0},{"$f":"入力シート!$K945","v":0},{"$f":"入力シート!$P945","v":0},"選択なし",null,38,2,9999,{"$f":"SMALL($U$111:$U$260,113)","v":9999},"99","9","事業場９９　９台目",{"$error":"#N/A"}]
["〇",{"$f":"IF(入力シート!AH927>50,FALSE,TRUE)","v":false},"事業場３８　３台目",{"$f":"入力シート!$AD940","v":false},{"$f":"UPPER(MID(入力シート!$I940,1,1))","v":""},{"$f":"UPPER(MID(入力シート!$I940,2,1))","v":""},{"$f":"IF(LEN(入力シート!$I940)=4,MID(入力シート!$I940,3,1),MID(入力シート!$I940,3,2))","v":""},{"$f":"LOWER(RIGHT(入力シート!$I940,1))","v":""},{"$f":"入力シート!$AD941","v":false},{"$f":"入力シート!$J941&\"\"","v":""},{"$f":"入力シート!$M941&\"\"","v":""},{"$f":"入力シート!$P941&\"\"","v":""},{"$f":"入力シート!$S941&\"\"","v":""},{"$f":"入力シート!$G946","v":0},{"$f":"入力シート!$K946","v":0},{"$f":"入力シート!$P946","v":0},"選択なし",null,38,3,9999,{"$f":"SMALL($U$111:$U$260,114)","v":9999},"99","9","事業場９９　９台目",{"$error":"#N/A"}]
["〇",{"$f":"IF(入力シート!AH950>50,FALSE,TRUE)","v":false},"事業場３９　１台目",{"$f":"入力シート!$AD959","v":false},{"$f":"UPPER(MID(入力シート!$I959,1,1))","v":""},{"$f":"UPPER(MID(入力シート!$I959,2,1))","v":""},{"$f":"IF(LEN(入力シート!$I959)=4,MID(入力シート!$I959,3,1),MID(入力シート!$I959,3,2))","v":""},{"$f":"LOWER(RIGHT(入力シート!$I959,1))","v":""},{"$f":"入力シート!$AD960","v":false},{"$f":"入力シート!$J960&\"\"","v":""},{"$f":"入力シート!$M960&\"\"","v":""},{"$f":"入力シート!$P960&\"\"","v":""},{"$f":"入力シート!$S960&\"\"","v":""},{"$f":"入力シート!$G967","v":0},{"$f":"入力シート!$K967","v":0},{"$f":"入力シート!$P967","v":0},"選択なし",null,39,1,9999,{"$f":"SMALL($U$111:$U$260,115)","v":9999},{"$f":"IF(LEN(V225)=3,LEFT(V225,1),LEFT(V225,2))","v":"99"},{"$f":"RIGHT(V225,1)","v":"9"},{"$f":"DBCS(\"事業場\"&W225&\"　\"&X225&\"台目\")","v":"事業場９９　９台目"},{"$error":"#N/A"}]
["〇",{"$f":"IF(入力シート!AH950>50,FALSE,TRUE)","v":false},"事業場３９　２台目",{"$f":"入力シート!$AD961","v":false},{"$f":"UPPER(MID(入力シート!$I961,1,1))","v":""},{"$f":"UPPER(MID(入力シート!$I961,2,1))","v":""},{"$f":"IF(LEN(入力シート!$I961)=4,MID(入力シート!$I961,3,1),MID(入力シート!$I961,3,2))","v":""},{"$f":"LOWER(RIGHT(入力シート!$I961,1))","v":""},{"$f":"入力シート!$AD962","v":false},{"$f":"入力シート!$J962&\"\"","v":""},{"$f":"入力シート!$M962&\"\"","v":""},{"$f":"入力シート!$P962&\"\"","v":""},{"$f":"入力シート!$S962&\"\"","v":""},{"$f":"入力シート!$G968","v":0},{"$f":"入力シート!$K968","v":0},{"$f":"入力シート!$P968","v":0},"選択なし",null,39,2,9999,{"$f":"SMALL($U$111:$U$260,116)","v":9999},"99","9","事業場９９　９台目",{"$error":"#N/A"}]
["〇",{"$f":"IF(入力シート!AH950>50,FALSE,TRUE)","v":false},"事業場３９　３台目",{"$f":"入力シート!$AD963","v":false},{"$f":"UPPER(MID(入力シート!$I963,1,1))","v":""},{"$f":"UPPER(MID(入力シート!$I963,2,1))","v":""},{"$f":"IF(LEN(入力シート!$I963)=4,MID(入力シート!$I963,3,1),MID(入力シート!$I963,3,2))","v":""},{"$f":"LOWER(RIGHT(入力シート!$I963,1))","v":""},{"$f":"入力シート!$AD964","v":false},{"$f":"入力シート!$J964&\"\"","v":""},{"$f":"入力シート!$M964&\"\"","v":""},{"$f":"入力シート!$P964&\"\"","v":""},{"$f":"入力シート!$S964&\"\"","v":""},{"$f":"入力シート!$G969","v":0},{"$f":"入力シート!$K969","v":0},{"$f":"入力シート!$P969","v":0},"選択なし",null,39,3,9999,{"$f":"SMALL($U$111:$U$260,117)","v":9999},"99","9","事業場９９　９台目",{"$error":"#N/A"}]
["〇",{"$f":"IF(入力シート!AH973>50,FALSE,TRUE)","v":false},"事業場４０　１台目",{"$f":"入力シート!$AD982","v":false},{"$f":"UPPER(MID(入力シート!$I982,1,1))","v":""},{"$f":"UPPER(MID(入力シート!$I982,2,1))","v":""},{"$f":"IF(LEN(入力シート!$I982)=4,MID(入力シート!$I982,3,1),MID(入力シート!$I982,3,2))","v":""},{"$f":"LOWER(RIGHT(入力シート!$I982,1))","v":""},{"$f":"入力シート!$AD983","v":false},{"$f":"入力シート!$J983&\"\"","v":""},{"$f":"入力シート!$M983&\"\"","v":""},{"$f":"入力シート!$P983&\"\"","v":""},{"$f":"入力シート!$S983&\"\"","v":""},{"$f":"入力シート!$G990","v":0},{"$f":"入力シート!$K990","v":0},{"$f":"入力シート!$P990","v":0},"選択なし",null,40,1,9999,{"$f":"SMALL($U$111:$U$260,118)","v":9999},"99","9","事業場９９　９台目",{"$error":"#N/A"}]
["〇",{"$f":"IF(入力シート!AH973>50,FALSE,TRUE)","v":false},"事業場４０　２台目",{"$f":"入力シート!$AD984","v":false},{"$f":"UPPER(MID(入力シート!$I984,1,1))","v":""},{"$f":"UPPER(MID(入力シート!$I984,2,1))","v":""},{"$f":"IF(LEN(入力シート!$I984)=4,MID(入力シート!$I984,3,1),MID(入力シート!$I984,3,2))","v":""},{"$f":"LOWER(RIGHT(入力シート!$I984,1))","v":""},{"$f":"入力シート!$AD985","v":false},{"$f":"入力シート!$J985&\"\"","v":""},{"$f":"入力シート!$M985&\"\"","v":""},{"$f":"入力シート!$P985&\"\"","v":""},{"$f":"入力シート!$S985&\"\"","v":""},{"$f":"入力シート!$G991","v":0},{"$f":"入力シート!$K991","v":0},{"$f":"入力シート!$P991","v":0},"選択なし",null,40,2,9999,{"$f":"SMALL($U$111:$U$260,119)","v":9999},"99","9","事業場９９　９台目",{"$error":"#N/A"}]
["〇",{"$f":"IF(入力シート!AH973>50,FALSE,TRUE)","v":false},"事業場４０　３台目",{"$f":"入力シート!$AD986","v":false},{"$f":"UPPER(MID(入力シート!$I986,1,1))","v":""},{"$f":"UPPER(MID(入力シート!$I986,2,1))","v":""},{"$f":"IF(LEN(入力シート!$I986)=4,MID(入力シート!$I986,3,1),MID(入力シート!$I986,3,2))","v":""},{"$f":"LOWER(RIGHT(入力シート!$I986,1))","v":""},{"$f":"入力シート!$AD987","v":false},{"$f":"入力シート!$J987&\"\"","v":""},{"$f":"入力シート!$M987&\"\"","v":""},{"$f":"入力シート!$P987&\"\"","v":""},{"$f":"入力シート!$S987&\"\"","v":""},{"$f":"入力シート!$G992","v":0},{"$f":"入力シート!$K992","v":0},{"$f":"入力シート!$P992","v":0},"選択なし",null,40,3,9999,{"$f":"SMALL($U$111:$U$260,120)","v":9999},"99","9","事業場９９　９台目",{"$error":"#N/A"}]
["〇",{"$f":"IF(入力シート!AH996>50,FALSE,TRUE)","v":false},"事業場４１　１台目",{"$f":"入力シート!$AD1005","v":false},{"$f":"UPPER(MID(入力シート!$I1005,1,1))","v":""},{"$f":"UPPER(MID(入力シート!$I1005,2,1))","v":""},{"$f":"IF(LEN(入力シート!$I1005)=4,MID(入力シート!$I1005,3,1),MID(入力シート!$I1005,3,2))","v":""},{"$f":"LOWER(RIGHT(入力シート!$I1005,1))","v":""},{"$f":"入力シート!$AD1006","v":false},{"$f":"入力シート!$J1006&\"\"","v":""},{"$f":"入力シート!$M1006&\"\"","v":""},{"$f":"入力シート!$P1006&\"\"","v":""},{"$f":"入力シート!$S1006&\"\"","v":""},{"$f":"入力シート!$G1013","v":0},{"$f":"入力シート!$K1013","v":0},{"$f":"入力シート!$P1013","v":0},"選択なし",null,41,1,9999,{"$f":"SMALL($U$111:$U$260,121)","v":9999},"99","9","事業場９９　９台目",{"$error":"#N/A"}]
["〇",{"$f":"IF(入力シート!AH996>50,FALSE,TRUE)","v":false},"事業場４１　２台目",{"$f":"入力シート!$AD1007","v":false},{"$f":"UPPER(MID(入力シート!$I1007,1,1))","v":""},{"$f":"UPPER(MID(入力シート!$I1007,2,1))","v":""},{"$f":"IF(LEN(入力シート!$I1007)=4,MID(入力シート!$I1007,3,1),MID(入力シート!$I1007,3,2))","v":""},{"$f":"LOWER(RIGHT(入力シート!$I1007,1))","v":""},{"$f":"入力シート!$AD1008","v":false},{"$f":"入力シート!$J1008&\"\"","v":""},{"$f":"入力シート!$M1008&\"\"","v":""},{"$f":"入力シート!$P1008&\"\"","v":""},{"$f":"入力シート!$S1008&\"\"","v":""},{"$f":"入力シート!$G1014","v":0},{"$f":"入力シート!$K1014","v":0},{"$f":"入力シート!$P1014","v":0},"選択なし",null,41,2,9999,{"$f":"SMALL($U$111:$U$260,122)","v":9999},"99","9","事業場９９　９台目",{"$error":"#N/A"}]
["〇",{"$f":"IF(入力シート!AH996>50,FALSE,TRUE)","v":false},"事業場４１　３台目",{"$f":"入力シート!$AD1009","v":false},{"$f":"UPPER(MID(入力シート!$I1009,1,1))","v":""},{"$f":"UPPER(MID(入力シート!$I1009,2,1))","v":""},{"$f":"IF(LEN(入力シート!$I1009)=4,MID(入力シート!$I1009,3,1),MID(入力シート!$I1009,3,2))","v":""},{"$f":"LOWER(RIGHT(入力シート!$I1009,1))","v":""},{"$f":"入力シート!$AD1010","v":false},{"$f":"入力シート!$J1010&\"\"","v":""},{"$f":"入力シート!$M1010&\"\"","v":""},{"$f":"入力シート!$P1010&\"\"","v":""},{"$f":"入力シート!$S1010&\"\"","v":""},{"$f":"入力シート!$G1015","v":0},{"$f":"入力シート!$K1015","v":0},{"$f":"入力シート!$P1015","v":0},"選択なし",null,41,3,9999,{"$f":"SMALL($U$111:$U$260,123)","v":9999},"99","9","事業場９９　９台目",{"$error":"#N/A"}]
["〇",{"$f":"IF(入力シート!AH1019>50,FALSE,TRUE)","v":false},"事業場４２　１台目",{"$f":"入力シート!$AD1028","v":false},{"$f":"UPPER(MID(入力シート!$I1028,1,1))","v":""},{"$f":"UPPER(MID(入力シート!$I1028,2,1))","v":""},{"$f":"IF(LEN(入力シート!$I1028)=4,MID(入力シート!$I1028,3,1),MID(入力シート!$I1028,3,2))","v":""},{"$f":"LOWER(RIGHT(入力シート!$I1028,1))","v":""},{"$f":"入力シート!$AD1029","v":false},{"$f":"入力シート!$J1029&\"\"","v":""},{"$f":"入力シート!$M1029&\"\"","v":""},{"$f":"入力シート!$P1029&\"\"","v":""},{"$f":"入力シート!$S1029&\"\"","v":""},{"$f":"入力シート!$G1036","v":0},{"$f":"入力シート!$K1036","v":0},{"$f":"入力シート!$P1036","v":0},"選択なし",null,42,1,9999,{"$f":"SMALL($U$111:$U$260,124)","v":9999},"99","9","事業場９９　９台目",{"$error":"#N/A"}]
["〇",{"$f":"IF(入力シート!AH1019>50,FALSE,TRUE)","v":false},"事業場４２　２台目",{"$f":"入力シート!$AD1030","v":false},{"$f":"UPPER(MID(入力シート!$I1030,1,1))","v":""},{"$f":"UPPER(MID(入力シート!$I1030,2,1))","v":""},{"$f":"IF(LEN(入力シート!$I1030)=4,MID(入力シート!$I1030,3,1),MID(入力シート!$I1030,3,2))","v":""},{"$f":"LOWER(RIGHT(入力シート!$I1030,1))","v":""},{"$f":"入力シート!$AD1031","v":false},{"$f":"入力シート!$J1031&\"\"","v":""},{"$f":"入力シート!$M1031&\"\"","v":""},{"$f":"入力シート!$P1031&\"\"","v":""},{"$f":"入力シート!$S1031&\"\"","v":""},{"$f":"入力シート!$G1037","v":0},{"$f":"入力シート!$K1037","v":0},{"$f":"入力シート!$P1037","v":0},"選択なし",null,42,2,9999,{"$f":"SMALL($U$111:$U$260,125)","v":9999},"99","9","事業場９９　９台目",{"$error":"#N/A"}]
["〇",{"$f":"IF(入力シート!AH1019>50,FALSE,TRUE)","v":false},"事業場４２　３台目",{"$f":"入力シート!$AD1032","v":false},{"$f":"UPPER(MID(入力シート!$I1032,1,1))","v":""},{"$f":"UPPER(MID(入力シート!$I1032,2,1))","v":""},{"$f":"IF(LEN(入力シート!$I1032)=4,MID(入力シート!$I1032,3,1),MID(入力シート!$I1032,3,2))","v":""},{"$f":"LOWER(RIGHT(入力シート!$I1032,1))","v":""},{"$f":"入力シート!$AD1033","v":false},{"$f":"入力シート!$J1033&\"\"","v":""},{"$f":"入力シート!$M1033&\"\"","v":""},{"$f":"入力シート!$P1033&\"\"","v":""},{"$f":"入力シート!$S1033&\"\"","v":""},{"$f":"入力シート!$G1038","v":0},{"$f":"入力シート!$K1038","v":0},{"$f":"入力シート!$P1038","v":0},"選択なし",null,42,3,9999,{"$f":"SMALL($U$111:$U$260,126)","v":9999},"99","9","事業場９９　９台目",{"$error":"#N/A"}]
["〇",{"$f":"IF(入力シート!AH1042>50,FALSE,TRUE)","v":false},"事業場４３　１台目",{"$f":"入力シート!$AD1051","v":false},{"$f":"UPPER(MID(入力シート!$I1051,1,1))","v":""},{"$f":"UPPER(MID(入力シート!$I1051,2,1))","v":""},{"$f":"IF(LEN(入力シート!$I1051)=4,MID(入力シート!$I1051,3,1),MID(入力シート!$I1051,3,2))","v":""},{"$f":"LOWER(RIGHT(入力シート!$I1051,1))","v":""},{"$f":"入力シート!$AD1052","v":false},{"$f":"入力シート!$J1052&\"\"","v":""},{"$f":"入力シート!$M1052&\"\"","v":""},{"$f":"入力シート!$P1052&\"\"","v":""},{"$f":"入力シート!$S1052&\"\"","v":""},{"$f":"入力シート!$G1059","v":0},{"$f":"入力シート!$K1059","v":0},{"$f":"入力シート!$P1059","v":0},"選択なし",null,43,1,9999,{"$f":"SMALL($U$111:$U$260,127)","v":9999},"99","9","事業場９９　９台目",{"$error":"#N/A"}]
["〇",{"$f":"IF(入力シート!AH1042>50,FALSE,TRUE)","v":false},"事業場４３　２台目",{"$f":"入力シート!$AD1053","v":false},{"$f":"UPPER(MID(入力シート!$I1053,1,1))","v":""},{"$f":"UPPER(MID(入力シート!$I1053,2,1))","v":""},{"$f":"IF(LEN(入力シート!$I1053)=4,MID(入力シート!$I1053,3,1),MID(入力シート!$I1053,3,2))","v":""},{"$f":"LOWER(RIGHT(入力シート!$I1053,1))","v":""},{"$f":"入力シート!$AD1054","v":false},{"$f":"入力シート!$J1054&\"\"","v":""},{"$f":"入力シート!$M1054&\"\"","v":""},{"$f":"入力シート!$P1054&\"\"","v":""},{"$f":"入力シート!$S1054&\"\"","v":""},{"$f":"入力シート!$G1060","v":0},{"$f":"入力シート!$K1060","v":0},{"$f":"入力シート!$P1060","v":0},"選択なし",null,43,2,9999,{"$f":"SMALL($U$111:$U$260,128)","v":9999},"99","9","事業場９９　９台目",{"$error":"#N/A"}]
["〇",{"$f":"IF(入力シート!AH1042>50,FALSE,TRUE)","v":false},"事業場４３　３台目",{"$f":"入力シート!$AD1055","v":false},{"$f":"UPPER(MID(入力シート!$I1055,1,1))","v":""},{"$f":"UPPER(MID(入力シート!$I1055,2,1))","v":""},{"$f":"IF(LEN(入力シート!$I1055)=4,MID(入力シート!$I1055,3,1),MID(入力シート!$I1055,3,2))","v":""},{"$f":"LOWER(RIGHT(入力シート!$I1055,1))","v":""},{"$f":"入力シート!$AD1056","v":false},{"$f":"入力シート!$J1056&\"\"","v":""},{"$f":"入力シート!$M1056&\"\"","v":""},{"$f":"入力シート!$P1056&\"\"","v":""},{"$f":"入力シート!$S1056&\"\"","v":""},{"$f":"入力シート!$G1061","v":0},{"$f":"入力シート!$K1061","v":0},{"$f":"入力シート!$P1061","v":0},{"$f":"SUBSTITUTE(SUBSTITUTE(SUBSTITUTE(SUBSTITUTE(D239&I239,\"TRUEFALSE\",\"掲載されている\"),\"FALSETRUE\",\"掲載されていない\"),\"FALSEFALSE\",\"選択なし\"),\"TRUETRUE\",\"両方選択\")","v":"選択なし"},null,43,3,{"$f":"VALUE(IF(OR(B239=FALSE,AND(E239=\"\",J239=\"\")),9999,S239&0&T239))","v":9999},{"$f":"SMALL($U$111:$U$260,129)","v":9999},"99","9","事業場９９　９台目",{"$f":"VLOOKUP(Y239,$C$110:$D$260,2,FALSE)","v":{"$error":"#N/A"}}]
["〇",{"$f":"IF(入力シート!AH1065>50,FALSE,TRUE)","v":false},"事業場４４　１台目",{"$f":"入力シート!$AD1074","v":false},{"$f":"UPPER(MID(入力シート!$I1074,1,1))","v":""},{"$f":"UPPER(MID(入力シート!$I1074,2,1))","v":""},{"$f":"IF(LEN(入力シート!$I1074)=4,MID(入力シート!$I1074,3,1),MID(入力シート!$I1074,3,2))","v":""},{"$f":"LOWER(RIGHT(入力シート!$I1074,1))","v":""},{"$f":"入力シート!$AD1075","v":false},{"$f":"入力シート!$J1075&\"\"","v":""},{"$f":"入力シート!$M1075&\"\"","v":""},{"$f":"入力シート!$P1075&\"\"","v":""},{"$f":"入力シート!$S1075&\"\"","v":""},{"$f":"入力シート!$G1082","v":0},{"$f":"入力シート!$K1082","v":0},{"$f":"入力シート!$P1082","v":0},"選択なし",null,44,1,9999,{"$f":"SMALL($U$111:$U$260,130)","v":9999},"99","9","事業場９９　９台目",{"$error":"#N/A"}]
["〇",{"$f":"IF(入力シート!AH1065>50,FALSE,TRUE)","v":false},"事業場４４　２台目",{"$f":"入力シート!$AD1076","v":false},{"$f":"UPPER(MID(入力シート!$I1076,1,1))","v":""},{"$f":"UPPER(MID(入力シート!$I1076,2,1))","v":""},{"$f":"IF(LEN(入力シート!$I1076)=4,MID(入力シート!$I1076,3,1),MID(入力シート!$I1076,3,2))","v":""},{"$f":"LOWER(RIGHT(入力シート!$I1076,1))","v":""},{"$f":"入力シート!$AD1077","v":false},{"$f":"入力シート!$J1077&\"\"","v":""},{"$f":"入力シート!$M1077&\"\"","v":""},{"$f":"入力シート!$P1077&\"\"","v":""},{"$f":"入力シート!$S1077&\"\"","v":""},{"$f":"入力シート!$G1083","v":0},{"$f":"入力シート!$K1083","v":0},{"$f":"入力シート!$P1083","v":0},"選択なし",null,44,2,9999,{"$f":"SMALL($U$111:$U$260,131)","v":9999},"99","9","事業場９９　９台目",{"$error":"#N/A"}]
["〇",{"$f":"IF(入力シート!AH1065>50,FALSE,TRUE)","v":false},"事業場４４　３台目",{"$f":"入力シート!$AD1078","v":false},{"$f":"UPPER(MID(入力シート!$I1078,1,1))","v":""},{"$f":"UPPER(MID(入力シート!$I1078,2,1))","v":""},{"$f":"IF(LEN(入力シート!$I1078)=4,MID(入力シート!$I1078,3,1),MID(入力シート!$I1078,3,2))","v":""},{"$f":"LOWER(RIGHT(入力シート!$I1078,1))","v":""},{"$f":"入力シート!$AD1079","v":false},{"$f":"入力シート!$J1079&\"\"","v":""},{"$f":"入力シート!$M1079&\"\"","v":""},{"$f":"入力シート!$P1079&\"\"","v":""},{"$f":"入力シート!$S1079&\"\"","v":""},{"$f":"入力シート!$G1084","v":0},{"$f":"入力シート!$K1084","v":0},{"$f":"入力シート!$P1084","v":0},"選択なし",null,44,3,9999,{"$f":"SMALL($U$111:$U$260,132)","v":9999},"99","9","事業場９９　９台目",{"$error":"#N/A"}]
["〇",{"$f":"IF(入力シート!AH1088>50,FALSE,TRUE)","v":false},"事業場４５　１台目",{"$f":"入力シート!$AD1097","v":false},{"$f":"UPPER(MID(入力シート!$I1097,1,1))","v":""},{"$f":"UPPER(MID(入力シート!$I1097,2,1))","v":""},{"$f":"IF(LEN(入力シート!$I1097)=4,MID(入力シート!$I1097,3,1),MID(入力シート!$I1097,3,2))","v":""},{"$f":"LOWER(RIGHT(入力シート!$I1097,1))","v":""},{"$f":"入力シート!$AD1098","v":false},{"$f":"入力シート!$J1098&\"\"","v":""},{"$f":"入力シート!$M1098&\"\"","v":""},{"$f":"入力シート!$P1098&\"\"","v":""},{"$f":"入力シート!$S1098&\"\"","v":""},{"$f":"入力シート!$G1105","v":0},{"$f":"入力シート!$K1105","v":0},{"$f":"入力シート!$P1105","v":0},"選択なし",null,45,1,9999,{"$f":"SMALL($U$111:$U$260,133)","v":9999},"99","9","事業場９９　９台目",{"$error":"#N/A"}]
["〇",{"$f":"IF(入力シート!AH1088>50,FALSE,TRUE)","v":false},"事業場４５　２台目",{"$f":"入力シート!$AD1099","v":false},{"$f":"UPPER(MID(入力シート!$I1099,1,1))","v":""},{"$f":"UPPER(MID(入力シート!$I1099,2,1))","v":""},{"$f":"IF(LEN(入力シート!$I1099)=4,MID(入力シート!$I1099,3,1),MID(入力シート!$I1099,3,2))","v":""},{"$f":"LOWER(RIGHT(入力シート!$I1099,1))","v":""},{"$f":"入力シート!$AD1100","v":false},{"$f":"入力シート!$J1100&\"\"","v":""},{"$f":"入力シート!$M1100&\"\"","v":""},{"$f":"入力シート!$P1100&\"\"","v":""},{"$f":"入力シート!$S1100&\"\"","v":""},{"$f":"入力シート!$G1106","v":0},{"$f":"入力シート!$K1106","v":0},{"$f":"入力シート!$P1106","v":0},"選択なし",null,45,2,9999,{"$f":"SMALL($U$111:$U$260,134)","v":9999},"99","9","事業場９９　９台目",{"$error":"#N/A"}]
["〇",{"$f":"IF(入力シート!AH1088>50,FALSE,TRUE)","v":false},"事業場４５　３台目",{"$f":"入力シート!$AD1101","v":false},{"$f":"UPPER(MID(入力シート!$I1101,1,1))","v":""},{"$f":"UPPER(MID(入力シート!$I1101,2,1))","v":""},{"$f":"IF(LEN(入力シート!$I1101)=4,MID(入力シート!$I1101,3,1),MID(入力シート!$I1101,3,2))","v":""},{"$f":"LOWER(RIGHT(入力シート!$I1101,1))","v":""},{"$f":"入力シート!$AD1102","v":false},{"$f":"入力シート!$J1102&\"\"","v":""},{"$f":"入力シート!$M1102&\"\"","v":""},{"$f":"入力シート!$P1102&\"\"","v":""},{"$f":"入力シート!$S1102&\"\"","v":""},{"$f":"入力シート!$G1107","v":0},{"$f":"入力シート!$K1107","v":0},{"$f":"入力シート!$P1107","v":0},"選択なし",null,45,3,9999,{"$f":"SMALL($U$111:$U$260,135)","v":9999},"99","9","事業場９９　９台目",{"$error":"#N/A"}]
["〇",{"$f":"IF(入力シート!AH1111>50,FALSE,TRUE)","v":false},"事業場４６　１台目",{"$f":"入力シート!$AD1120","v":false},{"$f":"UPPER(MID(入力シート!$I1120,1,1))","v":""},{"$f":"UPPER(MID(入力シート!$I1120,2,1))","v":""},{"$f":"IF(LEN(入力シート!$I1120)=4,MID(入力シート!$I1120,3,1),MID(入力シート!$I1120,3,2))","v":""},{"$f":"LOWER(RIGHT(入力シート!$I1120,1))","v":""},{"$f":"入力シート!$AD1121","v":false},{"$f":"入力シート!$J1121&\"\"","v":""},{"$f":"入力シート!$M1121&\"\"","v":""},{"$f":"入力シート!$P1121&\"\"","v":""},{"$f":"入力シート!$S1121&\"\"","v":""},{"$f":"入力シート!$G1128","v":0},{"$f":"入力シート!$K1128","v":0},{"$f":"入力シート!$P1128","v":0},"選択なし",null,46,1,9999,{"$f":"SMALL($U$111:$U$260,136)","v":9999},"99","9","事業場９９　９台目",{"$error":"#N/A"}]
["〇",{"$f":"IF(入力シート!AH1111>50,FALSE,TRUE)","v":false},"事業場４６　２台目",{"$f":"入力シート!$AD1122","v":false},{"$f":"UPPER(MID(入力シート!$I1122,1,1))","v":""},{"$f":"UPPER(MID(入力シート!$I1122,2,1))","v":""},{"$f":"IF(LEN(入力シート!$I1122)=4,MID(入力シート!$I1122,3,1),MID(入力シート!$I1122,3,2))","v":""},{"$f":"LOWER(RIGHT(入力シート!$I1122,1))","v":""},{"$f":"入力シート!$AD1123","v":false},{"$f":"入力シート!$J1123&\"\"","v":""},{"$f":"入力シート!$M1123&\"\"","v":""},{"$f":"入力シート!$P1123&\"\"","v":""},{"$f":"入力シート!$S1123&\"\"","v":""},{"$f":"入力シート!$G1129","v":0},{"$f":"入力シート!$K1129","v":0},{"$f":"入力シート!$P1129","v":0},"選択なし",null,46,2,9999,{"$f":"SMALL($U$111:$U$260,137)","v":9999},"99","9","事業場９９　９台目",{"$error":"#N/A"}]
["〇",{"$f":"IF(入力シート!AH1111>50,FALSE,TRUE)","v":false},"事業場４６　３台目",{"$f":"入力シート!$AD1124","v":false},{"$f":"UPPER(MID(入力シート!$I1124,1,1))","v":""},{"$f":"UPPER(MID(入力シート!$I1124,2,1))","v":""},{"$f":"IF(LEN(入力シート!$I1124)=4,MID(入力シート!$I1124,3,1),MID(入力シート!$I1124,3,2))","v":""},{"$f":"LOWER(RIGHT(入力シート!$I1124,1))","v":""},{"$f":"入力シート!$AD1125","v":false},{"$f":"入力シート!$J1125&\"\"","v":""},{"$f":"入力シート!$M1125&\"\"","v":""},{"$f":"入力シート!$P1125&\"\"","v":""},{"$f":"入力シート!$S1125&\"\"","v":""},{"$f":"入力シート!$G1130","v":0},{"$f":"入力シート!$K1130","v":0},{"$f":"入力シート!$P1130","v":0},"選択なし",null,46,3,9999,{"$f":"SMALL($U$111:$U$260,138)","v":9999},"99","9","事業場９９　９台目",{"$error":"#N/A"}]
["〇",{"$f":"IF(入力シート!AH1134>50,FALSE,TRUE)","v":false},"事業場４７　１台目",{"$f":"入力シート!$AD1143","v":false},{"$f":"UPPER(MID(入力シート!$I1143,1,1))","v":""},{"$f":"UPPER(MID(入力シート!$I1143,2,1))","v":""},{"$f":"IF(LEN(入力シート!$I1143)=4,MID(入力シート!$I1143,3,1),MID(入力シート!$I1143,3,2))","v":""},{"$f":"LOWER(RIGHT(入力シート!$I1143,1))","v":""},{"$f":"入力シート!$AD1144","v":false},{"$f":"入力シート!$J1144&\"\"","v":""},{"$f":"入力シート!$M1144&\"\"","v":""},{"$f":"入力シート!$P1144&\"\"","v":""},{"$f":"入力シート!$S1144&\"\"","v":""},{"$f":"入力シート!$G1151","v":0},{"$f":"入力シート!$K1151","v":0},{"$f":"入力シート!$P1151","v":0},"選択なし",null,47,1,9999,{"$f":"SMALL($U$111:$U$260,139)","v":9999},"99","9","事業場９９　９台目",{"$error":"#N/A"}]
["〇",{"$f":"IF(入力シート!AH1134>50,FALSE,TRUE)","v":false},"事業場４７　２台目",{"$f":"入力シート!$AD1145","v":false},{"$f":"UPPER(MID(入力シート!$I1145,1,1))","v":""},{"$f":"UPPER(MID(入力シート!$I1145,2,1))","v":""},{"$f":"IF(LEN(入力シート!$I1145)=4,MID(入力シート!$I1145,3,1),MID(入力シート!$I1145,3,2))","v":""},{"$f":"LOWER(RIGHT(入力シート!$I1145,1))","v":""},{"$f":"入力シート!$AD1146","v":false},{"$f":"入力シート!$J1146&\"\"","v":""},{"$f":"入力シート!$M1146&\"\"","v":""},{"$f":"入力シート!$P1146&\"\"","v":""},{"$f":"入力シート!$S1146&\"\"","v":""},{"$f":"入力シート!$G1152","v":0},{"$f":"入力シート!$K1152","v":0},{"$f":"入力シート!$P1152","v":0},"選択なし",null,47,2,9999,{"$f":"SMALL($U$111:$U$260,140)","v":9999},"99","9","事業場９９　９台目",{"$error":"#N/A"}]
["〇",{"$f":"IF(入力シート!AH1134>50,FALSE,TRUE)","v":false},"事業場４７　３台目",{"$f":"入力シート!$AD1147","v":false},{"$f":"UPPER(MID(入力シート!$I1147,1,1))","v":""},{"$f":"UPPER(MID(入力シート!$I1147,2,1))","v":""},{"$f":"IF(LEN(入力シート!$I1147)=4,MID(入力シート!$I1147,3,1),MID(入力シート!$I1147,3,2))","v":""},{"$f":"LOWER(RIGHT(入力シート!$I1147,1))","v":""},{"$f":"入力シート!$AD1148","v":false},{"$f":"入力シート!$J1148&\"\"","v":""},{"$f":"入力シート!$M1148&\"\"","v":""},{"$f":"入力シート!$P1148&\"\"","v":""},{"$f":"入力シート!$S1148&\"\"","v":""},{"$f":"入力シート!$G1153","v":0},{"$f":"入力シート!$K1153","v":0},{"$f":"入力シート!$P1153","v":0},"選択なし",null,47,3,9999,{"$f":"SMALL($U$111:$U$260,141)","v":9999},"99","9","事業場９９　９台目",{"$error":"#N/A"}]
["〇",{"$f":"IF(入力シート!AH1157>50,FALSE,TRUE)","v":false},"事業場４８　１台目",{"$f":"入力シート!$AD1166","v":false},{"$f":"UPPER(MID(入力シート!$I1166,1,1))","v":""},{"$f":"UPPER(MID(入力シート!$I1166,2,1))","v":""},{"$f":"IF(LEN(入力シート!$I1166)=4,MID(入力シート!$I1166,3,1),MID(入力シート!$I1166,3,2))","v":""},{"$f":"LOWER(RIGHT(入力シート!$I1166,1))","v":""},{"$f":"入力シート!$AD1167","v":false},{"$f":"入力シート!$J1167&\"\"","v":""},{"$f":"入力シート!$M1167&\"\"","v":""},{"$f":"入力シート!$P1167&\"\"","v":""},{"$f":"入力シート!$S1167&\"\"","v":""},{"$f":"入力シート!$G1174","v":0},{"$f":"入力シート!$K1174","v":0},{"$f":"入力シート!$P1174","v":0},"選択なし",null,48,1,9999,{"$f":"SMALL($U$111:$U$260,142)","v":9999},"99","9","事業場９９　９台目",{"$error":"#N/A"}]
["〇",{"$f":"IF(入力シート!AH1157>50,FALSE,TRUE)","v":false},"事業場４８　２台目",{"$f":"入力シート!$AD1168","v":false},{"$f":"UPPER(MID(入力シート!$I1168,1,1))","v":""},{"$f":"UPPER(MID(入力シート!$I1168,2,1))","v":""},{"$f":"IF(LEN(入力シート!$I1168)=4,MID(入力シート!$I1168,3,1),MID(入力シート!$I1168,3,2))","v":""},{"$f":"LOWER(RIGHT(入力シート!$I1168,1))","v":""},{"$f":"入力シート!$AD1169","v":false},{"$f":"入力シート!$J1169&\"\"","v":""},{"$f":"入力シート!$M1169&\"\"","v":""},{"$f":"入力シート!$P1169&\"\"","v":""},{"$f":"入力シート!$S1169&\"\"","v":""},{"$f":"入力シート!$G1175","v":0},{"$f":"入力シート!$K1175","v":0},{"$f":"入力シート!$P1175","v":0},"選択なし",null,48,2,9999,{"$f":"SMALL($U$111:$U$260,143)","v":9999},"99","9","事業場９９　９台目",{"$error":"#N/A"}]
["〇",{"$f":"IF(入力シート!AH1157>50,FALSE,TRUE)","v":false},"事業場４８　３台目",{"$f":"入力シート!$AD1170","v":false},{"$f":"UPPER(MID(入力シート!$I1170,1,1))","v":""},{"$f":"UPPER(MID(入力シート!$I1170,2,1))","v":""},{"$f":"IF(LEN(入力シート!$I1170)=4,MID(入力シート!$I1170,3,1),MID(入力シート!$I1170,3,2))","v":""},{"$f":"LOWER(RIGHT(入力シート!$I1170,1))","v":""},{"$f":"入力シート!$AD1171","v":false},{"$f":"入力シート!$J1171&\"\"","v":""},{"$f":"入力シート!$M1171&\"\"","v":""},{"$f":"入力シート!$P1171&\"\"","v":""},{"$f":"入力シート!$S1171&\"\"","v":""},{"$f":"入力シート!$G1176","v":0},{"$f":"入力シート!$K1176","v":0},{"$f":"入力シート!$P1176","v":0},"選択なし",null,48,3,9999,{"$f":"SMALL($U$111:$U$260,144)","v":9999},"99","9","事業場９９　９台目",{"$error":"#N/A"}]
["〇",{"$f":"IF(入力シート!AH1180>50,FALSE,TRUE)","v":false},"事業場４９　１台目",{"$f":"入力シート!$AD1189","v":false},{"$f":"UPPER(MID(入力シート!$I1189,1,1))","v":""},{"$f":"UPPER(MID(入力シート!$I1189,2,1))","v":""},{"$f":"IF(LEN(入力シート!$I1189)=4,MID(入力シート!$I1189,3,1),MID(入力シート!$I1189,3,2))","v":""},{"$f":"LOWER(RIGHT(入力シート!$I1189,1))","v":""},{"$f":"入力シート!$AD1190","v":false},{"$f":"入力シート!$J1190&\"\"","v":""},{"$f":"入力シート!$M1190&\"\"","v":""},{"$f":"入力シート!$P1190&\"\"","v":""},{"$f":"入力シート!$S1190&\"\"","v":""},{"$f":"入力シート!$G1197","v":0},{"$f":"入力シート!$K1197","v":0},{"$f":"入力シート!$P1197","v":0},"選択なし",null,49,1,9999,{"$f":"SMALL($U$111:$U$260,145)","v":9999},"99","9","事業場９９　９台目",{"$error":"#N/A"}]
["〇",{"$f":"IF(入力シート!AH1180>50,FALSE,TRUE)","v":false},"事業場４９　２台目",{"$f":"入力シート!$AD1191","v":false},{"$f":"UPPER(MID(入力シート!$I1191,1,1))","v":""},{"$f":"UPPER(MID(入力シート!$I1191,2,1))","v":""},{"$f":"IF(LEN(入力シート!$I1191)=4,MID(入力シート!$I1191,3,1),MID(入力シート!$I1191,3,2))","v":""},{"$f":"LOWER(RIGHT(入力シート!$I1191,1))","v":""},{"$f":"入力シート!$AD1192","v":false},{"$f":"入力シート!$J1192&\"\"","v":""},{"$f":"入力シート!$M1192&\"\"","v":""},{"$f":"入力シート!$P1192&\"\"","v":""},{"$f":"入力シート!$S1192&\"\"","v":""},{"$f":"入力シート!$G1198","v":0},{"$f":"入力シート!$K1198","v":0},{"$f":"入力シート!$P1198","v":0},"選択なし",null,49,2,9999,{"$f":"SMALL($U$111:$U$260,146)","v":9999},"99","9","事業場９９　９台目",{"$error":"#N/A"}]
["〇",{"$f":"IF(入力シート!AH1180>50,FALSE,TRUE)","v":false},"事業場４９　３台目",{"$f":"入力シート!$AD1193","v":false},{"$f":"UPPER(MID(入力シート!$I1193,1,1))","v":""},{"$f":"UPPER(MID(入力シート!$I1193,2,1))","v":""},{"$f":"IF(LEN(入力シート!$I1193)=4,MID(入力シート!$I1193,3,1),MID(入力シート!$I1193,3,2))","v":""},{"$f":"LOWER(RIGHT(入力シート!$I1193,1))","v":""},{"$f":"入力シート!$AD1194","v":false},{"$f":"入力シート!$J1194&\"\"","v":""},{"$f":"入力シート!$M1194&\"\"","v":""},{"$f":"入力シート!$P1194&\"\"","v":""},{"$f":"入力シート!$S1194&\"\"","v":""},{"$f":"入力シート!$G1199","v":0},{"$f":"入力シート!$K1199","v":0},{"$f":"入力シート!$P1199","v":0},"選択なし",null,49,3,9999,{"$f":"SMALL($U$111:$U$260,147)","v":9999},"99","9","事業場９９　９台目",{"$error":"#N/A"}]
["〇",{"$f":"IF(入力シート!AH1203>50,FALSE,TRUE)","v":false},"事業場５０　１台目",{"$f":"入力シート!$AD1212","v":false},{"$f":"UPPER(MID(入力シート!$I1212,1,1))","v":""},{"$f":"UPPER(MID(入力シート!$I1212,2,1))","v":""},{"$f":"IF(LEN(入力シート!$I1212)=4,MID(入力シート!$I1212,3,1),MID(入力シート!$I1212,3,2))","v":""},{"$f":"LOWER(RIGHT(入力シート!$I1212,1))","v":""},{"$f":"入力シート!$AD1213","v":false},{"$f":"入力シート!$J1213&\"\"","v":""},{"$f":"入力シート!$M1213&\"\"","v":""},{"$f":"入力シート!$P1213&\"\"","v":""},{"$f":"入力シート!$S1213&\"\"","v":""},{"$f":"入力シート!$G1220","v":0},{"$f":"入力シート!$K1220","v":0},{"$f":"入力シート!$P1220","v":0},"選択なし",null,50,1,9999,{"$f":"SMALL($U$111:$U$260,148)","v":9999},"99","9","事業場９９　９台目",{"$error":"#N/A"}]
["〇",{"$f":"IF(入力シート!AH1203>50,FALSE,TRUE)","v":false},"事業場５０　２台目",{"$f":"入力シート!$AD1214","v":false},{"$f":"UPPER(MID(入力シート!$I1214,1,1))","v":""},{"$f":"UPPER(MID(入力シート!$I1214,2,1))","v":""},{"$f":"IF(LEN(入力シート!$I1214)=4,MID(入力シート!$I1214,3,1),MID(入力シート!$I1214,3,2))","v":""},{"$f":"LOWER(RIGHT(入力シート!$I1214,1))","v":""},{"$f":"入力シート!$AD1215","v":false},{"$f":"入力シート!$J1215&\"\"","v":""},{"$f":"入力シート!$M1215&\"\"","v":""},{"$f":"入力シート!$P1215&\"\"","v":""},{"$f":"入力シート!$S1215&\"\"","v":""},{"$f":"入力シート!$G1221","v":0},{"$f":"入力シート!$K1221","v":0},{"$f":"入力シート!$P1221","v":0},"選択なし",null,50,2,9999,{"$f":"SMALL($U$111:$U$260,149)","v":9999},"99","9","事業場９９　９台目",{"$error":"#N/A"}]
["〇",{"$f":"IF(入力シート!AH1203>50,FALSE,TRUE)","v":false},"事業場５０　３台目",{"$f":"入力シート!$AD1216","v":false},{"$f":"UPPER(MID(入力シート!$I1216,1,1))","v":""},{"$f":"UPPER(MID(入力シート!$I1216,2,1))","v":""},{"$f":"IF(LEN(入力シート!$I1216)=4,MID(入力シート!$I1216,3,1),MID(入力シート!$I1216,3,2))","v":""},{"$f":"LOWER(RIGHT(入力シート!$I1216,1))","v":""},{"$f":"入力シート!$AD1217","v":false},{"$f":"入力シート!$J1217&\"\"","v":""},{"$f":"入力シート!$M1217&\"\"","v":""},{"$f":"入力シート!$P1217&\"\"","v":""},{"$f":"入力シート!$S1217&\"\"","v":""},{"$f":"入力シート!$G1222","v":0},{"$f":"入力シート!$K1222","v":0},{"$f":"入力シート!$P1222","v":0},"選択なし",null,50,3,9999,{"$f":"SMALL($U$111:$U$260,150)","v":9999},"99","9","事業場９９　９台目",{"$error":"#N/A"}]

{"sheet":"補助対象機器一覧0916","index":5,"n_rows":57,"n_cols":5,"rows_kept":57,"cut":false,"hidden":true,"merged":[]}
["4桁コード","メーカー名","名称・型式","品　　番","ソフトのバージョン"]
["KA1-","株式会社アルティア","SSS-T2+","EG3005-5000","-"]
["KA2-","株式会社アルティア","SSS-T2","EG3005-0000","-"]
["KA3-","株式会社アルティア","SSS-αⅡ","EG3004-0000","-"]
["CA1-","株式会社インターサポート","G-scanZ　エントリー","GZEJ01","-"]
["CA2-","株式会社インターサポート","G-scanZ　スタンダード","GZSJ01","-"]
["CA3-","株式会社インターサポート","G-scanZ　エントリー（育成機関）","GZEJ01T","-"]
["CA4-","株式会社インターサポート","G-scanZ　スタンダード（育成機関）","GZSJ01T","-"]
["CA5-","株式会社インターサポート","G-scanZ　エントリー（災害支援）","GZEJ01DS","-"]
["CA6-","株式会社インターサポート","G-scanZ　スタンダード（災害支援）","GZSJ01DS","-"]
["CB1-","株式会社インターサポート","G-scanZ Tab　エントリー","ZT-J01E","-"]
["CB2-","株式会社インターサポート","G-scanZ Tab　スタンダード","ZT-J01S","-"]
["CB3-","株式会社インターサポート","G-scanZ Tab　エントリー（育成機関）","ZT-J01ET","-"]
["CB4-","株式会社インターサポート","G-scanZ Tab　スタンダード（育成機関）","ZT-J01ST","-"]
["CB5-","株式会社インターサポート","G-scanZ Tab　エントリー（災害支援）","ZT-J01EDS","-"]
["CB6-","株式会社インターサポート","G-scanZ Tab　スタンダード（災害支援）","ZT-J01SDS","-"]
["NA1a","オーテル・インテリジェント・テクノロジー株式会社","MaxiSys Ultra","MaxiSys Ultra","Ver.1.18 以上"]
["NB2b","オーテル・インテリジェント・テクノロジー株式会社","MaxiSys MS919","MaxiSys MS919","Ver.1.18 以上"]
["NC3c","オーテル・インテリジェント・テクノロジー株式会社","MaxiSys MS909","MaxiSys MS909","Ver.1.18 以上"]
["ND4d","オーテル・インテリジェント・テクノロジー株式会社","MaxiSys Elite","MaxiSys Elite","Ver.3.50 以上"]
["NE5e","オーテル・インテリジェント・テクノロジー株式会社","MaxiSys MS908SPro","MaxiSys MS908SPro","Ver.3.71 以上"]
["NF6f","オーテル・インテリジェント・テクノロジー株式会社","MaxiSys MS906BT","MaxiSys MS906BT","Ver.3.50 以上"]
["NG7g","オーテル・インテリジェント・テクノロジー株式会社","MaxiSys MS906BTADAS","MaxiSys MS906BTADAS","Ver.1.50 以上"]
["NH8h","オーテル・インテリジェント・テクノロジー株式会社","MaxiSys MS908CV","MaxiSys MS908CV","Ver.3.71 以上"]
["GM1-","オーテル有限会社G-STYLE","MaxiSys MS906","MS906","-"]
["GM2-","オーテル有限会社G-STYLE","MaxiSys MS906BT","MS906BT","-"]
["GM3-","オーテル有限会社G-STYLE","Maxisys 908S","MS908","-"]
["GM4-","オーテル有限会社G-STYLE","Maxisys 908S Pro","MS908P","-"]
["GM5-","オーテル有限会社G-STYLE","MaxiSys ELITE","MS908E","-"]
["GM6-","オーテル有限会社G-STYLE","MaxiSys ADAS","MS908A","-"]
["GM7-","オーテル有限会社G-STYLE","MaxiSys 909","MS909","-"]
["GM8-","オーテル有限会社G-STYLE","Maxisys 919","MS919","-"]
["GM9-","オーテル有限会社G-STYLE","MaxiSys URTLA","MSURTLA","-"]
["GM10-","オーテル有限会社G-STYLE","MaxiSys MS906BT ADAS","MS906BTA","-"]
["GM11-","オーテル有限会社G-STYLE","Maxisys 908S ADAS","MS908A","-"]
["GM12-","オーテル有限会社G-STYLE","MaxiSys ELITE ADAS","MS908EA","-"]
["GM13-","オーテル有限会社G-STYLE","MaxiSys 909 ADAS","MS909A","-"]
["GM14-","オーテル有限会社G-STYLE","Maxisys 919 ADAS","MS919A","-"]
["GM15-","オーテル有限会社G-STYLE","MaxiSys URTLA ADAS","MSURTLAA","-"]
["GM16-","オーテル有限会社G-STYLE","MaxiSys 908CV","MS908CV","-"]
["BA1-","スナップオン・ツールズ株式会社","MTG-DUAL-TAB","MTG-DUAL-TAB","－"]
["BB2-","スナップオン・ツールズ株式会社","MTG5000","MTG5000","－"]
["BC3-","スナップオン・ツールズ株式会社","MTG5000ANV","MTG5000ANV","－"]
["BD4-","スナップオン・ツールズ株式会社","MTG5000-S","MTG5000-S","－"]
["BE5-","スナップオン・ツールズ株式会社","ISCAN3-E","ALISCAN3-E","－"]
["BF6-","スナップオン・ツールズ株式会社","MTG5000　フルセット","MTG5000SET","－"]
["BG7-","スナップオン・ツールズ株式会社","MTG5000ANV　フルセット","MTG5000SET","－"]
["BH8-","スナップオン・ツールズ株式会社","MTG5000-S　フルセット","MTG5000-SSET","－"]
["FA1-","株式会社ツールプラネット","TPM-5","TPM-5","-"]
["FB2-","株式会社ツールプラネット","TPM-TAB","TPM-TAB","-"]
["FC3-","株式会社ツールプラネット","TPM-7","TPM-7","-"]
["RA1-","株式会社　バンザイ","マルチサポートツールMST-7R","MST-7R","-"]
["YS1-","ヤマト自動車株式会社","S-DMT-MS","S-DMT-MS","-"]
["YS2-","ヤマト自動車株式会社","S-DMT-MS-Ｔ１","S-DMT-MS-Ｔ１","-"]
["YS3-","ヤマト自動車株式会社","S-DMT-MS-Ｔ3","S-DMT-MS-Ｔ3","-"]
["JG1-","株式会社ローンチオートマーケティング","X-431PAD JV",301180719,"-"]
["JG2-","株式会社ローンチオートマーケティング","X-431PRO3J V4.0",301190651,"-"]

{"sheet":"様式第1","index":6,"n_rows":55,"n_cols":27,"rows_kept":55,"cut":false,"hidden":false,"merged":[[43,12,43,13],[43,8,43,9],[34,14,34,18],[35,14,35,18],[13,16,13,26],[20,0,25,26],[1,22,1,25],[51,0,51,1],[52,0,52,1],[16,2,16,3],[46,0,46,1],[49,0,49,1],[41,6,41,14],[16,4,16,25],[17,1,17,25],[27,0,27,26],[46,2,48,26],[49,2,50,26],[7,16,7,26],[8,16,8,26],[11,16,11,26],[31,2,31,22]]}
["（様式第１）"]
[null,null,null,null,null,null,null,null,null,null,null,null,null,null,null,null,null,null,null,null,null,"第",{"$f":"中間シート!E36&\"\"","v":""},null,null,null,"号"]
[null,null,null,null,null,null,null,null,null,null,null,null,null,null,null,null,null,null,null,"令和",{"$f":"中間シート!E37&\"\"","v":""},"年",{"$f":"中間シート!F37&\"\"","v":""},null,"月",{"$f":"中間シート!G37&\"\"","v":""},"日"]
["パシフィックコンサルタンツ株式会社"]
["首都圏本社　本社長　殿"]
[]
[]
[null,null,null,null,null,null,null,null,null,null,null,null," 申請者 ","住所",null,null,{"$f":"中間シート!E13&\" \"&中間シート!E14&\"\"","v":" "}]
[null,null,null,null,null,null,null,null,null,null,null,null,null,null,null,null,{"$f":"中間シート!E15&\" \"&中間シート!E16&\"\"","v":" "}]
[]
[null,null,null,null,null,null,null,null,null,null,null,null,null,"法人名（個人事業主の場合は商号・屋号等）"]
[null,null,null,null,null,null,null,null,null,null,null,null,null,null,null,null,{"$f":"中間シート!E5&\"\"","v":""}]
[]
[null,null,null,null,null,null,null,null,null,null,null,null,null,"代表者名",null,null,{"$f":"IF(中間シート!E11<>\"\",中間シート!E11&\"　\"&中間シート!E7&\"　\"&中間シート!E8,中間シート!E7&\"　\"&中間シート!E8)&\"\"","v":"　"}]
[]
[]
[null,"令和",{"$f":"中間シート!E37&\"\"","v":""},null,"年度AI･IoT等を活用した更なる輸送効率化推進事業費補助金（ビッグデータを活"]
[null,"用した効率的かつ適切な自動車整備による使用過程車の省エネ性能維持推進事業）補助金交"]
[null,"付申請書"]
[]
["　AI･IoT等を活用した更なる輸送効率化推進事業費補助金（ビッグデータを活用した効率的かつ適切な自動車整備による使用過程車の省エネ性能維持推進事業）交付規程第４条の規定に基づき、下記のとおり経済産業省からのAI･IoT等を活用した更なる輸送効率化推進事業費補助金（新技術を用いたサプライチェーン全体の輸送効率化推進事業、トラック輸送の省エネ化推進事業及びビッグデータを活用した効率的かつ適切な自動車整備による使用過程車の省エネ性能維持推進事業）交付要綱第３条に基づく国庫補助金の交付を申請します。"]
[]
[]
[]
[]
[]
[]
["記"]
[]
["１．補助事業の名称"]
[]
[null,null,{"$f":"IF(中間シート!E6=1,中間シート!E5&\"のスキャンツール導入事業\",IF(中間シート!E6=2,中間シート!E7&\"　\"&中間シート!E8&\"のスキャンツール導入事業\",\"\"))","v":""}]
[]
["２．補助金交付申請額"]
["　（１）補助事業に要する経費の総額",null,null,null,null,null,null,null,null,null,null,null,null,null,{"$f":"様式第1別紙1!$F$269","v":""},null,null,null,null,"円"]
["　（２）補助対象経費の総額",null,null,null,null,null,null,null,null,null,null,null,null,null,{"$f":"様式第1別紙1!$I$269","v":""},null,null,null,null,"円"]
[]
["３．補助事業に要する経費、補助対象経費、補助金の額及び補助対象スキャンツールの型式等"]
[null,"（別紙１による）"]
[]
["４．補助事業の開始及び完了予定年月日"]
["　（１）開 始 年 月 日",null,null,null,null,null,"交付決定年月日"]
[]
["　（２）完了予定年月日",null,null,null,null,null,"令和",{"$f":"中間シート!E39&\"\"","v":""},"年",null,{"$f":"中間シート!F39&\"\"","v":""},"月",{"$f":"中間シート!G39&\"\"","v":""},null,"日"]
[]
["（注）申請書には、次の事項を記載した書面を添付すること。"]
["（１）",null,"補助対象事業者であることを証する地方運輸局長等が交付した認証書（写）又は指定書（写）若しくは認定書（写）、また、自動車整備士を該当施設に配置されている場合は、地方運輸局長等が交付した整備士合格証明書（写）若しくは整備士手帳（写）であって、補助対象設備を設置する事業場のもの。"]
[]
[]
["（２）",null,"補助事業に要する経費の見積書（対象機器のメーカー名・名称・型式・品番・ソフトのバージョンが明記されているもので、補助対象経費・対象外経費が明確に区分されているもの。消費税別表示であること。）"]
[]
["（３）",null,"法人にあっては役員名簿、個人事業者にあっては申請者情報（別紙２）"]
["（４）",null,"その他ＰＣＫＫが指示する書面等"]
[]
["（備考）用紙は、日本産業規格Ａ４とし、縦位置とする。"]

{"sheet":"様式第1別紙1","index":7,"n_rows":288,"n_cols":18,"rows_kept":288,"cut":false,"hidden":false,"merged":[[265,5,265,7],[265,8,265,11],[265,12,265,15],[265,16,265,17],[283,2,283,17],[285,2,285,17],[286,7,286,14],[286,15,286,17],[287,7,287,14],[287,15,287,17],[266,5,266,7],[266,8,266,11],[266,12,266,15],[266,16,266,17],[267,5,267,7],[267,8,267,11],[267,12,267,15],[267,16,267,17],[268,5,268,7],[268,8,268,11],[268,12,268,15],[268,16,268,17],[277,2,277,7],[277,8,277,9],[267,2,267,3],[280,14,280,17],[279,10,279,12],[279,14,279,17],[277,10,277,17],[278,10,278,12],[256,16,256,17],[257,5,257,7],[257,8,257,11],[257,12,257,15],[257,16,257,17],[258,5,258,7],[258,8,258,11],[258,12,258,15],[258,16,258,17],[258,2,258,3],[259,2,259,3],[260,2,260,3],[261,2,261,3],[262,2,262,3],[263,2,263,3],[264,2,264,3],[265,2,265,3],[266,2,266,3],[253,5,253,7],[253,8,253,11],[253,12,253,15],[253,16,253,17],[254,5,254,7],[254,8,254,11],[254,12,254,15],[254,16,254,17],[255,5,255,7],[255,8,255,11],[255,12,255,15],[255,16,255,17],[249,16,249,17],[250,5,250,7],[250,8,250,11],[250,12,250,15],[250,16,250,17],[251,16,251,17],[246,12,246,15],[246,16,246,17],[247,5,247,7],[247,8,247,11],[247,12,247,15],[247,16,247,17],[248,5,248,7],[248,8,248,11],[248,12,248,15],[248,16,248,17],[252,5,252,7],[252,8,252,11],[252,12,252,15],[252,16,252,17],[241,16,241,17],[242,5,242,7],[242,8,242,11],[242,12,242,15],[242,16,242,17],[243,5,243,7],[243,8,243,11],[243,12,243,15],[243,16,243,17],[244,5,244,7],[244,8,244,11],[244,12,244,15],[244,16,244,17],[245,5,245,7],[245,8,245,11],[245,12,245,15],[245,16,245,17],[249,5,249,7],[249,8,249,11],[249,12,249,15],[236,5,236,7],[236,8,236,11],[236,12,236,15],[236,16,236,17],[237,5,237,7],[237,8,237,11],[237,12,237,15],[237,16,237,17],[238,5,238,7],[238,8,238,11],[238,12,238,15],[238,16,238,17],[239,5,239,7],[239,8,239,11],[239,12,239,15],[239,16,239,17],[240,5,240,7],[240,8,240,11],[240,12,240,15],[240,16,240,17],[231,16,231,17],[232,5,232,7],[232,8,232,11],[232,12,232,15],[232,16,232,17],[233,5,233,7],[233,8,233,11],[233,12,233,15],[233,16,233,17],[234,5,234,7],[234,8,234,11],[234,12,234,15],[234,16,234,17],[235,5,235,7],[235,8,235,11],[235,12,235,15],[235,16,235,17],[231,12,231,15],[226,16,226,17],[227,5,227,7],[227,8,227,11],[227,12,227,15],[227,16,227,17],[228,5,228,7],[228,8,228,11],[228,12,228,15],[228,16,228,17],[226,12,226,15],[229,5,229,7],[229,8,229,11],[229,12,229,15],[229,16,229,17],[230,5,230,7],[230,8,230,11],[230,12,230,15],[230,16,230,17],[221,16,221,17],[222,5,222,7],[222,8,222,11],[222,12,222,15],[222,16,222,17],[223,5,223,7],[223,8,223,11],[223,12,223,15],[223,16,223,17],[224,5,224,7],[224,8,224,11],[224,12,224,15],[224,16,224,17],[225,5,225,7],[225,8,225,11],[225,12,225,15],[225,16,225,17],[209,10,209,14],[210,10,210,14],[211,2,211,17],[216,5,217,7],[216,8,217,11],[216,12,217,15],[216,16,217,17],[218,5,218,7],[218,8,218,11],[218,12,218,15],[218,16,218,17],[219,5,219,7],[219,8,219,11],[219,12,219,15],[219,16,219,17],[220,5,220,7],[220,8,220,11],[220,12,220,15],[220,16,220,17],[221,5,221,7],[221,8,221,11],[221,12,221,15],[210,5,210,6],[122,10,122,14],[123,10,123,14],[124,10,124,14],[125,10,125,14],[126,10,126,14],[122,5,122,6],[132,5,132,6],[133,5,133,6],[134,5,134,6],[129,5,129,6],[130,5,130,6],[131,5,131,6],[129,10,129,14],[130,10,130,14],[131,10,131,14],[132,10,132,14],[133,10,133,14],[98,10,98,14],[99,10,99,14],[100,10,100,14],[101,10,101,14],[110,10,110,14],[111,10,111,14],[86,10,86,14],[87,10,87,14],[88,10,88,14],[89,10,89,14],[90,10,90,14],[91,10,91,14],[92,10,92,14],[93,10,93,14],[94,10,94,14],[112,10,112,14],[102,10,102,14],[61,10,61,14],[62,10,62,14],[63,10,63,14],[64,10,64,14],[65,10,65,14],[66,10,66,14],[67,10,67,14],[68,10,68,14],[69,10,69,14],[70,10,70,14],[71,10,71,14],[72,10,72,14],[73,10,73,14],[74,10,74,14],[75,10,75,14],[76,10,76,14],[77,10,77,14],[83,10,83,14],[84,10,84,14],[95,10,95,14],[96,10,96,14],[97,10,97,14],[48,6,48,9],[48,11,48,12],[48,14,48,17],[49,6,49,9],[49,11,49,12],[49,14,49,17],[50,6,50,9],[50,11,50,12],[50,14,50,17],[51,6,51,9],[51,11,51,12],[51,14,51,17],[52,6,52,9],[52,11,52,12],[52,14,52,17],[53,6,53,9],[53,11,53,12],[53,14,53,17],[38,6,38,9],[38,11,38,12],[38,14,38,17],[39,6,39,9],[39,11,39,12],[39,14,39,17],[40,6,40,9],[40,11,40,12],[40,14,40,17],[41,6,41,9],[41,11,41,12],[41,14,41,17],[42,6,42,9],[42,11,42,12],[42,14,42,17],[43,6,43,9],[43,11,43,12],[43,14,43,17],[31,6,31,9],[31,11,31,12],[31,14,31,17],[32,6,32,9],[32,11,32,12],[32,14,32,17],[33,6,33,9],[33,11,33,12],[33,14,33,17],[34,6,34,9],[34,11,34,12],[34,14,34,17],[35,6,35,9],[35,11,35,12],[35,14,35,17],[36,6,36,9],[36,11,36,12],[36,14,36,17],[25,6,25,9],[25,11,25,12],[25,14,25,17],[26,6,26,9],[26,11,26,12],[26,14,26,17],[27,6,27,9],[27,11,27,12],[27,14,27,17],[28,6,28,9],[28,11,28,12],[28,14,28,17],[29,6,29,9],[29,11,29,12],[29,14,29,17],[30,6,30,9],[30,11,30,12],[30,14,30,17],[18,14,18,17],[19,6,19,9],[19,11,19,12],[19,14,19,17],[20,6,20,9],[20,11,20,12],[20,14,20,17],[21,6,21,9],[21,11,21,12],[21,14,21,17],[22,6,22,9],[22,11,22,12],[22,14,22,17],[23,6,23,9],[23,11,23,12],[23,14,23,17],[24,6,24,9],[24,11,24,12],[24,14,24,17],[16,6,16,9],[16,11,16,12],[16,14,16,17],[17,6,17,9],[17,11,17,12],[17,14,17,17],[11,14,11,17],[12,6,12,9],[12,11,12,12],[12,14,12,17],[13,6,13,9],[13,11,13,12],[13,14,13,17],[14,6,14,9],[14,11,14,12],[14,14,14,17],[8,14,8,17],[9,6,9,9],[9,11,9,12],[9,14,9,17],[10,6,10,9],[10,11,10,12],[10,14,10,17],[15,6,15,9],[15,11,15,12],[15,14,15,17],[3,2,7,4],[60,2,60,4],[216,2,217,4],[268,2,268,4],[286,2,286,6],[287,2,287,6],[251,5,251,7],[251,8,251,11],[251,12,251,15],[256,5,256,7],[256,8,256,11],[256,12,256,15],[261,5,261,7],[261,8,261,11],[261,12,261,15],[246,5,246,7],[246,8,246,11],[241,5,241,7],[241,8,241,11],[241,12,241,15],[231,5,231,7],[231,8,231,11],[226,5,226,7],[226,8,226,11],[110,5,110,6],[107,5,107,6],[108,5,108,6],[115,5,115,6],[116,5,116,6],[120,5,120,6],[121,5,121,6],[107,10,107,14],[108,10,108,14],[114,5,114,6],[111,5,111,6],[112,5,112,6],[113,5,113,6],[119,10,119,14],[120,10,120,14],[121,10,121,14],[113,10,113,14],[114,10,114,14],[115,10,115,14],[116,10,116,14],[117,10,117,14],[118,10,118,14],[117,5,117,6],[118,5,118,6],[105,5,105,6],[106,5,106,6],[103,5,103,6],[104,5,104,6],[109,5,109,6],[103,10,103,14],[104,10,104,14],[105,10,105,14],[106,10,106,14],[109,10,109,14],[98,5,98,6],[95,5,95,6],[96,5,96,6],[101,5,101,6],[102,5,102,6],[99,5,99,6],[100,5,100,6],[93,5,93,6],[94,5,94,6],[91,5,91,6],[92,5,92,6],[97,5,97,6],[86,5,86,6],[83,5,83,6],[84,5,84,6],[89,5,89,6],[90,5,90,6],[87,5,87,6],[88,5,88,6],[81,5,81,6],[82,5,82,6],[79,5,79,6],[80,5,80,6],[85,5,85,6],[79,10,79,14],[80,10,80,14],[81,10,81,14],[82,10,82,14],[85,10,85,14],[74,5,74,6],[71,5,71,6],[72,5,72,6],[77,5,77,6],[78,5,78,6],[75,5,75,6],[76,5,76,6],[78,10,78,14],[69,5,69,6],[70,5,70,6],[67,5,67,6],[68,5,68,6],[73,5,73,6],[62,5,62,6],[65,5,65,6],[66,5,66,6],[63,5,63,6],[64,5,64,6],[57,6,57,9],[57,11,57,12],[61,5,61,6],[54,6,54,9],[54,11,54,12],[54,14,54,17],[55,6,55,9],[55,11,55,12],[55,14,55,17],[56,6,56,9],[56,11,56,12],[56,14,56,17],[57,14,57,17],[60,5,60,7],[60,8,60,9],[60,10,60,15],[60,16,60,17],[47,6,47,9],[47,11,47,12],[47,14,47,17],[37,6,37,9],[37,11,37,12],[37,14,37,17],[3,5,7,5],[11,6,11,9],[18,6,18,9],[11,11,11,12],[18,11,18,12],[45,6,45,9],[45,11,45,12],[44,6,44,9],[44,11,44,12],[44,14,44,17],[45,14,45,17],[46,6,46,9],[46,11,46,12],[46,14,46,17],[3,6,7,9],[3,10,7,17],[8,6,8,9],[8,11,8,12],[119,5,119,6],[126,5,126,6],[127,5,127,6],[128,5,128,6],[123,5,123,6],[124,5,124,6],[125,5,125,6],[127,10,127,14],[128,10,128,14],[134,10,134,14],[138,5,138,6],[139,5,139,6],[140,5,140,6],[135,5,135,6],[136,5,136,6],[137,5,137,6],[135,10,135,14],[136,10,136,14],[137,10,137,14],[138,10,138,14],[139,10,139,14],[140,10,140,14],[144,5,144,6],[145,5,145,6],[146,5,146,6],[141,5,141,6],[142,5,142,6],[143,5,143,6],[141,10,141,14],[142,10,142,14],[143,10,143,14],[144,10,144,14],[145,10,145,14],[146,10,146,14],[150,5,150,6],[151,5,151,6],[152,5,152,6],[147,5,147,6],[148,5,148,6],[149,5,149,6],[147,10,147,14],[148,10,148,14],[149,10,149,14],[150,10,150,14],[151,10,151,14],[152,10,152,14],[156,5,156,6],[157,5,157,6],[158,5,158,6],[153,5,153,6],[154,5,154,6],[155,5,155,6],[153,10,153,14],[154,10,154,14],[155,10,155,14],[156,10,156,14],[157,10,157,14],[158,10,158,14],[162,5,162,6],[163,5,163,6],[164,5,164,6],[159,5,159,6],[160,5,160,6],[161,5,161,6],[159,10,159,14],[160,10,160,14],[161,10,161,14],[162,10,162,14],[163,10,163,14],[164,10,164,14],[168,5,168,6],[169,5,169,6],[170,5,170,6],[165,5,165,6],[166,5,166,6],[167,5,167,6],[165,10,165,14],[166,10,166,14],[167,10,167,14],[168,10,168,14],[169,10,169,14],[170,10,170,14],[174,5,174,6],[175,5,175,6],[176,5,176,6],[171,5,171,6],[172,5,172,6],[173,5,173,6],[171,10,171,14],[172,10,172,14],[173,10,173,14],[174,10,174,14],[175,10,175,14],[176,10,176,14],[180,5,180,6],[181,5,181,6],[182,5,182,6],[177,5,177,6],[178,5,178,6],[179,5,179,6],[177,10,177,14],[178,10,178,14],[179,10,179,14],[180,10,180,14],[181,10,181,14],[182,10,182,14],[186,5,186,6],[187,5,187,6],[188,5,188,6],[183,5,183,6],[184,5,184,6],[185,5,185,6],[183,10,183,14],[184,10,184,14],[185,10,185,14],[186,10,186,14],[187,10,187,14],[188,10,188,14],[192,5,192,6],[193,5,193,6],[194,5,194,6],[189,5,189,6],[190,5,190,6],[191,5,191,6],[189,10,189,14],[190,10,190,14],[191,10,191,14],[192,10,192,14],[193,10,193,14],[194,10,194,14],[198,5,198,6],[199,5,199,6],[200,5,200,6],[195,5,195,6],[196,5,196,6],[197,5,197,6],[195,10,195,14],[196,10,196,14],[197,10,197,14],[198,10,198,14],[199,10,199,14],[200,10,200,14],[207,5,207,6],[208,5,208,6],[209,5,209,6],[207,10,207,14],[208,10,208,14],[204,5,204,6],[205,5,205,6],[206,5,206,6],[201,5,201,6],[202,5,202,6],[203,5,203,6],[201,10,201,14],[202,10,202,14],[203,10,203,14],[204,10,204,14],[205,10,205,14],[206,10,206,14],[8,2,8,3],[9,2,9,3],[61,2,61,3],[218,2,218,3],[10,2,10,3],[11,2,11,3],[12,2,12,3],[13,2,13,3],[14,2,14,3],[15,2,15,3],[16,2,16,3],[17,2,17,3],[18,2,18,3],[19,2,19,3],[20,2,20,3],[21,2,21,3],[22,2,22,3],[23,2,23,3],[24,2,24,3],[25,2,25,3],[26,2,26,3],[27,2,27,3],[28,2,28,3],[29,2,29,3],[30,2,30,3],[31,2,31,3],[32,2,32,3],[33,2,33,3],[34,2,34,3],[35,2,35,3],[36,2,36,3],[37,2,37,3],[38,2,38,3],[39,2,39,3],[40,2,40,3],[41,2,41,3],[42,2,42,3],[43,2,43,3],[44,2,44,3],[45,2,45,3],[46,2,46,3],[47,2,47,3],[48,2,48,3],[49,2,49,3],[50,2,50,3],[51,2,51,3],[52,2,52,3],[53,2,53,3],[54,2,54,3],[55,2,55,3],[56,2,56,3],[57,2,57,3],[62,2,62,3],[63,2,63,3],[64,2,64,3],[65,2,65,3],[66,2,66,3],[67,2,67,3],[68,2,68,3],[69,2,69,3],[70,2,70,3],[71,2,71,3],[72,2,72,3],[73,2,73,3],[74,2,74,3],[75,2,75,3],[76,2,76,3],[77,2,77,3],[78,2,78,3],[79,2,79,3],[80,2,80,3],[81,2,81,3],[82,2,82,3],[83,2,83,3],[84,2,84,3],[85,2,85,3],[86,2,86,3],[87,2,87,3],[88,2,88,3],[89,2,89,3],[90,2,90,3],[91,2,91,3],[92,2,92,3],[93,2,93,3],[94,2,94,3],[95,2,95,3],[96,2,96,3],[97,2,97,3],[98,2,98,3],[99,2,99,3],[100,2,100,3],[101,2,101,3],[102,2,102,3],[103,2,103,3],[104,2,104,3],[105,2,105,3],[106,2,106,3],[107,2,107,3],[108,2,108,3],[109,2,109,3],[110,2,110,3],[111,2,111,3],[112,2,112,3],[113,2,113,3],[114,2,114,3],[115,2,115,3],[116,2,116,3],[117,2,117,3],[118,2,118,3],[119,2,119,3],[120,2,120,3],[121,2,121,3],[122,2,122,3],[123,2,123,3],[124,2,124,3],[125,2,125,3],[126,2,126,3],[127,2,127,3],[128,2,128,3],[129,2,129,3],[130,2,130,3],[131,2,131,3],[132,2,132,3],[133,2,133,3],[134,2,134,3],[135,2,135,3],[136,2,136,3],[137,2,137,3],[138,2,138,3],[139,2,139,3],[140,2,140,3],[141,2,141,3],[142,2,142,3],[143,2,143,3],[144,2,144,3],[145,2,145,3],[146,2,146,3],[147,2,147,3],[148,2,148,3],[149,2,149,3],[150,2,150,3],[151,2,151,3],[152,2,152,3],[153,2,153,3],[154,2,154,3],[155,2,155,3],[156,2,156,3],[157,2,157,3],[158,2,158,3],[159,2,159,3],[160,2,160,3],[161,2,161,3],[162,2,162,3],[163,2,163,3],[164,2,164,3],[165,2,165,3],[166,2,166,3],[167,2,167,3],[168,2,168,3],[169,2,169,3],[170,2,170,3],[171,2,171,3],[172,2,172,3],[173,2,173,3],[174,2,174,3],[175,2,175,3],[176,2,176,3],[177,2,177,3],[178,2,178,3],[179,2,179,3],[180,2,180,3],[181,2,181,3],[182,2,182,3],[183,2,183,3],[184,2,184,3],[185,2,185,3],[186,2,186,3],[187,2,187,3],[188,2,188,3],[189,2,189,3],[190,2,190,3],[191,2,191,3],[192,2,192,3],[193,2,193,3],[194,2,194,3],[195,2,195,3],[196,2,196,3],[197,2,197,3],[198,2,198,3],[199,2,199,3],[200,2,200,3],[201,2,201,3],[202,2,202,3],[203,2,203,3],[204,2,204,3],[205,2,205,3],[206,2,206,3],[207,2,207,3],[208,2,208,3],[209,2,209,3],[210,2,210,3],[219,2,219,3],[220,2,220,3],[221,2,221,3],[222,2,222,3],[223,2,223,3],[224,2,224,3],[225,2,225,3],[226,2,226,3],[227,2,227,3],[228,2,228,3],[229,2,229,3],[230,2,230,3],[231,2,231,3],[232,2,232,3],[233,2,233,3],[234,2,234,3],[235,2,235,3],[236,2,236,3],[237,2,237,3],[238,2,238,3],[239,2,239,3],[240,2,240,3],[241,2,241,3],[242,2,242,3],[243,2,243,3],[244,2,244,3],[245,2,245,3],[246,2,246,3],[247,2,247,3],[248,2,248,3],[249,2,249,3],[250,2,250,3],[251,2,251,3],[252,2,252,3],[253,2,253,3],[254,2,254,3],[255,2,255,3],[256,2,256,3],[257,2,257,3],[259,5,259,7],[259,8,259,11],[259,12,259,15],[259,16,259,17],[260,5,260,7],[260,8,260,11],[260,12,260,15],[260,16,260,17],[278,14,278,17],[261,16,261,17],[262,5,262,7],[262,8,262,11],[262,12,262,15],[262,16,262,17],[263,5,263,7],[263,8,263,11],[263,12,263,15],[263,16,263,17],[264,5,264,7],[264,8,264,11],[264,12,264,15],[264,16,264,17],[278,2,280,7],[278,8,280,9]]}
[null,null,"（別紙１）"]
[]
[null,null,"【補助対象スキャンツールを設置する事業場】"]
[null,null,"事業場",null,null,"認証・指定\n・認定番号\nまたは、\n整備士\n合格証書番号","設備を設置する事業場名",null,null,null,"所在地（現住所）"]
[]
[]
[]
[]
[null,null,"事業場",null,1,{"$f":"中間シート!D59&\"\"","v":""},{"$f":"中間シート!E59&\"\"","v":""},null,null,null,"〒",{"$f":"IF(中間シート!F59<>\"\",LEFT(中間シート!F59,3)&\"-\"&RIGHT(中間シート!F59,4),\"\")","v":""},null,null,{"$f":"中間シート!G59&中間シート!H59&中間シート!I59&中間シート!J59","v":""}]
[null,null,"事業場",null,2,{"$f":"IF(中間シート!B60=TRUE,中間シート!D60,\"\")&\"\"","v":""},{"$f":"IF(中間シート!B60=TRUE,中間シート!E60,\"\")&\"\"","v":""},null,null,null,"〒",{"$f":"IF(中間シート!B60=TRUE,IF(中間シート!F60<>\"\",LEFT(中間シート!F60,3)&\"-\"&RIGHT(中間シート!F60,4),\"\"),\"\")","v":""},null,null,{"$f":"IF(中間シート!B60=TRUE,中間シート!G60&中間シート!H60&中間シート!I60&中間シート!J60,\"\")","v":""}]
[null,null,"事業場",null,3,{"$f":"中間シート!D61&\"\"","v":""},{"$f":"中間シート!E61&\"\"","v":""},null,null,null,"〒",{"$f":"IF(中間シート!F61<>\"\",LEFT(中間シート!F61,3)&\"-\"&RIGHT(中間シート!F61,4),\"\")","v":""},null,null,{"$f":"中間シート!G61&中間シート!H61&中間シート!I61&中間シート!J61","v":""}]
[null,null,"事業場",null,4,{"$f":"中間シート!D62&\"\"","v":""},{"$f":"中間シート!E62&\"\"","v":""},null,null,null,"〒",{"$f":"IF(中間シート!F62<>\"\",LEFT(中間シート!F62,3)&\"-\"&RIGHT(中間シート!F62,4),\"\")","v":""},null,null,{"$f":"中間シート!G62&中間シート!H62&中間シート!I62&中間シート!J62","v":""}]
[null,null,"事業場",null,5,{"$f":"中間シート!D63&\"\"","v":""},{"$f":"中間シート!E63&\"\"","v":""},null,null,null,"〒",{"$f":"IF(中間シート!F63<>\"\",LEFT(中間シート!F63,3)&\"-\"&RIGHT(中間シート!F63,4),\"\")","v":""},null,null,{"$f":"中間シート!G63&中間シート!H63&中間シート!I63&中間シート!J63","v":""}]
[null,null,"事業場",null,6,{"$f":"中間シート!D64&\"\"","v":""},{"$f":"中間シート!E64&\"\"","v":""},null,null,null,"〒",{"$f":"IF(中間シート!F64<>\"\",LEFT(中間シート!F64,3)&\"-\"&RIGHT(中間シート!F64,4),\"\")","v":""},null,null,{"$f":"中間シート!G64&中間シート!H64&中間シート!I64&中間シート!J64","v":""}]
[null,null,"事業場",null,7,{"$f":"中間シート!D65&\"\"","v":""},{"$f":"中間シート!E65&\"\"","v":""},null,null,null,"〒",{"$f":"IF(中間シート!F65<>\"\",LEFT(中間シート!F65,3)&\"-\"&RIGHT(中間シート!F65,4),\"\")","v":""},null,null,{"$f":"中間シート!G65&中間シート!H65&中間シート!I65&中間シート!J65","v":""}]
[null,null,"事業場",null,8,{"$f":"中間シート!D66&\"\"","v":""},{"$f":"中間シート!E66&\"\"","v":""},null,null,null,"〒",{"$f":"IF(中間シート!F66<>\"\",LEFT(中間シート!F66,3)&\"-\"&RIGHT(中間シート!F66,4),\"\")","v":""},null,null,{"$f":"中間シート!G66&中間シート!H66&中間シート!I66&中間シート!J66","v":""}]
[null,null,"事業場",null,9,{"$f":"中間シート!D67&\"\"","v":""},{"$f":"中間シート!E67&\"\"","v":""},null,null,null,"〒",{"$f":"IF(中間シート!F67<>\"\",LEFT(中間シート!F67,3)&\"-\"&RIGHT(中間シート!F67,4),\"\")","v":""},null,null,{"$f":"中間シート!G67&中間シート!H67&中間シート!I67&中間シート!J67","v":""}]
[null,null,"事業場",null,10,{"$f":"中間シート!D68&\"\"","v":""},{"$f":"中間シート!E68&\"\"","v":""},null,null,null,"〒",{"$f":"IF(中間シート!F68<>\"\",LEFT(中間シート!F68,3)&\"-\"&RIGHT(中間シート!F68,4),\"\")","v":""},null,null,{"$f":"中間シート!G68&中間シート!H68&中間シート!I68&中間シート!J68","v":""}]
[null,null,"事業場",null,11,{"$f":"中間シート!D69&\"\"","v":""},{"$f":"中間シート!E69&\"\"","v":""},null,null,null,"〒",{"$f":"IF(中間シート!F69<>\"\",LEFT(中間シート!F69,3)&\"-\"&RIGHT(中間シート!F69,4),\"\")","v":""},null,null,{"$f":"中間シート!G69&中間シート!H69&中間シート!I69&中間シート!J69","v":""}]
[null,null,"事業場",null,12,{"$f":"中間シート!D70&\"\"","v":""},{"$f":"中間シート!E70&\"\"","v":""},null,null,null,"〒",{"$f":"IF(中間シート!F70<>\"\",LEFT(中間シート!F70,3)&\"-\"&RIGHT(中間シート!F70,4),\"\")","v":""},null,null,{"$f":"中間シート!G70&中間シート!H70&中間シート!I70&中間シート!J70","v":""}]
[null,null,"事業場",null,13,{"$f":"中間シート!D71&\"\"","v":""},{"$f":"中間シート!E71&\"\"","v":""},null,null,null,"〒",{"$f":"IF(中間シート!F71<>\"\",LEFT(中間シート!F71,3)&\"-\"&RIGHT(中間シート!F71,4),\"\")","v":""},null,null,{"$f":"中間シート!G71&中間シート!H71&中間シート!I71&中間シート!J71","v":""}]
[null,null,"事業場",null,14,{"$f":"中間シート!D72&\"\"","v":""},{"$f":"中間シート!E72&\"\"","v":""},null,null,null,"〒",{"$f":"IF(中間シート!F72<>\"\",LEFT(中間シート!F72,3)&\"-\"&RIGHT(中間シート!F72,4),\"\")","v":""},null,null,{"$f":"中間シート!G72&中間シート!H72&中間シート!I72&中間シート!J72","v":""}]
[null,null,"事業場",null,15,{"$f":"中間シート!D73&\"\"","v":""},{"$f":"中間シート!E73&\"\"","v":""},null,null,null,"〒",{"$f":"IF(中間シート!F73<>\"\",LEFT(中間シート!F73,3)&\"-\"&RIGHT(中間シート!F73,4),\"\")","v":""},null,null,{"$f":"中間シート!G73&中間シート!H73&中間シート!I73&中間シート!J73","v":""}]
[null,null,"事業場",null,16,{"$f":"中間シート!D74&\"\"","v":""},{"$f":"中間シート!E74&\"\"","v":""},null,null,null,"〒",{"$f":"IF(中間シート!F74<>\"\",LEFT(中間シート!F74,3)&\"-\"&RIGHT(中間シート!F74,4),\"\")","v":""},null,null,{"$f":"中間シート!G74&中間シート!H74&中間シート!I74&中間シート!J74","v":""}]
[null,null,"事業場",null,17,{"$f":"中間シート!D75&\"\"","v":""},{"$f":"中間シート!E75&\"\"","v":""},null,null,null,"〒",{"$f":"IF(中間シート!F75<>\"\",LEFT(中間シート!F75,3)&\"-\"&RIGHT(中間シート!F75,4),\"\")","v":""},null,null,{"$f":"中間シート!G75&中間シート!H75&中間シート!I75&中間シート!J75","v":""}]
[null,null,"事業場",null,18,{"$f":"中間シート!D76&\"\"","v":""},{"$f":"中間シート!E76&\"\"","v":""},null,null,null,"〒",{"$f":"IF(中間シート!F76<>\"\",LEFT(中間シート!F76,3)&\"-\"&RIGHT(中間シート!F76,4),\"\")","v":""},null,null,{"$f":"中間シート!G76&中間シート!H76&中間シート!I76&中間シート!J76","v":""}]
[null,null,"事業場",null,19,{"$f":"中間シート!D77&\"\"","v":""},{"$f":"中間シート!E77&\"\"","v":""},null,null,null,"〒",{"$f":"IF(中間シート!F77<>\"\",LEFT(中間シート!F77,3)&\"-\"&RIGHT(中間シート!F77,4),\"\")","v":""},null,null,{"$f":"中間シート!G77&中間シート!H77&中間シート!I77&中間シート!J77","v":""}]
[null,null,"事業場",null,20,{"$f":"中間シート!D78&\"\"","v":""},{"$f":"中間シート!E78&\"\"","v":""},null,null,null,"〒",{"$f":"IF(中間シート!F78<>\"\",LEFT(中間シート!F78,3)&\"-\"&RIGHT(中間シート!F78,4),\"\")","v":""},null,null,{"$f":"中間シート!G78&中間シート!H78&中間シート!I78&中間シート!J78","v":""}]
[null,null,"事業場",null,21,{"$f":"中間シート!D79&\"\"","v":""},{"$f":"中間シート!E79&\"\"","v":""},null,null,null,"〒",{"$f":"IF(中間シート!F79<>\"\",LEFT(中間シート!F79,3)&\"-\"&RIGHT(中間シート!F79,4),\"\")","v":""},null,null,{"$f":"中間シート!G79&中間シート!H79&中間シート!I79&中間シート!J79","v":""}]
[null,null,"事業場",null,22,{"$f":"中間シート!D80&\"\"","v":""},{"$f":"中間シート!E80&\"\"","v":""},null,null,null,"〒",{"$f":"IF(中間シート!F80<>\"\",LEFT(中間シート!F80,3)&\"-\"&RIGHT(中間シート!F80,4),\"\")","v":""},null,null,{"$f":"中間シート!G80&中間シート!H80&中間シート!I80&中間シート!J80","v":""}]
[null,null,"事業場",null,23,{"$f":"中間シート!D81&\"\"","v":""},{"$f":"中間シート!E81&\"\"","v":""},null,null,null,"〒",{"$f":"IF(中間シート!F81<>\"\",LEFT(中間シート!F81,3)&\"-\"&RIGHT(中間シート!F81,4),\"\")","v":""},null,null,{"$f":"中間シート!G81&中間シート!H81&中間シート!I81&中間シート!J81","v":""}]
[null,null,"事業場",null,24,{"$f":"中間シート!D82&\"\"","v":""},{"$f":"中間シート!E82&\"\"","v":""},null,null,null,"〒",{"$f":"IF(中間シート!F82<>\"\",LEFT(中間シート!F82,3)&\"-\"&RIGHT(中間シート!F82,4),\"\")","v":""},null,null,{"$f":"中間シート!G82&中間シート!H82&中間シート!I82&中間シート!J82","v":""}]
[null,null,"事業場",null,25,{"$f":"中間シート!D83&\"\"","v":""},{"$f":"中間シート!E83&\"\"","v":""},null,null,null,"〒",{"$f":"IF(中間シート!F83<>\"\",LEFT(中間シート!F83,3)&\"-\"&RIGHT(中間シート!F83,4),\"\")","v":""},null,null,{"$f":"中間シート!G83&中間シート!H83&中間シート!I83&中間シート!J83","v":""}]
[null,null,"事業場",null,26,{"$f":"中間シート!D84&\"\"","v":""},{"$f":"中間シート!E84&\"\"","v":""},null,null,null,"〒",{"$f":"IF(中間シート!F84<>\"\",LEFT(中間シート!F84,3)&\"-\"&RIGHT(中間シート!F84,4),\"\")","v":""},null,null,{"$f":"中間シート!G84&中間シート!H84&中間シート!I84&中間シート!J84","v":""}]
[null,null,"事業場",null,27,{"$f":"中間シート!D85&\"\"","v":""},{"$f":"中間シート!E85&\"\"","v":""},null,null,null,"〒",{"$f":"IF(中間シート!F85<>\"\",LEFT(中間シート!F85,3)&\"-\"&RIGHT(中間シート!F85,4),\"\")","v":""},null,null,{"$f":"中間シート!G85&中間シート!H85&中間シート!I85&中間シート!J85","v":""}]
[null,null,"事業場",null,28,{"$f":"中間シート!D86&\"\"","v":""},{"$f":"中間シート!E86&\"\"","v":""},null,null,null,"〒",{"$f":"IF(中間シート!F86<>\"\",LEFT(中間シート!F86,3)&\"-\"&RIGHT(中間シート!F86,4),\"\")","v":""},null,null,{"$f":"中間シート!G86&中間シート!H86&中間シート!I86&中間シート!J86","v":""}]
[null,null,"事業場",null,29,{"$f":"中間シート!D87&\"\"","v":""},{"$f":"中間シート!E87&\"\"","v":""},null,null,null,"〒",{"$f":"IF(中間シート!F87<>\"\",LEFT(中間シート!F87,3)&\"-\"&RIGHT(中間シート!F87,4),\"\")","v":""},null,null,{"$f":"中間シート!G87&中間シート!H87&中間シート!I87&中間シート!J87","v":""}]
[null,null,"事業場",null,30,{"$f":"中間シート!D88&\"\"","v":""},{"$f":"中間シート!E88&\"\"","v":""},null,null,null,"〒",{"$f":"IF(中間シート!F88<>\"\",LEFT(中間シート!F88,3)&\"-\"&RIGHT(中間シート!F88,4),\"\")","v":""},null,null,{"$f":"中間シート!G88&中間シート!H88&中間シート!I88&中間シート!J88","v":""}]
[null,null,"事業場",null,31,{"$f":"中間シート!D89&\"\"","v":""},{"$f":"中間シート!E89&\"\"","v":""},null,null,null,"〒",{"$f":"IF(中間シート!F89<>\"\",LEFT(中間シート!F89,3)&\"-\"&RIGHT(中間シート!F89,4),\"\")","v":""},null,null,{"$f":"中間シート!G89&中間シート!H89&中間シート!I89&中間シート!J89","v":""}]
[null,null,"事業場",null,32,{"$f":"中間シート!D90&\"\"","v":""},{"$f":"中間シート!E90&\"\"","v":""},null,null,null,"〒",{"$f":"IF(中間シート!F90<>\"\",LEFT(中間シート!F90,3)&\"-\"&RIGHT(中間シート!F90,4),\"\")","v":""},null,null,{"$f":"中間シート!G90&中間シート!H90&中間シート!I90&中間シート!J90","v":""}]
[null,null,"事業場",null,33,{"$f":"中間シート!D91&\"\"","v":""},{"$f":"中間シート!E91&\"\"","v":""},null,null,null,"〒",{"$f":"IF(中間シート!F91<>\"\",LEFT(中間シート!F91,3)&\"-\"&RIGHT(中間シート!F91,4),\"\")","v":""},null,null,{"$f":"中間シート!G91&中間シート!H91&中間シート!I91&中間シート!J91","v":""}]
[null,null,"事業場",null,34,{"$f":"中間シート!D92&\"\"","v":""},{"$f":"中間シート!E92&\"\"","v":""},null,null,null,"〒",{"$f":"IF(中間シート!F92<>\"\",LEFT(中間シート!F92,3)&\"-\"&RIGHT(中間シート!F92,4),\"\")","v":""},null,null,{"$f":"中間シート!G92&中間シート!H92&中間シート!I92&中間シート!J92","v":""}]
[null,null,"事業場",null,35,{"$f":"中間シート!D93&\"\"","v":""},{"$f":"中間シート!E93&\"\"","v":""},null,null,null,"〒",{"$f":"IF(中間シート!F93<>\"\",LEFT(中間シート!F93,3)&\"-\"&RIGHT(中間シート!F93,4),\"\")","v":""},null,null,{"$f":"中間シート!G93&中間シート!H93&中間シート!I93&中間シート!J93","v":""}]
[null,null,"事業場",null,36,{"$f":"中間シート!D94&\"\"","v":""},{"$f":"中間シート!E94&\"\"","v":""},null,null,null,"〒",{"$f":"IF(中間シート!F94<>\"\",LEFT(中間シート!F94,3)&\"-\"&RIGHT(中間シート!F94,4),\"\")","v":""},null,null,{"$f":"中間シート!G94&中間シート!H94&中間シート!I94&中間シート!J94","v":""}]
[null,null,"事業場",null,37,{"$f":"中間シート!D95&\"\"","v":""},{"$f":"中間シート!E95&\"\"","v":""},null,null,null,"〒",{"$f":"IF(中間シート!F95<>\"\",LEFT(中間シート!F95,3)&\"-\"&RIGHT(中間シート!F95,4),\"\")","v":""},null,null,{"$f":"中間シート!G95&中間シート!H95&中間シート!I95&中間シート!J95","v":""}]
[null,null,"事業場",null,38,{"$f":"中間シート!D96&\"\"","v":""},{"$f":"中間シート!E96&\"\"","v":""},null,null,null,"〒",{"$f":"IF(中間シート!F96<>\"\",LEFT(中間シート!F96,3)&\"-\"&RIGHT(中間シート!F96,4),\"\")","v":""},null,null,{"$f":"中間シート!G96&中間シート!H96&中間シート!I96&中間シート!J96","v":""}]
[null,null,"事業場",null,39,{"$f":"中間シート!D97&\"\"","v":""},{"$f":"中間シート!E97&\"\"","v":""},null,null,null,"〒",{"$f":"IF(中間シート!F97<>\"\",LEFT(中間シート!F97,3)&\"-\"&RIGHT(中間シート!F97,4),\"\")","v":""},null,null,{"$f":"中間シート!G97&中間シート!H97&中間シート!I97&中間シート!J97","v":""}]
[null,null,"事業場",null,40,{"$f":"中間シート!D98&\"\"","v":""},{"$f":"中間シート!E98&\"\"","v":""},null,null,null,"〒",{"$f":"IF(中間シート!F98<>\"\",LEFT(中間シート!F98,3)&\"-\"&RIGHT(中間シート!F98,4),\"\")","v":""},null,null,{"$f":"中間シート!G98&中間シート!H98&中間シート!I98&中間シート!J98","v":""}]
[null,null,"事業場",null,41,{"$f":"中間シート!D99&\"\"","v":""},{"$f":"中間シート!E99&\"\"","v":""},null,null,null,"〒",{"$f":"IF(中間シート!F99<>\"\",LEFT(中間シート!F99,3)&\"-\"&RIGHT(中間シート!F99,4),\"\")","v":""},null,null,{"$f":"中間シート!G99&中間シート!H99&中間シート!I99&中間シート!J99","v":""}]
[null,null,"事業場",null,42,{"$f":"中間シート!D100&\"\"","v":""},{"$f":"中間シート!E100&\"\"","v":""},null,null,null,"〒",{"$f":"IF(中間シート!F100<>\"\",LEFT(中間シート!F100,3)&\"-\"&RIGHT(中間シート!F100,4),\"\")","v":""},null,null,{"$f":"中間シート!G100&中間シート!H100&中間シート!I100&中間シート!J100","v":""}]
[null,null,"事業場",null,43,{"$f":"中間シート!D101&\"\"","v":""},{"$f":"中間シート!E101&\"\"","v":""},null,null,null,"〒",{"$f":"IF(中間シート!F101<>\"\",LEFT(中間シート!F101,3)&\"-\"&RIGHT(中間シート!F101,4),\"\")","v":""},null,null,{"$f":"中間シート!G101&中間シート!H101&中間シート!I101&中間シート!J101","v":""}]
[null,null,"事業場",null,44,{"$f":"中間シート!D102&\"\"","v":""},{"$f":"中間シート!E102&\"\"","v":""},null,null,null,"〒",{"$f":"IF(中間シート!F102<>\"\",LEFT(中間シート!F102,3)&\"-\"&RIGHT(中間シート!F102,4),\"\")","v":""},null,null,{"$f":"中間シート!G102&中間シート!H102&中間シート!I102&中間シート!J102","v":""}]
[null,null,"事業場",null,45,{"$f":"中間シート!D103&\"\"","v":""},{"$f":"中間シート!E103&\"\"","v":""},null,null,null,"〒",{"$f":"IF(中間シート!F103<>\"\",LEFT(中間シート!F103,3)&\"-\"&RIGHT(中間シート!F103,4),\"\")","v":""},null,null,{"$f":"中間シート!G103&中間シート!H103&中間シート!I103&中間シート!J103","v":""}]
[null,null,"事業場",null,46,{"$f":"中間シート!D104&\"\"","v":""},{"$f":"中間シート!E104&\"\"","v":""},null,null,null,"〒",{"$f":"IF(中間シート!F104<>\"\",LEFT(中間シート!F104,3)&\"-\"&RIGHT(中間シート!F104,4),\"\")","v":""},null,null,{"$f":"中間シート!G104&中間シート!H104&中間シート!I104&中間シート!J104","v":""}]
[null,null,"事業場",null,47,{"$f":"中間シート!D105&\"\"","v":""},{"$f":"中間シート!E105&\"\"","v":""},null,null,null,"〒",{"$f":"IF(中間シート!F105<>\"\",LEFT(中間シート!F105,3)&\"-\"&RIGHT(中間シート!F105,4),\"\")","v":""},null,null,{"$f":"中間シート!G105&中間シート!H105&中間シート!I105&中間シート!J105","v":""}]
[null,null,"事業場",null,48,{"$f":"中間シート!D106&\"\"","v":""},{"$f":"中間シート!E106&\"\"","v":""},null,null,null,"〒",{"$f":"IF(中間シート!F106<>\"\",LEFT(中間シート!F106,3)&\"-\"&RIGHT(中間シート!F106,4),\"\")","v":""},null,null,{"$f":"中間シート!G106&中間シート!H106&中間シート!I106&中間シート!J106","v":""}]
[null,null,"事業場",null,49,{"$f":"中間シート!D107&\"\"","v":""},{"$f":"中間シート!E107&\"\"","v":""},null,null,null,"〒",{"$f":"IF(中間シート!F107<>\"\",LEFT(中間シート!F107,3)&\"-\"&RIGHT(中間シート!F107,4),\"\")","v":""},null,null,{"$f":"中間シート!G107&中間シート!H107&中間シート!I107&中間シート!J107","v":""}]
[null,null,"事業場",null,50,{"$f":"中間シート!D108&\"\"","v":""},{"$f":"中間シート!E108&\"\"","v":""},null,null,null,"〒",{"$f":"IF(中間シート!F108<>\"\",LEFT(中間シート!F108,3)&\"-\"&RIGHT(中間シート!F108,4),\"\")","v":""},null,null,{"$f":"中間シート!G108&中間シート!H108&中間シート!I108&中間シート!J108","v":""}]
[]
[null,null,"【補助対象スキャンツールの型式等】"]
[null,null,"事業場",null,null,"メーカー名/ｺｰﾄﾞ",null,null,"名称・型式/ｺｰﾄﾞ",null,"品　　番/ｺｰﾄﾞ",null,null,null,null,null,"ｿﾌﾄのﾊﾞｰｼﾞｮﾝ/ｺｰﾄﾞ"]
[{"$f":"中間シート!Y111","v":"事業場９９　９台目"},{"$f":"中間シート!Z111","v":{"$error":"#N/A"}},"事業場",null,1,{"$f":"IFERROR(IF($B62=TRUE,VLOOKUP($H62&$J62&$P62&$R62,補助対象機器一覧0916!$A$1:$E$75,2,FALSE),IF($B62=FALSE,VLOOKUP($A62,中間シート!$C$110:$M$260,8,FALSE),\"\")),\"\")","v":""},null,{"$f":"IF(MID($A62,4,2)<>\"９９\",IF($B62=TRUE,VLOOKUP($A62,中間シート!$C$111:$P$260,3,FALSE),\"\"),\"\")&\"\"","v":""},{"$f":"IFERROR(IF($B62=TRUE,VLOOKUP($H62&$J62&$P62&$R62,補助対象機器一覧0916!$A$1:$E$75,3,FALSE),IF($B62=FALSE,VLOOKUP($A62,中間シート!$C$110:$M$260,9,FALSE),\"\")),\"\")","v":""},{"$f":"IF(MID($A62,4,2)<>\"９９\",IF($B62=TRUE,VLOOKUP($A62,中間シート!$C$111:$P$260,4,FALSE),\"\"),\"\")&\"\"","v":""},{"$f":"IFERROR(IF($B62=TRUE,VLOOKUP($H62&$J62&$P62&$R62,補助対象機器一覧0916!$A$1:$E$75,4,FALSE),IF($B62=FALSE,VLOOKUP($A62,中間シート!$C$110:$M$260,10,FALSE),\"\")),\"\")","v":""},null,null,null,null,{"$f":"IF(MID($A62,4,2)<>\"９９\",IF($B62=TRUE,VLOOKUP($A62,中間シート!$C$111:$P$260,5,FALSE),\"\"),\"\")&\"\"","v":""},{"$f":"IFERROR(IF($B62=TRUE,VLOOKUP($H62&$J62&$P62&$R62,補助対象機器一覧0916!$A$1:$E$75,5,FALSE),IF($B62=FALSE,VLOOKUP($A62,中間シート!$C$110:$M$260,11,FALSE),\"\")),\"\")","v":""},{"$f":"IF(MID($A62,4,2)<>\"９９\",IF($B62=TRUE,VLOOKUP($A62,中間シート!$C$111:$P$260,6,FALSE),\"\"),\"\")&\"\"","v":""}]
[{"$f":"中間シート!Y112","v":"事業場９９　９台目"},{"$f":"中間シート!Z112","v":{"$error":"#N/A"}},"事業場",null,{"$f":"IF(中間シート!W112<>\"99\",中間シート!W112,2)","v":2},{"$f":"IFERROR(IF($B63=TRUE,VLOOKUP($H63&$J63&$P63&$R63,補助対象機器一覧0916!$A$1:$E$75,2,FALSE),IF($B63=FALSE,VLOOKUP($A63,中間シート!$C$110:$M$260,8,FALSE),\"\")),\"\")","v":""},null,{"$f":"IF(MID($A63,4,2)<>\"９９\",IF($B63=TRUE,VLOOKUP($A63,中間シート!$C$111:$P$260,3,FALSE),\"\"),\"\")&\"\"","v":""},{"$f":"IFERROR(IF($B63=TRUE,VLOOKUP($H63&$J63&$P63&$R63,補助対象機器一覧0916!$A$1:$E$75,3,FALSE),IF($B63=FALSE,VLOOKUP($A63,中間シート!$C$110:$M$260,9,FALSE),\"\")),\"\")","v":""},{"$f":"IF(MID($A63,4,2)<>\"９９\",IF($B63=TRUE,VLOOKUP($A63,中間シート!$C$111:$P$260,4,FALSE),\"\"),\"\")&\"\"","v":""},{"$f":"IFERROR(IF($B63=TRUE,VLOOKUP($H63&$J63&$P63&$R63,補助対象機器一覧0916!$A$1:$E$75,4,FALSE),IF($B63=FALSE,VLOOKUP($A63,中間シート!$C$110:$M$260,10,FALSE),\"\")),\"\")","v":""},null,null,null,null,{"$f":"IF(MID($A63,4,2)<>\"９９\",IF($B63=TRUE,VLOOKUP($A63,中間シート!$C$111:$P$260,5,FALSE),\"\"),\"\")&\"\"","v":""},{"$f":"IFERROR(IF($B63=TRUE,VLOOKUP($H63&$J63&$P63&$R63,補助対象機器一覧0916!$A$1:$E$75,5,FALSE),IF($B63=FALSE,VLOOKUP($A63,中間シート!$C$110:$M$260,11,FALSE),\"\")),\"\")","v":""},{"$f":"IF(MID($A63,4,2)<>\"９９\",IF($B63=TRUE,VLOOKUP($A63,中間シート!$C$111:$P$260,6,FALSE),\"\"),\"\")&\"\"","v":""}]
[{"$f":"中間シート!Y113","v":"事業場９９　９台目"},{"$f":"中間シート!Z113","v":{"$error":"#N/A"}},"事業場",null,{"$f":"IF(中間シート!W113<>\"99\",中間シート!W113,\"\")","v":""},{"$f":"IFERROR(IF($B64=TRUE,VLOOKUP($H64&$J64&$P64&$R64,補助対象機器一覧0916!$A$1:$E$75,2,FALSE),IF($B64=FALSE,VLOOKUP($A64,中間シート!$C$110:$M$260,8,FALSE),\"\")),\"\")","v":""},null,{"$f":"IF(MID($A64,4,2)<>\"９９\",IF($B64=TRUE,VLOOKUP($A64,中間シート!$C$111:$P$260,3,FALSE),\"\"),\"\")&\"\"","v":""},{"$f":"IFERROR(IF($B64=TRUE,VLOOKUP($H64&$J64&$P64&$R64,補助対象機器一覧0916!$A$1:$E$75,3,FALSE),IF($B64=FALSE,VLOOKUP($A64,中間シート!$C$110:$M$260,9,FALSE),\"\")),\"\")","v":""},{"$f":"IF(MID($A64,4,2)<>\"９９\",IF($B64=TRUE,VLOOKUP($A64,中間シート!$C$111:$P$260,4,FALSE),\"\"),\"\")&\"\"","v":""},{"$f":"IFERROR(IF($B64=TRUE,VLOOKUP($H64&$J64&$P64&$R64,補助対象機器一覧0916!$A$1:$E$75,4,FALSE),IF($B64=FALSE,VLOOKUP($A64,中間シート!$C$110:$M$260,10,FALSE),\"\")),\"\")","v":""},null,null,null,null,{"$f":"IF(MID($A64,4,2)<>\"９９\",IF($B64=TRUE,VLOOKUP($A64,中間シート!$C$111:$P$260,5,FALSE),\"\"),\"\")&\"\"","v":""},{"$f":"IFERROR(IF($B64=TRUE,VLOOKUP($H64&$J64&$P64&$R64,補助対象機器一覧0916!$A$1:$E$75,5,FALSE),IF($B64=FALSE,VLOOKUP($A64,中間シート!$C$110:$M$260,11,FALSE),\"\")),\"\")","v":""},{"$f":"IF(MID($A64,4,2)<>\"９９\",IF($B64=TRUE,VLOOKUP($A64,中間シート!$C$111:$P$260,6,FALSE),\"\"),\"\")&\"\"","v":""}]
[{"$f":"中間シート!Y114","v":"事業場９９　９台目"},{"$f":"中間シート!Z114","v":{"$error":"#N/A"}},"事業場",null,{"$f":"IF(中間シート!W114<>\"99\",中間シート!W114,\"\")","v":""},{"$f":"IFERROR(IF($B65=TRUE,VLOOKUP($H65&$J65&$P65&$R65,補助対象機器一覧0916!$A$1:$E$75,2,FALSE),IF($B65=FALSE,VLOOKUP($A65,中間シート!$C$110:$M$260,8,FALSE),\"\")),\"\")","v":""},null,{"$f":"IF(MID($A65,4,2)<>\"９９\",IF($B65=TRUE,VLOOKUP($A65,中間シート!$C$111:$P$260,3,FALSE),\"\"),\"\")&\"\"","v":""},{"$f":"IFERROR(IF($B65=TRUE,VLOOKUP($H65&$J65&$P65&$R65,補助対象機器一覧0916!$A$1:$E$75,3,FALSE),IF($B65=FALSE,VLOOKUP($A65,中間シート!$C$110:$M$260,9,FALSE),\"\")),\"\")","v":""},{"$f":"IF(MID($A65,4,2)<>\"９９\",IF($B65=TRUE,VLOOKUP($A65,中間シート!$C$111:$P$260,4,FALSE),\"\"),\"\")&\"\"","v":""},{"$f":"IFERROR(IF($B65=TRUE,VLOOKUP($H65&$J65&$P65&$R65,補助対象機器一覧0916!$A$1:$E$75,4,FALSE),IF($B65=FALSE,VLOOKUP($A65,中間シート!$C$110:$M$260,10,FALSE),\"\")),\"\")","v":""},null,null,null,null,{"$f":"IF(MID($A65,4,2)<>\"９９\",IF($B65=TRUE,VLOOKUP($A65,中間シート!$C$111:$P$260,5,FALSE),\"\"),\"\")&\"\"","v":""},{"$f":"IFERROR(IF($B65=TRUE,VLOOKUP($H65&$J65&$P65&$R65,補助対象機器一覧0916!$A$1:$E$75,5,FALSE),IF($B65=FALSE,VLOOKUP($A65,中間シート!$C$110:$M$260,11,FALSE),\"\")),\"\")","v":""},{"$f":"IF(MID($A65,4,2)<>\"９９\",IF($B65=TRUE,VLOOKUP($A65,中間シート!$C$111:$P$260,6,FALSE),\"\"),\"\")&\"\"","v":""}]
[{"$f":"中間シート!Y115","v":"事業場９９　９台目"},{"$f":"中間シート!Z115","v":{"$error":"#N/A"}},"事業場",null,{"$f":"IF(中間シート!W115<>\"99\",中間シート!W115,\"\")","v":""},{"$f":"IFERROR(IF($B66=TRUE,VLOOKUP($H66&$J66&$P66&$R66,補助対象機器一覧0916!$A$1:$E$75,2,FALSE),IF($B66=FALSE,VLOOKUP($A66,中間シート!$C$110:$M$260,8,FALSE),\"\")),\"\")","v":""},null,{"$f":"IF(MID($A66,4,2)<>\"９９\",IF($B66=TRUE,VLOOKUP($A66,中間シート!$C$111:$P$260,3,FALSE),\"\"),\"\")&\"\"","v":""},{"$f":"IFERROR(IF($B66=TRUE,VLOOKUP($H66&$J66&$P66&$R66,補助対象機器一覧0916!$A$1:$E$75,3,FALSE),IF($B66=FALSE,VLOOKUP($A66,中間シート!$C$110:$M$260,9,FALSE),\"\")),\"\")","v":""},{"$f":"IF(MID($A66,4,2)<>\"９９\",IF($B66=TRUE,VLOOKUP($A66,中間シート!$C$111:$P$260,4,FALSE),\"\"),\"\")&\"\"","v":""},{"$f":"IFERROR(IF($B66=TRUE,VLOOKUP($H66&$J66&$P66&$R66,補助対象機器一覧0916!$A$1:$E$75,4,FALSE),IF($B66=FALSE,VLOOKUP($A66,中間シート!$C$110:$M$260,10,FALSE),\"\")),\"\")","v":""},null,null,null,null,{"$f":"IF(MID($A66,4,2)<>\"９９\",IF($B66=TRUE,VLOOKUP($A66,中間シート!$C$111:$P$260,5,FALSE),\"\"),\"\")&\"\"","v":""},{"$f":"IFERROR(IF($B66=TRUE,VLOOKUP($H66&$J66&$P66&$R66,補助対象機器一覧0916!$A$1:$E$75,5,FALSE),IF($B66=FALSE,VLOOKUP($A66,中間シート!$C$110:$M$260,11,FALSE),\"\")),\"\")","v":""},{"$f":"IF(MID($A66,4,2)<>\"９９\",IF($B66=TRUE,VLOOKUP($A66,中間シート!$C$111:$P$260,6,FALSE),\"\"),\"\")&\"\"","v":""}]
[{"$f":"中間シート!Y116","v":"事業場９９　９台目"},{"$f":"中間シート!Z116","v":{"$error":"#N/A"}},"事業場",null,{"$f":"IF(中間シート!W116<>\"99\",中間シート!W116,\"\")","v":""},{"$f":"IFERROR(IF($B67=TRUE,VLOOKUP($H67&$J67&$P67&$R67,補助対象機器一覧0916!$A$1:$E$75,2,FALSE),IF($B67=FALSE,VLOOKUP($A67,中間シート!$C$110:$M$260,8,FALSE),\"\")),\"\")","v":""},null,{"$f":"IF(MID($A67,4,2)<>\"９９\",IF($B67=TRUE,VLOOKUP($A67,中間シート!$C$111:$P$260,3,FALSE),\"\"),\"\")&\"\"","v":""},{"$f":"IFERROR(IF($B67=TRUE,VLOOKUP($H67&$J67&$P67&$R67,補助対象機器一覧0916!$A$1:$E$75,3,FALSE),IF($B67=FALSE,VLOOKUP($A67,中間シート!$C$110:$M$260,9,FALSE),\"\")),\"\")","v":""},{"$f":"IF(MID($A67,4,2)<>\"９９\",IF($B67=TRUE,VLOOKUP($A67,中間シート!$C$111:$P$260,4,FALSE),\"\"),\"\")&\"\"","v":""},{"$f":"IFERROR(IF($B67=TRUE,VLOOKUP($H67&$J67&$P67&$R67,補助対象機器一覧0916!$A$1:$E$75,4,FALSE),IF($B67=FALSE,VLOOKUP($A67,中間シート!$C$110:$M$260,10,FALSE),\"\")),\"\")","v":""},null,null,null,null,{"$f":"IF(MID($A67,4,2)<>\"９９\",IF($B67=TRUE,VLOOKUP($A67,中間シート!$C$111:$P$260,5,FALSE),\"\"),\"\")&\"\"","v":""},{"$f":"IFERROR(IF($B67=TRUE,VLOOKUP($H67&$J67&$P67&$R67,補助対象機器一覧0916!$A$1:$E$75,5,FALSE),IF($B67=FALSE,VLOOKUP($A67,中間シート!$C$110:$M$260,11,FALSE),\"\")),\"\")","v":""},{"$f":"IF(MID($A67,4,2)<>\"９９\",IF($B67=TRUE,VLOOKUP($A67,中間シート!$C$111:$P$260,6,FALSE),\"\"),\"\")&\"\"","v":""}]
[{"$f":"中間シート!Y117","v":"事業場９９　９台目"},{"$f":"中間シート!Z117","v":{"$error":"#N/A"}},"事業場",null,{"$f":"IF(中間シート!W117<>\"99\",中間シート!W117,\"\")","v":""},{"$f":"IFERROR(IF($B68=TRUE,VLOOKUP($H68&$J68&$P68&$R68,補助対象機器一覧0916!$A$1:$E$75,2,FALSE),IF($B68=FALSE,VLOOKUP($A68,中間シート!$C$110:$M$260,8,FALSE),\"\")),\"\")","v":""},null,{"$f":"IF(MID($A68,4,2)<>\"９９\",IF($B68=TRUE,VLOOKUP($A68,中間シート!$C$111:$P$260,3,FALSE),\"\"),\"\")&\"\"","v":""},{"$f":"IFERROR(IF($B68=TRUE,VLOOKUP($H68&$J68&$P68&$R68,補助対象機器一覧0916!$A$1:$E$75,3,FALSE),IF($B68=FALSE,VLOOKUP($A68,中間シート!$C$110:$M$260,9,FALSE),\"\")),\"\")","v":""},{"$f":"IF(MID($A68,4,2)<>\"９９\",IF($B68=TRUE,VLOOKUP($A68,中間シート!$C$111:$P$260,4,FALSE),\"\"),\"\")&\"\"","v":""},{"$f":"IFERROR(IF($B68=TRUE,VLOOKUP($H68&$J68&$P68&$R68,補助対象機器一覧0916!$A$1:$E$75,4,FALSE),IF($B68=FALSE,VLOOKUP($A68,中間シート!$C$110:$M$260,10,FALSE),\"\")),\"\")","v":""},null,null,null,null,{"$f":"IF(MID($A68,4,2)<>\"９９\",IF($B68=TRUE,VLOOKUP($A68,中間シート!$C$111:$P$260,5,FALSE),\"\"),\"\")&\"\"","v":""},{"$f":"IFERROR(IF($B68=TRUE,VLOOKUP($H68&$J68&$P68&$R68,補助対象機器一覧0916!$A$1:$E$75,5,FALSE),IF($B68=FALSE,VLOOKUP($A68,中間シート!$C$110:$M$260,11,FALSE),\"\")),\"\")","v":""},{"$f":"IF(MID($A68,4,2)<>\"９９\",IF($B68=TRUE,VLOOKUP($A68,中間シート!$C$111:$P$260,6,FALSE),\"\"),\"\")&\"\"","v":""}]
[{"$f":"中間シート!Y118","v":"事業場９９　９台目"},{"$f":"中間シート!Z118","v":{"$error":"#N/A"}},"事業場",null,{"$f":"IF(中間シート!W118<>\"99\",中間シート!W118,\"\")","v":""},{"$f":"IFERROR(IF($B69=TRUE,VLOOKUP($H69&$J69&$P69&$R69,補助対象機器一覧0916!$A$1:$E$75,2,FALSE),IF($B69=FALSE,VLOOKUP($A69,中間シート!$C$110:$M$260,8,FALSE),\"\")),\"\")","v":""},null,{"$f":"IF(MID($A69,4,2)<>\"９９\",IF($B69=TRUE,VLOOKUP($A69,中間シート!$C$111:$P$260,3,FALSE),\"\"),\"\")&\"\"","v":""},{"$f":"IFERROR(IF($B69=TRUE,VLOOKUP($H69&$J69&$P69&$R69,補助対象機器一覧0916!$A$1:$E$75,3,FALSE),IF($B69=FALSE,VLOOKUP($A69,中間シート!$C$110:$M$260,9,FALSE),\"\")),\"\")","v":""},{"$f":"IF(MID($A69,4,2)<>\"９９\",IF($B69=TRUE,VLOOKUP($A69,中間シート!$C$111:$P$260,4,FALSE),\"\"),\"\")&\"\"","v":""},{"$f":"IFERROR(IF($B69=TRUE,VLOOKUP($H69&$J69&$P69&$R69,補助対象機器一覧0916!$A$1:$E$75,4,FALSE),IF($B69=FALSE,VLOOKUP($A69,中間シート!$C$110:$M$260,10,FALSE),\"\")),\"\")","v":""},null,null,null,null,{"$f":"IF(MID($A69,4,2)<>\"９９\",IF($B69=TRUE,VLOOKUP($A69,中間シート!$C$111:$P$260,5,FALSE),\"\"),\"\")&\"\"","v":""},{"$f":"IFERROR(IF($B69=TRUE,VLOOKUP($H69&$J69&$P69&$R69,補助対象機器一覧0916!$A$1:$E$75,5,FALSE),IF($B69=FALSE,VLOOKUP($A69,中間シート!$C$110:$M$260,11,FALSE),\"\")),\"\")","v":""},{"$f":"IF(MID($A69,4,2)<>\"９９\",IF($B69=TRUE,VLOOKUP($A69,中間シート!$C$111:$P$260,6,FALSE),\"\"),\"\")&\"\"","v":""}]
[{"$f":"中間シート!Y119","v":"事業場９９　９台目"},{"$f":"中間シート!Z119","v":{"$error":"#N/A"}},"事業場",null,{"$f":"IF(中間シート!W119<>\"99\",中間シート!W119,\"\")","v":""},{"$f":"IFERROR(IF($B70=TRUE,VLOOKUP($H70&$J70&$P70&$R70,補助対象機器一覧0916!$A$1:$E$75,2,FALSE),IF($B70=FALSE,VLOOKUP($A70,中間シート!$C$110:$M$260,8,FALSE),\"\")),\"\")","v":""},null,{"$f":"IF(MID($A70,4,2)<>\"９９\",IF($B70=TRUE,VLOOKUP($A70,中間シート!$C$111:$P$260,3,FALSE),\"\"),\"\")&\"\"","v":""},{"$f":"IFERROR(IF($B70=TRUE,VLOOKUP($H70&$J70&$P70&$R70,補助対象機器一覧0916!$A$1:$E$75,3,FALSE),IF($B70=FALSE,VLOOKUP($A70,中間シート!$C$110:$M$260,9,FALSE),\"\")),\"\")","v":""},{"$f":"IF(MID($A70,4,2)<>\"９９\",IF($B70=TRUE,VLOOKUP($A70,中間シート!$C$111:$P$260,4,FALSE),\"\"),\"\")&\"\"","v":""},{"$f":"IFERROR(IF($B70=TRUE,VLOOKUP($H70&$J70&$P70&$R70,補助対象機器一覧0916!$A$1:$E$75,4,FALSE),IF($B70=FALSE,VLOOKUP($A70,中間シート!$C$110:$M$260,10,FALSE),\"\")),\"\")","v":""},null,null,null,null,{"$f":"IF(MID($A70,4,2)<>\"９９\",IF($B70=TRUE,VLOOKUP($A70,中間シート!$C$111:$P$260,5,FALSE),\"\"),\"\")&\"\"","v":""},{"$f":"IFERROR(IF($B70=TRUE,VLOOKUP($H70&$J70&$P70&$R70,補助対象機器一覧0916!$A$1:$E$75,5,FALSE),IF($B70=FALSE,VLOOKUP($A70,中間シート!$C$110:$M$260,11,FALSE),\"\")),\"\")","v":""},{"$f":"IF(MID($A70,4,2)<>\"９９\",IF($B70=TRUE,VLOOKUP($A70,中間シート!$C$111:$P$260,6,FALSE),\"\"),\"\")&\"\"","v":""}]
[{"$f":"中間シート!Y120","v":"事業場９９　９台目"},{"$f":"中間シート!Z120","v":{"$error":"#N/A"}},"事業場",null,{"$f":"IF(中間シート!W120<>\"99\",中間シート!W120,\"\")","v":""},{"$f":"IFERROR(IF($B71=TRUE,VLOOKUP($H71&$J71&$P71&$R71,補助対象機器一覧0916!$A$1:$E$75,2,FALSE),IF($B71=FALSE,VLOOKUP($A71,中間シート!$C$110:$M$260,8,FALSE),\"\")),\"\")","v":""},null,{"$f":"IF(MID($A71,4,2)<>\"９９\",IF($B71=TRUE,VLOOKUP($A71,中間シート!$C$111:$P$260,3,FALSE),\"\"),\"\")&\"\"","v":""},{"$f":"IFERROR(IF($B71=TRUE,VLOOKUP($H71&$J71&$P71&$R71,補助対象機器一覧0916!$A$1:$E$75,3,FALSE),IF($B71=FALSE,VLOOKUP($A71,中間シート!$C$110:$M$260,9,FALSE),\"\")),\"\")","v":""},{"$f":"IF(MID($A71,4,2)<>\"９９\",IF($B71=TRUE,VLOOKUP($A71,中間シート!$C$111:$P$260,4,FALSE),\"\"),\"\")&\"\"","v":""},{"$f":"IFERROR(IF($B71=TRUE,VLOOKUP($H71&$J71&$P71&$R71,補助対象機器一覧0916!$A$1:$E$75,4,FALSE),IF($B71=FALSE,VLOOKUP($A71,中間シート!$C$110:$M$260,10,FALSE),\"\")),\"\")","v":""},null,null,null,null,{"$f":"IF(MID($A71,4,2)<>\"９９\",IF($B71=TRUE,VLOOKUP($A71,中間シート!$C$111:$P$260,5,FALSE),\"\"),\"\")&\"\"","v":""},{"$f":"IFERROR(IF($B71=TRUE,VLOOKUP($H71&$J71&$P71&$R71,補助対象機器一覧0916!$A$1:$E$75,5,FALSE),IF($B71=FALSE,VLOOKUP($A71,中間シート!$C$110:$M$260,11,FALSE),\"\")),\"\")","v":""},{"$f":"IF(MID($A71,4,2)<>\"９９\",IF($B71=TRUE,VLOOKUP($A71,中間シート!$C$111:$P$260,6,FALSE),\"\"),\"\")&\"\"","v":""}]
[{"$f":"中間シート!Y121","v":"事業場９９　９台目"},{"$f":"中間シート!Z121","v":{"$error":"#N/A"}},"事業場",null,{"$f":"IF(中間シート!W121<>\"99\",中間シート!W121,\"\")","v":""},{"$f":"IFERROR(IF($B72=TRUE,VLOOKUP($H72&$J72&$P72&$R72,補助対象機器一覧0916!$A$1:$E$75,2,FALSE),IF($B72=FALSE,VLOOKUP($A72,中間シート!$C$110:$M$260,8,FALSE),\"\")),\"\")","v":""},null,{"$f":"IF(MID($A72,4,2)<>\"９９\",IF($B72=TRUE,VLOOKUP($A72,中間シート!$C$111:$P$260,3,FALSE),\"\"),\"\")&\"\"","v":""},{"$f":"IFERROR(IF($B72=TRUE,VLOOKUP($H72&$J72&$P72&$R72,補助対象機器一覧0916!$A$1:$E$75,3,FALSE),IF($B72=FALSE,VLOOKUP($A72,中間シート!$C$110:$M$260,9,FALSE),\"\")),\"\")","v":""},{"$f":"IF(MID($A72,4,2)<>\"９９\",IF($B72=TRUE,VLOOKUP($A72,中間シート!$C$111:$P$260,4,FALSE),\"\"),\"\")&\"\"","v":""},{"$f":"IFERROR(IF($B72=TRUE,VLOOKUP($H72&$J72&$P72&$R72,補助対象機器一覧0916!$A$1:$E$75,4,FALSE),IF($B72=FALSE,VLOOKUP($A72,中間シート!$C$110:$M$260,10,FALSE),\"\")),\"\")","v":""},null,null,null,null,{"$f":"IF(MID($A72,4,2)<>\"９９\",IF($B72=TRUE,VLOOKUP($A72,中間シート!$C$111:$P$260,5,FALSE),\"\"),\"\")&\"\"","v":""},{"$f":"IFERROR(IF($B72=TRUE,VLOOKUP($H72&$J72&$P72&$R72,補助対象機器一覧0916!$A$1:$E$75,5,FALSE),IF($B72=FALSE,VLOOKUP($A72,中間シート!$C$110:$M$260,11,FALSE),\"\")),\"\")","v":""},{"$f":"IF(MID($A72,4,2)<>\"９９\",IF($B72=TRUE,VLOOKUP($A72,中間シート!$C$111:$P$260,6,FALSE),\"\"),\"\")&\"\"","v":""}]
[{"$f":"中間シート!Y122","v":"事業場９９　９台目"},{"$f":"中間シート!Z122","v":{"$error":"#N/A"}},"事業場",null,{"$f":"IF(中間シート!W122<>\"99\",中間シート!W122,\"\")","v":""},{"$f":"IFERROR(IF($B73=TRUE,VLOOKUP($H73&$J73&$P73&$R73,補助対象機器一覧0916!$A$1:$E$75,2,FALSE),IF($B73=FALSE,VLOOKUP($A73,中間シート!$C$110:$M$260,8,FALSE),\"\")),\"\")","v":""},null,{"$f":"IF(MID($A73,4,2)<>\"９９\",IF($B73=TRUE,VLOOKUP($A73,中間シート!$C$111:$P$260,3,FALSE),\"\"),\"\")&\"\"","v":""},{"$f":"IFERROR(IF($B73=TRUE,VLOOKUP($H73&$J73&$P73&$R73,補助対象機器一覧0916!$A$1:$E$75,3,FALSE),IF($B73=FALSE,VLOOKUP($A73,中間シート!$C$110:$M$260,9,FALSE),\"\")),\"\")","v":""},{"$f":"IF(MID($A73,4,2)<>\"９９\",IF($B73=TRUE,VLOOKUP($A73,中間シート!$C$111:$P$260,4,FALSE),\"\"),\"\")&\"\"","v":""},{"$f":"IFERROR(IF($B73=TRUE,VLOOKUP($H73&$J73&$P73&$R73,補助対象機器一覧0916!$A$1:$E$75,4,FALSE),IF($B73=FALSE,VLOOKUP($A73,中間シート!$C$110:$M$260,10,FALSE),\"\")),\"\")","v":""},null,null,null,null,{"$f":"IF(MID($A73,4,2)<>\"９９\",IF($B73=TRUE,VLOOKUP($A73,中間シート!$C$111:$P$260,5,FALSE),\"\"),\"\")&\"\"","v":""},{"$f":"IFERROR(IF($B73=TRUE,VLOOKUP($H73&$J73&$P73&$R73,補助対象機器一覧0916!$A$1:$E$75,5,FALSE),IF($B73=FALSE,VLOOKUP($A73,中間シート!$C$110:$M$260,11,FALSE),\"\")),\"\")","v":""},{"$f":"IF(MID($A73,4,2)<>\"９９\",IF($B73=TRUE,VLOOKUP($A73,中間シート!$C$111:$P$260,6,FALSE),\"\"),\"\")&\"\"","v":""}]
[{"$f":"中間シート!Y123","v":"事業場９９　９台目"},{"$f":"中間シート!Z123","v":{"$error":"#N/A"}},"事業場",null,{"$f":"IF(中間シート!W123<>\"99\",中間シート!W123,\"\")","v":""},{"$f":"IFERROR(IF($B74=TRUE,VLOOKUP($H74&$J74&$P74&$R74,補助対象機器一覧0916!$A$1:$E$75,2,FALSE),IF($B74=FALSE,VLOOKUP($A74,中間シート!$C$110:$M$260,8,FALSE),\"\")),\"\")","v":""},null,{"$f":"IF(MID($A74,4,2)<>\"９９\",IF($B74=TRUE,VLOOKUP($A74,中間シート!$C$111:$P$260,3,FALSE),\"\"),\"\")&\"\"","v":""},{"$f":"IFERROR(IF($B74=TRUE,VLOOKUP($H74&$J74&$P74&$R74,補助対象機器一覧0916!$A$1:$E$75,3,FALSE),IF($B74=FALSE,VLOOKUP($A74,中間シート!$C$110:$M$260,9,FALSE),\"\")),\"\")","v":""},{"$f":"IF(MID($A74,4,2)<>\"９９\",IF($B74=TRUE,VLOOKUP($A74,中間シート!$C$111:$P$260,4,FALSE),\"\"),\"\")&\"\"","v":""},{"$f":"IFERROR(IF($B74=TRUE,VLOOKUP($H74&$J74&$P74&$R74,補助対象機器一覧0916!$A$1:$E$75,4,FALSE),IF($B74=FALSE,VLOOKUP($A74,中間シート!$C$110:$M$260,10,FALSE),\"\")),\"\")","v":""},null,null,null,null,{"$f":"IF(MID($A74,4,2)<>\"９９\",IF($B74=TRUE,VLOOKUP($A74,中間シート!$C$111:$P$260,5,FALSE),\"\"),\"\")&\"\"","v":""},{"$f":"IFERROR(IF($B74=TRUE,VLOOKUP($H74&$J74&$P74&$R74,補助対象機器一覧0916!$A$1:$E$75,5,FALSE),IF($B74=FALSE,VLOOKUP($A74,中間シート!$C$110:$M$260,11,FALSE),\"\")),\"\")","v":""},{"$f":"IF(MID($A74,4,2)<>\"９９\",IF($B74=TRUE,VLOOKUP($A74,中間シート!$C$111:$P$260,6,FALSE),\"\"),\"\")&\"\"","v":""}]
[{"$f":"中間シート!Y124","v":"事業場９９　９台目"},{"$f":"中間シート!Z124","v":{"$error":"#N/A"}},"事業場",null,{"$f":"IF(中間シート!W124<>\"99\",中間シート!W124,\"\")","v":""},{"$f":"IFERROR(IF($B75=TRUE,VLOOKUP($H75&$J75&$P75&$R75,補助対象機器一覧0916!$A$1:$E$75,2,FALSE),IF($B75=FALSE,VLOOKUP($A75,中間シート!$C$110:$M$260,8,FALSE),\"\")),\"\")","v":""},null,{"$f":"IF(MID($A75,4,2)<>\"９９\",IF($B75=TRUE,VLOOKUP($A75,中間シート!$C$111:$P$260,3,FALSE),\"\"),\"\")&\"\"","v":""},{"$f":"IFERROR(IF($B75=TRUE,VLOOKUP($H75&$J75&$P75&$R75,補助対象機器一覧0916!$A$1:$E$75,3,FALSE),IF($B75=FALSE,VLOOKUP($A75,中間シート!$C$110:$M$260,9,FALSE),\"\")),\"\")","v":""},{"$f":"IF(MID($A75,4,2)<>\"９９\",IF($B75=TRUE,VLOOKUP($A75,中間シート!$C$111:$P$260,4,FALSE),\"\"),\"\")&\"\"","v":""},{"$f":"IFERROR(IF($B75=TRUE,VLOOKUP($H75&$J75&$P75&$R75,補助対象機器一覧0916!$A$1:$E$75,4,FALSE),IF($B75=FALSE,VLOOKUP($A75,中間シート!$C$110:$M$260,10,FALSE),\"\")),\"\")","v":""},null,null,null,null,{"$f":"IF(MID($A75,4,2)<>\"９９\",IF($B75=TRUE,VLOOKUP($A75,中間シート!$C$111:$P$260,5,FALSE),\"\"),\"\")&\"\"","v":""},{"$f":"IFERROR(IF($B75=TRUE,VLOOKUP($H75&$J75&$P75&$R75,補助対象機器一覧0916!$A$1:$E$75,5,FALSE),IF($B75=FALSE,VLOOKUP($A75,中間シート!$C$110:$M$260,11,FALSE),\"\")),\"\")","v":""},{"$f":"IF(MID($A75,4,2)<>\"９９\",IF($B75=TRUE,VLOOKUP($A75,中間シート!$C$111:$P$260,6,FALSE),\"\"),\"\")&\"\"","v":""}]
[{"$f":"中間シート!Y125","v":"事業場９９　９台目"},{"$f":"中間シート!Z125","v":{"$error":"#N/A"}},"事業場",null,{"$f":"IF(中間シート!W125<>\"99\",中間シート!W125,\"\")","v":""},{"$f":"IFERROR(IF($B76=TRUE,VLOOKUP($H76&$J76&$P76&$R76,補助対象機器一覧0916!$A$1:$E$75,2,FALSE),IF($B76=FALSE,VLOOKUP($A76,中間シート!$C$110:$M$260,8,FALSE),\"\")),\"\")","v":""},null,{"$f":"IF(MID($A76,4,2)<>\"９９\",IF($B76=TRUE,VLOOKUP($A76,中間シート!$C$111:$P$260,3,FALSE),\"\"),\"\")&\"\"","v":""},{"$f":"IFERROR(IF($B76=TRUE,VLOOKUP($H76&$J76&$P76&$R76,補助対象機器一覧0916!$A$1:$E$75,3,FALSE),IF($B76=FALSE,VLOOKUP($A76,中間シート!$C$110:$M$260,9,FALSE),\"\")),\"\")","v":""},{"$f":"IF(MID($A76,4,2)<>\"９９\",IF($B76=TRUE,VLOOKUP($A76,中間シート!$C$111:$P$260,4,FALSE),\"\"),\"\")&\"\"","v":""},{"$f":"IFERROR(IF($B76=TRUE,VLOOKUP($H76&$J76&$P76&$R76,補助対象機器一覧0916!$A$1:$E$75,4,FALSE),IF($B76=FALSE,VLOOKUP($A76,中間シート!$C$110:$M$260,10,FALSE),\"\")),\"\")","v":""},null,null,null,null,{"$f":"IF(MID($A76,4,2)<>\"９９\",IF($B76=TRUE,VLOOKUP($A76,中間シート!$C$111:$P$260,5,FALSE),\"\"),\"\")&\"\"","v":""},{"$f":"IFERROR(IF($B76=TRUE,VLOOKUP($H76&$J76&$P76&$R76,補助対象機器一覧0916!$A$1:$E$75,5,FALSE),IF($B76=FALSE,VLOOKUP($A76,中間シート!$C$110:$M$260,11,FALSE),\"\")),\"\")","v":""},{"$f":"IF(MID($A76,4,2)<>\"９９\",IF($B76=TRUE,VLOOKUP($A76,中間シート!$C$111:$P$260,6,FALSE),\"\"),\"\")&\"\"","v":""}]
[{"$f":"中間シート!Y126","v":"事業場９９　９台目"},{"$f":"中間シート!Z126","v":{"$error":"#N/A"}},"事業場",null,{"$f":"IF(中間シート!W126<>\"99\",中間シート!W126,\"\")","v":""},{"$f":"IFERROR(IF($B77=TRUE,VLOOKUP($H77&$J77&$P77&$R77,補助対象機器一覧0916!$A$1:$E$75,2,FALSE),IF($B77=FALSE,VLOOKUP($A77,中間シート!$C$110:$M$260,8,FALSE),\"\")),\"\")","v":""},null,{"$f":"IF(MID($A77,4,2)<>\"９９\",IF($B77=TRUE,VLOOKUP($A77,中間シート!$C$111:$P$260,3,FALSE),\"\"),\"\")&\"\"","v":""},{"$f":"IFERROR(IF($B77=TRUE,VLOOKUP($H77&$J77&$P77&$R77,補助対象機器一覧0916!$A$1:$E$75,3,FALSE),IF($B77=FALSE,VLOOKUP($A77,中間シート!$C$110:$M$260,9,FALSE),\"\")),\"\")","v":""},{"$f":"IF(MID($A77,4,2)<>\"９９\",IF($B77=TRUE,VLOOKUP($A77,中間シート!$C$111:$P$260,4,FALSE),\"\"),\"\")&\"\"","v":""},{"$f":"IFERROR(IF($B77=TRUE,VLOOKUP($H77&$J77&$P77&$R77,補助対象機器一覧0916!$A$1:$E$75,4,FALSE),IF($B77=FALSE,VLOOKUP($A77,中間シート!$C$110:$M$260,10,FALSE),\"\")),\"\")","v":""},null,null,null,null,{"$f":"IF(MID($A77,4,2)<>\"９９\",IF($B77=TRUE,VLOOKUP($A77,中間シート!$C$111:$P$260,5,FALSE),\"\"),\"\")&\"\"","v":""},{"$f":"IFERROR(IF($B77=TRUE,VLOOKUP($H77&$J77&$P77&$R77,補助対象機器一覧0916!$A$1:$E$75,5,FALSE),IF($B77=FALSE,VLOOKUP($A77,中間シート!$C$110:$M$260,11,FALSE),\"\")),\"\")","v":""},{"$f":"IF(MID($A77,4,2)<>\"９９\",IF($B77=TRUE,VLOOKUP($A77,中間シート!$C$111:$P$260,6,FALSE),\"\"),\"\")&\"\"","v":""}]
[{"$f":"中間シート!Y127","v":"事業場９９　９台目"},{"$f":"中間シート!Z127","v":{"$error":"#N/A"}},"事業場",null,{"$f":"IF(中間シート!W127<>\"99\",中間シート!W127,\"\")","v":""},{"$f":"IFERROR(IF($B78=TRUE,VLOOKUP($H78&$J78&$P78&$R78,補助対象機器一覧0916!$A$1:$E$75,2,FALSE),IF($B78=FALSE,VLOOKUP($A78,中間シート!$C$110:$M$260,8,FALSE),\"\")),\"\")","v":""},null,{"$f":"IF(MID($A78,4,2)<>\"９９\",IF($B78=TRUE,VLOOKUP($A78,中間シート!$C$111:$P$260,3,FALSE),\"\"),\"\")&\"\"","v":""},{"$f":"IFERROR(IF($B78=TRUE,VLOOKUP($H78&$J78&$P78&$R78,補助対象機器一覧0916!$A$1:$E$75,3,FALSE),IF($B78=FALSE,VLOOKUP($A78,中間シート!$C$110:$M$260,9,FALSE),\"\")),\"\")","v":""},{"$f":"IF(MID($A78,4,2)<>\"９９\",IF($B78=TRUE,VLOOKUP($A78,中間シート!$C$111:$P$260,4,FALSE),\"\"),\"\")&\"\"","v":""},{"$f":"IFERROR(IF($B78=TRUE,VLOOKUP($H78&$J78&$P78&$R78,補助対象機器一覧0916!$A$1:$E$75,4,FALSE),IF($B78=FALSE,VLOOKUP($A78,中間シート!$C$110:$M$260,10,FALSE),\"\")),\"\")","v":""},null,null,null,null,{"$f":"IF(MID($A78,4,2)<>\"９９\",IF($B78=TRUE,VLOOKUP($A78,中間シート!$C$111:$P$260,5,FALSE),\"\"),\"\")&\"\"","v":""},{"$f":"IFERROR(IF($B78=TRUE,VLOOKUP($H78&$J78&$P78&$R78,補助対象機器一覧0916!$A$1:$E$75,5,FALSE),IF($B78=FALSE,VLOOKUP($A78,中間シート!$C$110:$M$260,11,FALSE),\"\")),\"\")","v":""},{"$f":"IF(MID($A78,4,2)<>\"９９\",IF($B78=TRUE,VLOOKUP($A78,中間シート!$C$111:$P$260,6,FALSE),\"\"),\"\")&\"\"","v":""}]
[{"$f":"中間シート!Y128","v":"事業場９９　９台目"},{"$f":"中間シート!Z128","v":{"$error":"#N/A"}},"事業場",null,{"$f":"IF(中間シート!W128<>\"99\",中間シート!W128,\"\")","v":""},{"$f":"IFERROR(IF($B79=TRUE,VLOOKUP($H79&$J79&$P79&$R79,補助対象機器一覧0916!$A$1:$E$75,2,FALSE),IF($B79=FALSE,VLOOKUP($A79,中間シート!$C$110:$M$260,8,FALSE),\"\")),\"\")","v":""},null,{"$f":"IF(MID($A79,4,2)<>\"９９\",IF($B79=TRUE,VLOOKUP($A79,中間シート!$C$111:$P$260,3,FALSE),\"\"),\"\")&\"\"","v":""},{"$f":"IFERROR(IF($B79=TRUE,VLOOKUP($H79&$J79&$P79&$R79,補助対象機器一覧0916!$A$1:$E$75,3,FALSE),IF($B79=FALSE,VLOOKUP($A79,中間シート!$C$110:$M$260,9,FALSE),\"\")),\"\")","v":""},{"$f":"IF(MID($A79,4,2)<>\"９９\",IF($B79=TRUE,VLOOKUP($A79,中間シート!$C$111:$P$260,4,FALSE),\"\"),\"\")&\"\"","v":""},{"$f":"IFERROR(IF($B79=TRUE,VLOOKUP($H79&$J79&$P79&$R79,補助対象機器一覧0916!$A$1:$E$75,4,FALSE),IF($B79=FALSE,VLOOKUP($A79,中間シート!$C$110:$M$260,10,FALSE),\"\")),\"\")","v":""},null,null,null,null,{"$f":"IF(MID($A79,4,2)<>\"９９\",IF($B79=TRUE,VLOOKUP($A79,中間シート!$C$111:$P$260,5,FALSE),\"\"),\"\")&\"\"","v":""},{"$f":"IFERROR(IF($B79=TRUE,VLOOKUP($H79&$J79&$P79&$R79,補助対象機器一覧0916!$A$1:$E$75,5,FALSE),IF($B79=FALSE,VLOOKUP($A79,中間シート!$C$110:$M$260,11,FALSE),\"\")),\"\")","v":""},{"$f":"IF(MID($A79,4,2)<>\"９９\",IF($B79=TRUE,VLOOKUP($A79,中間シート!$C$111:$P$260,6,FALSE),\"\"),\"\")&\"\"","v":""}]
[{"$f":"中間シート!Y129","v":"事業場９９　９台目"},{"$f":"中間シート!Z129","v":{"$error":"#N/A"}},"事業場",null,{"$f":"IF(中間シート!W129<>\"99\",中間シート!W129,\"\")","v":""},{"$f":"IFERROR(IF($B80=TRUE,VLOOKUP($H80&$J80&$P80&$R80,補助対象機器一覧0916!$A$1:$E$75,2,FALSE),IF($B80=FALSE,VLOOKUP($A80,中間シート!$C$110:$M$260,8,FALSE),\"\")),\"\")","v":""},null,{"$f":"IF(MID($A80,4,2)<>\"９９\",IF($B80=TRUE,VLOOKUP($A80,中間シート!$C$111:$P$260,3,FALSE),\"\"),\"\")&\"\"","v":""},{"$f":"IFERROR(IF($B80=TRUE,VLOOKUP($H80&$J80&$P80&$R80,補助対象機器一覧0916!$A$1:$E$75,3,FALSE),IF($B80=FALSE,VLOOKUP($A80,中間シート!$C$110:$M$260,9,FALSE),\"\")),\"\")","v":""},{"$f":"IF(MID($A80,4,2)<>\"９９\",IF($B80=TRUE,VLOOKUP($A80,中間シート!$C$111:$P$260,4,FALSE),\"\"),\"\")&\"\"","v":""},{"$f":"IFERROR(IF($B80=TRUE,VLOOKUP($H80&$J80&$P80&$R80,補助対象機器一覧0916!$A$1:$E$75,4,FALSE),IF($B80=FALSE,VLOOKUP($A80,中間シート!$C$110:$M$260,10,FALSE),\"\")),\"\")","v":""},null,null,null,null,{"$f":"IF(MID($A80,4,2)<>\"９９\",IF($B80=TRUE,VLOOKUP($A80,中間シート!$C$111:$P$260,5,FALSE),\"\"),\"\")&\"\"","v":""},{"$f":"IFERROR(IF($B80=TRUE,VLOOKUP($H80&$J80&$P80&$R80,補助対象機器一覧0916!$A$1:$E$75,5,FALSE),IF($B80=FALSE,VLOOKUP($A80,中間シート!$C$110:$M$260,11,FALSE),\"\")),\"\")","v":""},{"$f":"IF(MID($A80,4,2)<>\"９９\",IF($B80=TRUE,VLOOKUP($A80,中間シート!$C$111:$P$260,6,FALSE),\"\"),\"\")&\"\"","v":""}]
[{"$f":"中間シート!Y130","v":"事業場９９　９台目"},{"$f":"中間シート!Z130","v":{"$error":"#N/A"}},"事業場",null,{"$f":"IF(中間シート!W130<>\"99\",中間シート!W130,\"\")","v":""},{"$f":"IFERROR(IF($B81=TRUE,VLOOKUP($H81&$J81&$P81&$R81,補助対象機器一覧0916!$A$1:$E$75,2,FALSE),IF($B81=FALSE,VLOOKUP($A81,中間シート!$C$110:$M$260,8,FALSE),\"\")),\"\")","v":""},null,{"$f":"IF(MID($A81,4,2)<>\"９９\",IF($B81=TRUE,VLOOKUP($A81,中間シート!$C$111:$P$260,3,FALSE),\"\"),\"\")&\"\"","v":""},{"$f":"IFERROR(IF($B81=TRUE,VLOOKUP($H81&$J81&$P81&$R81,補助対象機器一覧0916!$A$1:$E$75,3,FALSE),IF($B81=FALSE,VLOOKUP($A81,中間シート!$C$110:$M$260,9,FALSE),\"\")),\"\")","v":""},{"$f":"IF(MID($A81,4,2)<>\"９９\",IF($B81=TRUE,VLOOKUP($A81,中間シート!$C$111:$P$260,4,FALSE),\"\"),\"\")&\"\"","v":""},{"$f":"IFERROR(IF($B81=TRUE,VLOOKUP($H81&$J81&$P81&$R81,補助対象機器一覧0916!$A$1:$E$75,4,FALSE),IF($B81=FALSE,VLOOKUP($A81,中間シート!$C$110:$M$260,10,FALSE),\"\")),\"\")","v":""},null,null,null,null,{"$f":"IF(MID($A81,4,2)<>\"９９\",IF($B81=TRUE,VLOOKUP($A81,中間シート!$C$111:$P$260,5,FALSE),\"\"),\"\")&\"\"","v":""},{"$f":"IFERROR(IF($B81=TRUE,VLOOKUP($H81&$J81&$P81&$R81,補助対象機器一覧0916!$A$1:$E$75,5,FALSE),IF($B81=FALSE,VLOOKUP($A81,中間シート!$C$110:$M$260,11,FALSE),\"\")),\"\")","v":""},{"$f":"IF(MID($A81,4,2)<>\"９９\",IF($B81=TRUE,VLOOKUP($A81,中間シート!$C$111:$P$260,6,FALSE),\"\"),\"\")&\"\"","v":""}]
[{"$f":"中間シート!Y131","v":"事業場９９　９台目"},{"$f":"中間シート!Z131","v":{"$error":"#N/A"}},"事業場",null,{"$f":"IF(中間シート!W131<>\"99\",中間シート!W131,\"\")","v":""},{"$f":"IFERROR(IF($B82=TRUE,VLOOKUP($H82&$J82&$P82&$R82,補助対象機器一覧0916!$A$1:$E$75,2,FALSE),IF($B82=FALSE,VLOOKUP($A82,中間シート!$C$110:$M$260,8,FALSE),\"\")),\"\")","v":""},null,{"$f":"IF(MID($A82,4,2)<>\"９９\",IF($B82=TRUE,VLOOKUP($A82,中間シート!$C$111:$P$260,3,FALSE),\"\"),\"\")&\"\"","v":""},{"$f":"IFERROR(IF($B82=TRUE,VLOOKUP($H82&$J82&$P82&$R82,補助対象機器一覧0916!$A$1:$E$75,3,FALSE),IF($B82=FALSE,VLOOKUP($A82,中間シート!$C$110:$M$260,9,FALSE),\"\")),\"\")","v":""},{"$f":"IF(MID($A82,4,2)<>\"９９\",IF($B82=TRUE,VLOOKUP($A82,中間シート!$C$111:$P$260,4,FALSE),\"\"),\"\")&\"\"","v":""},{"$f":"IFERROR(IF($B82=TRUE,VLOOKUP($H82&$J82&$P82&$R82,補助対象機器一覧0916!$A$1:$E$75,4,FALSE),IF($B82=FALSE,VLOOKUP($A82,中間シート!$C$110:$M$260,10,FALSE),\"\")),\"\")","v":""},null,null,null,null,{"$f":"IF(MID($A82,4,2)<>\"９９\",IF($B82=TRUE,VLOOKUP($A82,中間シート!$C$111:$P$260,5,FALSE),\"\"),\"\")&\"\"","v":""},{"$f":"IFERROR(IF($B82=TRUE,VLOOKUP($H82&$J82&$P82&$R82,補助対象機器一覧0916!$A$1:$E$75,5,FALSE),IF($B82=FALSE,VLOOKUP($A82,中間シート!$C$110:$M$260,11,FALSE),\"\")),\"\")","v":""},{"$f":"IF(MID($A82,4,2)<>\"９９\",IF($B82=TRUE,VLOOKUP($A82,中間シート!$C$111:$P$260,6,FALSE),\"\"),\"\")&\"\"","v":""}]
[{"$f":"中間シート!Y132","v":"事業場９９　９台目"},{"$f":"中間シート!Z132","v":{"$error":"#N/A"}},"事業場",null,{"$f":"IF(中間シート!W132<>\"99\",中間シート!W132,\"\")","v":""},{"$f":"IFERROR(IF($B83=TRUE,VLOOKUP($H83&$J83&$P83&$R83,補助対象機器一覧0916!$A$1:$E$75,2,FALSE),IF($B83=FALSE,VLOOKUP($A83,中間シート!$C$110:$M$260,8,FALSE),\"\")),\"\")","v":""},null,{"$f":"IF(MID($A83,4,2)<>\"９９\",IF($B83=TRUE,VLOOKUP($A83,中間シート!$C$111:$P$260,3,FALSE),\"\"),\"\")&\"\"","v":""},{"$f":"IFERROR(IF($B83=TRUE,VLOOKUP($H83&$J83&$P83&$R83,補助対象機器一覧0916!$A$1:$E$75,3,FALSE),IF($B83=FALSE,VLOOKUP($A83,中間シート!$C$110:$M$260,9,FALSE),\"\")),\"\")","v":""},{"$f":"IF(MID($A83,4,2)<>\"９９\",IF($B83=TRUE,VLOOKUP($A83,中間シート!$C$111:$P$260,4,FALSE),\"\"),\"\")&\"\"","v":""},{"$f":"IFERROR(IF($B83=TRUE,VLOOKUP($H83&$J83&$P83&$R83,補助対象機器一覧0916!$A$1:$E$75,4,FALSE),IF($B83=FALSE,VLOOKUP($A83,中間シート!$C$110:$M$260,10,FALSE),\"\")),\"\")","v":""},null,null,null,null,{"$f":"IF(MID($A83,4,2)<>\"９９\",IF($B83=TRUE,VLOOKUP($A83,中間シート!$C$111:$P$260,5,FALSE),\"\"),\"\")&\"\"","v":""},{"$f":"IFERROR(IF($B83=TRUE,VLOOKUP($H83&$J83&$P83&$R83,補助対象機器一覧0916!$A$1:$E$75,5,FALSE),IF($B83=FALSE,VLOOKUP($A83,中間シート!$C$110:$M$260,11,FALSE),\"\")),\"\")","v":""},{"$f":"IF(MID($A83,4,2)<>\"９９\",IF($B83=TRUE,VLOOKUP($A83,中間シート!$C$111:$P$260,6,FALSE),\"\"),\"\")&\"\"","v":""}]
[{"$f":"中間シート!Y133","v":"事業場９９　９台目"},{"$f":"中間シート!Z133","v":{"$error":"#N/A"}},"事業場",null,{"$f":"IF(中間シート!W133<>\"99\",中間シート!W133,\"\")","v":""},{"$f":"IFERROR(IF($B84=TRUE,VLOOKUP($H84&$J84&$P84&$R84,補助対象機器一覧0916!$A$1:$E$75,2,FALSE),IF($B84=FALSE,VLOOKUP($A84,中間シート!$C$110:$M$260,8,FALSE),\"\")),\"\")","v":""},null,{"$f":"IF(MID($A84,4,2)<>\"９９\",IF($B84=TRUE,VLOOKUP($A84,中間シート!$C$111:$P$260,3,FALSE),\"\"),\"\")&\"\"","v":""},{"$f":"IFERROR(IF($B84=TRUE,VLOOKUP($H84&$J84&$P84&$R84,補助対象機器一覧0916!$A$1:$E$75,3,FALSE),IF($B84=FALSE,VLOOKUP($A84,中間シート!$C$110:$M$260,9,FALSE),\"\")),\"\")","v":""},{"$f":"IF(MID($A84,4,2)<>\"９９\",IF($B84=TRUE,VLOOKUP($A84,中間シート!$C$111:$P$260,4,FALSE),\"\"),\"\")&\"\"","v":""},{"$f":"IFERROR(IF($B84=TRUE,VLOOKUP($H84&$J84&$P84&$R84,補助対象機器一覧0916!$A$1:$E$75,4,FALSE),IF($B84=FALSE,VLOOKUP($A84,中間シート!$C$110:$M$260,10,FALSE),\"\")),\"\")","v":""},null,null,null,null,{"$f":"IF(MID($A84,4,2)<>\"９９\",IF($B84=TRUE,VLOOKUP($A84,中間シート!$C$111:$P$260,5,FALSE),\"\"),\"\")&\"\"","v":""},{"$f":"IFERROR(IF($B84=TRUE,VLOOKUP($H84&$J84&$P84&$R84,補助対象機器一覧0916!$A$1:$E$75,5,FALSE),IF($B84=FALSE,VLOOKUP($A84,中間シート!$C$110:$M$260,11,FALSE),\"\")),\"\")","v":""},{"$f":"IF(MID($A84,4,2)<>\"９９\",IF($B84=TRUE,VLOOKUP($A84,中間シート!$C$111:$P$260,6,FALSE),\"\"),\"\")&\"\"","v":""}]
[{"$f":"中間シート!Y134","v":"事業場９９　９台目"},{"$f":"中間シート!Z134","v":{"$error":"#N/A"}},"事業場",null,{"$f":"IF(中間シート!W134<>\"99\",中間シート!W134,\"\")","v":""},{"$f":"IFERROR(IF($B85=TRUE,VLOOKUP($H85&$J85&$P85&$R85,補助対象機器一覧0916!$A$1:$E$75,2,FALSE),IF($B85=FALSE,VLOOKUP($A85,中間シート!$C$110:$M$260,8,FALSE),\"\")),\"\")","v":""},null,{"$f":"IF(MID($A85,4,2)<>\"９９\",IF($B85=TRUE,VLOOKUP($A85,中間シート!$C$111:$P$260,3,FALSE),\"\"),\"\")&\"\"","v":""},{"$f":"IFERROR(IF($B85=TRUE,VLOOKUP($H85&$J85&$P85&$R85,補助対象機器一覧0916!$A$1:$E$75,3,FALSE),IF($B85=FALSE,VLOOKUP($A85,中間シート!$C$110:$M$260,9,FALSE),\"\")),\"\")","v":""},{"$f":"IF(MID($A85,4,2)<>\"９９\",IF($B85=TRUE,VLOOKUP($A85,中間シート!$C$111:$P$260,4,FALSE),\"\"),\"\")&\"\"","v":""},{"$f":"IFERROR(IF($B85=TRUE,VLOOKUP($H85&$J85&$P85&$R85,補助対象機器一覧0916!$A$1:$E$75,4,FALSE),IF($B85=FALSE,VLOOKUP($A85,中間シート!$C$110:$M$260,10,FALSE),\"\")),\"\")","v":""},null,null,null,null,{"$f":"IF(MID($A85,4,2)<>\"９９\",IF($B85=TRUE,VLOOKUP($A85,中間シート!$C$111:$P$260,5,FALSE),\"\"),\"\")&\"\"","v":""},{"$f":"IFERROR(IF($B85=TRUE,VLOOKUP($H85&$J85&$P85&$R85,補助対象機器一覧0916!$A$1:$E$75,5,FALSE),IF($B85=FALSE,VLOOKUP($A85,中間シート!$C$110:$M$260,11,FALSE),\"\")),\"\")","v":""},{"$f":"IF(MID($A85,4,2)<>\"９９\",IF($B85=TRUE,VLOOKUP($A85,中間シート!$C$111:$P$260,6,FALSE),\"\"),\"\")&\"\"","v":""}]
[{"$f":"中間シート!Y135","v":"事業場９９　９台目"},{"$f":"中間シート!Z135","v":{"$error":"#N/A"}},"事業場",null,{"$f":"IF(中間シート!W135<>\"99\",中間シート!W135,\"\")","v":""},{"$f":"IFERROR(IF($B86=TRUE,VLOOKUP($H86&$J86&$P86&$R86,補助対象機器一覧0916!$A$1:$E$75,2,FALSE),IF($B86=FALSE,VLOOKUP($A86,中間シート!$C$110:$M$260,8,FALSE),\"\")),\"\")","v":""},null,{"$f":"IF(MID($A86,4,2)<>\"９９\",IF($B86=TRUE,VLOOKUP($A86,中間シート!$C$111:$P$260,3,FALSE),\"\"),\"\")&\"\"","v":""},{"$f":"IFERROR(IF($B86=TRUE,VLOOKUP($H86&$J86&$P86&$R86,補助対象機器一覧0916!$A$1:$E$75,3,FALSE),IF($B86=FALSE,VLOOKUP($A86,中間シート!$C$110:$M$260,9,FALSE),\"\")),\"\")","v":""},{"$f":"IF(MID($A86,4,2)<>\"９９\",IF($B86=TRUE,VLOOKUP($A86,中間シート!$C$111:$P$260,4,FALSE),\"\"),\"\")&\"\"","v":""},{"$f":"IFERROR(IF($B86=TRUE,VLOOKUP($H86&$J86&$P86&$R86,補助対象機器一覧0916!$A$1:$E$75,4,FALSE),IF($B86=FALSE,VLOOKUP($A86,中間シート!$C$110:$M$260,10,FALSE),\"\")),\"\")","v":""},null,null,null,null,{"$f":"IF(MID($A86,4,2)<>\"９９\",IF($B86=TRUE,VLOOKUP($A86,中間シート!$C$111:$P$260,5,FALSE),\"\"),\"\")&\"\"","v":""},{"$f":"IFERROR(IF($B86=TRUE,VLOOKUP($H86&$J86&$P86&$R86,補助対象機器一覧0916!$A$1:$E$75,5,FALSE),IF($B86=FALSE,VLOOKUP($A86,中間シート!$C$110:$M$260,11,FALSE),\"\")),\"\")","v":""},{"$f":"IF(MID($A86,4,2)<>\"９９\",IF($B86=TRUE,VLOOKUP($A86,中間シート!$C$111:$P$260,6,FALSE),\"\"),\"\")&\"\"","v":""}]
[{"$f":"中間シート!Y136","v":"事業場９９　９台目"},{"$f":"中間シート!Z136","v":{"$error":"#N/A"}},"事業場",null,{"$f":"IF(中間シート!W136<>\"99\",中間シート!W136,\"\")","v":""},{"$f":"IFERROR(IF($B87=TRUE,VLOOKUP($H87&$J87&$P87&$R87,補助対象機器一覧0916!$A$1:$E$75,2,FALSE),IF($B87=FALSE,VLOOKUP($A87,中間シート!$C$110:$M$260,8,FALSE),\"\")),\"\")","v":""},null,{"$f":"IF(MID($A87,4,2)<>\"９９\",IF($B87=TRUE,VLOOKUP($A87,中間シート!$C$111:$P$260,3,FALSE),\"\"),\"\")&\"\"","v":""},{"$f":"IFERROR(IF($B87=TRUE,VLOOKUP($H87&$J87&$P87&$R87,補助対象機器一覧0916!$A$1:$E$75,3,FALSE),IF($B87=FALSE,VLOOKUP($A87,中間シート!$C$110:$M$260,9,FALSE),\"\")),\"\")","v":""},{"$f":"IF(MID($A87,4,2)<>\"９９\",IF($B87=TRUE,VLOOKUP($A87,中間シート!$C$111:$P$260,4,FALSE),\"\"),\"\")&\"\"","v":""},{"$f":"IFERROR(IF($B87=TRUE,VLOOKUP($H87&$J87&$P87&$R87,補助対象機器一覧0916!$A$1:$E$75,4,FALSE),IF($B87=FALSE,VLOOKUP($A87,中間シート!$C$110:$M$260,10,FALSE),\"\")),\"\")","v":""},null,null,null,null,{"$f":"IF(MID($A87,4,2)<>\"９９\",IF($B87=TRUE,VLOOKUP($A87,中間シート!$C$111:$P$260,5,FALSE),\"\"),\"\")&\"\"","v":""},{"$f":"IFERROR(IF($B87=TRUE,VLOOKUP($H87&$J87&$P87&$R87,補助対象機器一覧0916!$A$1:$E$75,5,FALSE),IF($B87=FALSE,VLOOKUP($A87,中間シート!$C$110:$M$260,11,FALSE),\"\")),\"\")","v":""},{"$f":"IF(MID($A87,4,2)<>\"９９\",IF($B87=TRUE,VLOOKUP($A87,中間シート!$C$111:$P$260,6,FALSE),\"\"),\"\")&\"\"","v":""}]
[{"$f":"中間シート!Y137","v":"事業場９９　９台目"},{"$f":"中間シート!Z137","v":{"$error":"#N/A"}},"事業場",null,{"$f":"IF(中間シート!W137<>\"99\",中間シート!W137,\"\")","v":""},{"$f":"IFERROR(IF($B88=TRUE,VLOOKUP($H88&$J88&$P88&$R88,補助対象機器一覧0916!$A$1:$E$75,2,FALSE),IF($B88=FALSE,VLOOKUP($A88,中間シート!$C$110:$M$260,8,FALSE),\"\")),\"\")","v":""},null,{"$f":"IF(MID($A88,4,2)<>\"９９\",IF($B88=TRUE,VLOOKUP($A88,中間シート!$C$111:$P$260,3,FALSE),\"\"),\"\")&\"\"","v":""},{"$f":"IFERROR(IF($B88=TRUE,VLOOKUP($H88&$J88&$P88&$R88,補助対象機器一覧0916!$A$1:$E$75,3,FALSE),IF($B88=FALSE,VLOOKUP($A88,中間シート!$C$110:$M$260,9,FALSE),\"\")),\"\")","v":""},{"$f":"IF(MID($A88,4,2)<>\"９９\",IF($B88=TRUE,VLOOKUP($A88,中間シート!$C$111:$P$260,4,FALSE),\"\"),\"\")&\"\"","v":""},{"$f":"IFERROR(IF($B88=TRUE,VLOOKUP($H88&$J88&$P88&$R88,補助対象機器一覧0916!$A$1:$E$75,4,FALSE),IF($B88=FALSE,VLOOKUP($A88,中間シート!$C$110:$M$260,10,FALSE),\"\")),\"\")","v":""},null,null,null,null,{"$f":"IF(MID($A88,4,2)<>\"９９\",IF($B88=TRUE,VLOOKUP($A88,中間シート!$C$111:$P$260,5,FALSE),\"\"),\"\")&\"\"","v":""},{"$f":"IFERROR(IF($B88=TRUE,VLOOKUP($H88&$J88&$P88&$R88,補助対象機器一覧0916!$A$1:$E$75,5,FALSE),IF($B88=FALSE,VLOOKUP($A88,中間シート!$C$110:$M$260,11,FALSE),\"\")),\"\")","v":""},{"$f":"IF(MID($A88,4,2)<>\"９９\",IF($B88=TRUE,VLOOKUP($A88,中間シート!$C$111:$P$260,6,FALSE),\"\"),\"\")&\"\"","v":""}]
[{"$f":"中間シート!Y138","v":"事業場９９　９台目"},{"$f":"中間シート!Z138","v":{"$error":"#N/A"}},"事業場",null,{"$f":"IF(中間シート!W138<>\"99\",中間シート!W138,\"\")","v":""},{"$f":"IFERROR(IF($B89=TRUE,VLOOKUP($H89&$J89&$P89&$R89,補助対象機器一覧0916!$A$1:$E$75,2,FALSE),IF($B89=FALSE,VLOOKUP($A89,中間シート!$C$110:$M$260,8,FALSE),\"\")),\"\")","v":""},null,{"$f":"IF(MID($A89,4,2)<>\"９９\",IF($B89=TRUE,VLOOKUP($A89,中間シート!$C$111:$P$260,3,FALSE),\"\"),\"\")&\"\"","v":""},{"$f":"IFERROR(IF($B89=TRUE,VLOOKUP($H89&$J89&$P89&$R89,補助対象機器一覧0916!$A$1:$E$75,3,FALSE),IF($B89=FALSE,VLOOKUP($A89,中間シート!$C$110:$M$260,9,FALSE),\"\")),\"\")","v":""},{"$f":"IF(MID($A89,4,2)<>\"９９\",IF($B89=TRUE,VLOOKUP($A89,中間シート!$C$111:$P$260,4,FALSE),\"\"),\"\")&\"\"","v":""},{"$f":"IFERROR(IF($B89=TRUE,VLOOKUP($H89&$J89&$P89&$R89,補助対象機器一覧0916!$A$1:$E$75,4,FALSE),IF($B89=FALSE,VLOOKUP($A89,中間シート!$C$110:$M$260,10,FALSE),\"\")),\"\")","v":""},null,null,null,null,{"$f":"IF(MID($A89,4,2)<>\"９９\",IF($B89=TRUE,VLOOKUP($A89,中間シート!$C$111:$P$260,5,FALSE),\"\"),\"\")&\"\"","v":""},{"$f":"IFERROR(IF($B89=TRUE,VLOOKUP($H89&$J89&$P89&$R89,補助対象機器一覧0916!$A$1:$E$75,5,FALSE),IF($B89=FALSE,VLOOKUP($A89,中間シート!$C$110:$M$260,11,FALSE),\"\")),\"\")","v":""},{"$f":"IF(MID($A89,4,2)<>\"９９\",IF($B89=TRUE,VLOOKUP($A89,中間シート!$C$111:$P$260,6,FALSE),\"\"),\"\")&\"\"","v":""}]
[{"$f":"中間シート!Y139","v":"事業場９９　９台目"},{"$f":"中間シート!Z139","v":{"$error":"#N/A"}},"事業場",null,{"$f":"IF(中間シート!W139<>\"99\",中間シート!W139,\"\")","v":""},{"$f":"IFERROR(IF($B90=TRUE,VLOOKUP($H90&$J90&$P90&$R90,補助対象機器一覧0916!$A$1:$E$75,2,FALSE),IF($B90=FALSE,VLOOKUP($A90,中間シート!$C$110:$M$260,8,FALSE),\"\")),\"\")","v":""},null,{"$f":"IF(MID($A90,4,2)<>\"９９\",IF($B90=TRUE,VLOOKUP($A90,中間シート!$C$111:$P$260,3,FALSE),\"\"),\"\")&\"\"","v":""},{"$f":"IFERROR(IF($B90=TRUE,VLOOKUP($H90&$J90&$P90&$R90,補助対象機器一覧0916!$A$1:$E$75,3,FALSE),IF($B90=FALSE,VLOOKUP($A90,中間シート!$C$110:$M$260,9,FALSE),\"\")),\"\")","v":""},{"$f":"IF(MID($A90,4,2)<>\"９９\",IF($B90=TRUE,VLOOKUP($A90,中間シート!$C$111:$P$260,4,FALSE),\"\"),\"\")&\"\"","v":""},{"$f":"IFERROR(IF($B90=TRUE,VLOOKUP($H90&$J90&$P90&$R90,補助対象機器一覧0916!$A$1:$E$75,4,FALSE),IF($B90=FALSE,VLOOKUP($A90,中間シート!$C$110:$M$260,10,FALSE),\"\")),\"\")","v":""},null,null,null,null,{"$f":"IF(MID($A90,4,2)<>\"９９\",IF($B90=TRUE,VLOOKUP($A90,中間シート!$C$111:$P$260,5,FALSE),\"\"),\"\")&\"\"","v":""},{"$f":"IFERROR(IF($B90=TRUE,VLOOKUP($H90&$J90&$P90&$R90,補助対象機器一覧0916!$A$1:$E$75,5,FALSE),IF($B90=FALSE,VLOOKUP($A90,中間シート!$C$110:$M$260,11,FALSE),\"\")),\"\")","v":""},{"$f":"IF(MID($A90,4,2)<>\"９９\",IF($B90=TRUE,VLOOKUP($A90,中間シート!$C$111:$P$260,6,FALSE),\"\"),\"\")&\"\"","v":""}]
[{"$f":"中間シート!Y140","v":"事業場９９　９台目"},{"$f":"中間シート!Z140","v":{"$error":"#N/A"}},"事業場",null,{"$f":"IF(中間シート!W140<>\"99\",中間シート!W140,\"\")","v":""},{"$f":"IFERROR(IF($B91=TRUE,VLOOKUP($H91&$J91&$P91&$R91,補助対象機器一覧0916!$A$1:$E$75,2,FALSE),IF($B91=FALSE,VLOOKUP($A91,中間シート!$C$110:$M$260,8,FALSE),\"\")),\"\")","v":""},null,{"$f":"IF(MID($A91,4,2)<>\"９９\",IF($B91=TRUE,VLOOKUP($A91,中間シート!$C$111:$P$260,3,FALSE),\"\"),\"\")&\"\"","v":""},{"$f":"IFERROR(IF($B91=TRUE,VLOOKUP($H91&$J91&$P91&$R91,補助対象機器一覧0916!$A$1:$E$75,3,FALSE),IF($B91=FALSE,VLOOKUP($A91,中間シート!$C$110:$M$260,9,FALSE),\"\")),\"\")","v":""},{"$f":"IF(MID($A91,4,2)<>\"９９\",IF($B91=TRUE,VLOOKUP($A91,中間シート!$C$111:$P$260,4,FALSE),\"\"),\"\")&\"\"","v":""},{"$f":"IFERROR(IF($B91=TRUE,VLOOKUP($H91&$J91&$P91&$R91,補助対象機器一覧0916!$A$1:$E$75,4,FALSE),IF($B91=FALSE,VLOOKUP($A91,中間シート!$C$110:$M$260,10,FALSE),\"\")),\"\")","v":""},null,null,null,null,{"$f":"IF(MID($A91,4,2)<>\"９９\",IF($B91=TRUE,VLOOKUP($A91,中間シート!$C$111:$P$260,5,FALSE),\"\"),\"\")&\"\"","v":""},{"$f":"IFERROR(IF($B91=TRUE,VLOOKUP($H91&$J91&$P91&$R91,補助対象機器一覧0916!$A$1:$E$75,5,FALSE),IF($B91=FALSE,VLOOKUP($A91,中間シート!$C$110:$M$260,11,FALSE),\"\")),\"\")","v":""},{"$f":"IF(MID($A91,4,2)<>\"９９\",IF($B91=TRUE,VLOOKUP($A91,中間シート!$C$111:$P$260,6,FALSE),\"\"),\"\")&\"\"","v":""}]
[{"$f":"中間シート!Y141","v":"事業場９９　９台目"},{"$f":"中間シート!Z141","v":{"$error":"#N/A"}},"事業場",null,{"$f":"IF(中間シート!W141<>\"99\",中間シート!W141,\"\")","v":""},{"$f":"IFERROR(IF($B92=TRUE,VLOOKUP($H92&$J92&$P92&$R92,補助対象機器一覧0916!$A$1:$E$75,2,FALSE),IF($B92=FALSE,VLOOKUP($A92,中間シート!$C$110:$M$260,8,FALSE),\"\")),\"\")","v":""},null,{"$f":"IF(MID($A92,4,2)<>\"９９\",IF($B92=TRUE,VLOOKUP($A92,中間シート!$C$111:$P$260,3,FALSE),\"\"),\"\")&\"\"","v":""},{"$f":"IFERROR(IF($B92=TRUE,VLOOKUP($H92&$J92&$P92&$R92,補助対象機器一覧0916!$A$1:$E$75,3,FALSE),IF($B92=FALSE,VLOOKUP($A92,中間シート!$C$110:$M$260,9,FALSE),\"\")),\"\")","v":""},{"$f":"IF(MID($A92,4,2)<>\"９９\",IF($B92=TRUE,VLOOKUP($A92,中間シート!$C$111:$P$260,4,FALSE),\"\"),\"\")&\"\"","v":""},{"$f":"IFERROR(IF($B92=TRUE,VLOOKUP($H92&$J92&$P92&$R92,補助対象機器一覧0916!$A$1:$E$75,4,FALSE),IF($B92=FALSE,VLOOKUP($A92,中間シート!$C$110:$M$260,10,FALSE),\"\")),\"\")","v":""},null,null,null,null,{"$f":"IF(MID($A92,4,2)<>\"９９\",IF($B92=TRUE,VLOOKUP($A92,中間シート!$C$111:$P$260,5,FALSE),\"\"),\"\")&\"\"","v":""},{"$f":"IFERROR(IF($B92=TRUE,VLOOKUP($H92&$J92&$P92&$R92,補助対象機器一覧0916!$A$1:$E$75,5,FALSE),IF($B92=FALSE,VLOOKUP($A92,中間シート!$C$110:$M$260,11,FALSE),\"\")),\"\")","v":""},{"$f":"IF(MID($A92,4,2)<>\"９９\",IF($B92=TRUE,VLOOKUP($A92,中間シート!$C$111:$P$260,6,FALSE),\"\"),\"\")&\"\"","v":""}]
[{"$f":"中間シート!Y142","v":"事業場９９　９台目"},{"$f":"中間シート!Z142","v":{"$error":"#N/A"}},"事業場",null,{"$f":"IF(中間シート!W142<>\"99\",中間シート!W142,\"\")","v":""},{"$f":"IFERROR(IF($B93=TRUE,VLOOKUP($H93&$J93&$P93&$R93,補助対象機器一覧0916!$A$1:$E$75,2,FALSE),IF($B93=FALSE,VLOOKUP($A93,中間シート!$C$110:$M$260,8,FALSE),\"\")),\"\")","v":""},null,{"$f":"IF(MID($A93,4,2)<>\"９９\",IF($B93=TRUE,VLOOKUP($A93,中間シート!$C$111:$P$260,3,FALSE),\"\"),\"\")&\"\"","v":""},{"$f":"IFERROR(IF($B93=TRUE,VLOOKUP($H93&$J93&$P93&$R93,補助対象機器一覧0916!$A$1:$E$75,3,FALSE),IF($B93=FALSE,VLOOKUP($A93,中間シート!$C$110:$M$260,9,FALSE),\"\")),\"\")","v":""},{"$f":"IF(MID($A93,4,2)<>\"９９\",IF($B93=TRUE,VLOOKUP($A93,中間シート!$C$111:$P$260,4,FALSE),\"\"),\"\")&\"\"","v":""},{"$f":"IFERROR(IF($B93=TRUE,VLOOKUP($H93&$J93&$P93&$R93,補助対象機器一覧0916!$A$1:$E$75,4,FALSE),IF($B93=FALSE,VLOOKUP($A93,中間シート!$C$110:$M$260,10,FALSE),\"\")),\"\")","v":""},null,null,null,null,{"$f":"IF(MID($A93,4,2)<>\"９９\",IF($B93=TRUE,VLOOKUP($A93,中間シート!$C$111:$P$260,5,FALSE),\"\"),\"\")&\"\"","v":""},{"$f":"IFERROR(IF($B93=TRUE,VLOOKUP($H93&$J93&$P93&$R93,補助対象機器一覧0916!$A$1:$E$75,5,FALSE),IF($B93=FALSE,VLOOKUP($A93,中間シート!$C$110:$M$260,11,FALSE),\"\")),\"\")","v":""},{"$f":"IF(MID($A93,4,2)<>\"９９\",IF($B93=TRUE,VLOOKUP($A93,中間シート!$C$111:$P$260,6,FALSE),\"\"),\"\")&\"\"","v":""}]
[{"$f":"中間シート!Y143","v":"事業場９９　９台目"},{"$f":"中間シート!Z143","v":{"$error":"#N/A"}},"事業場",null,{"$f":"IF(中間シート!W143<>\"99\",中間シート!W143,\"\")","v":""},{"$f":"IFERROR(IF($B94=TRUE,VLOOKUP($H94&$J94&$P94&$R94,補助対象機器一覧0916!$A$1:$E$75,2,FALSE),IF($B94=FALSE,VLOOKUP($A94,中間シート!$C$110:$M$260,8,FALSE),\"\")),\"\")","v":""},null,{"$f":"IF(MID($A94,4,2)<>\"９９\",IF($B94=TRUE,VLOOKUP($A94,中間シート!$C$111:$P$260,3,FALSE),\"\"),\"\")&\"\"","v":""},{"$f":"IFERROR(IF($B94=TRUE,VLOOKUP($H94&$J94&$P94&$R94,補助対象機器一覧0916!$A$1:$E$75,3,FALSE),IF($B94=FALSE,VLOOKUP($A94,中間シート!$C$110:$M$260,9,FALSE),\"\")),\"\")","v":""},{"$f":"IF(MID($A94,4,2)<>\"９９\",IF($B94=TRUE,VLOOKUP($A94,中間シート!$C$111:$P$260,4,FALSE),\"\"),\"\")&\"\"","v":""},{"$f":"IFERROR(IF($B94=TRUE,VLOOKUP($H94&$J94&$P94&$R94,補助対象機器一覧0916!$A$1:$E$75,4,FALSE),IF($B94=FALSE,VLOOKUP($A94,中間シート!$C$110:$M$260,10,FALSE),\"\")),\"\")","v":""},null,null,null,null,{"$f":"IF(MID($A94,4,2)<>\"９９\",IF($B94=TRUE,VLOOKUP($A94,中間シート!$C$111:$P$260,5,FALSE),\"\"),\"\")&\"\"","v":""},{"$f":"IFERROR(IF($B94=TRUE,VLOOKUP($H94&$J94&$P94&$R94,補助対象機器一覧0916!$A$1:$E$75,5,FALSE),IF($B94=FALSE,VLOOKUP($A94,中間シート!$C$110:$M$260,11,FALSE),\"\")),\"\")","v":""},{"$f":"IF(MID($A94,4,2)<>\"９９\",IF($B94=TRUE,VLOOKUP($A94,中間シート!$C$111:$P$260,6,FALSE),\"\"),\"\")&\"\"","v":""}]
[{"$f":"中間シート!Y144","v":"事業場９９　９台目"},{"$f":"中間シート!Z144","v":{"$error":"#N/A"}},"事業場",null,{"$f":"IF(中間シート!W144<>\"99\",中間シート!W144,\"\")","v":""},{"$f":"IFERROR(IF($B95=TRUE,VLOOKUP($H95&$J95&$P95&$R95,補助対象機器一覧0916!$A$1:$E$75,2,FALSE),IF($B95=FALSE,VLOOKUP($A95,中間シート!$C$110:$M$260,8,FALSE),\"\")),\"\")","v":""},null,{"$f":"IF(MID($A95,4,2)<>\"９９\",IF($B95=TRUE,VLOOKUP($A95,中間シート!$C$111:$P$260,3,FALSE),\"\"),\"\")&\"\"","v":""},{"$f":"IFERROR(IF($B95=TRUE,VLOOKUP($H95&$J95&$P95&$R95,補助対象機器一覧0916!$A$1:$E$75,3,FALSE),IF($B95=FALSE,VLOOKUP($A95,中間シート!$C$110:$M$260,9,FALSE),\"\")),\"\")","v":""},{"$f":"IF(MID($A95,4,2)<>\"９９\",IF($B95=TRUE,VLOOKUP($A95,中間シート!$C$111:$P$260,4,FALSE),\"\"),\"\")&\"\"","v":""},{"$f":"IFERROR(IF($B95=TRUE,VLOOKUP($H95&$J95&$P95&$R95,補助対象機器一覧0916!$A$1:$E$75,4,FALSE),IF($B95=FALSE,VLOOKUP($A95,中間シート!$C$110:$M$260,10,FALSE),\"\")),\"\")","v":""},null,null,null,null,{"$f":"IF(MID($A95,4,2)<>\"９９\",IF($B95=TRUE,VLOOKUP($A95,中間シート!$C$111:$P$260,5,FALSE),\"\"),\"\")&\"\"","v":""},{"$f":"IFERROR(IF($B95=TRUE,VLOOKUP($H95&$J95&$P95&$R95,補助対象機器一覧0916!$A$1:$E$75,5,FALSE),IF($B95=FALSE,VLOOKUP($A95,中間シート!$C$110:$M$260,11,FALSE),\"\")),\"\")","v":""},{"$f":"IF(MID($A95,4,2)<>\"９９\",IF($B95=TRUE,VLOOKUP($A95,中間シート!$C$111:$P$260,6,FALSE),\"\"),\"\")&\"\"","v":""}]
[{"$f":"中間シート!Y145","v":"事業場９９　９台目"},{"$f":"中間シート!Z145","v":{"$error":"#N/A"}},"事業場",null,{"$f":"IF(中間シート!W145<>\"99\",中間シート!W145,\"\")","v":""},{"$f":"IFERROR(IF($B96=TRUE,VLOOKUP($H96&$J96&$P96&$R96,補助対象機器一覧0916!$A$1:$E$75,2,FALSE),IF($B96=FALSE,VLOOKUP($A96,中間シート!$C$110:$M$260,8,FALSE),\"\")),\"\")","v":""},null,{"$f":"IF(MID($A96,4,2)<>\"９９\",IF($B96=TRUE,VLOOKUP($A96,中間シート!$C$111:$P$260,3,FALSE),\"\"),\"\")&\"\"","v":""},{"$f":"IFERROR(IF($B96=TRUE,VLOOKUP($H96&$J96&$P96&$R96,補助対象機器一覧0916!$A$1:$E$75,3,FALSE),IF($B96=FALSE,VLOOKUP($A96,中間シート!$C$110:$M$260,9,FALSE),\"\")),\"\")","v":""},{"$f":"IF(MID($A96,4,2)<>\"９９\",IF($B96=TRUE,VLOOKUP($A96,中間シート!$C$111:$P$260,4,FALSE),\"\"),\"\")&\"\"","v":""},{"$f":"IFERROR(IF($B96=TRUE,VLOOKUP($H96&$J96&$P96&$R96,補助対象機器一覧0916!$A$1:$E$75,4,FALSE),IF($B96=FALSE,VLOOKUP($A96,中間シート!$C$110:$M$260,10,FALSE),\"\")),\"\")","v":""},null,null,null,null,{"$f":"IF(MID($A96,4,2)<>\"９９\",IF($B96=TRUE,VLOOKUP($A96,中間シート!$C$111:$P$260,5,FALSE),\"\"),\"\")&\"\"","v":""},{"$f":"IFERROR(IF($B96=TRUE,VLOOKUP($H96&$J96&$P96&$R96,補助対象機器一覧0916!$A$1:$E$75,5,FALSE),IF($B96=FALSE,VLOOKUP($A96,中間シート!$C$110:$M$260,11,FALSE),\"\")),\"\")","v":""},{"$f":"IF(MID($A96,4,2)<>\"９９\",IF($B96=TRUE,VLOOKUP($A96,中間シート!$C$111:$P$260,6,FALSE),\"\"),\"\")&\"\"","v":""}]
[{"$f":"中間シート!Y146","v":"事業場９９　９台目"},{"$f":"中間シート!Z146","v":{"$error":"#N/A"}},"事業場",null,{"$f":"IF(中間シート!W146<>\"99\",中間シート!W146,\"\")","v":""},{"$f":"IFERROR(IF($B97=TRUE,VLOOKUP($H97&$J97&$P97&$R97,補助対象機器一覧0916!$A$1:$E$75,2,FALSE),IF($B97=FALSE,VLOOKUP($A97,中間シート!$C$110:$M$260,8,FALSE),\"\")),\"\")","v":""},null,{"$f":"IF(MID($A97,4,2)<>\"９９\",IF($B97=TRUE,VLOOKUP($A97,中間シート!$C$111:$P$260,3,FALSE),\"\"),\"\")&\"\"","v":""},{"$f":"IFERROR(IF($B97=TRUE,VLOOKUP($H97&$J97&$P97&$R97,補助対象機器一覧0916!$A$1:$E$75,3,FALSE),IF($B97=FALSE,VLOOKUP($A97,中間シート!$C$110:$M$260,9,FALSE),\"\")),\"\")","v":""},{"$f":"IF(MID($A97,4,2)<>\"９９\",IF($B97=TRUE,VLOOKUP($A97,中間シート!$C$111:$P$260,4,FALSE),\"\"),\"\")&\"\"","v":""},{"$f":"IFERROR(IF($B97=TRUE,VLOOKUP($H97&$J97&$P97&$R97,補助対象機器一覧0916!$A$1:$E$75,4,FALSE),IF($B97=FALSE,VLOOKUP($A97,中間シート!$C$110:$M$260,10,FALSE),\"\")),\"\")","v":""},null,null,null,null,{"$f":"IF(MID($A97,4,2)<>\"９９\",IF($B97=TRUE,VLOOKUP($A97,中間シート!$C$111:$P$260,5,FALSE),\"\"),\"\")&\"\"","v":""},{"$f":"IFERROR(IF($B97=TRUE,VLOOKUP($H97&$J97&$P97&$R97,補助対象機器一覧0916!$A$1:$E$75,5,FALSE),IF($B97=FALSE,VLOOKUP($A97,中間シート!$C$110:$M$260,11,FALSE),\"\")),\"\")","v":""},{"$f":"IF(MID($A97,4,2)<>\"９９\",IF($B97=TRUE,VLOOKUP($A97,中間シート!$C$111:$P$260,6,FALSE),\"\"),\"\")&\"\"","v":""}]
[{"$f":"中間シート!Y147","v":"事業場９９　９台目"},{"$f":"中間シート!Z147","v":{"$error":"#N/A"}},"事業場",null,{"$f":"IF(中間シート!W147<>\"99\",中間シート!W147,\"\")","v":""},{"$f":"IFERROR(IF($B98=TRUE,VLOOKUP($H98&$J98&$P98&$R98,補助対象機器一覧0916!$A$1:$E$75,2,FALSE),IF($B98=FALSE,VLOOKUP($A98,中間シート!$C$110:$M$260,8,FALSE),\"\")),\"\")","v":""},null,{"$f":"IF(MID($A98,4,2)<>\"９９\",IF($B98=TRUE,VLOOKUP($A98,中間シート!$C$111:$P$260,3,FALSE),\"\"),\"\")&\"\"","v":""},{"$f":"IFERROR(IF($B98=TRUE,VLOOKUP($H98&$J98&$P98&$R98,補助対象機器一覧0916!$A$1:$E$75,3,FALSE),IF($B98=FALSE,VLOOKUP($A98,中間シート!$C$110:$M$260,9,FALSE),\"\")),\"\")","v":""},{"$f":"IF(MID($A98,4,2)<>\"９９\",IF($B98=TRUE,VLOOKUP($A98,中間シート!$C$111:$P$260,4,FALSE),\"\"),\"\")&\"\"","v":""},{"$f":"IFERROR(IF($B98=TRUE,VLOOKUP($H98&$J98&$P98&$R98,補助対象機器一覧0916!$A$1:$E$75,4,FALSE),IF($B98=FALSE,VLOOKUP($A98,中間シート!$C$110:$M$260,10,FALSE),\"\")),\"\")","v":""},null,null,null,null,{"$f":"IF(MID($A98,4,2)<>\"９９\",IF($B98=TRUE,VLOOKUP($A98,中間シート!$C$111:$P$260,5,FALSE),\"\"),\"\")&\"\"","v":""},{"$f":"IFERROR(IF($B98=TRUE,VLOOKUP($H98&$J98&$P98&$R98,補助対象機器一覧0916!$A$1:$E$75,5,FALSE),IF($B98=FALSE,VLOOKUP($A98,中間シート!$C$110:$M$260,11,FALSE),\"\")),\"\")","v":""},{"$f":"IF(MID($A98,4,2)<>\"９９\",IF($B98=TRUE,VLOOKUP($A98,中間シート!$C$111:$P$260,6,FALSE),\"\"),\"\")&\"\"","v":""}]
[{"$f":"中間シート!Y148","v":"事業場９９　９台目"},{"$f":"中間シート!Z148","v":{"$error":"#N/A"}},"事業場",null,{"$f":"IF(中間シート!W148<>\"99\",中間シート!W148,\"\")","v":""},{"$f":"IFERROR(IF($B99=TRUE,VLOOKUP($H99&$J99&$P99&$R99,補助対象機器一覧0916!$A$1:$E$75,2,FALSE),IF($B99=FALSE,VLOOKUP($A99,中間シート!$C$110:$M$260,8,FALSE),\"\")),\"\")","v":""},null,{"$f":"IF(MID($A99,4,2)<>\"９９\",IF($B99=TRUE,VLOOKUP($A99,中間シート!$C$111:$P$260,3,FALSE),\"\"),\"\")&\"\"","v":""},{"$f":"IFERROR(IF($B99=TRUE,VLOOKUP($H99&$J99&$P99&$R99,補助対象機器一覧0916!$A$1:$E$75,3,FALSE),IF($B99=FALSE,VLOOKUP($A99,中間シート!$C$110:$M$260,9,FALSE),\"\")),\"\")","v":""},{"$f":"IF(MID($A99,4,2)<>\"９９\",IF($B99=TRUE,VLOOKUP($A99,中間シート!$C$111:$P$260,4,FALSE),\"\"),\"\")&\"\"","v":""},{"$f":"IFERROR(IF($B99=TRUE,VLOOKUP($H99&$J99&$P99&$R99,補助対象機器一覧0916!$A$1:$E$75,4,FALSE),IF($B99=FALSE,VLOOKUP($A99,中間シート!$C$110:$M$260,10,FALSE),\"\")),\"\")","v":""},null,null,null,null,{"$f":"IF(MID($A99,4,2)<>\"９９\",IF($B99=TRUE,VLOOKUP($A99,中間シート!$C$111:$P$260,5,FALSE),\"\"),\"\")&\"\"","v":""},{"$f":"IFERROR(IF($B99=TRUE,VLOOKUP($H99&$J99&$P99&$R99,補助対象機器一覧0916!$A$1:$E$75,5,FALSE),IF($B99=FALSE,VLOOKUP($A99,中間シート!$C$110:$M$260,11,FALSE),\"\")),\"\")","v":""},{"$f":"IF(MID($A99,4,2)<>\"９９\",IF($B99=TRUE,VLOOKUP($A99,中間シート!$C$111:$P$260,6,FALSE),\"\"),\"\")&\"\"","v":""}]
[{"$f":"中間シート!Y149","v":"事業場９９　９台目"},{"$f":"中間シート!Z149","v":{"$error":"#N/A"}},"事業場",null,{"$f":"IF(中間シート!W149<>\"99\",中間シート!W149,\"\")","v":""},{"$f":"IFERROR(IF($B100=TRUE,VLOOKUP($H100&$J100&$P100&$R100,補助対象機器一覧0916!$A$1:$E$75,2,FALSE),IF($B100=FALSE,VLOOKUP($A100,中間シート!$C$110:$M$260,8,FALSE),\"\")),\"\")","v":""},null,{"$f":"IF(MID($A100,4,2)<>\"９９\",IF($B100=TRUE,VLOOKUP($A100,中間シート!$C$111:$P$260,3,FALSE),\"\"),\"\")&\"\"","v":""},{"$f":"IFERROR(IF($B100=TRUE,VLOOKUP($H100&$J100&$P100&$R100,補助対象機器一覧0916!$A$1:$E$75,3,FALSE),IF($B100=FALSE,VLOOKUP($A100,中間シート!$C$110:$M$260,9,FALSE),\"\")),\"\")","v":""},{"$f":"IF(MID($A100,4,2)<>\"９９\",IF($B100=TRUE,VLOOKUP($A100,中間シート!$C$111:$P$260,4,FALSE),\"\"),\"\")&\"\"","v":""},{"$f":"IFERROR(IF($B100=TRUE,VLOOKUP($H100&$J100&$P100&$R100,補助対象機器一覧0916!$A$1:$E$75,4,FALSE),IF($B100=FALSE,VLOOKUP($A100,中間シート!$C$110:$M$260,10,FALSE),\"\")),\"\")","v":""},null,null,null,null,{"$f":"IF(MID($A100,4,2)<>\"９９\",IF($B100=TRUE,VLOOKUP($A100,中間シート!$C$111:$P$260,5,FALSE),\"\"),\"\")&\"\"","v":""},{"$f":"IFERROR(IF($B100=TRUE,VLOOKUP($H100&$J100&$P100&$R100,補助対象機器一覧0916!$A$1:$E$75,5,FALSE),IF($B100=FALSE,VLOOKUP($A100,中間シート!$C$110:$M$260,11,FALSE),\"\")),\"\")","v":""},{"$f":"IF(MID($A100,4,2)<>\"９９\",IF($B100=TRUE,VLOOKUP($A100,中間シート!$C$111:$P$260,6,FALSE),\"\"),\"\")&\"\"","v":""}]
[{"$f":"中間シート!Y150","v":"事業場９９　９台目"},{"$f":"中間シート!Z150","v":{"$error":"#N/A"}},"事業場",null,{"$f":"IF(中間シート!W150<>\"99\",中間シート!W150,\"\")","v":""},{"$f":"IFERROR(IF($B101=TRUE,VLOOKUP($H101&$J101&$P101&$R101,補助対象機器一覧0916!$A$1:$E$75,2,FALSE),IF($B101=FALSE,VLOOKUP($A101,中間シート!$C$110:$M$260,8,FALSE),\"\")),\"\")","v":""},null,{"$f":"IF(MID($A101,4,2)<>\"９９\",IF($B101=TRUE,VLOOKUP($A101,中間シート!$C$111:$P$260,3,FALSE),\"\"),\"\")&\"\"","v":""},{"$f":"IFERROR(IF($B101=TRUE,VLOOKUP($H101&$J101&$P101&$R101,補助対象機器一覧0916!$A$1:$E$75,3,FALSE),IF($B101=FALSE,VLOOKUP($A101,中間シート!$C$110:$M$260,9,FALSE),\"\")),\"\")","v":""},{"$f":"IF(MID($A101,4,2)<>\"９９\",IF($B101=TRUE,VLOOKUP($A101,中間シート!$C$111:$P$260,4,FALSE),\"\"),\"\")&\"\"","v":""},{"$f":"IFERROR(IF($B101=TRUE,VLOOKUP($H101&$J101&$P101&$R101,補助対象機器一覧0916!$A$1:$E$75,4,FALSE),IF($B101=FALSE,VLOOKUP($A101,中間シート!$C$110:$M$260,10,FALSE),\"\")),\"\")","v":""},null,null,null,null,{"$f":"IF(MID($A101,4,2)<>\"９９\",IF($B101=TRUE,VLOOKUP($A101,中間シート!$C$111:$P$260,5,FALSE),\"\"),\"\")&\"\"","v":""},{"$f":"IFERROR(IF($B101=TRUE,VLOOKUP($H101&$J101&$P101&$R101,補助対象機器一覧0916!$A$1:$E$75,5,FALSE),IF($B101=FALSE,VLOOKUP($A101,中間シート!$C$110:$M$260,11,FALSE),\"\")),\"\")","v":""},{"$f":"IF(MID($A101,4,2)<>\"９９\",IF($B101=TRUE,VLOOKUP($A101,中間シート!$C$111:$P$260,6,FALSE),\"\"),\"\")&\"\"","v":""}]
[{"$f":"中間シート!Y151","v":"事業場９９　９台目"},{"$f":"中間シート!Z151","v":{"$error":"#N/A"}},"事業場",null,{"$f":"IF(中間シート!W151<>\"99\",中間シート!W151,\"\")","v":""},{"$f":"IFERROR(IF($B102=TRUE,VLOOKUP($H102&$J102&$P102&$R102,補助対象機器一覧0916!$A$1:$E$75,2,FALSE),IF($B102=FALSE,VLOOKUP($A102,中間シート!$C$110:$M$260,8,FALSE),\"\")),\"\")","v":""},null,{"$f":"IF(MID($A102,4,2)<>\"９９\",IF($B102=TRUE,VLOOKUP($A102,中間シート!$C$111:$P$260,3,FALSE),\"\"),\"\")&\"\"","v":""},{"$f":"IFERROR(IF($B102=TRUE,VLOOKUP($H102&$J102&$P102&$R102,補助対象機器一覧0916!$A$1:$E$75,3,FALSE),IF($B102=FALSE,VLOOKUP($A102,中間シート!$C$110:$M$260,9,FALSE),\"\")),\"\")","v":""},{"$f":"IF(MID($A102,4,2)<>\"９９\",IF($B102=TRUE,VLOOKUP($A102,中間シート!$C$111:$P$260,4,FALSE),\"\"),\"\")&\"\"","v":""},{"$f":"IFERROR(IF($B102=TRUE,VLOOKUP($H102&$J102&$P102&$R102,補助対象機器一覧0916!$A$1:$E$75,4,FALSE),IF($B102=FALSE,VLOOKUP($A102,中間シート!$C$110:$M$260,10,FALSE),\"\")),\"\")","v":""},null,null,null,null,{"$f":"IF(MID($A102,4,2)<>\"９９\",IF($B102=TRUE,VLOOKUP($A102,中間シート!$C$111:$P$260,5,FALSE),\"\"),\"\")&\"\"","v":""},{"$f":"IFERROR(IF($B102=TRUE,VLOOKUP($H102&$J102&$P102&$R102,補助対象機器一覧0916!$A$1:$E$75,5,FALSE),IF($B102=FALSE,VLOOKUP($A102,中間シート!$C$110:$M$260,11,FALSE),\"\")),\"\")","v":""},{"$f":"IF(MID($A102,4,2)<>\"９９\",IF($B102=TRUE,VLOOKUP($A102,中間シート!$C$111:$P$260,6,FALSE),\"\"),\"\")&\"\"","v":""}]
[{"$f":"中間シート!Y152","v":"事業場９９　９台目"},{"$f":"中間シート!Z152","v":{"$error":"#N/A"}},"事業場",null,{"$f":"IF(中間シート!W152<>\"99\",中間シート!W152,\"\")","v":""},{"$f":"IFERROR(IF($B103=TRUE,VLOOKUP($H103&$J103&$P103&$R103,補助対象機器一覧0916!$A$1:$E$75,2,FALSE),IF($B103=FALSE,VLOOKUP($A103,中間シート!$C$110:$M$260,8,FALSE),\"\")),\"\")","v":""},null,{"$f":"IF(MID($A103,4,2)<>\"９９\",IF($B103=TRUE,VLOOKUP($A103,中間シート!$C$111:$P$260,3,FALSE),\"\"),\"\")&\"\"","v":""},{"$f":"IFERROR(IF($B103=TRUE,VLOOKUP($H103&$J103&$P103&$R103,補助対象機器一覧0916!$A$1:$E$75,3,FALSE),IF($B103=FALSE,VLOOKUP($A103,中間シート!$C$110:$M$260,9,FALSE),\"\")),\"\")","v":""},{"$f":"IF(MID($A103,4,2)<>\"９９\",IF($B103=TRUE,VLOOKUP($A103,中間シート!$C$111:$P$260,4,FALSE),\"\"),\"\")&\"\"","v":""},{"$f":"IFERROR(IF($B103=TRUE,VLOOKUP($H103&$J103&$P103&$R103,補助対象機器一覧0916!$A$1:$E$75,4,FALSE),IF($B103=FALSE,VLOOKUP($A103,中間シート!$C$110:$M$260,10,FALSE),\"\")),\"\")","v":""},null,null,null,null,{"$f":"IF(MID($A103,4,2)<>\"９９\",IF($B103=TRUE,VLOOKUP($A103,中間シート!$C$111:$P$260,5,FALSE),\"\"),\"\")&\"\"","v":""},{"$f":"IFERROR(IF($B103=TRUE,VLOOKUP($H103&$J103&$P103&$R103,補助対象機器一覧0916!$A$1:$E$75,5,FALSE),IF($B103=FALSE,VLOOKUP($A103,中間シート!$C$110:$M$260,11,FALSE),\"\")),\"\")","v":""},{"$f":"IF(MID($A103,4,2)<>\"９９\",IF($B103=TRUE,VLOOKUP($A103,中間シート!$C$111:$P$260,6,FALSE),\"\"),\"\")&\"\"","v":""}]
[{"$f":"中間シート!Y153","v":"事業場９９　９台目"},{"$f":"中間シート!Z153","v":{"$error":"#N/A"}},"事業場",null,{"$f":"IF(中間シート!W153<>\"99\",中間シート!W153,\"\")","v":""},{"$f":"IFERROR(IF($B104=TRUE,VLOOKUP($H104&$J104&$P104&$R104,補助対象機器一覧0916!$A$1:$E$75,2,FALSE),IF($B104=FALSE,VLOOKUP($A104,中間シート!$C$110:$M$260,8,FALSE),\"\")),\"\")","v":""},null,{"$f":"IF(MID($A104,4,2)<>\"９９\",IF($B104=TRUE,VLOOKUP($A104,中間シート!$C$111:$P$260,3,FALSE),\"\"),\"\")&\"\"","v":""},{"$f":"IFERROR(IF($B104=TRUE,VLOOKUP($H104&$J104&$P104&$R104,補助対象機器一覧0916!$A$1:$E$75,3,FALSE),IF($B104=FALSE,VLOOKUP($A104,中間シート!$C$110:$M$260,9,FALSE),\"\")),\"\")","v":""},{"$f":"IF(MID($A104,4,2)<>\"９９\",IF($B104=TRUE,VLOOKUP($A104,中間シート!$C$111:$P$260,4,FALSE),\"\"),\"\")&\"\"","v":""},{"$f":"IFERROR(IF($B104=TRUE,VLOOKUP($H104&$J104&$P104&$R104,補助対象機器一覧0916!$A$1:$E$75,4,FALSE),IF($B104=FALSE,VLOOKUP($A104,中間シート!$C$110:$M$260,10,FALSE),\"\")),\"\")","v":""},null,null,null,null,{"$f":"IF(MID($A104,4,2)<>\"９９\",IF($B104=TRUE,VLOOKUP($A104,中間シート!$C$111:$P$260,5,FALSE),\"\"),\"\")&\"\"","v":""},{"$f":"IFERROR(IF($B104=TRUE,VLOOKUP($H104&$J104&$P104&$R104,補助対象機器一覧0916!$A$1:$E$75,5,FALSE),IF($B104=FALSE,VLOOKUP($A104,中間シート!$C$110:$M$260,11,FALSE),\"\")),\"\")","v":""},{"$f":"IF(MID($A104,4,2)<>\"９９\",IF($B104=TRUE,VLOOKUP($A104,中間シート!$C$111:$P$260,6,FALSE),\"\"),\"\")&\"\"","v":""}]
[{"$f":"中間シート!Y154","v":"事業場９９　９台目"},{"$f":"中間シート!Z154","v":{"$error":"#N/A"}},"事業場",null,{"$f":"IF(中間シート!W154<>\"99\",中間シート!W154,\"\")","v":""},{"$f":"IFERROR(IF($B105=TRUE,VLOOKUP($H105&$J105&$P105&$R105,補助対象機器一覧0916!$A$1:$E$75,2,FALSE),IF($B105=FALSE,VLOOKUP($A105,中間シート!$C$110:$M$260,8,FALSE),\"\")),\"\")","v":""},null,{"$f":"IF(MID($A105,4,2)<>\"９９\",IF($B105=TRUE,VLOOKUP($A105,中間シート!$C$111:$P$260,3,FALSE),\"\"),\"\")&\"\"","v":""},{"$f":"IFERROR(IF($B105=TRUE,VLOOKUP($H105&$J105&$P105&$R105,補助対象機器一覧0916!$A$1:$E$75,3,FALSE),IF($B105=FALSE,VLOOKUP($A105,中間シート!$C$110:$M$260,9,FALSE),\"\")),\"\")","v":""},{"$f":"IF(MID($A105,4,2)<>\"９９\",IF($B105=TRUE,VLOOKUP($A105,中間シート!$C$111:$P$260,4,FALSE),\"\"),\"\")&\"\"","v":""},{"$f":"IFERROR(IF($B105=TRUE,VLOOKUP($H105&$J105&$P105&$R105,補助対象機器一覧0916!$A$1:$E$75,4,FALSE),IF($B105=FALSE,VLOOKUP($A105,中間シート!$C$110:$M$260,10,FALSE),\"\")),\"\")","v":""},null,null,null,null,{"$f":"IF(MID($A105,4,2)<>\"９９\",IF($B105=TRUE,VLOOKUP($A105,中間シート!$C$111:$P$260,5,FALSE),\"\"),\"\")&\"\"","v":""},{"$f":"IFERROR(IF($B105=TRUE,VLOOKUP($H105&$J105&$P105&$R105,補助対象機器一覧0916!$A$1:$E$75,5,FALSE),IF($B105=FALSE,VLOOKUP($A105,中間シート!$C$110:$M$260,11,FALSE),\"\")),\"\")","v":""},{"$f":"IF(MID($A105,4,2)<>\"９９\",IF($B105=TRUE,VLOOKUP($A105,中間シート!$C$111:$P$260,6,FALSE),\"\"),\"\")&\"\"","v":""}]
[{"$f":"中間シート!Y155","v":"事業場９９　９台目"},{"$f":"中間シート!Z155","v":{"$error":"#N/A"}},"事業場",null,{"$f":"IF(中間シート!W155<>\"99\",中間シート!W155,\"\")","v":""},{"$f":"IFERROR(IF($B106=TRUE,VLOOKUP($H106&$J106&$P106&$R106,補助対象機器一覧0916!$A$1:$E$75,2,FALSE),IF($B106=FALSE,VLOOKUP($A106,中間シート!$C$110:$M$260,8,FALSE),\"\")),\"\")","v":""},null,{"$f":"IF(MID($A106,4,2)<>\"９９\",IF($B106=TRUE,VLOOKUP($A106,中間シート!$C$111:$P$260,3,FALSE),\"\"),\"\")&\"\"","v":""},{"$f":"IFERROR(IF($B106=TRUE,VLOOKUP($H106&$J106&$P106&$R106,補助対象機器一覧0916!$A$1:$E$75,3,FALSE),IF($B106=FALSE,VLOOKUP($A106,中間シート!$C$110:$M$260,9,FALSE),\"\")),\"\")","v":""},{"$f":"IF(MID($A106,4,2)<>\"９９\",IF($B106=TRUE,VLOOKUP($A106,中間シート!$C$111:$P$260,4,FALSE),\"\"),\"\")&\"\"","v":""},{"$f":"IFERROR(IF($B106=TRUE,VLOOKUP($H106&$J106&$P106&$R106,補助対象機器一覧0916!$A$1:$E$75,4,FALSE),IF($B106=FALSE,VLOOKUP($A106,中間シート!$C$110:$M$260,10,FALSE),\"\")),\"\")","v":""},null,null,null,null,{"$f":"IF(MID($A106,4,2)<>\"９９\",IF($B106=TRUE,VLOOKUP($A106,中間シート!$C$111:$P$260,5,FALSE),\"\"),\"\")&\"\"","v":""},{"$f":"IFERROR(IF($B106=TRUE,VLOOKUP($H106&$J106&$P106&$R106,補助対象機器一覧0916!$A$1:$E$75,5,FALSE),IF($B106=FALSE,VLOOKUP($A106,中間シート!$C$110:$M$260,11,FALSE),\"\")),\"\")","v":""},{"$f":"IF(MID($A106,4,2)<>\"９９\",IF($B106=TRUE,VLOOKUP($A106,中間シート!$C$111:$P$260,6,FALSE),\"\"),\"\")&\"\"","v":""}]
[{"$f":"中間シート!Y156","v":"事業場９９　９台目"},{"$f":"中間シート!Z156","v":{"$error":"#N/A"}},"事業場",null,{"$f":"IF(中間シート!W156<>\"99\",中間シート!W156,\"\")","v":""},{"$f":"IFERROR(IF($B107=TRUE,VLOOKUP($H107&$J107&$P107&$R107,補助対象機器一覧0916!$A$1:$E$75,2,FALSE),IF($B107=FALSE,VLOOKUP($A107,中間シート!$C$110:$M$260,8,FALSE),\"\")),\"\")","v":""},null,{"$f":"IF(MID($A107,4,2)<>\"９９\",IF($B107=TRUE,VLOOKUP($A107,中間シート!$C$111:$P$260,3,FALSE),\"\"),\"\")&\"\"","v":""},{"$f":"IFERROR(IF($B107=TRUE,VLOOKUP($H107&$J107&$P107&$R107,補助対象機器一覧0916!$A$1:$E$75,3,FALSE),IF($B107=FALSE,VLOOKUP($A107,中間シート!$C$110:$M$260,9,FALSE),\"\")),\"\")","v":""},{"$f":"IF(MID($A107,4,2)<>\"９９\",IF($B107=TRUE,VLOOKUP($A107,中間シート!$C$111:$P$260,4,FALSE),\"\"),\"\")&\"\"","v":""},{"$f":"IFERROR(IF($B107=TRUE,VLOOKUP($H107&$J107&$P107&$R107,補助対象機器一覧0916!$A$1:$E$75,4,FALSE),IF($B107=FALSE,VLOOKUP($A107,中間シート!$C$110:$M$260,10,FALSE),\"\")),\"\")","v":""},null,null,null,null,{"$f":"IF(MID($A107,4,2)<>\"９９\",IF($B107=TRUE,VLOOKUP($A107,中間シート!$C$111:$P$260,5,FALSE),\"\"),\"\")&\"\"","v":""},{"$f":"IFERROR(IF($B107=TRUE,VLOOKUP($H107&$J107&$P107&$R107,補助対象機器一覧0916!$A$1:$E$75,5,FALSE),IF($B107=FALSE,VLOOKUP($A107,中間シート!$C$110:$M$260,11,FALSE),\"\")),\"\")","v":""},{"$f":"IF(MID($A107,4,2)<>\"９９\",IF($B107=TRUE,VLOOKUP($A107,中間シート!$C$111:$P$260,6,FALSE),\"\"),\"\")&\"\"","v":""}]
[{"$f":"中間シート!Y157","v":"事業場９９　９台目"},{"$f":"中間シート!Z157","v":{"$error":"#N/A"}},"事業場",null,{"$f":"IF(中間シート!W157<>\"99\",中間シート!W157,\"\")","v":""},{"$f":"IFERROR(IF($B108=TRUE,VLOOKUP($H108&$J108&$P108&$R108,補助対象機器一覧0916!$A$1:$E$75,2,FALSE),IF($B108=FALSE,VLOOKUP($A108,中間シート!$C$110:$M$260,8,FALSE),\"\")),\"\")","v":""},null,{"$f":"IF(MID($A108,4,2)<>\"９９\",IF($B108=TRUE,VLOOKUP($A108,中間シート!$C$111:$P$260,3,FALSE),\"\"),\"\")&\"\"","v":""},{"$f":"IFERROR(IF($B108=TRUE,VLOOKUP($H108&$J108&$P108&$R108,補助対象機器一覧0916!$A$1:$E$75,3,FALSE),IF($B108=FALSE,VLOOKUP($A108,中間シート!$C$110:$M$260,9,FALSE),\"\")),\"\")","v":""},{"$f":"IF(MID($A108,4,2)<>\"９９\",IF($B108=TRUE,VLOOKUP($A108,中間シート!$C$111:$P$260,4,FALSE),\"\"),\"\")&\"\"","v":""},{"$f":"IFERROR(IF($B108=TRUE,VLOOKUP($H108&$J108&$P108&$R108,補助対象機器一覧0916!$A$1:$E$75,4,FALSE),IF($B108=FALSE,VLOOKUP($A108,中間シート!$C$110:$M$260,10,FALSE),\"\")),\"\")","v":""},null,null,null,null,{"$f":"IF(MID($A108,4,2)<>\"９９\",IF($B108=TRUE,VLOOKUP($A108,中間シート!$C$111:$P$260,5,FALSE),\"\"),\"\")&\"\"","v":""},{"$f":"IFERROR(IF($B108=TRUE,VLOOKUP($H108&$J108&$P108&$R108,補助対象機器一覧0916!$A$1:$E$75,5,FALSE),IF($B108=FALSE,VLOOKUP($A108,中間シート!$C$110:$M$260,11,FALSE),\"\")),\"\")","v":""},{"$f":"IF(MID($A108,4,2)<>\"９９\",IF($B108=TRUE,VLOOKUP($A108,中間シート!$C$111:$P$260,6,FALSE),\"\"),\"\")&\"\"","v":""}]
[{"$f":"中間シート!Y158","v":"事業場９９　９台目"},{"$f":"中間シート!Z158","v":{"$error":"#N/A"}},"事業場",null,{"$f":"IF(中間シート!W158<>\"99\",中間シート!W158,\"\")","v":""},{"$f":"IFERROR(IF($B109=TRUE,VLOOKUP($H109&$J109&$P109&$R109,補助対象機器一覧0916!$A$1:$E$75,2,FALSE),IF($B109=FALSE,VLOOKUP($A109,中間シート!$C$110:$M$260,8,FALSE),\"\")),\"\")","v":""},null,{"$f":"IF(MID($A109,4,2)<>\"９９\",IF($B109=TRUE,VLOOKUP($A109,中間シート!$C$111:$P$260,3,FALSE),\"\"),\"\")&\"\"","v":""},{"$f":"IFERROR(IF($B109=TRUE,VLOOKUP($H109&$J109&$P109&$R109,補助対象機器一覧0916!$A$1:$E$75,3,FALSE),IF($B109=FALSE,VLOOKUP($A109,中間シート!$C$110:$M$260,9,FALSE),\"\")),\"\")","v":""},{"$f":"IF(MID($A109,4,2)<>\"９９\",IF($B109=TRUE,VLOOKUP($A109,中間シート!$C$111:$P$260,4,FALSE),\"\"),\"\")&\"\"","v":""},{"$f":"IFERROR(IF($B109=TRUE,VLOOKUP($H109&$J109&$P109&$R109,補助対象機器一覧0916!$A$1:$E$75,4,FALSE),IF($B109=FALSE,VLOOKUP($A109,中間シート!$C$110:$M$260,10,FALSE),\"\")),\"\")","v":""},null,null,null,null,{"$f":"IF(MID($A109,4,2)<>\"９９\",IF($B109=TRUE,VLOOKUP($A109,中間シート!$C$111:$P$260,5,FALSE),\"\"),\"\")&\"\"","v":""},{"$f":"IFERROR(IF($B109=TRUE,VLOOKUP($H109&$J109&$P109&$R109,補助対象機器一覧0916!$A$1:$E$75,5,FALSE),IF($B109=FALSE,VLOOKUP($A109,中間シート!$C$110:$M$260,11,FALSE),\"\")),\"\")","v":""},{"$f":"IF(MID($A109,4,2)<>\"９９\",IF($B109=TRUE,VLOOKUP($A109,中間シート!$C$111:$P$260,6,FALSE),\"\"),\"\")&\"\"","v":""}]
[{"$f":"中間シート!Y159","v":"事業場９９　９台目"},{"$f":"中間シート!Z159","v":{"$error":"#N/A"}},"事業場",null,{"$f":"IF(中間シート!W159<>\"99\",中間シート!W159,\"\")","v":""},{"$f":"IFERROR(IF($B110=TRUE,VLOOKUP($H110&$J110&$P110&$R110,補助対象機器一覧0916!$A$1:$E$75,2,FALSE),IF($B110=FALSE,VLOOKUP($A110,中間シート!$C$110:$M$260,8,FALSE),\"\")),\"\")","v":""},null,{"$f":"IF(MID($A110,4,2)<>\"９９\",IF($B110=TRUE,VLOOKUP($A110,中間シート!$C$111:$P$260,3,FALSE),\"\"),\"\")&\"\"","v":""},{"$f":"IFERROR(IF($B110=TRUE,VLOOKUP($H110&$J110&$P110&$R110,補助対象機器一覧0916!$A$1:$E$75,3,FALSE),IF($B110=FALSE,VLOOKUP($A110,中間シート!$C$110:$M$260,9,FALSE),\"\")),\"\")","v":""},{"$f":"IF(MID($A110,4,2)<>\"９９\",IF($B110=TRUE,VLOOKUP($A110,中間シート!$C$111:$P$260,4,FALSE),\"\"),\"\")&\"\"","v":""},{"$f":"IFERROR(IF($B110=TRUE,VLOOKUP($H110&$J110&$P110&$R110,補助対象機器一覧0916!$A$1:$E$75,4,FALSE),IF($B110=FALSE,VLOOKUP($A110,中間シート!$C$110:$M$260,10,FALSE),\"\")),\"\")","v":""},null,null,null,null,{"$f":"IF(MID($A110,4,2)<>\"９９\",IF($B110=TRUE,VLOOKUP($A110,中間シート!$C$111:$P$260,5,FALSE),\"\"),\"\")&\"\"","v":""},{"$f":"IFERROR(IF($B110=TRUE,VLOOKUP($H110&$J110&$P110&$R110,補助対象機器一覧0916!$A$1:$E$75,5,FALSE),IF($B110=FALSE,VLOOKUP($A110,中間シート!$C$110:$M$260,11,FALSE),\"\")),\"\")","v":""},{"$f":"IF(MID($A110,4,2)<>\"９９\",IF($B110=TRUE,VLOOKUP($A110,中間シート!$C$111:$P$260,6,FALSE),\"\"),\"\")&\"\"","v":""}]
[{"$f":"中間シート!Y160","v":"事業場９９　９台目"},{"$f":"中間シート!Z160","v":{"$error":"#N/A"}},"事業場",null,{"$f":"IF(中間シート!W160<>\"99\",中間シート!W160,\"\")","v":""},{"$f":"IFERROR(IF($B111=TRUE,VLOOKUP($H111&$J111&$P111&$R111,補助対象機器一覧0916!$A$1:$E$75,2,FALSE),IF($B111=FALSE,VLOOKUP($A111,中間シート!$C$110:$M$260,8,FALSE),\"\")),\"\")","v":""},null,{"$f":"IF(MID($A111,4,2)<>\"９９\",IF($B111=TRUE,VLOOKUP($A111,中間シート!$C$111:$P$260,3,FALSE),\"\"),\"\")&\"\"","v":""},{"$f":"IFERROR(IF($B111=TRUE,VLOOKUP($H111&$J111&$P111&$R111,補助対象機器一覧0916!$A$1:$E$75,3,FALSE),IF($B111=FALSE,VLOOKUP($A111,中間シート!$C$110:$M$260,9,FALSE),\"\")),\"\")","v":""},{"$f":"IF(MID($A111,4,2)<>\"９９\",IF($B111=TRUE,VLOOKUP($A111,中間シート!$C$111:$P$260,4,FALSE),\"\"),\"\")&\"\"","v":""},{"$f":"IFERROR(IF($B111=TRUE,VLOOKUP($H111&$J111&$P111&$R111,補助対象機器一覧0916!$A$1:$E$75,4,FALSE),IF($B111=FALSE,VLOOKUP($A111,中間シート!$C$110:$M$260,10,FALSE),\"\")),\"\")","v":""},null,null,null,null,{"$f":"IF(MID($A111,4,2)<>\"９９\",IF($B111=TRUE,VLOOKUP($A111,中間シート!$C$111:$P$260,5,FALSE),\"\"),\"\")&\"\"","v":""},{"$f":"IFERROR(IF($B111=TRUE,VLOOKUP($H111&$J111&$P111&$R111,補助対象機器一覧0916!$A$1:$E$75,5,FALSE),IF($B111=FALSE,VLOOKUP($A111,中間シート!$C$110:$M$260,11,FALSE),\"\")),\"\")","v":""},{"$f":"IF(MID($A111,4,2)<>\"９９\",IF($B111=TRUE,VLOOKUP($A111,中間シート!$C$111:$P$260,6,FALSE),\"\"),\"\")&\"\"","v":""}]
[{"$f":"中間シート!Y161","v":"事業場９９　９台目"},{"$f":"中間シート!Z161","v":{"$error":"#N/A"}},"事業場",null,{"$f":"IF(中間シート!W161<>\"99\",中間シート!W161,\"\")","v":""},{"$f":"IFERROR(IF($B112=TRUE,VLOOKUP($H112&$J112&$P112&$R112,補助対象機器一覧0916!$A$1:$E$75,2,FALSE),IF($B112=FALSE,VLOOKUP($A112,中間シート!$C$110:$M$260,8,FALSE),\"\")),\"\")","v":""},null,{"$f":"IF(MID($A112,4,2)<>\"９９\",IF($B112=TRUE,VLOOKUP($A112,中間シート!$C$111:$P$260,3,FALSE),\"\"),\"\")&\"\"","v":""},{"$f":"IFERROR(IF($B112=TRUE,VLOOKUP($H112&$J112&$P112&$R112,補助対象機器一覧0916!$A$1:$E$75,3,FALSE),IF($B112=FALSE,VLOOKUP($A112,中間シート!$C$110:$M$260,9,FALSE),\"\")),\"\")","v":""},{"$f":"IF(MID($A112,4,2)<>\"９９\",IF($B112=TRUE,VLOOKUP($A112,中間シート!$C$111:$P$260,4,FALSE),\"\"),\"\")&\"\"","v":""},{"$f":"IFERROR(IF($B112=TRUE,VLOOKUP($H112&$J112&$P112&$R112,補助対象機器一覧0916!$A$1:$E$75,4,FALSE),IF($B112=FALSE,VLOOKUP($A112,中間シート!$C$110:$M$260,10,FALSE),\"\")),\"\")","v":""},null,null,null,null,{"$f":"IF(MID($A112,4,2)<>\"９９\",IF($B112=TRUE,VLOOKUP($A112,中間シート!$C$111:$P$260,5,FALSE),\"\"),\"\")&\"\"","v":""},{"$f":"IFERROR(IF($B112=TRUE,VLOOKUP($H112&$J112&$P112&$R112,補助対象機器一覧0916!$A$1:$E$75,5,FALSE),IF($B112=FALSE,VLOOKUP($A112,中間シート!$C$110:$M$260,11,FALSE),\"\")),\"\")","v":""},{"$f":"IF(MID($A112,4,2)<>\"９９\",IF($B112=TRUE,VLOOKUP($A112,中間シート!$C$111:$P$260,6,FALSE),\"\"),\"\")&\"\"","v":""}]
[{"$f":"中間シート!Y162","v":"事業場９９　９台目"},{"$f":"中間シート!Z162","v":{"$error":"#N/A"}},"事業場",null,{"$f":"IF(中間シート!W162<>\"99\",中間シート!W162,\"\")","v":""},{"$f":"IFERROR(IF($B113=TRUE,VLOOKUP($H113&$J113&$P113&$R113,補助対象機器一覧0916!$A$1:$E$75,2,FALSE),IF($B113=FALSE,VLOOKUP($A113,中間シート!$C$110:$M$260,8,FALSE),\"\")),\"\")","v":""},null,{"$f":"IF(MID($A113,4,2)<>\"９９\",IF($B113=TRUE,VLOOKUP($A113,中間シート!$C$111:$P$260,3,FALSE),\"\"),\"\")&\"\"","v":""},{"$f":"IFERROR(IF($B113=TRUE,VLOOKUP($H113&$J113&$P113&$R113,補助対象機器一覧0916!$A$1:$E$75,3,FALSE),IF($B113=FALSE,VLOOKUP($A113,中間シート!$C$110:$M$260,9,FALSE),\"\")),\"\")","v":""},{"$f":"IF(MID($A113,4,2)<>\"９９\",IF($B113=TRUE,VLOOKUP($A113,中間シート!$C$111:$P$260,4,FALSE),\"\"),\"\")&\"\"","v":""},{"$f":"IFERROR(IF($B113=TRUE,VLOOKUP($H113&$J113&$P113&$R113,補助対象機器一覧0916!$A$1:$E$75,4,FALSE),IF($B113=FALSE,VLOOKUP($A113,中間シート!$C$110:$M$260,10,FALSE),\"\")),\"\")","v":""},null,null,null,null,{"$f":"IF(MID($A113,4,2)<>\"９９\",IF($B113=TRUE,VLOOKUP($A113,中間シート!$C$111:$P$260,5,FALSE),\"\"),\"\")&\"\"","v":""},{"$f":"IFERROR(IF($B113=TRUE,VLOOKUP($H113&$J113&$P113&$R113,補助対象機器一覧0916!$A$1:$E$75,5,FALSE),IF($B113=FALSE,VLOOKUP($A113,中間シート!$C$110:$M$260,11,FALSE),\"\")),\"\")","v":""},{"$f":"IF(MID($A113,4,2)<>\"９９\",IF($B113=TRUE,VLOOKUP($A113,中間シート!$C$111:$P$260,6,FALSE),\"\"),\"\")&\"\"","v":""}]
[{"$f":"中間シート!Y163","v":"事業場９９　９台目"},{"$f":"中間シート!Z163","v":{"$error":"#N/A"}},"事業場",null,{"$f":"IF(中間シート!W163<>\"99\",中間シート!W163,\"\")","v":""},{"$f":"IFERROR(IF($B114=TRUE,VLOOKUP($H114&$J114&$P114&$R114,補助対象機器一覧0916!$A$1:$E$75,2,FALSE),IF($B114=FALSE,VLOOKUP($A114,中間シート!$C$110:$M$260,8,FALSE),\"\")),\"\")","v":""},null,{"$f":"IF(MID($A114,4,2)<>\"９９\",IF($B114=TRUE,VLOOKUP($A114,中間シート!$C$111:$P$260,3,FALSE),\"\"),\"\")&\"\"","v":""},{"$f":"IFERROR(IF($B114=TRUE,VLOOKUP($H114&$J114&$P114&$R114,補助対象機器一覧0916!$A$1:$E$75,3,FALSE),IF($B114=FALSE,VLOOKUP($A114,中間シート!$C$110:$M$260,9,FALSE),\"\")),\"\")","v":""},{"$f":"IF(MID($A114,4,2)<>\"９９\",IF($B114=TRUE,VLOOKUP($A114,中間シート!$C$111:$P$260,4,FALSE),\"\"),\"\")&\"\"","v":""},{"$f":"IFERROR(IF($B114=TRUE,VLOOKUP($H114&$J114&$P114&$R114,補助対象機器一覧0916!$A$1:$E$75,4,FALSE),IF($B114=FALSE,VLOOKUP($A114,中間シート!$C$110:$M$260,10,FALSE),\"\")),\"\")","v":""},null,null,null,null,{"$f":"IF(MID($A114,4,2)<>\"９９\",IF($B114=TRUE,VLOOKUP($A114,中間シート!$C$111:$P$260,5,FALSE),\"\"),\"\")&\"\"","v":""},{"$f":"IFERROR(IF($B114=TRUE,VLOOKUP($H114&$J114&$P114&$R114,補助対象機器一覧0916!$A$1:$E$75,5,FALSE),IF($B114=FALSE,VLOOKUP($A114,中間シート!$C$110:$M$260,11,FALSE),\"\")),\"\")","v":""},{"$f":"IF(MID($A114,4,2)<>\"９９\",IF($B114=TRUE,VLOOKUP($A114,中間シート!$C$111:$P$260,6,FALSE),\"\"),\"\")&\"\"","v":""}]
[{"$f":"中間シート!Y164","v":"事業場９９　９台目"},{"$f":"中間シート!Z164","v":{"$error":"#N/A"}},"事業場",null,{"$f":"IF(中間シート!W164<>\"99\",中間シート!W164,\"\")","v":""},{"$f":"IFERROR(IF($B115=TRUE,VLOOKUP($H115&$J115&$P115&$R115,補助対象機器一覧0916!$A$1:$E$75,2,FALSE),IF($B115=FALSE,VLOOKUP($A115,中間シート!$C$110:$M$260,8,FALSE),\"\")),\"\")","v":""},null,{"$f":"IF(MID($A115,4,2)<>\"９９\",IF($B115=TRUE,VLOOKUP($A115,中間シート!$C$111:$P$260,3,FALSE),\"\"),\"\")&\"\"","v":""},{"$f":"IFERROR(IF($B115=TRUE,VLOOKUP($H115&$J115&$P115&$R115,補助対象機器一覧0916!$A$1:$E$75,3,FALSE),IF($B115=FALSE,VLOOKUP($A115,中間シート!$C$110:$M$260,9,FALSE),\"\")),\"\")","v":""},{"$f":"IF(MID($A115,4,2)<>\"９９\",IF($B115=TRUE,VLOOKUP($A115,中間シート!$C$111:$P$260,4,FALSE),\"\"),\"\")&\"\"","v":""},{"$f":"IFERROR(IF($B115=TRUE,VLOOKUP($H115&$J115&$P115&$R115,補助対象機器一覧0916!$A$1:$E$75,4,FALSE),IF($B115=FALSE,VLOOKUP($A115,中間シート!$C$110:$M$260,10,FALSE),\"\")),\"\")","v":""},null,null,null,null,{"$f":"IF(MID($A115,4,2)<>\"９９\",IF($B115=TRUE,VLOOKUP($A115,中間シート!$C$111:$P$260,5,FALSE),\"\"),\"\")&\"\"","v":""},{"$f":"IFERROR(IF($B115=TRUE,VLOOKUP($H115&$J115&$P115&$R115,補助対象機器一覧0916!$A$1:$E$75,5,FALSE),IF($B115=FALSE,VLOOKUP($A115,中間シート!$C$110:$M$260,11,FALSE),\"\")),\"\")","v":""},{"$f":"IF(MID($A115,4,2)<>\"９９\",IF($B115=TRUE,VLOOKUP($A115,中間シート!$C$111:$P$260,6,FALSE),\"\"),\"\")&\"\"","v":""}]
[{"$f":"中間シート!Y165","v":"事業場９９　９台目"},{"$f":"中間シート!Z165","v":{"$error":"#N/A"}},"事業場",null,{"$f":"IF(中間シート!W165<>\"99\",中間シート!W165,\"\")","v":""},{"$f":"IFERROR(IF($B116=TRUE,VLOOKUP($H116&$J116&$P116&$R116,補助対象機器一覧0916!$A$1:$E$75,2,FALSE),IF($B116=FALSE,VLOOKUP($A116,中間シート!$C$110:$M$260,8,FALSE),\"\")),\"\")","v":""},null,{"$f":"IF(MID($A116,4,2)<>\"９９\",IF($B116=TRUE,VLOOKUP($A116,中間シート!$C$111:$P$260,3,FALSE),\"\"),\"\")&\"\"","v":""},{"$f":"IFERROR(IF($B116=TRUE,VLOOKUP($H116&$J116&$P116&$R116,補助対象機器一覧0916!$A$1:$E$75,3,FALSE),IF($B116=FALSE,VLOOKUP($A116,中間シート!$C$110:$M$260,9,FALSE),\"\")),\"\")","v":""},{"$f":"IF(MID($A116,4,2)<>\"９９\",IF($B116=TRUE,VLOOKUP($A116,中間シート!$C$111:$P$260,4,FALSE),\"\"),\"\")&\"\"","v":""},{"$f":"IFERROR(IF($B116=TRUE,VLOOKUP($H116&$J116&$P116&$R116,補助対象機器一覧0916!$A$1:$E$75,4,FALSE),IF($B116=FALSE,VLOOKUP($A116,中間シート!$C$110:$M$260,10,FALSE),\"\")),\"\")","v":""},null,null,null,null,{"$f":"IF(MID($A116,4,2)<>\"９９\",IF($B116=TRUE,VLOOKUP($A116,中間シート!$C$111:$P$260,5,FALSE),\"\"),\"\")&\"\"","v":""},{"$f":"IFERROR(IF($B116=TRUE,VLOOKUP($H116&$J116&$P116&$R116,補助対象機器一覧0916!$A$1:$E$75,5,FALSE),IF($B116=FALSE,VLOOKUP($A116,中間シート!$C$110:$M$260,11,FALSE),\"\")),\"\")","v":""},{"$f":"IF(MID($A116,4,2)<>\"９９\",IF($B116=TRUE,VLOOKUP($A116,中間シート!$C$111:$P$260,6,FALSE),\"\"),\"\")&\"\"","v":""}]
[{"$f":"中間シート!Y166","v":"事業場９９　９台目"},{"$f":"中間シート!Z166","v":{"$error":"#N/A"}},"事業場",null,{"$f":"IF(中間シート!W166<>\"99\",中間シート!W166,\"\")","v":""},{"$f":"IFERROR(IF($B117=TRUE,VLOOKUP($H117&$J117&$P117&$R117,補助対象機器一覧0916!$A$1:$E$75,2,FALSE),IF($B117=FALSE,VLOOKUP($A117,中間シート!$C$110:$M$260,8,FALSE),\"\")),\"\")","v":""},null,{"$f":"IF(MID($A117,4,2)<>\"９９\",IF($B117=TRUE,VLOOKUP($A117,中間シート!$C$111:$P$260,3,FALSE),\"\"),\"\")&\"\"","v":""},{"$f":"IFERROR(IF($B117=TRUE,VLOOKUP($H117&$J117&$P117&$R117,補助対象機器一覧0916!$A$1:$E$75,3,FALSE),IF($B117=FALSE,VLOOKUP($A117,中間シート!$C$110:$M$260,9,FALSE),\"\")),\"\")","v":""},{"$f":"IF(MID($A117,4,2)<>\"９９\",IF($B117=TRUE,VLOOKUP($A117,中間シート!$C$111:$P$260,4,FALSE),\"\"),\"\")&\"\"","v":""},{"$f":"IFERROR(IF($B117=TRUE,VLOOKUP($H117&$J117&$P117&$R117,補助対象機器一覧0916!$A$1:$E$75,4,FALSE),IF($B117=FALSE,VLOOKUP($A117,中間シート!$C$110:$M$260,10,FALSE),\"\")),\"\")","v":""},null,null,null,null,{"$f":"IF(MID($A117,4,2)<>\"９９\",IF($B117=TRUE,VLOOKUP($A117,中間シート!$C$111:$P$260,5,FALSE),\"\"),\"\")&\"\"","v":""},{"$f":"IFERROR(IF($B117=TRUE,VLOOKUP($H117&$J117&$P117&$R117,補助対象機器一覧0916!$A$1:$E$75,5,FALSE),IF($B117=FALSE,VLOOKUP($A117,中間シート!$C$110:$M$260,11,FALSE),\"\")),\"\")","v":""},{"$f":"IF(MID($A117,4,2)<>\"９９\",IF($B117=TRUE,VLOOKUP($A117,中間シート!$C$111:$P$260,6,FALSE),\"\"),\"\")&\"\"","v":""}]
[{"$f":"中間シート!Y167","v":"事業場９９　９台目"},{"$f":"中間シート!Z167","v":{"$error":"#N/A"}},"事業場",null,{"$f":"IF(中間シート!W167<>\"99\",中間シート!W167,\"\")","v":""},{"$f":"IFERROR(IF($B118=TRUE,VLOOKUP($H118&$J118&$P118&$R118,補助対象機器一覧0916!$A$1:$E$75,2,FALSE),IF($B118=FALSE,VLOOKUP($A118,中間シート!$C$110:$M$260,8,FALSE),\"\")),\"\")","v":""},null,{"$f":"IF(MID($A118,4,2)<>\"９９\",IF($B118=TRUE,VLOOKUP($A118,中間シート!$C$111:$P$260,3,FALSE),\"\"),\"\")&\"\"","v":""},{"$f":"IFERROR(IF($B118=TRUE,VLOOKUP($H118&$J118&$P118&$R118,補助対象機器一覧0916!$A$1:$E$75,3,FALSE),IF($B118=FALSE,VLOOKUP($A118,中間シート!$C$110:$M$260,9,FALSE),\"\")),\"\")","v":""},{"$f":"IF(MID($A118,4,2)<>\"９９\",IF($B118=TRUE,VLOOKUP($A118,中間シート!$C$111:$P$260,4,FALSE),\"\"),\"\")&\"\"","v":""},{"$f":"IFERROR(IF($B118=TRUE,VLOOKUP($H118&$J118&$P118&$R118,補助対象機器一覧0916!$A$1:$E$75,4,FALSE),IF($B118=FALSE,VLOOKUP($A118,中間シート!$C$110:$M$260,10,FALSE),\"\")),\"\")","v":""},null,null,null,null,{"$f":"IF(MID($A118,4,2)<>\"９９\",IF($B118=TRUE,VLOOKUP($A118,中間シート!$C$111:$P$260,5,FALSE),\"\"),\"\")&\"\"","v":""},{"$f":"IFERROR(IF($B118=TRUE,VLOOKUP($H118&$J118&$P118&$R118,補助対象機器一覧0916!$A$1:$E$75,5,FALSE),IF($B118=FALSE,VLOOKUP($A118,中間シート!$C$110:$M$260,11,FALSE),\"\")),\"\")","v":""},{"$f":"IF(MID($A118,4,2)<>\"９９\",IF($B118=TRUE,VLOOKUP($A118,中間シート!$C$111:$P$260,6,FALSE),\"\"),\"\")&\"\"","v":""}]
[{"$f":"中間シート!Y168","v":"事業場９９　９台目"},{"$f":"中間シート!Z168","v":{"$error":"#N/A"}},"事業場",null,{"$f":"IF(中間シート!W168<>\"99\",中間シート!W168,\"\")","v":""},{"$f":"IFERROR(IF($B119=TRUE,VLOOKUP($H119&$J119&$P119&$R119,補助対象機器一覧0916!$A$1:$E$75,2,FALSE),IF($B119=FALSE,VLOOKUP($A119,中間シート!$C$110:$M$260,8,FALSE),\"\")),\"\")","v":""},null,{"$f":"IF(MID($A119,4,2)<>\"９９\",IF($B119=TRUE,VLOOKUP($A119,中間シート!$C$111:$P$260,3,FALSE),\"\"),\"\")&\"\"","v":""},{"$f":"IFERROR(IF($B119=TRUE,VLOOKUP($H119&$J119&$P119&$R119,補助対象機器一覧0916!$A$1:$E$75,3,FALSE),IF($B119=FALSE,VLOOKUP($A119,中間シート!$C$110:$M$260,9,FALSE),\"\")),\"\")","v":""},{"$f":"IF(MID($A119,4,2)<>\"９９\",IF($B119=TRUE,VLOOKUP($A119,中間シート!$C$111:$P$260,4,FALSE),\"\"),\"\")&\"\"","v":""},{"$f":"IFERROR(IF($B119=TRUE,VLOOKUP($H119&$J119&$P119&$R119,補助対象機器一覧0916!$A$1:$E$75,4,FALSE),IF($B119=FALSE,VLOOKUP($A119,中間シート!$C$110:$M$260,10,FALSE),\"\")),\"\")","v":""},null,null,null,null,{"$f":"IF(MID($A119,4,2)<>\"９９\",IF($B119=TRUE,VLOOKUP($A119,中間シート!$C$111:$P$260,5,FALSE),\"\"),\"\")&\"\"","v":""},{"$f":"IFERROR(IF($B119=TRUE,VLOOKUP($H119&$J119&$P119&$R119,補助対象機器一覧0916!$A$1:$E$75,5,FALSE),IF($B119=FALSE,VLOOKUP($A119,中間シート!$C$110:$M$260,11,FALSE),\"\")),\"\")","v":""},{"$f":"IF(MID($A119,4,2)<>\"９９\",IF($B119=TRUE,VLOOKUP($A119,中間シート!$C$111:$P$260,6,FALSE),\"\"),\"\")&\"\"","v":""}]
[{"$f":"中間シート!Y169","v":"事業場９９　９台目"},{"$f":"中間シート!Z169","v":{"$error":"#N/A"}},"事業場",null,{"$f":"IF(中間シート!W169<>\"99\",中間シート!W169,\"\")","v":""},{"$f":"IFERROR(IF($B120=TRUE,VLOOKUP($H120&$J120&$P120&$R120,補助対象機器一覧0916!$A$1:$E$75,2,FALSE),IF($B120=FALSE,VLOOKUP($A120,中間シート!$C$110:$M$260,8,FALSE),\"\")),\"\")","v":""},null,{"$f":"IF(MID($A120,4,2)<>\"９９\",IF($B120=TRUE,VLOOKUP($A120,中間シート!$C$111:$P$260,3,FALSE),\"\"),\"\")&\"\"","v":""},{"$f":"IFERROR(IF($B120=TRUE,VLOOKUP($H120&$J120&$P120&$R120,補助対象機器一覧0916!$A$1:$E$75,3,FALSE),IF($B120=FALSE,VLOOKUP($A120,中間シート!$C$110:$M$260,9,FALSE),\"\")),\"\")","v":""},{"$f":"IF(MID($A120,4,2)<>\"９９\",IF($B120=TRUE,VLOOKUP($A120,中間シート!$C$111:$P$260,4,FALSE),\"\"),\"\")&\"\"","v":""},{"$f":"IFERROR(IF($B120=TRUE,VLOOKUP($H120&$J120&$P120&$R120,補助対象機器一覧0916!$A$1:$E$75,4,FALSE),IF($B120=FALSE,VLOOKUP($A120,中間シート!$C$110:$M$260,10,FALSE),\"\")),\"\")","v":""},null,null,null,null,{"$f":"IF(MID($A120,4,2)<>\"９９\",IF($B120=TRUE,VLOOKUP($A120,中間シート!$C$111:$P$260,5,FALSE),\"\"),\"\")&\"\"","v":""},{"$f":"IFERROR(IF($B120=TRUE,VLOOKUP($H120&$J120&$P120&$R120,補助対象機器一覧0916!$A$1:$E$75,5,FALSE),IF($B120=FALSE,VLOOKUP($A120,中間シート!$C$110:$M$260,11,FALSE),\"\")),\"\")","v":""},{"$f":"IF(MID($A120,4,2)<>\"９９\",IF($B120=TRUE,VLOOKUP($A120,中間シート!$C$111:$P$260,6,FALSE),\"\"),\"\")&\"\"","v":""}]
[{"$f":"中間シート!Y170","v":"事業場９９　９台目"},{"$f":"中間シート!Z170","v":{"$error":"#N/A"}},"事業場",null,{"$f":"IF(中間シート!W170<>\"99\",中間シート!W170,\"\")","v":""},{"$f":"IFERROR(IF($B121=TRUE,VLOOKUP($H121&$J121&$P121&$R121,補助対象機器一覧0916!$A$1:$E$75,2,FALSE),IF($B121=FALSE,VLOOKUP($A121,中間シート!$C$110:$M$260,8,FALSE),\"\")),\"\")","v":""},null,{"$f":"IF(MID($A121,4,2)<>\"９９\",IF($B121=TRUE,VLOOKUP($A121,中間シート!$C$111:$P$260,3,FALSE),\"\"),\"\")&\"\"","v":""},{"$f":"IFERROR(IF($B121=TRUE,VLOOKUP($H121&$J121&$P121&$R121,補助対象機器一覧0916!$A$1:$E$75,3,FALSE),IF($B121=FALSE,VLOOKUP($A121,中間シート!$C$110:$M$260,9,FALSE),\"\")),\"\")","v":""},{"$f":"IF(MID($A121,4,2)<>\"９９\",IF($B121=TRUE,VLOOKUP($A121,中間シート!$C$111:$P$260,4,FALSE),\"\"),\"\")&\"\"","v":""},{"$f":"IFERROR(IF($B121=TRUE,VLOOKUP($H121&$J121&$P121&$R121,補助対象機器一覧0916!$A$1:$E$75,4,FALSE),IF($B121=FALSE,VLOOKUP($A121,中間シート!$C$110:$M$260,10,FALSE),\"\")),\"\")","v":""},null,null,null,null,{"$f":"IF(MID($A121,4,2)<>\"９９\",IF($B121=TRUE,VLOOKUP($A121,中間シート!$C$111:$P$260,5,FALSE),\"\"),\"\")&\"\"","v":""},{"$f":"IFERROR(IF($B121=TRUE,VLOOKUP($H121&$J121&$P121&$R121,補助対象機器一覧0916!$A$1:$E$75,5,FALSE),IF($B121=FALSE,VLOOKUP($A121,中間シート!$C$110:$M$260,11,FALSE),\"\")),\"\")","v":""},{"$f":"IF(MID($A121,4,2)<>\"９９\",IF($B121=TRUE,VLOOKUP($A121,中間シート!$C$111:$P$260,6,FALSE),\"\"),\"\")&\"\"","v":""}]
[{"$f":"中間シート!Y171","v":"事業場９９　９台目"},{"$f":"中間シート!Z171","v":{"$error":"#N/A"}},"事業場",null,{"$f":"IF(中間シート!W171<>\"99\",中間シート!W171,\"\")","v":""},{"$f":"IFERROR(IF($B122=TRUE,VLOOKUP($H122&$J122&$P122&$R122,補助対象機器一覧0916!$A$1:$E$75,2,FALSE),IF($B122=FALSE,VLOOKUP($A122,中間シート!$C$110:$M$260,8,FALSE),\"\")),\"\")","v":""},null,{"$f":"IF(MID($A122,4,2)<>\"９９\",IF($B122=TRUE,VLOOKUP($A122,中間シート!$C$111:$P$260,3,FALSE),\"\"),\"\")&\"\"","v":""},{"$f":"IFERROR(IF($B122=TRUE,VLOOKUP($H122&$J122&$P122&$R122,補助対象機器一覧0916!$A$1:$E$75,3,FALSE),IF($B122=FALSE,VLOOKUP($A122,中間シート!$C$110:$M$260,9,FALSE),\"\")),\"\")","v":""},{"$f":"IF(MID($A122,4,2)<>\"９９\",IF($B122=TRUE,VLOOKUP($A122,中間シート!$C$111:$P$260,4,FALSE),\"\"),\"\")&\"\"","v":""},{"$f":"IFERROR(IF($B122=TRUE,VLOOKUP($H122&$J122&$P122&$R122,補助対象機器一覧0916!$A$1:$E$75,4,FALSE),IF($B122=FALSE,VLOOKUP($A122,中間シート!$C$110:$M$260,10,FALSE),\"\")),\"\")","v":""},null,null,null,null,{"$f":"IF(MID($A122,4,2)<>\"９９\",IF($B122=TRUE,VLOOKUP($A122,中間シート!$C$111:$P$260,5,FALSE),\"\"),\"\")&\"\"","v":""},{"$f":"IFERROR(IF($B122=TRUE,VLOOKUP($H122&$J122&$P122&$R122,補助対象機器一覧0916!$A$1:$E$75,5,FALSE),IF($B122=FALSE,VLOOKUP($A122,中間シート!$C$110:$M$260,11,FALSE),\"\")),\"\")","v":""},{"$f":"IF(MID($A122,4,2)<>\"９９\",IF($B122=TRUE,VLOOKUP($A122,中間シート!$C$111:$P$260,6,FALSE),\"\"),\"\")&\"\"","v":""}]
[{"$f":"中間シート!Y172","v":"事業場９９　９台目"},{"$f":"中間シート!Z172","v":{"$error":"#N/A"}},"事業場",null,{"$f":"IF(中間シート!W172<>\"99\",中間シート!W172,\"\")","v":""},{"$f":"IFERROR(IF($B123=TRUE,VLOOKUP($H123&$J123&$P123&$R123,補助対象機器一覧0916!$A$1:$E$75,2,FALSE),IF($B123=FALSE,VLOOKUP($A123,中間シート!$C$110:$M$260,8,FALSE),\"\")),\"\")","v":""},null,{"$f":"IF(MID($A123,4,2)<>\"９９\",IF($B123=TRUE,VLOOKUP($A123,中間シート!$C$111:$P$260,3,FALSE),\"\"),\"\")&\"\"","v":""},{"$f":"IFERROR(IF($B123=TRUE,VLOOKUP($H123&$J123&$P123&$R123,補助対象機器一覧0916!$A$1:$E$75,3,FALSE),IF($B123=FALSE,VLOOKUP($A123,中間シート!$C$110:$M$260,9,FALSE),\"\")),\"\")","v":""},{"$f":"IF(MID($A123,4,2)<>\"９９\",IF($B123=TRUE,VLOOKUP($A123,中間シート!$C$111:$P$260,4,FALSE),\"\"),\"\")&\"\"","v":""},{"$f":"IFERROR(IF($B123=TRUE,VLOOKUP($H123&$J123&$P123&$R123,補助対象機器一覧0916!$A$1:$E$75,4,FALSE),IF($B123=FALSE,VLOOKUP($A123,中間シート!$C$110:$M$260,10,FALSE),\"\")),\"\")","v":""},null,null,null,null,{"$f":"IF(MID($A123,4,2)<>\"９９\",IF($B123=TRUE,VLOOKUP($A123,中間シート!$C$111:$P$260,5,FALSE),\"\"),\"\")&\"\"","v":""},{"$f":"IFERROR(IF($B123=TRUE,VLOOKUP($H123&$J123&$P123&$R123,補助対象機器一覧0916!$A$1:$E$75,5,FALSE),IF($B123=FALSE,VLOOKUP($A123,中間シート!$C$110:$M$260,11,FALSE),\"\")),\"\")","v":""},{"$f":"IF(MID($A123,4,2)<>\"９９\",IF($B123=TRUE,VLOOKUP($A123,中間シート!$C$111:$P$260,6,FALSE),\"\"),\"\")&\"\"","v":""}]
[{"$f":"中間シート!Y173","v":"事業場９９　９台目"},{"$f":"中間シート!Z173","v":{"$error":"#N/A"}},"事業場",null,{"$f":"IF(中間シート!W173<>\"99\",中間シート!W173,\"\")","v":""},{"$f":"IFERROR(IF($B124=TRUE,VLOOKUP($H124&$J124&$P124&$R124,補助対象機器一覧0916!$A$1:$E$75,2,FALSE),IF($B124=FALSE,VLOOKUP($A124,中間シート!$C$110:$M$260,8,FALSE),\"\")),\"\")","v":""},null,{"$f":"IF(MID($A124,4,2)<>\"９９\",IF($B124=TRUE,VLOOKUP($A124,中間シート!$C$111:$P$260,3,FALSE),\"\"),\"\")&\"\"","v":""},{"$f":"IFERROR(IF($B124=TRUE,VLOOKUP($H124&$J124&$P124&$R124,補助対象機器一覧0916!$A$1:$E$75,3,FALSE),IF($B124=FALSE,VLOOKUP($A124,中間シート!$C$110:$M$260,9,FALSE),\"\")),\"\")","v":""},{"$f":"IF(MID($A124,4,2)<>\"９９\",IF($B124=TRUE,VLOOKUP($A124,中間シート!$C$111:$P$260,4,FALSE),\"\"),\"\")&\"\"","v":""},{"$f":"IFERROR(IF($B124=TRUE,VLOOKUP($H124&$J124&$P124&$R124,補助対象機器一覧0916!$A$1:$E$75,4,FALSE),IF($B124=FALSE,VLOOKUP($A124,中間シート!$C$110:$M$260,10,FALSE),\"\")),\"\")","v":""},null,null,null,null,{"$f":"IF(MID($A124,4,2)<>\"９９\",IF($B124=TRUE,VLOOKUP($A124,中間シート!$C$111:$P$260,5,FALSE),\"\"),\"\")&\"\"","v":""},{"$f":"IFERROR(IF($B124=TRUE,VLOOKUP($H124&$J124&$P124&$R124,補助対象機器一覧0916!$A$1:$E$75,5,FALSE),IF($B124=FALSE,VLOOKUP($A124,中間シート!$C$110:$M$260,11,FALSE),\"\")),\"\")","v":""},{"$f":"IF(MID($A124,4,2)<>\"９９\",IF($B124=TRUE,VLOOKUP($A124,中間シート!$C$111:$P$260,6,FALSE),\"\"),\"\")&\"\"","v":""}]
[{"$f":"中間シート!Y174","v":"事業場９９　９台目"},{"$f":"中間シート!Z174","v":{"$error":"#N/A"}},"事業場",null,{"$f":"IF(中間シート!W174<>\"99\",中間シート!W174,\"\")","v":""},{"$f":"IFERROR(IF($B125=TRUE,VLOOKUP($H125&$J125&$P125&$R125,補助対象機器一覧0916!$A$1:$E$75,2,FALSE),IF($B125=FALSE,VLOOKUP($A125,中間シート!$C$110:$M$260,8,FALSE),\"\")),\"\")","v":""},null,{"$f":"IF(MID($A125,4,2)<>\"９９\",IF($B125=TRUE,VLOOKUP($A125,中間シート!$C$111:$P$260,3,FALSE),\"\"),\"\")&\"\"","v":""},{"$f":"IFERROR(IF($B125=TRUE,VLOOKUP($H125&$J125&$P125&$R125,補助対象機器一覧0916!$A$1:$E$75,3,FALSE),IF($B125=FALSE,VLOOKUP($A125,中間シート!$C$110:$M$260,9,FALSE),\"\")),\"\")","v":""},{"$f":"IF(MID($A125,4,2)<>\"９９\",IF($B125=TRUE,VLOOKUP($A125,中間シート!$C$111:$P$260,4,FALSE),\"\"),\"\")&\"\"","v":""},{"$f":"IFERROR(IF($B125=TRUE,VLOOKUP($H125&$J125&$P125&$R125,補助対象機器一覧0916!$A$1:$E$75,4,FALSE),IF($B125=FALSE,VLOOKUP($A125,中間シート!$C$110:$M$260,10,FALSE),\"\")),\"\")","v":""},null,null,null,null,{"$f":"IF(MID($A125,4,2)<>\"９９\",IF($B125=TRUE,VLOOKUP($A125,中間シート!$C$111:$P$260,5,FALSE),\"\"),\"\")&\"\"","v":""},{"$f":"IFERROR(IF($B125=TRUE,VLOOKUP($H125&$J125&$P125&$R125,補助対象機器一覧0916!$A$1:$E$75,5,FALSE),IF($B125=FALSE,VLOOKUP($A125,中間シート!$C$110:$M$260,11,FALSE),\"\")),\"\")","v":""},{"$f":"IF(MID($A125,4,2)<>\"９９\",IF($B125=TRUE,VLOOKUP($A125,中間シート!$C$111:$P$260,6,FALSE),\"\"),\"\")&\"\"","v":""}]
[{"$f":"中間シート!Y175","v":"事業場９９　９台目"},{"$f":"中間シート!Z175","v":{"$error":"#N/A"}},"事業場",null,{"$f":"IF(中間シート!W175<>\"99\",中間シート!W175,\"\")","v":""},{"$f":"IFERROR(IF($B126=TRUE,VLOOKUP($H126&$J126&$P126&$R126,補助対象機器一覧0916!$A$1:$E$75,2,FALSE),IF($B126=FALSE,VLOOKUP($A126,中間シート!$C$110:$M$260,8,FALSE),\"\")),\"\")","v":""},null,{"$f":"IF(MID($A126,4,2)<>\"９９\",IF($B126=TRUE,VLOOKUP($A126,中間シート!$C$111:$P$260,3,FALSE),\"\"),\"\")&\"\"","v":""},{"$f":"IFERROR(IF($B126=TRUE,VLOOKUP($H126&$J126&$P126&$R126,補助対象機器一覧0916!$A$1:$E$75,3,FALSE),IF($B126=FALSE,VLOOKUP($A126,中間シート!$C$110:$M$260,9,FALSE),\"\")),\"\")","v":""},{"$f":"IF(MID($A126,4,2)<>\"９９\",IF($B126=TRUE,VLOOKUP($A126,中間シート!$C$111:$P$260,4,FALSE),\"\"),\"\")&\"\"","v":""},{"$f":"IFERROR(IF($B126=TRUE,VLOOKUP($H126&$J126&$P126&$R126,補助対象機器一覧0916!$A$1:$E$75,4,FALSE),IF($B126=FALSE,VLOOKUP($A126,中間シート!$C$110:$M$260,10,FALSE),\"\")),\"\")","v":""},null,null,null,null,{"$f":"IF(MID($A126,4,2)<>\"９９\",IF($B126=TRUE,VLOOKUP($A126,中間シート!$C$111:$P$260,5,FALSE),\"\"),\"\")&\"\"","v":""},{"$f":"IFERROR(IF($B126=TRUE,VLOOKUP($H126&$J126&$P126&$R126,補助対象機器一覧0916!$A$1:$E$75,5,FALSE),IF($B126=FALSE,VLOOKUP($A126,中間シート!$C$110:$M$260,11,FALSE),\"\")),\"\")","v":""},{"$f":"IF(MID($A126,4,2)<>\"９９\",IF($B126=TRUE,VLOOKUP($A126,中間シート!$C$111:$P$260,6,FALSE),\"\"),\"\")&\"\"","v":""}]
[{"$f":"中間シート!Y176","v":"事業場９９　９台目"},{"$f":"中間シート!Z176","v":{"$error":"#N/A"}},"事業場",null,{"$f":"IF(中間シート!W176<>\"99\",中間シート!W176,\"\")","v":""},{"$f":"IFERROR(IF($B127=TRUE,VLOOKUP($H127&$J127&$P127&$R127,補助対象機器一覧0916!$A$1:$E$75,2,FALSE),IF($B127=FALSE,VLOOKUP($A127,中間シート!$C$110:$M$260,8,FALSE),\"\")),\"\")","v":""},null,{"$f":"IF(MID($A127,4,2)<>\"９９\",IF($B127=TRUE,VLOOKUP($A127,中間シート!$C$111:$P$260,3,FALSE),\"\"),\"\")&\"\"","v":""},{"$f":"IFERROR(IF($B127=TRUE,VLOOKUP($H127&$J127&$P127&$R127,補助対象機器一覧0916!$A$1:$E$75,3,FALSE),IF($B127=FALSE,VLOOKUP($A127,中間シート!$C$110:$M$260,9,FALSE),\"\")),\"\")","v":""},{"$f":"IF(MID($A127,4,2)<>\"９９\",IF($B127=TRUE,VLOOKUP($A127,中間シート!$C$111:$P$260,4,FALSE),\"\"),\"\")&\"\"","v":""},{"$f":"IFERROR(IF($B127=TRUE,VLOOKUP($H127&$J127&$P127&$R127,補助対象機器一覧0916!$A$1:$E$75,4,FALSE),IF($B127=FALSE,VLOOKUP($A127,中間シート!$C$110:$M$260,10,FALSE),\"\")),\"\")","v":""},null,null,null,null,{"$f":"IF(MID($A127,4,2)<>\"９９\",IF($B127=TRUE,VLOOKUP($A127,中間シート!$C$111:$P$260,5,FALSE),\"\"),\"\")&\"\"","v":""},{"$f":"IFERROR(IF($B127=TRUE,VLOOKUP($H127&$J127&$P127&$R127,補助対象機器一覧0916!$A$1:$E$75,5,FALSE),IF($B127=FALSE,VLOOKUP($A127,中間シート!$C$110:$M$260,11,FALSE),\"\")),\"\")","v":""},{"$f":"IF(MID($A127,4,2)<>\"９９\",IF($B127=TRUE,VLOOKUP($A127,中間シート!$C$111:$P$260,6,FALSE),\"\"),\"\")&\"\"","v":""}]
[{"$f":"中間シート!Y177","v":"事業場９９　９台目"},{"$f":"中間シート!Z177","v":{"$error":"#N/A"}},"事業場",null,{"$f":"IF(中間シート!W177<>\"99\",中間シート!W177,\"\")","v":""},{"$f":"IFERROR(IF($B128=TRUE,VLOOKUP($H128&$J128&$P128&$R128,補助対象機器一覧0916!$A$1:$E$75,2,FALSE),IF($B128=FALSE,VLOOKUP($A128,中間シート!$C$110:$M$260,8,FALSE),\"\")),\"\")","v":""},null,{"$f":"IF(MID($A128,4,2)<>\"９９\",IF($B128=TRUE,VLOOKUP($A128,中間シート!$C$111:$P$260,3,FALSE),\"\"),\"\")&\"\"","v":""},{"$f":"IFERROR(IF($B128=TRUE,VLOOKUP($H128&$J128&$P128&$R128,補助対象機器一覧0916!$A$1:$E$75,3,FALSE),IF($B128=FALSE,VLOOKUP($A128,中間シート!$C$110:$M$260,9,FALSE),\"\")),\"\")","v":""},{"$f":"IF(MID($A128,4,2)<>\"９９\",IF($B128=TRUE,VLOOKUP($A128,中間シート!$C$111:$P$260,4,FALSE),\"\"),\"\")&\"\"","v":""},{"$f":"IFERROR(IF($B128=TRUE,VLOOKUP($H128&$J128&$P128&$R128,補助対象機器一覧0916!$A$1:$E$75,4,FALSE),IF($B128=FALSE,VLOOKUP($A128,中間シート!$C$110:$M$260,10,FALSE),\"\")),\"\")","v":""},null,null,null,null,{"$f":"IF(MID($A128,4,2)<>\"９９\",IF($B128=TRUE,VLOOKUP($A128,中間シート!$C$111:$P$260,5,FALSE),\"\"),\"\")&\"\"","v":""},{"$f":"IFERROR(IF($B128=TRUE,VLOOKUP($H128&$J128&$P128&$R128,補助対象機器一覧0916!$A$1:$E$75,5,FALSE),IF($B128=FALSE,VLOOKUP($A128,中間シート!$C$110:$M$260,11,FALSE),\"\")),\"\")","v":""},{"$f":"IF(MID($A128,4,2)<>\"９９\",IF($B128=TRUE,VLOOKUP($A128,中間シート!$C$111:$P$260,6,FALSE),\"\"),\"\")&\"\"","v":""}]
[{"$f":"中間シート!Y178","v":"事業場９９　９台目"},{"$f":"中間シート!Z178","v":{"$error":"#N/A"}},"事業場",null,{"$f":"IF(中間シート!W178<>\"99\",中間シート!W178,\"\")","v":""},{"$f":"IFERROR(IF($B129=TRUE,VLOOKUP($H129&$J129&$P129&$R129,補助対象機器一覧0916!$A$1:$E$75,2,FALSE),IF($B129=FALSE,VLOOKUP($A129,中間シート!$C$110:$M$260,8,FALSE),\"\")),\"\")","v":""},null,{"$f":"IF(MID($A129,4,2)<>\"９９\",IF($B129=TRUE,VLOOKUP($A129,中間シート!$C$111:$P$260,3,FALSE),\"\"),\"\")&\"\"","v":""},{"$f":"IFERROR(IF($B129=TRUE,VLOOKUP($H129&$J129&$P129&$R129,補助対象機器一覧0916!$A$1:$E$75,3,FALSE),IF($B129=FALSE,VLOOKUP($A129,中間シート!$C$110:$M$260,9,FALSE),\"\")),\"\")","v":""},{"$f":"IF(MID($A129,4,2)<>\"９９\",IF($B129=TRUE,VLOOKUP($A129,中間シート!$C$111:$P$260,4,FALSE),\"\"),\"\")&\"\"","v":""},{"$f":"IFERROR(IF($B129=TRUE,VLOOKUP($H129&$J129&$P129&$R129,補助対象機器一覧0916!$A$1:$E$75,4,FALSE),IF($B129=FALSE,VLOOKUP($A129,中間シート!$C$110:$M$260,10,FALSE),\"\")),\"\")","v":""},null,null,null,null,{"$f":"IF(MID($A129,4,2)<>\"９９\",IF($B129=TRUE,VLOOKUP($A129,中間シート!$C$111:$P$260,5,FALSE),\"\"),\"\")&\"\"","v":""},{"$f":"IFERROR(IF($B129=TRUE,VLOOKUP($H129&$J129&$P129&$R129,補助対象機器一覧0916!$A$1:$E$75,5,FALSE),IF($B129=FALSE,VLOOKUP($A129,中間シート!$C$110:$M$260,11,FALSE),\"\")),\"\")","v":""},{"$f":"IF(MID($A129,4,2)<>\"９９\",IF($B129=TRUE,VLOOKUP($A129,中間シート!$C$111:$P$260,6,FALSE),\"\"),\"\")&\"\"","v":""}]
[{"$f":"中間シート!Y179","v":"事業場９９　９台目"},{"$f":"中間シート!Z179","v":{"$error":"#N/A"}},"事業場",null,{"$f":"IF(中間シート!W179<>\"99\",中間シート!W179,\"\")","v":""},{"$f":"IFERROR(IF($B130=TRUE,VLOOKUP($H130&$J130&$P130&$R130,補助対象機器一覧0916!$A$1:$E$75,2,FALSE),IF($B130=FALSE,VLOOKUP($A130,中間シート!$C$110:$M$260,8,FALSE),\"\")),\"\")","v":""},null,{"$f":"IF(MID($A130,4,2)<>\"９９\",IF($B130=TRUE,VLOOKUP($A130,中間シート!$C$111:$P$260,3,FALSE),\"\"),\"\")&\"\"","v":""},{"$f":"IFERROR(IF($B130=TRUE,VLOOKUP($H130&$J130&$P130&$R130,補助対象機器一覧0916!$A$1:$E$75,3,FALSE),IF($B130=FALSE,VLOOKUP($A130,中間シート!$C$110:$M$260,9,FALSE),\"\")),\"\")","v":""},{"$f":"IF(MID($A130,4,2)<>\"９９\",IF($B130=TRUE,VLOOKUP($A130,中間シート!$C$111:$P$260,4,FALSE),\"\"),\"\")&\"\"","v":""},{"$f":"IFERROR(IF($B130=TRUE,VLOOKUP($H130&$J130&$P130&$R130,補助対象機器一覧0916!$A$1:$E$75,4,FALSE),IF($B130=FALSE,VLOOKUP($A130,中間シート!$C$110:$M$260,10,FALSE),\"\")),\"\")","v":""},null,null,null,null,{"$f":"IF(MID($A130,4,2)<>\"９９\",IF($B130=TRUE,VLOOKUP($A130,中間シート!$C$111:$P$260,5,FALSE),\"\"),\"\")&\"\"","v":""},{"$f":"IFERROR(IF($B130=TRUE,VLOOKUP($H130&$J130&$P130&$R130,補助対象機器一覧0916!$A$1:$E$75,5,FALSE),IF($B130=FALSE,VLOOKUP($A130,中間シート!$C$110:$M$260,11,FALSE),\"\")),\"\")","v":""},{"$f":"IF(MID($A130,4,2)<>\"９９\",IF($B130=TRUE,VLOOKUP($A130,中間シート!$C$111:$P$260,6,FALSE),\"\"),\"\")&\"\"","v":""}]
[{"$f":"中間シート!Y180","v":"事業場９９　９台目"},{"$f":"中間シート!Z180","v":{"$error":"#N/A"}},"事業場",null,{"$f":"IF(中間シート!W180<>\"99\",中間シート!W180,\"\")","v":""},{"$f":"IFERROR(IF($B131=TRUE,VLOOKUP($H131&$J131&$P131&$R131,補助対象機器一覧0916!$A$1:$E$75,2,FALSE),IF($B131=FALSE,VLOOKUP($A131,中間シート!$C$110:$M$260,8,FALSE),\"\")),\"\")","v":""},null,{"$f":"IF(MID($A131,4,2)<>\"９９\",IF($B131=TRUE,VLOOKUP($A131,中間シート!$C$111:$P$260,3,FALSE),\"\"),\"\")&\"\"","v":""},{"$f":"IFERROR(IF($B131=TRUE,VLOOKUP($H131&$J131&$P131&$R131,補助対象機器一覧0916!$A$1:$E$75,3,FALSE),IF($B131=FALSE,VLOOKUP($A131,中間シート!$C$110:$M$260,9,FALSE),\"\")),\"\")","v":""},{"$f":"IF(MID($A131,4,2)<>\"９９\",IF($B131=TRUE,VLOOKUP($A131,中間シート!$C$111:$P$260,4,FALSE),\"\"),\"\")&\"\"","v":""},{"$f":"IFERROR(IF($B131=TRUE,VLOOKUP($H131&$J131&$P131&$R131,補助対象機器一覧0916!$A$1:$E$75,4,FALSE),IF($B131=FALSE,VLOOKUP($A131,中間シート!$C$110:$M$260,10,FALSE),\"\")),\"\")","v":""},null,null,null,null,{"$f":"IF(MID($A131,4,2)<>\"９９\",IF($B131=TRUE,VLOOKUP($A131,中間シート!$C$111:$P$260,5,FALSE),\"\"),\"\")&\"\"","v":""},{"$f":"IFERROR(IF($B131=TRUE,VLOOKUP($H131&$J131&$P131&$R131,補助対象機器一覧0916!$A$1:$E$75,5,FALSE),IF($B131=FALSE,VLOOKUP($A131,中間シート!$C$110:$M$260,11,FALSE),\"\")),\"\")","v":""},{"$f":"IF(MID($A131,4,2)<>\"９９\",IF($B131=TRUE,VLOOKUP($A131,中間シート!$C$111:$P$260,6,FALSE),\"\"),\"\")&\"\"","v":""}]
[{"$f":"中間シート!Y181","v":"事業場９９　９台目"},{"$f":"中間シート!Z181","v":{"$error":"#N/A"}},"事業場",null,{"$f":"IF(中間シート!W181<>\"99\",中間シート!W181,\"\")","v":""},{"$f":"IFERROR(IF($B132=TRUE,VLOOKUP($H132&$J132&$P132&$R132,補助対象機器一覧0916!$A$1:$E$75,2,FALSE),IF($B132=FALSE,VLOOKUP($A132,中間シート!$C$110:$M$260,8,FALSE),\"\")),\"\")","v":""},null,{"$f":"IF(MID($A132,4,2)<>\"９９\",IF($B132=TRUE,VLOOKUP($A132,中間シート!$C$111:$P$260,3,FALSE),\"\"),\"\")&\"\"","v":""},{"$f":"IFERROR(IF($B132=TRUE,VLOOKUP($H132&$J132&$P132&$R132,補助対象機器一覧0916!$A$1:$E$75,3,FALSE),IF($B132=FALSE,VLOOKUP($A132,中間シート!$C$110:$M$260,9,FALSE),\"\")),\"\")","v":""},{"$f":"IF(MID($A132,4,2)<>\"９９\",IF($B132=TRUE,VLOOKUP($A132,中間シート!$C$111:$P$260,4,FALSE),\"\"),\"\")&\"\"","v":""},{"$f":"IFERROR(IF($B132=TRUE,VLOOKUP($H132&$J132&$P132&$R132,補助対象機器一覧0916!$A$1:$E$75,4,FALSE),IF($B132=FALSE,VLOOKUP($A132,中間シート!$C$110:$M$260,10,FALSE),\"\")),\"\")","v":""},null,null,null,null,{"$f":"IF(MID($A132,4,2)<>\"９９\",IF($B132=TRUE,VLOOKUP($A132,中間シート!$C$111:$P$260,5,FALSE),\"\"),\"\")&\"\"","v":""},{"$f":"IFERROR(IF($B132=TRUE,VLOOKUP($H132&$J132&$P132&$R132,補助対象機器一覧0916!$A$1:$E$75,5,FALSE),IF($B132=FALSE,VLOOKUP($A132,中間シート!$C$110:$M$260,11,FALSE),\"\")),\"\")","v":""},{"$f":"IF(MID($A132,4,2)<>\"９９\",IF($B132=TRUE,VLOOKUP($A132,中間シート!$C$111:$P$260,6,FALSE),\"\"),\"\")&\"\"","v":""}]
[{"$f":"中間シート!Y182","v":"事業場９９　９台目"},{"$f":"中間シート!Z182","v":{"$error":"#N/A"}},"事業場",null,{"$f":"IF(中間シート!W182<>\"99\",中間シート!W182,\"\")","v":""},{"$f":"IFERROR(IF($B133=TRUE,VLOOKUP($H133&$J133&$P133&$R133,補助対象機器一覧0916!$A$1:$E$75,2,FALSE),IF($B133=FALSE,VLOOKUP($A133,中間シート!$C$110:$M$260,8,FALSE),\"\")),\"\")","v":""},null,{"$f":"IF(MID($A133,4,2)<>\"９９\",IF($B133=TRUE,VLOOKUP($A133,中間シート!$C$111:$P$260,3,FALSE),\"\"),\"\")&\"\"","v":""},{"$f":"IFERROR(IF($B133=TRUE,VLOOKUP($H133&$J133&$P133&$R133,補助対象機器一覧0916!$A$1:$E$75,3,FALSE),IF($B133=FALSE,VLOOKUP($A133,中間シート!$C$110:$M$260,9,FALSE),\"\")),\"\")","v":""},{"$f":"IF(MID($A133,4,2)<>\"９９\",IF($B133=TRUE,VLOOKUP($A133,中間シート!$C$111:$P$260,4,FALSE),\"\"),\"\")&\"\"","v":""},{"$f":"IFERROR(IF($B133=TRUE,VLOOKUP($H133&$J133&$P133&$R133,補助対象機器一覧0916!$A$1:$E$75,4,FALSE),IF($B133=FALSE,VLOOKUP($A133,中間シート!$C$110:$M$260,10,FALSE),\"\")),\"\")","v":""},null,null,null,null,{"$f":"IF(MID($A133,4,2)<>\"９９\",IF($B133=TRUE,VLOOKUP($A133,中間シート!$C$111:$P$260,5,FALSE),\"\"),\"\")&\"\"","v":""},{"$f":"IFERROR(IF($B133=TRUE,VLOOKUP($H133&$J133&$P133&$R133,補助対象機器一覧0916!$A$1:$E$75,5,FALSE),IF($B133=FALSE,VLOOKUP($A133,中間シート!$C$110:$M$260,11,FALSE),\"\")),\"\")","v":""},{"$f":"IF(MID($A133,4,2)<>\"９９\",IF($B133=TRUE,VLOOKUP($A133,中間シート!$C$111:$P$260,6,FALSE),\"\"),\"\")&\"\"","v":""}]
[{"$f":"中間シート!Y183","v":"事業場９９　９台目"},{"$f":"中間シート!Z183","v":{"$error":"#N/A"}},"事業場",null,{"$f":"IF(中間シート!W183<>\"99\",中間シート!W183,\"\")","v":""},{"$f":"IFERROR(IF($B134=TRUE,VLOOKUP($H134&$J134&$P134&$R134,補助対象機器一覧0916!$A$1:$E$75,2,FALSE),IF($B134=FALSE,VLOOKUP($A134,中間シート!$C$110:$M$260,8,FALSE),\"\")),\"\")","v":""},null,{"$f":"IF(MID($A134,4,2)<>\"９９\",IF($B134=TRUE,VLOOKUP($A134,中間シート!$C$111:$P$260,3,FALSE),\"\"),\"\")&\"\"","v":""},{"$f":"IFERROR(IF($B134=TRUE,VLOOKUP($H134&$J134&$P134&$R134,補助対象機器一覧0916!$A$1:$E$75,3,FALSE),IF($B134=FALSE,VLOOKUP($A134,中間シート!$C$110:$M$260,9,FALSE),\"\")),\"\")","v":""},{"$f":"IF(MID($A134,4,2)<>\"９９\",IF($B134=TRUE,VLOOKUP($A134,中間シート!$C$111:$P$260,4,FALSE),\"\"),\"\")&\"\"","v":""},{"$f":"IFERROR(IF($B134=TRUE,VLOOKUP($H134&$J134&$P134&$R134,補助対象機器一覧0916!$A$1:$E$75,4,FALSE),IF($B134=FALSE,VLOOKUP($A134,中間シート!$C$110:$M$260,10,FALSE),\"\")),\"\")","v":""},null,null,null,null,{"$f":"IF(MID($A134,4,2)<>\"９９\",IF($B134=TRUE,VLOOKUP($A134,中間シート!$C$111:$P$260,5,FALSE),\"\"),\"\")&\"\"","v":""},{"$f":"IFERROR(IF($B134=TRUE,VLOOKUP($H134&$J134&$P134&$R134,補助対象機器一覧0916!$A$1:$E$75,5,FALSE),IF($B134=FALSE,VLOOKUP($A134,中間シート!$C$110:$M$260,11,FALSE),\"\")),\"\")","v":""},{"$f":"IF(MID($A134,4,2)<>\"９９\",IF($B134=TRUE,VLOOKUP($A134,中間シート!$C$111:$P$260,6,FALSE),\"\"),\"\")&\"\"","v":""}]
[{"$f":"中間シート!Y184","v":"事業場９９　９台目"},{"$f":"中間シート!Z184","v":{"$error":"#N/A"}},"事業場",null,{"$f":"IF(中間シート!W184<>\"99\",中間シート!W184,\"\")","v":""},{"$f":"IFERROR(IF($B135=TRUE,VLOOKUP($H135&$J135&$P135&$R135,補助対象機器一覧0916!$A$1:$E$75,2,FALSE),IF($B135=FALSE,VLOOKUP($A135,中間シート!$C$110:$M$260,8,FALSE),\"\")),\"\")","v":""},null,{"$f":"IF(MID($A135,4,2)<>\"９９\",IF($B135=TRUE,VLOOKUP($A135,中間シート!$C$111:$P$260,3,FALSE),\"\"),\"\")&\"\"","v":""},{"$f":"IFERROR(IF($B135=TRUE,VLOOKUP($H135&$J135&$P135&$R135,補助対象機器一覧0916!$A$1:$E$75,3,FALSE),IF($B135=FALSE,VLOOKUP($A135,中間シート!$C$110:$M$260,9,FALSE),\"\")),\"\")","v":""},{"$f":"IF(MID($A135,4,2)<>\"９９\",IF($B135=TRUE,VLOOKUP($A135,中間シート!$C$111:$P$260,4,FALSE),\"\"),\"\")&\"\"","v":""},{"$f":"IFERROR(IF($B135=TRUE,VLOOKUP($H135&$J135&$P135&$R135,補助対象機器一覧0916!$A$1:$E$75,4,FALSE),IF($B135=FALSE,VLOOKUP($A135,中間シート!$C$110:$M$260,10,FALSE),\"\")),\"\")","v":""},null,null,null,null,{"$f":"IF(MID($A135,4,2)<>\"９９\",IF($B135=TRUE,VLOOKUP($A135,中間シート!$C$111:$P$260,5,FALSE),\"\"),\"\")&\"\"","v":""},{"$f":"IFERROR(IF($B135=TRUE,VLOOKUP($H135&$J135&$P135&$R135,補助対象機器一覧0916!$A$1:$E$75,5,FALSE),IF($B135=FALSE,VLOOKUP($A135,中間シート!$C$110:$M$260,11,FALSE),\"\")),\"\")","v":""},{"$f":"IF(MID($A135,4,2)<>\"９９\",IF($B135=TRUE,VLOOKUP($A135,中間シート!$C$111:$P$260,6,FALSE),\"\"),\"\")&\"\"","v":""}]
[{"$f":"中間シート!Y185","v":"事業場９９　９台目"},{"$f":"中間シート!Z185","v":{"$error":"#N/A"}},"事業場",null,{"$f":"IF(中間シート!W185<>\"99\",中間シート!W185,\"\")","v":""},{"$f":"IFERROR(IF($B136=TRUE,VLOOKUP($H136&$J136&$P136&$R136,補助対象機器一覧0916!$A$1:$E$75,2,FALSE),IF($B136=FALSE,VLOOKUP($A136,中間シート!$C$110:$M$260,8,FALSE),\"\")),\"\")","v":""},null,{"$f":"IF(MID($A136,4,2)<>\"９９\",IF($B136=TRUE,VLOOKUP($A136,中間シート!$C$111:$P$260,3,FALSE),\"\"),\"\")&\"\"","v":""},{"$f":"IFERROR(IF($B136=TRUE,VLOOKUP($H136&$J136&$P136&$R136,補助対象機器一覧0916!$A$1:$E$75,3,FALSE),IF($B136=FALSE,VLOOKUP($A136,中間シート!$C$110:$M$260,9,FALSE),\"\")),\"\")","v":""},{"$f":"IF(MID($A136,4,2)<>\"９９\",IF($B136=TRUE,VLOOKUP($A136,中間シート!$C$111:$P$260,4,FALSE),\"\"),\"\")&\"\"","v":""},{"$f":"IFERROR(IF($B136=TRUE,VLOOKUP($H136&$J136&$P136&$R136,補助対象機器一覧0916!$A$1:$E$75,4,FALSE),IF($B136=FALSE,VLOOKUP($A136,中間シート!$C$110:$M$260,10,FALSE),\"\")),\"\")","v":""},null,null,null,null,{"$f":"IF(MID($A136,4,2)<>\"９９\",IF($B136=TRUE,VLOOKUP($A136,中間シート!$C$111:$P$260,5,FALSE),\"\"),\"\")&\"\"","v":""},{"$f":"IFERROR(IF($B136=TRUE,VLOOKUP($H136&$J136&$P136&$R136,補助対象機器一覧0916!$A$1:$E$75,5,FALSE),IF($B136=FALSE,VLOOKUP($A136,中間シート!$C$110:$M$260,11,FALSE),\"\")),\"\")","v":""},{"$f":"IF(MID($A136,4,2)<>\"９９\",IF($B136=TRUE,VLOOKUP($A136,中間シート!$C$111:$P$260,6,FALSE),\"\"),\"\")&\"\"","v":""}]
[{"$f":"中間シート!Y186","v":"事業場９９　９台目"},{"$f":"中間シート!Z186","v":{"$error":"#N/A"}},"事業場",null,{"$f":"IF(中間シート!W186<>\"99\",中間シート!W186,\"\")","v":""},{"$f":"IFERROR(IF($B137=TRUE,VLOOKUP($H137&$J137&$P137&$R137,補助対象機器一覧0916!$A$1:$E$75,2,FALSE),IF($B137=FALSE,VLOOKUP($A137,中間シート!$C$110:$M$260,8,FALSE),\"\")),\"\")","v":""},null,{"$f":"IF(MID($A137,4,2)<>\"９９\",IF($B137=TRUE,VLOOKUP($A137,中間シート!$C$111:$P$260,3,FALSE),\"\"),\"\")&\"\"","v":""},{"$f":"IFERROR(IF($B137=TRUE,VLOOKUP($H137&$J137&$P137&$R137,補助対象機器一覧0916!$A$1:$E$75,3,FALSE),IF($B137=FALSE,VLOOKUP($A137,中間シート!$C$110:$M$260,9,FALSE),\"\")),\"\")","v":""},{"$f":"IF(MID($A137,4,2)<>\"９９\",IF($B137=TRUE,VLOOKUP($A137,中間シート!$C$111:$P$260,4,FALSE),\"\"),\"\")&\"\"","v":""},{"$f":"IFERROR(IF($B137=TRUE,VLOOKUP($H137&$J137&$P137&$R137,補助対象機器一覧0916!$A$1:$E$75,4,FALSE),IF($B137=FALSE,VLOOKUP($A137,中間シート!$C$110:$M$260,10,FALSE),\"\")),\"\")","v":""},null,null,null,null,{"$f":"IF(MID($A137,4,2)<>\"９９\",IF($B137=TRUE,VLOOKUP($A137,中間シート!$C$111:$P$260,5,FALSE),\"\"),\"\")&\"\"","v":""},{"$f":"IFERROR(IF($B137=TRUE,VLOOKUP($H137&$J137&$P137&$R137,補助対象機器一覧0916!$A$1:$E$75,5,FALSE),IF($B137=FALSE,VLOOKUP($A137,中間シート!$C$110:$M$260,11,FALSE),\"\")),\"\")","v":""},{"$f":"IF(MID($A137,4,2)<>\"９９\",IF($B137=TRUE,VLOOKUP($A137,中間シート!$C$111:$P$260,6,FALSE),\"\"),\"\")&\"\"","v":""}]
[{"$f":"中間シート!Y187","v":"事業場９９　９台目"},{"$f":"中間シート!Z187","v":{"$error":"#N/A"}},"事業場",null,{"$f":"IF(中間シート!W187<>\"99\",中間シート!W187,\"\")","v":""},{"$f":"IFERROR(IF($B138=TRUE,VLOOKUP($H138&$J138&$P138&$R138,補助対象機器一覧0916!$A$1:$E$75,2,FALSE),IF($B138=FALSE,VLOOKUP($A138,中間シート!$C$110:$M$260,8,FALSE),\"\")),\"\")","v":""},null,{"$f":"IF(MID($A138,4,2)<>\"９９\",IF($B138=TRUE,VLOOKUP($A138,中間シート!$C$111:$P$260,3,FALSE),\"\"),\"\")&\"\"","v":""},{"$f":"IFERROR(IF($B138=TRUE,VLOOKUP($H138&$J138&$P138&$R138,補助対象機器一覧0916!$A$1:$E$75,3,FALSE),IF($B138=FALSE,VLOOKUP($A138,中間シート!$C$110:$M$260,9,FALSE),\"\")),\"\")","v":""},{"$f":"IF(MID($A138,4,2)<>\"９９\",IF($B138=TRUE,VLOOKUP($A138,中間シート!$C$111:$P$260,4,FALSE),\"\"),\"\")&\"\"","v":""},{"$f":"IFERROR(IF($B138=TRUE,VLOOKUP($H138&$J138&$P138&$R138,補助対象機器一覧0916!$A$1:$E$75,4,FALSE),IF($B138=FALSE,VLOOKUP($A138,中間シート!$C$110:$M$260,10,FALSE),\"\")),\"\")","v":""},null,null,null,null,{"$f":"IF(MID($A138,4,2)<>\"９９\",IF($B138=TRUE,VLOOKUP($A138,中間シート!$C$111:$P$260,5,FALSE),\"\"),\"\")&\"\"","v":""},{"$f":"IFERROR(IF($B138=TRUE,VLOOKUP($H138&$J138&$P138&$R138,補助対象機器一覧0916!$A$1:$E$75,5,FALSE),IF($B138=FALSE,VLOOKUP($A138,中間シート!$C$110:$M$260,11,FALSE),\"\")),\"\")","v":""},{"$f":"IF(MID($A138,4,2)<>\"９９\",IF($B138=TRUE,VLOOKUP($A138,中間シート!$C$111:$P$260,6,FALSE),\"\"),\"\")&\"\"","v":""}]
[{"$f":"中間シート!Y188","v":"事業場９９　９台目"},{"$f":"中間シート!Z188","v":{"$error":"#N/A"}},"事業場",null,{"$f":"IF(中間シート!W188<>\"99\",中間シート!W188,\"\")","v":""},{"$f":"IFERROR(IF($B139=TRUE,VLOOKUP($H139&$J139&$P139&$R139,補助対象機器一覧0916!$A$1:$E$75,2,FALSE),IF($B139=FALSE,VLOOKUP($A139,中間シート!$C$110:$M$260,8,FALSE),\"\")),\"\")","v":""},null,{"$f":"IF(MID($A139,4,2)<>\"９９\",IF($B139=TRUE,VLOOKUP($A139,中間シート!$C$111:$P$260,3,FALSE),\"\"),\"\")&\"\"","v":""},{"$f":"IFERROR(IF($B139=TRUE,VLOOKUP($H139&$J139&$P139&$R139,補助対象機器一覧0916!$A$1:$E$75,3,FALSE),IF($B139=FALSE,VLOOKUP($A139,中間シート!$C$110:$M$260,9,FALSE),\"\")),\"\")","v":""},{"$f":"IF(MID($A139,4,2)<>\"９９\",IF($B139=TRUE,VLOOKUP($A139,中間シート!$C$111:$P$260,4,FALSE),\"\"),\"\")&\"\"","v":""},{"$f":"IFERROR(IF($B139=TRUE,VLOOKUP($H139&$J139&$P139&$R139,補助対象機器一覧0916!$A$1:$E$75,4,FALSE),IF($B139=FALSE,VLOOKUP($A139,中間シート!$C$110:$M$260,10,FALSE),\"\")),\"\")","v":""},null,null,null,null,{"$f":"IF(MID($A139,4,2)<>\"９９\",IF($B139=TRUE,VLOOKUP($A139,中間シート!$C$111:$P$260,5,FALSE),\"\"),\"\")&\"\"","v":""},{"$f":"IFERROR(IF($B139=TRUE,VLOOKUP($H139&$J139&$P139&$R139,補助対象機器一覧0916!$A$1:$E$75,5,FALSE),IF($B139=FALSE,VLOOKUP($A139,中間シート!$C$110:$M$260,11,FALSE),\"\")),\"\")","v":""},{"$f":"IF(MID($A139,4,2)<>\"９９\",IF($B139=TRUE,VLOOKUP($A139,中間シート!$C$111:$P$260,6,FALSE),\"\"),\"\")&\"\"","v":""}]
[{"$f":"中間シート!Y189","v":"事業場９９　９台目"},{"$f":"中間シート!Z189","v":{"$error":"#N/A"}},"事業場",null,{"$f":"IF(中間シート!W189<>\"99\",中間シート!W189,\"\")","v":""},{"$f":"IFERROR(IF($B140=TRUE,VLOOKUP($H140&$J140&$P140&$R140,補助対象機器一覧0916!$A$1:$E$75,2,FALSE),IF($B140=FALSE,VLOOKUP($A140,中間シート!$C$110:$M$260,8,FALSE),\"\")),\"\")","v":""},null,{"$f":"IF(MID($A140,4,2)<>\"９９\",IF($B140=TRUE,VLOOKUP($A140,中間シート!$C$111:$P$260,3,FALSE),\"\"),\"\")&\"\"","v":""},{"$f":"IFERROR(IF($B140=TRUE,VLOOKUP($H140&$J140&$P140&$R140,補助対象機器一覧0916!$A$1:$E$75,3,FALSE),IF($B140=FALSE,VLOOKUP($A140,中間シート!$C$110:$M$260,9,FALSE),\"\")),\"\")","v":""},{"$f":"IF(MID($A140,4,2)<>\"９９\",IF($B140=TRUE,VLOOKUP($A140,中間シート!$C$111:$P$260,4,FALSE),\"\"),\"\")&\"\"","v":""},{"$f":"IFERROR(IF($B140=TRUE,VLOOKUP($H140&$J140&$P140&$R140,補助対象機器一覧0916!$A$1:$E$75,4,FALSE),IF($B140=FALSE,VLOOKUP($A140,中間シート!$C$110:$M$260,10,FALSE),\"\")),\"\")","v":""},null,null,null,null,{"$f":"IF(MID($A140,4,2)<>\"９９\",IF($B140=TRUE,VLOOKUP($A140,中間シート!$C$111:$P$260,5,FALSE),\"\"),\"\")&\"\"","v":""},{"$f":"IFERROR(IF($B140=TRUE,VLOOKUP($H140&$J140&$P140&$R140,補助対象機器一覧0916!$A$1:$E$75,5,FALSE),IF($B140=FALSE,VLOOKUP($A140,中間シート!$C$110:$M$260,11,FALSE),\"\")),\"\")","v":""},{"$f":"IF(MID($A140,4,2)<>\"９９\",IF($B140=TRUE,VLOOKUP($A140,中間シート!$C$111:$P$260,6,FALSE),\"\"),\"\")&\"\"","v":""}]
[{"$f":"中間シート!Y190","v":"事業場９９　９台目"},{"$f":"中間シート!Z190","v":{"$error":"#N/A"}},"事業場",null,{"$f":"IF(中間シート!W190<>\"99\",中間シート!W190,\"\")","v":""},{"$f":"IFERROR(IF($B141=TRUE,VLOOKUP($H141&$J141&$P141&$R141,補助対象機器一覧0916!$A$1:$E$75,2,FALSE),IF($B141=FALSE,VLOOKUP($A141,中間シート!$C$110:$M$260,8,FALSE),\"\")),\"\")","v":""},null,{"$f":"IF(MID($A141,4,2)<>\"９９\",IF($B141=TRUE,VLOOKUP($A141,中間シート!$C$111:$P$260,3,FALSE),\"\"),\"\")&\"\"","v":""},{"$f":"IFERROR(IF($B141=TRUE,VLOOKUP($H141&$J141&$P141&$R141,補助対象機器一覧0916!$A$1:$E$75,3,FALSE),IF($B141=FALSE,VLOOKUP($A141,中間シート!$C$110:$M$260,9,FALSE),\"\")),\"\")","v":""},{"$f":"IF(MID($A141,4,2)<>\"９９\",IF($B141=TRUE,VLOOKUP($A141,中間シート!$C$111:$P$260,4,FALSE),\"\"),\"\")&\"\"","v":""},{"$f":"IFERROR(IF($B141=TRUE,VLOOKUP($H141&$J141&$P141&$R141,補助対象機器一覧0916!$A$1:$E$75,4,FALSE),IF($B141=FALSE,VLOOKUP($A141,中間シート!$C$110:$M$260,10,FALSE),\"\")),\"\")","v":""},null,null,null,null,{"$f":"IF(MID($A141,4,2)<>\"９９\",IF($B141=TRUE,VLOOKUP($A141,中間シート!$C$111:$P$260,5,FALSE),\"\"),\"\")&\"\"","v":""},{"$f":"IFERROR(IF($B141=TRUE,VLOOKUP($H141&$J141&$P141&$R141,補助対象機器一覧0916!$A$1:$E$75,5,FALSE),IF($B141=FALSE,VLOOKUP($A141,中間シート!$C$110:$M$260,11,FALSE),\"\")),\"\")","v":""},{"$f":"IF(MID($A141,4,2)<>\"９９\",IF($B141=TRUE,VLOOKUP($A141,中間シート!$C$111:$P$260,6,FALSE),\"\"),\"\")&\"\"","v":""}]
[{"$f":"中間シート!Y191","v":"事業場９９　９台目"},{"$f":"中間シート!Z191","v":{"$error":"#N/A"}},"事業場",null,{"$f":"IF(中間シート!W191<>\"99\",中間シート!W191,\"\")","v":""},{"$f":"IFERROR(IF($B142=TRUE,VLOOKUP($H142&$J142&$P142&$R142,補助対象機器一覧0916!$A$1:$E$75,2,FALSE),IF($B142=FALSE,VLOOKUP($A142,中間シート!$C$110:$M$260,8,FALSE),\"\")),\"\")","v":""},null,{"$f":"IF(MID($A142,4,2)<>\"９９\",IF($B142=TRUE,VLOOKUP($A142,中間シート!$C$111:$P$260,3,FALSE),\"\"),\"\")&\"\"","v":""},{"$f":"IFERROR(IF($B142=TRUE,VLOOKUP($H142&$J142&$P142&$R142,補助対象機器一覧0916!$A$1:$E$75,3,FALSE),IF($B142=FALSE,VLOOKUP($A142,中間シート!$C$110:$M$260,9,FALSE),\"\")),\"\")","v":""},{"$f":"IF(MID($A142,4,2)<>\"９９\",IF($B142=TRUE,VLOOKUP($A142,中間シート!$C$111:$P$260,4,FALSE),\"\"),\"\")&\"\"","v":""},{"$f":"IFERROR(IF($B142=TRUE,VLOOKUP($H142&$J142&$P142&$R142,補助対象機器一覧0916!$A$1:$E$75,4,FALSE),IF($B142=FALSE,VLOOKUP($A142,中間シート!$C$110:$M$260,10,FALSE),\"\")),\"\")","v":""},null,null,null,null,{"$f":"IF(MID($A142,4,2)<>\"９９\",IF($B142=TRUE,VLOOKUP($A142,中間シート!$C$111:$P$260,5,FALSE),\"\"),\"\")&\"\"","v":""},{"$f":"IFERROR(IF($B142=TRUE,VLOOKUP($H142&$J142&$P142&$R142,補助対象機器一覧0916!$A$1:$E$75,5,FALSE),IF($B142=FALSE,VLOOKUP($A142,中間シート!$C$110:$M$260,11,FALSE),\"\")),\"\")","v":""},{"$f":"IF(MID($A142,4,2)<>\"９９\",IF($B142=TRUE,VLOOKUP($A142,中間シート!$C$111:$P$260,6,FALSE),\"\"),\"\")&\"\"","v":""}]
[{"$f":"中間シート!Y192","v":"事業場９９　９台目"},{"$f":"中間シート!Z192","v":{"$error":"#N/A"}},"事業場",null,{"$f":"IF(中間シート!W192<>\"99\",中間シート!W192,\"\")","v":""},{"$f":"IFERROR(IF($B143=TRUE,VLOOKUP($H143&$J143&$P143&$R143,補助対象機器一覧0916!$A$1:$E$75,2,FALSE),IF($B143=FALSE,VLOOKUP($A143,中間シート!$C$110:$M$260,8,FALSE),\"\")),\"\")","v":""},null,{"$f":"IF(MID($A143,4,2)<>\"９９\",IF($B143=TRUE,VLOOKUP($A143,中間シート!$C$111:$P$260,3,FALSE),\"\"),\"\")&\"\"","v":""},{"$f":"IFERROR(IF($B143=TRUE,VLOOKUP($H143&$J143&$P143&$R143,補助対象機器一覧0916!$A$1:$E$75,3,FALSE),IF($B143=FALSE,VLOOKUP($A143,中間シート!$C$110:$M$260,9,FALSE),\"\")),\"\")","v":""},{"$f":"IF(MID($A143,4,2)<>\"９９\",IF($B143=TRUE,VLOOKUP($A143,中間シート!$C$111:$P$260,4,FALSE),\"\"),\"\")&\"\"","v":""},{"$f":"IFERROR(IF($B143=TRUE,VLOOKUP($H143&$J143&$P143&$R143,補助対象機器一覧0916!$A$1:$E$75,4,FALSE),IF($B143=FALSE,VLOOKUP($A143,中間シート!$C$110:$M$260,10,FALSE),\"\")),\"\")","v":""},null,null,null,null,{"$f":"IF(MID($A143,4,2)<>\"９９\",IF($B143=TRUE,VLOOKUP($A143,中間シート!$C$111:$P$260,5,FALSE),\"\"),\"\")&\"\"","v":""},{"$f":"IFERROR(IF($B143=TRUE,VLOOKUP($H143&$J143&$P143&$R143,補助対象機器一覧0916!$A$1:$E$75,5,FALSE),IF($B143=FALSE,VLOOKUP($A143,中間シート!$C$110:$M$260,11,FALSE),\"\")),\"\")","v":""},{"$f":"IF(MID($A143,4,2)<>\"９９\",IF($B143=TRUE,VLOOKUP($A143,中間シート!$C$111:$P$260,6,FALSE),\"\"),\"\")&\"\"","v":""}]
[{"$f":"中間シート!Y193","v":"事業場９９　９台目"},{"$f":"中間シート!Z193","v":{"$error":"#N/A"}},"事業場",null,{"$f":"IF(中間シート!W193<>\"99\",中間シート!W193,\"\")","v":""},{"$f":"IFERROR(IF($B144=TRUE,VLOOKUP($H144&$J144&$P144&$R144,補助対象機器一覧0916!$A$1:$E$75,2,FALSE),IF($B144=FALSE,VLOOKUP($A144,中間シート!$C$110:$M$260,8,FALSE),\"\")),\"\")","v":""},null,{"$f":"IF(MID($A144,4,2)<>\"９９\",IF($B144=TRUE,VLOOKUP($A144,中間シート!$C$111:$P$260,3,FALSE),\"\"),\"\")&\"\"","v":""},{"$f":"IFERROR(IF($B144=TRUE,VLOOKUP($H144&$J144&$P144&$R144,補助対象機器一覧0916!$A$1:$E$75,3,FALSE),IF($B144=FALSE,VLOOKUP($A144,中間シート!$C$110:$M$260,9,FALSE),\"\")),\"\")","v":""},{"$f":"IF(MID($A144,4,2)<>\"９９\",IF($B144=TRUE,VLOOKUP($A144,中間シート!$C$111:$P$260,4,FALSE),\"\"),\"\")&\"\"","v":""},{"$f":"IFERROR(IF($B144=TRUE,VLOOKUP($H144&$J144&$P144&$R144,補助対象機器一覧0916!$A$1:$E$75,4,FALSE),IF($B144=FALSE,VLOOKUP($A144,中間シート!$C$110:$M$260,10,FALSE),\"\")),\"\")","v":""},null,null,null,null,{"$f":"IF(MID($A144,4,2)<>\"９９\",IF($B144=TRUE,VLOOKUP($A144,中間シート!$C$111:$P$260,5,FALSE),\"\"),\"\")&\"\"","v":""},{"$f":"IFERROR(IF($B144=TRUE,VLOOKUP($H144&$J144&$P144&$R144,補助対象機器一覧0916!$A$1:$E$75,5,FALSE),IF($B144=FALSE,VLOOKUP($A144,中間シート!$C$110:$M$260,11,FALSE),\"\")),\"\")","v":""},{"$f":"IF(MID($A144,4,2)<>\"９９\",IF($B144=TRUE,VLOOKUP($A144,中間シート!$C$111:$P$260,6,FALSE),\"\"),\"\")&\"\"","v":""}]
[{"$f":"中間シート!Y194","v":"事業場９９　９台目"},{"$f":"中間シート!Z194","v":{"$error":"#N/A"}},"事業場",null,{"$f":"IF(中間シート!W194<>\"99\",中間シート!W194,\"\")","v":""},{"$f":"IFERROR(IF($B145=TRUE,VLOOKUP($H145&$J145&$P145&$R145,補助対象機器一覧0916!$A$1:$E$75,2,FALSE),IF($B145=FALSE,VLOOKUP($A145,中間シート!$C$110:$M$260,8,FALSE),\"\")),\"\")","v":""},null,{"$f":"IF(MID($A145,4,2)<>\"９９\",IF($B145=TRUE,VLOOKUP($A145,中間シート!$C$111:$P$260,3,FALSE),\"\"),\"\")&\"\"","v":""},{"$f":"IFERROR(IF($B145=TRUE,VLOOKUP($H145&$J145&$P145&$R145,補助対象機器一覧0916!$A$1:$E$75,3,FALSE),IF($B145=FALSE,VLOOKUP($A145,中間シート!$C$110:$M$260,9,FALSE),\"\")),\"\")","v":""},{"$f":"IF(MID($A145,4,2)<>\"９９\",IF($B145=TRUE,VLOOKUP($A145,中間シート!$C$111:$P$260,4,FALSE),\"\"),\"\")&\"\"","v":""},{"$f":"IFERROR(IF($B145=TRUE,VLOOKUP($H145&$J145&$P145&$R145,補助対象機器一覧0916!$A$1:$E$75,4,FALSE),IF($B145=FALSE,VLOOKUP($A145,中間シート!$C$110:$M$260,10,FALSE),\"\")),\"\")","v":""},null,null,null,null,{"$f":"IF(MID($A145,4,2)<>\"９９\",IF($B145=TRUE,VLOOKUP($A145,中間シート!$C$111:$P$260,5,FALSE),\"\"),\"\")&\"\"","v":""},{"$f":"IFERROR(IF($B145=TRUE,VLOOKUP($H145&$J145&$P145&$R145,補助対象機器一覧0916!$A$1:$E$75,5,FALSE),IF($B145=FALSE,VLOOKUP($A145,中間シート!$C$110:$M$260,11,FALSE),\"\")),\"\")","v":""},{"$f":"IF(MID($A145,4,2)<>\"９９\",IF($B145=TRUE,VLOOKUP($A145,中間シート!$C$111:$P$260,6,FALSE),\"\"),\"\")&\"\"","v":""}]
[{"$f":"中間シート!Y195","v":"事業場９９　９台目"},{"$f":"中間シート!Z195","v":{"$error":"#N/A"}},"事業場",null,{"$f":"IF(中間シート!W195<>\"99\",中間シート!W195,\"\")","v":""},{"$f":"IFERROR(IF($B146=TRUE,VLOOKUP($H146&$J146&$P146&$R146,補助対象機器一覧0916!$A$1:$E$75,2,FALSE),IF($B146=FALSE,VLOOKUP($A146,中間シート!$C$110:$M$260,8,FALSE),\"\")),\"\")","v":""},null,{"$f":"IF(MID($A146,4,2)<>\"９９\",IF($B146=TRUE,VLOOKUP($A146,中間シート!$C$111:$P$260,3,FALSE),\"\"),\"\")&\"\"","v":""},{"$f":"IFERROR(IF($B146=TRUE,VLOOKUP($H146&$J146&$P146&$R146,補助対象機器一覧0916!$A$1:$E$75,3,FALSE),IF($B146=FALSE,VLOOKUP($A146,中間シート!$C$110:$M$260,9,FALSE),\"\")),\"\")","v":""},{"$f":"IF(MID($A146,4,2)<>\"９９\",IF($B146=TRUE,VLOOKUP($A146,中間シート!$C$111:$P$260,4,FALSE),\"\"),\"\")&\"\"","v":""},{"$f":"IFERROR(IF($B146=TRUE,VLOOKUP($H146&$J146&$P146&$R146,補助対象機器一覧0916!$A$1:$E$75,4,FALSE),IF($B146=FALSE,VLOOKUP($A146,中間シート!$C$110:$M$260,10,FALSE),\"\")),\"\")","v":""},null,null,null,null,{"$f":"IF(MID($A146,4,2)<>\"９９\",IF($B146=TRUE,VLOOKUP($A146,中間シート!$C$111:$P$260,5,FALSE),\"\"),\"\")&\"\"","v":""},{"$f":"IFERROR(IF($B146=TRUE,VLOOKUP($H146&$J146&$P146&$R146,補助対象機器一覧0916!$A$1:$E$75,5,FALSE),IF($B146=FALSE,VLOOKUP($A146,中間シート!$C$110:$M$260,11,FALSE),\"\")),\"\")","v":""},{"$f":"IF(MID($A146,4,2)<>\"９９\",IF($B146=TRUE,VLOOKUP($A146,中間シート!$C$111:$P$260,6,FALSE),\"\"),\"\")&\"\"","v":""}]
[{"$f":"中間シート!Y196","v":"事業場９９　９台目"},{"$f":"中間シート!Z196","v":{"$error":"#N/A"}},"事業場",null,{"$f":"IF(中間シート!W196<>\"99\",中間シート!W196,\"\")","v":""},{"$f":"IFERROR(IF($B147=TRUE,VLOOKUP($H147&$J147&$P147&$R147,補助対象機器一覧0916!$A$1:$E$75,2,FALSE),IF($B147=FALSE,VLOOKUP($A147,中間シート!$C$110:$M$260,8,FALSE),\"\")),\"\")","v":""},null,{"$f":"IF(MID($A147,4,2)<>\"９９\",IF($B147=TRUE,VLOOKUP($A147,中間シート!$C$111:$P$260,3,FALSE),\"\"),\"\")&\"\"","v":""},{"$f":"IFERROR(IF($B147=TRUE,VLOOKUP($H147&$J147&$P147&$R147,補助対象機器一覧0916!$A$1:$E$75,3,FALSE),IF($B147=FALSE,VLOOKUP($A147,中間シート!$C$110:$M$260,9,FALSE),\"\")),\"\")","v":""},{"$f":"IF(MID($A147,4,2)<>\"９９\",IF($B147=TRUE,VLOOKUP($A147,中間シート!$C$111:$P$260,4,FALSE),\"\"),\"\")&\"\"","v":""},{"$f":"IFERROR(IF($B147=TRUE,VLOOKUP($H147&$J147&$P147&$R147,補助対象機器一覧0916!$A$1:$E$75,4,FALSE),IF($B147=FALSE,VLOOKUP($A147,中間シート!$C$110:$M$260,10,FALSE),\"\")),\"\")","v":""},null,null,null,null,{"$f":"IF(MID($A147,4,2)<>\"９９\",IF($B147=TRUE,VLOOKUP($A147,中間シート!$C$111:$P$260,5,FALSE),\"\"),\"\")&\"\"","v":""},{"$f":"IFERROR(IF($B147=TRUE,VLOOKUP($H147&$J147&$P147&$R147,補助対象機器一覧0916!$A$1:$E$75,5,FALSE),IF($B147=FALSE,VLOOKUP($A147,中間シート!$C$110:$M$260,11,FALSE),\"\")),\"\")","v":""},{"$f":"IF(MID($A147,4,2)<>\"９９\",IF($B147=TRUE,VLOOKUP($A147,中間シート!$C$111:$P$260,6,FALSE),\"\"),\"\")&\"\"","v":""}]
[{"$f":"中間シート!Y197","v":"事業場９９　９台目"},{"$f":"中間シート!Z197","v":{"$error":"#N/A"}},"事業場",null,{"$f":"IF(中間シート!W197<>\"99\",中間シート!W197,\"\")","v":""},{"$f":"IFERROR(IF($B148=TRUE,VLOOKUP($H148&$J148&$P148&$R148,補助対象機器一覧0916!$A$1:$E$75,2,FALSE),IF($B148=FALSE,VLOOKUP($A148,中間シート!$C$110:$M$260,8,FALSE),\"\")),\"\")","v":""},null,{"$f":"IF(MID($A148,4,2)<>\"９９\",IF($B148=TRUE,VLOOKUP($A148,中間シート!$C$111:$P$260,3,FALSE),\"\"),\"\")&\"\"","v":""},{"$f":"IFERROR(IF($B148=TRUE,VLOOKUP($H148&$J148&$P148&$R148,補助対象機器一覧0916!$A$1:$E$75,3,FALSE),IF($B148=FALSE,VLOOKUP($A148,中間シート!$C$110:$M$260,9,FALSE),\"\")),\"\")","v":""},{"$f":"IF(MID($A148,4,2)<>\"９９\",IF($B148=TRUE,VLOOKUP($A148,中間シート!$C$111:$P$260,4,FALSE),\"\"),\"\")&\"\"","v":""},{"$f":"IFERROR(IF($B148=TRUE,VLOOKUP($H148&$J148&$P148&$R148,補助対象機器一覧0916!$A$1:$E$75,4,FALSE),IF($B148=FALSE,VLOOKUP($A148,中間シート!$C$110:$M$260,10,FALSE),\"\")),\"\")","v":""},null,null,null,null,{"$f":"IF(MID($A148,4,2)<>\"９９\",IF($B148=TRUE,VLOOKUP($A148,中間シート!$C$111:$P$260,5,FALSE),\"\"),\"\")&\"\"","v":""},{"$f":"IFERROR(IF($B148=TRUE,VLOOKUP($H148&$J148&$P148&$R148,補助対象機器一覧0916!$A$1:$E$75,5,FALSE),IF($B148=FALSE,VLOOKUP($A148,中間シート!$C$110:$M$260,11,FALSE),\"\")),\"\")","v":""},{"$f":"IF(MID($A148,4,2)<>\"９９\",IF($B148=TRUE,VLOOKUP($A148,中間シート!$C$111:$P$260,6,FALSE),\"\"),\"\")&\"\"","v":""}]
[{"$f":"中間シート!Y198","v":"事業場９９　９台目"},{"$f":"中間シート!Z198","v":{"$error":"#N/A"}},"事業場",null,{"$f":"IF(中間シート!W198<>\"99\",中間シート!W198,\"\")","v":""},{"$f":"IFERROR(IF($B149=TRUE,VLOOKUP($H149&$J149&$P149&$R149,補助対象機器一覧0916!$A$1:$E$75,2,FALSE),IF($B149=FALSE,VLOOKUP($A149,中間シート!$C$110:$M$260,8,FALSE),\"\")),\"\")","v":""},null,{"$f":"IF(MID($A149,4,2)<>\"９９\",IF($B149=TRUE,VLOOKUP($A149,中間シート!$C$111:$P$260,3,FALSE),\"\"),\"\")&\"\"","v":""},{"$f":"IFERROR(IF($B149=TRUE,VLOOKUP($H149&$J149&$P149&$R149,補助対象機器一覧0916!$A$1:$E$75,3,FALSE),IF($B149=FALSE,VLOOKUP($A149,中間シート!$C$110:$M$260,9,FALSE),\"\")),\"\")","v":""},{"$f":"IF(MID($A149,4,2)<>\"９９\",IF($B149=TRUE,VLOOKUP($A149,中間シート!$C$111:$P$260,4,FALSE),\"\"),\"\")&\"\"","v":""},{"$f":"IFERROR(IF($B149=TRUE,VLOOKUP($H149&$J149&$P149&$R149,補助対象機器一覧0916!$A$1:$E$75,4,FALSE),IF($B149=FALSE,VLOOKUP($A149,中間シート!$C$110:$M$260,10,FALSE),\"\")),\"\")","v":""},null,null,null,null,{"$f":"IF(MID($A149,4,2)<>\"９９\",IF($B149=TRUE,VLOOKUP($A149,中間シート!$C$111:$P$260,5,FALSE),\"\"),\"\")&\"\"","v":""},{"$f":"IFERROR(IF($B149=TRUE,VLOOKUP($H149&$J149&$P149&$R149,補助対象機器一覧0916!$A$1:$E$75,5,FALSE),IF($B149=FALSE,VLOOKUP($A149,中間シート!$C$110:$M$260,11,FALSE),\"\")),\"\")","v":""},{"$f":"IF(MID($A149,4,2)<>\"９９\",IF($B149=TRUE,VLOOKUP($A149,中間シート!$C$111:$P$260,6,FALSE),\"\"),\"\")&\"\"","v":""}]
[{"$f":"中間シート!Y199","v":"事業場９９　９台目"},{"$f":"中間シート!Z199","v":{"$error":"#N/A"}},"事業場",null,{"$f":"IF(中間シート!W199<>\"99\",中間シート!W199,\"\")","v":""},{"$f":"IFERROR(IF($B150=TRUE,VLOOKUP($H150&$J150&$P150&$R150,補助対象機器一覧0916!$A$1:$E$75,2,FALSE),IF($B150=FALSE,VLOOKUP($A150,中間シート!$C$110:$M$260,8,FALSE),\"\")),\"\")","v":""},null,{"$f":"IF(MID($A150,4,2)<>\"９９\",IF($B150=TRUE,VLOOKUP($A150,中間シート!$C$111:$P$260,3,FALSE),\"\"),\"\")&\"\"","v":""},{"$f":"IFERROR(IF($B150=TRUE,VLOOKUP($H150&$J150&$P150&$R150,補助対象機器一覧0916!$A$1:$E$75,3,FALSE),IF($B150=FALSE,VLOOKUP($A150,中間シート!$C$110:$M$260,9,FALSE),\"\")),\"\")","v":""},{"$f":"IF(MID($A150,4,2)<>\"９９\",IF($B150=TRUE,VLOOKUP($A150,中間シート!$C$111:$P$260,4,FALSE),\"\"),\"\")&\"\"","v":""},{"$f":"IFERROR(IF($B150=TRUE,VLOOKUP($H150&$J150&$P150&$R150,補助対象機器一覧0916!$A$1:$E$75,4,FALSE),IF($B150=FALSE,VLOOKUP($A150,中間シート!$C$110:$M$260,10,FALSE),\"\")),\"\")","v":""},null,null,null,null,{"$f":"IF(MID($A150,4,2)<>\"９９\",IF($B150=TRUE,VLOOKUP($A150,中間シート!$C$111:$P$260,5,FALSE),\"\"),\"\")&\"\"","v":""},{"$f":"IFERROR(IF($B150=TRUE,VLOOKUP($H150&$J150&$P150&$R150,補助対象機器一覧0916!$A$1:$E$75,5,FALSE),IF($B150=FALSE,VLOOKUP($A150,中間シート!$C$110:$M$260,11,FALSE),\"\")),\"\")","v":""},{"$f":"IF(MID($A150,4,2)<>\"９９\",IF($B150=TRUE,VLOOKUP($A150,中間シート!$C$111:$P$260,6,FALSE),\"\"),\"\")&\"\"","v":""}]
[{"$f":"中間シート!Y200","v":"事業場９９　９台目"},{"$f":"中間シート!Z200","v":{"$error":"#N/A"}},"事業場",null,{"$f":"IF(中間シート!W200<>\"99\",中間シート!W200,\"\")","v":""},{"$f":"IFERROR(IF($B151=TRUE,VLOOKUP($H151&$J151&$P151&$R151,補助対象機器一覧0916!$A$1:$E$75,2,FALSE),IF($B151=FALSE,VLOOKUP($A151,中間シート!$C$110:$M$260,8,FALSE),\"\")),\"\")","v":""},null,{"$f":"IF(MID($A151,4,2)<>\"９９\",IF($B151=TRUE,VLOOKUP($A151,中間シート!$C$111:$P$260,3,FALSE),\"\"),\"\")&\"\"","v":""},{"$f":"IFERROR(IF($B151=TRUE,VLOOKUP($H151&$J151&$P151&$R151,補助対象機器一覧0916!$A$1:$E$75,3,FALSE),IF($B151=FALSE,VLOOKUP($A151,中間シート!$C$110:$M$260,9,FALSE),\"\")),\"\")","v":""},{"$f":"IF(MID($A151,4,2)<>\"９９\",IF($B151=TRUE,VLOOKUP($A151,中間シート!$C$111:$P$260,4,FALSE),\"\"),\"\")&\"\"","v":""},{"$f":"IFERROR(IF($B151=TRUE,VLOOKUP($H151&$J151&$P151&$R151,補助対象機器一覧0916!$A$1:$E$75,4,FALSE),IF($B151=FALSE,VLOOKUP($A151,中間シート!$C$110:$M$260,10,FALSE),\"\")),\"\")","v":""},null,null,null,null,{"$f":"IF(MID($A151,4,2)<>\"９９\",IF($B151=TRUE,VLOOKUP($A151,中間シート!$C$111:$P$260,5,FALSE),\"\"),\"\")&\"\"","v":""},{"$f":"IFERROR(IF($B151=TRUE,VLOOKUP($H151&$J151&$P151&$R151,補助対象機器一覧0916!$A$1:$E$75,5,FALSE),IF($B151=FALSE,VLOOKUP($A151,中間シート!$C$110:$M$260,11,FALSE),\"\")),\"\")","v":""},{"$f":"IF(MID($A151,4,2)<>\"９９\",IF($B151=TRUE,VLOOKUP($A151,中間シート!$C$111:$P$260,6,FALSE),\"\"),\"\")&\"\"","v":""}]
[{"$f":"中間シート!Y201","v":"事業場９９　９台目"},{"$f":"中間シート!Z201","v":{"$error":"#N/A"}},"事業場",null,{"$f":"IF(中間シート!W201<>\"99\",中間シート!W201,\"\")","v":""},{"$f":"IFERROR(IF($B152=TRUE,VLOOKUP($H152&$J152&$P152&$R152,補助対象機器一覧0916!$A$1:$E$75,2,FALSE),IF($B152=FALSE,VLOOKUP($A152,中間シート!$C$110:$M$260,8,FALSE),\"\")),\"\")","v":""},null,{"$f":"IF(MID($A152,4,2)<>\"９９\",IF($B152=TRUE,VLOOKUP($A152,中間シート!$C$111:$P$260,3,FALSE),\"\"),\"\")&\"\"","v":""},{"$f":"IFERROR(IF($B152=TRUE,VLOOKUP($H152&$J152&$P152&$R152,補助対象機器一覧0916!$A$1:$E$75,3,FALSE),IF($B152=FALSE,VLOOKUP($A152,中間シート!$C$110:$M$260,9,FALSE),\"\")),\"\")","v":""},{"$f":"IF(MID($A152,4,2)<>\"９９\",IF($B152=TRUE,VLOOKUP($A152,中間シート!$C$111:$P$260,4,FALSE),\"\"),\"\")&\"\"","v":""},{"$f":"IFERROR(IF($B152=TRUE,VLOOKUP($H152&$J152&$P152&$R152,補助対象機器一覧0916!$A$1:$E$75,4,FALSE),IF($B152=FALSE,VLOOKUP($A152,中間シート!$C$110:$M$260,10,FALSE),\"\")),\"\")","v":""},null,null,null,null,{"$f":"IF(MID($A152,4,2)<>\"９９\",IF($B152=TRUE,VLOOKUP($A152,中間シート!$C$111:$P$260,5,FALSE),\"\"),\"\")&\"\"","v":""},{"$f":"IFERROR(IF($B152=TRUE,VLOOKUP($H152&$J152&$P152&$R152,補助対象機器一覧0916!$A$1:$E$75,5,FALSE),IF($B152=FALSE,VLOOKUP($A152,中間シート!$C$110:$M$260,11,FALSE),\"\")),\"\")","v":""},{"$f":"IF(MID($A152,4,2)<>\"９９\",IF($B152=TRUE,VLOOKUP($A152,中間シート!$C$111:$P$260,6,FALSE),\"\"),\"\")&\"\"","v":""}]
[{"$f":"中間シート!Y202","v":"事業場９９　９台目"},{"$f":"中間シート!Z202","v":{"$error":"#N/A"}},"事業場",null,{"$f":"IF(中間シート!W202<>\"99\",中間シート!W202,\"\")","v":""},{"$f":"IFERROR(IF($B153=TRUE,VLOOKUP($H153&$J153&$P153&$R153,補助対象機器一覧0916!$A$1:$E$75,2,FALSE),IF($B153=FALSE,VLOOKUP($A153,中間シート!$C$110:$M$260,8,FALSE),\"\")),\"\")","v":""},null,{"$f":"IF(MID($A153,4,2)<>\"９９\",IF($B153=TRUE,VLOOKUP($A153,中間シート!$C$111:$P$260,3,FALSE),\"\"),\"\")&\"\"","v":""},{"$f":"IFERROR(IF($B153=TRUE,VLOOKUP($H153&$J153&$P153&$R153,補助対象機器一覧0916!$A$1:$E$75,3,FALSE),IF($B153=FALSE,VLOOKUP($A153,中間シート!$C$110:$M$260,9,FALSE),\"\")),\"\")","v":""},{"$f":"IF(MID($A153,4,2)<>\"９９\",IF($B153=TRUE,VLOOKUP($A153,中間シート!$C$111:$P$260,4,FALSE),\"\"),\"\")&\"\"","v":""},{"$f":"IFERROR(IF($B153=TRUE,VLOOKUP($H153&$J153&$P153&$R153,補助対象機器一覧0916!$A$1:$E$75,4,FALSE),IF($B153=FALSE,VLOOKUP($A153,中間シート!$C$110:$M$260,10,FALSE),\"\")),\"\")","v":""},null,null,null,null,{"$f":"IF(MID($A153,4,2)<>\"９９\",IF($B153=TRUE,VLOOKUP($A153,中間シート!$C$111:$P$260,5,FALSE),\"\"),\"\")&\"\"","v":""},{"$f":"IFERROR(IF($B153=TRUE,VLOOKUP($H153&$J153&$P153&$R153,補助対象機器一覧0916!$A$1:$E$75,5,FALSE),IF($B153=FALSE,VLOOKUP($A153,中間シート!$C$110:$M$260,11,FALSE),\"\")),\"\")","v":""},{"$f":"IF(MID($A153,4,2)<>\"９９\",IF($B153=TRUE,VLOOKUP($A153,中間シート!$C$111:$P$260,6,FALSE),\"\"),\"\")&\"\"","v":""}]
[{"$f":"中間シート!Y203","v":"事業場９９　９台目"},{"$f":"中間シート!Z203","v":{"$error":"#N/A"}},"事業場",null,{"$f":"IF(中間シート!W203<>\"99\",中間シート!W203,\"\")","v":""},{"$f":"IFERROR(IF($B154=TRUE,VLOOKUP($H154&$J154&$P154&$R154,補助対象機器一覧0916!$A$1:$E$75,2,FALSE),IF($B154=FALSE,VLOOKUP($A154,中間シート!$C$110:$M$260,8,FALSE),\"\")),\"\")","v":""},null,{"$f":"IF(MID($A154,4,2)<>\"９９\",IF($B154=TRUE,VLOOKUP($A154,中間シート!$C$111:$P$260,3,FALSE),\"\"),\"\")&\"\"","v":""},{"$f":"IFERROR(IF($B154=TRUE,VLOOKUP($H154&$J154&$P154&$R154,補助対象機器一覧0916!$A$1:$E$75,3,FALSE),IF($B154=FALSE,VLOOKUP($A154,中間シート!$C$110:$M$260,9,FALSE),\"\")),\"\")","v":""},{"$f":"IF(MID($A154,4,2)<>\"９９\",IF($B154=TRUE,VLOOKUP($A154,中間シート!$C$111:$P$260,4,FALSE),\"\"),\"\")&\"\"","v":""},{"$f":"IFERROR(IF($B154=TRUE,VLOOKUP($H154&$J154&$P154&$R154,補助対象機器一覧0916!$A$1:$E$75,4,FALSE),IF($B154=FALSE,VLOOKUP($A154,中間シート!$C$110:$M$260,10,FALSE),\"\")),\"\")","v":""},null,null,null,null,{"$f":"IF(MID($A154,4,2)<>\"９９\",IF($B154=TRUE,VLOOKUP($A154,中間シート!$C$111:$P$260,5,FALSE),\"\"),\"\")&\"\"","v":""},{"$f":"IFERROR(IF($B154=TRUE,VLOOKUP($H154&$J154&$P154&$R154,補助対象機器一覧0916!$A$1:$E$75,5,FALSE),IF($B154=FALSE,VLOOKUP($A154,中間シート!$C$110:$M$260,11,FALSE),\"\")),\"\")","v":""},{"$f":"IF(MID($A154,4,2)<>\"９９\",IF($B154=TRUE,VLOOKUP($A154,中間シート!$C$111:$P$260,6,FALSE),\"\"),\"\")&\"\"","v":""}]
[{"$f":"中間シート!Y204","v":"事業場９９　９台目"},{"$f":"中間シート!Z204","v":{"$error":"#N/A"}},"事業場",null,{"$f":"IF(中間シート!W204<>\"99\",中間シート!W204,\"\")","v":""},{"$f":"IFERROR(IF($B155=TRUE,VLOOKUP($H155&$J155&$P155&$R155,補助対象機器一覧0916!$A$1:$E$75,2,FALSE),IF($B155=FALSE,VLOOKUP($A155,中間シート!$C$110:$M$260,8,FALSE),\"\")),\"\")","v":""},null,{"$f":"IF(MID($A155,4,2)<>\"９９\",IF($B155=TRUE,VLOOKUP($A155,中間シート!$C$111:$P$260,3,FALSE),\"\"),\"\")&\"\"","v":""},{"$f":"IFERROR(IF($B155=TRUE,VLOOKUP($H155&$J155&$P155&$R155,補助対象機器一覧0916!$A$1:$E$75,3,FALSE),IF($B155=FALSE,VLOOKUP($A155,中間シート!$C$110:$M$260,9,FALSE),\"\")),\"\")","v":""},{"$f":"IF(MID($A155,4,2)<>\"９９\",IF($B155=TRUE,VLOOKUP($A155,中間シート!$C$111:$P$260,4,FALSE),\"\"),\"\")&\"\"","v":""},{"$f":"IFERROR(IF($B155=TRUE,VLOOKUP($H155&$J155&$P155&$R155,補助対象機器一覧0916!$A$1:$E$75,4,FALSE),IF($B155=FALSE,VLOOKUP($A155,中間シート!$C$110:$M$260,10,FALSE),\"\")),\"\")","v":""},null,null,null,null,{"$f":"IF(MID($A155,4,2)<>\"９９\",IF($B155=TRUE,VLOOKUP($A155,中間シート!$C$111:$P$260,5,FALSE),\"\"),\"\")&\"\"","v":""},{"$f":"IFERROR(IF($B155=TRUE,VLOOKUP($H155&$J155&$P155&$R155,補助対象機器一覧0916!$A$1:$E$75,5,FALSE),IF($B155=FALSE,VLOOKUP($A155,中間シート!$C$110:$M$260,11,FALSE),\"\")),\"\")","v":""},{"$f":"IF(MID($A155,4,2)<>\"９９\",IF($B155=TRUE,VLOOKUP($A155,中間シート!$C$111:$P$260,6,FALSE),\"\"),\"\")&\"\"","v":""}]
[{"$f":"中間シート!Y205","v":"事業場９９　９台目"},{"$f":"中間シート!Z205","v":{"$error":"#N/A"}},"事業場",null,{"$f":"IF(中間シート!W205<>\"99\",中間シート!W205,\"\")","v":""},{"$f":"IFERROR(IF($B156=TRUE,VLOOKUP($H156&$J156&$P156&$R156,補助対象機器一覧0916!$A$1:$E$75,2,FALSE),IF($B156=FALSE,VLOOKUP($A156,中間シート!$C$110:$M$260,8,FALSE),\"\")),\"\")","v":""},null,{"$f":"IF(MID($A156,4,2)<>\"９９\",IF($B156=TRUE,VLOOKUP($A156,中間シート!$C$111:$P$260,3,FALSE),\"\"),\"\")&\"\"","v":""},{"$f":"IFERROR(IF($B156=TRUE,VLOOKUP($H156&$J156&$P156&$R156,補助対象機器一覧0916!$A$1:$E$75,3,FALSE),IF($B156=FALSE,VLOOKUP($A156,中間シート!$C$110:$M$260,9,FALSE),\"\")),\"\")","v":""},{"$f":"IF(MID($A156,4,2)<>\"９９\",IF($B156=TRUE,VLOOKUP($A156,中間シート!$C$111:$P$260,4,FALSE),\"\"),\"\")&\"\"","v":""},{"$f":"IFERROR(IF($B156=TRUE,VLOOKUP($H156&$J156&$P156&$R156,補助対象機器一覧0916!$A$1:$E$75,4,FALSE),IF($B156=FALSE,VLOOKUP($A156,中間シート!$C$110:$M$260,10,FALSE),\"\")),\"\")","v":""},null,null,null,null,{"$f":"IF(MID($A156,4,2)<>\"９９\",IF($B156=TRUE,VLOOKUP($A156,中間シート!$C$111:$P$260,5,FALSE),\"\"),\"\")&\"\"","v":""},{"$f":"IFERROR(IF($B156=TRUE,VLOOKUP($H156&$J156&$P156&$R156,補助対象機器一覧0916!$A$1:$E$75,5,FALSE),IF($B156=FALSE,VLOOKUP($A156,中間シート!$C$110:$M$260,11,FALSE),\"\")),\"\")","v":""},{"$f":"IF(MID($A156,4,2)<>\"９９\",IF($B156=TRUE,VLOOKUP($A156,中間シート!$C$111:$P$260,6,FALSE),\"\"),\"\")&\"\"","v":""}]
[{"$f":"中間シート!Y206","v":"事業場９９　９台目"},{"$f":"中間シート!Z206","v":{"$error":"#N/A"}},"事業場",null,{"$f":"IF(中間シート!W206<>\"99\",中間シート!W206,\"\")","v":""},{"$f":"IFERROR(IF($B157=TRUE,VLOOKUP($H157&$J157&$P157&$R157,補助対象機器一覧0916!$A$1:$E$75,2,FALSE),IF($B157=FALSE,VLOOKUP($A157,中間シート!$C$110:$M$260,8,FALSE),\"\")),\"\")","v":""},null,{"$f":"IF(MID($A157,4,2)<>\"９９\",IF($B157=TRUE,VLOOKUP($A157,中間シート!$C$111:$P$260,3,FALSE),\"\"),\"\")&\"\"","v":""},{"$f":"IFERROR(IF($B157=TRUE,VLOOKUP($H157&$J157&$P157&$R157,補助対象機器一覧0916!$A$1:$E$75,3,FALSE),IF($B157=FALSE,VLOOKUP($A157,中間シート!$C$110:$M$260,9,FALSE),\"\")),\"\")","v":""},{"$f":"IF(MID($A157,4,2)<>\"９９\",IF($B157=TRUE,VLOOKUP($A157,中間シート!$C$111:$P$260,4,FALSE),\"\"),\"\")&\"\"","v":""},{"$f":"IFERROR(IF($B157=TRUE,VLOOKUP($H157&$J157&$P157&$R157,補助対象機器一覧0916!$A$1:$E$75,4,FALSE),IF($B157=FALSE,VLOOKUP($A157,中間シート!$C$110:$M$260,10,FALSE),\"\")),\"\")","v":""},null,null,null,null,{"$f":"IF(MID($A157,4,2)<>\"９９\",IF($B157=TRUE,VLOOKUP($A157,中間シート!$C$111:$P$260,5,FALSE),\"\"),\"\")&\"\"","v":""},{"$f":"IFERROR(IF($B157=TRUE,VLOOKUP($H157&$J157&$P157&$R157,補助対象機器一覧0916!$A$1:$E$75,5,FALSE),IF($B157=FALSE,VLOOKUP($A157,中間シート!$C$110:$M$260,11,FALSE),\"\")),\"\")","v":""},{"$f":"IF(MID($A157,4,2)<>\"９９\",IF($B157=TRUE,VLOOKUP($A157,中間シート!$C$111:$P$260,6,FALSE),\"\"),\"\")&\"\"","v":""}]
[{"$f":"中間シート!Y207","v":"事業場９９　９台目"},{"$f":"中間シート!Z207","v":{"$error":"#N/A"}},"事業場",null,{"$f":"IF(中間シート!W207<>\"99\",中間シート!W207,\"\")","v":""},{"$f":"IFERROR(IF($B158=TRUE,VLOOKUP($H158&$J158&$P158&$R158,補助対象機器一覧0916!$A$1:$E$75,2,FALSE),IF($B158=FALSE,VLOOKUP($A158,中間シート!$C$110:$M$260,8,FALSE),\"\")),\"\")","v":""},null,{"$f":"IF(MID($A158,4,2)<>\"９９\",IF($B158=TRUE,VLOOKUP($A158,中間シート!$C$111:$P$260,3,FALSE),\"\"),\"\")&\"\"","v":""},{"$f":"IFERROR(IF($B158=TRUE,VLOOKUP($H158&$J158&$P158&$R158,補助対象機器一覧0916!$A$1:$E$75,3,FALSE),IF($B158=FALSE,VLOOKUP($A158,中間シート!$C$110:$M$260,9,FALSE),\"\")),\"\")","v":""},{"$f":"IF(MID($A158,4,2)<>\"９９\",IF($B158=TRUE,VLOOKUP($A158,中間シート!$C$111:$P$260,4,FALSE),\"\"),\"\")&\"\"","v":""},{"$f":"IFERROR(IF($B158=TRUE,VLOOKUP($H158&$J158&$P158&$R158,補助対象機器一覧0916!$A$1:$E$75,4,FALSE),IF($B158=FALSE,VLOOKUP($A158,中間シート!$C$110:$M$260,10,FALSE),\"\")),\"\")","v":""},null,null,null,null,{"$f":"IF(MID($A158,4,2)<>\"９９\",IF($B158=TRUE,VLOOKUP($A158,中間シート!$C$111:$P$260,5,FALSE),\"\"),\"\")&\"\"","v":""},{"$f":"IFERROR(IF($B158=TRUE,VLOOKUP($H158&$J158&$P158&$R158,補助対象機器一覧0916!$A$1:$E$75,5,FALSE),IF($B158=FALSE,VLOOKUP($A158,中間シート!$C$110:$M$260,11,FALSE),\"\")),\"\")","v":""},{"$f":"IF(MID($A158,4,2)<>\"９９\",IF($B158=TRUE,VLOOKUP($A158,中間シート!$C$111:$P$260,6,FALSE),\"\"),\"\")&\"\"","v":""}]
[{"$f":"中間シート!Y208","v":"事業場９９　９台目"},{"$f":"中間シート!Z208","v":{"$error":"#N/A"}},"事業場",null,{"$f":"IF(中間シート!W208<>\"99\",中間シート!W208,\"\")","v":""},{"$f":"IFERROR(IF($B159=TRUE,VLOOKUP($H159&$J159&$P159&$R159,補助対象機器一覧0916!$A$1:$E$75,2,FALSE),IF($B159=FALSE,VLOOKUP($A159,中間シート!$C$110:$M$260,8,FALSE),\"\")),\"\")","v":""},null,{"$f":"IF(MID($A159,4,2)<>\"９９\",IF($B159=TRUE,VLOOKUP($A159,中間シート!$C$111:$P$260,3,FALSE),\"\"),\"\")&\"\"","v":""},{"$f":"IFERROR(IF($B159=TRUE,VLOOKUP($H159&$J159&$P159&$R159,補助対象機器一覧0916!$A$1:$E$75,3,FALSE),IF($B159=FALSE,VLOOKUP($A159,中間シート!$C$110:$M$260,9,FALSE),\"\")),\"\")","v":""},{"$f":"IF(MID($A159,4,2)<>\"９９\",IF($B159=TRUE,VLOOKUP($A159,中間シート!$C$111:$P$260,4,FALSE),\"\"),\"\")&\"\"","v":""},{"$f":"IFERROR(IF($B159=TRUE,VLOOKUP($H159&$J159&$P159&$R159,補助対象機器一覧0916!$A$1:$E$75,4,FALSE),IF($B159=FALSE,VLOOKUP($A159,中間シート!$C$110:$M$260,10,FALSE),\"\")),\"\")","v":""},null,null,null,null,{"$f":"IF(MID($A159,4,2)<>\"９９\",IF($B159=TRUE,VLOOKUP($A159,中間シート!$C$111:$P$260,5,FALSE),\"\"),\"\")&\"\"","v":""},{"$f":"IFERROR(IF($B159=TRUE,VLOOKUP($H159&$J159&$P159&$R159,補助対象機器一覧0916!$A$1:$E$75,5,FALSE),IF($B159=FALSE,VLOOKUP($A159,中間シート!$C$110:$M$260,11,FALSE),\"\")),\"\")","v":""},{"$f":"IF(MID($A159,4,2)<>\"９９\",IF($B159=TRUE,VLOOKUP($A159,中間シート!$C$111:$P$260,6,FALSE),\"\"),\"\")&\"\"","v":""}]
[{"$f":"中間シート!Y209","v":"事業場９９　９台目"},{"$f":"中間シート!Z209","v":{"$error":"#N/A"}},"事業場",null,{"$f":"IF(中間シート!W209<>\"99\",中間シート!W209,\"\")","v":""},{"$f":"IFERROR(IF($B160=TRUE,VLOOKUP($H160&$J160&$P160&$R160,補助対象機器一覧0916!$A$1:$E$75,2,FALSE),IF($B160=FALSE,VLOOKUP($A160,中間シート!$C$110:$M$260,8,FALSE),\"\")),\"\")","v":""},null,{"$f":"IF(MID($A160,4,2)<>\"９９\",IF($B160=TRUE,VLOOKUP($A160,中間シート!$C$111:$P$260,3,FALSE),\"\"),\"\")&\"\"","v":""},{"$f":"IFERROR(IF($B160=TRUE,VLOOKUP($H160&$J160&$P160&$R160,補助対象機器一覧0916!$A$1:$E$75,3,FALSE),IF($B160=FALSE,VLOOKUP($A160,中間シート!$C$110:$M$260,9,FALSE),\"\")),\"\")","v":""},{"$f":"IF(MID($A160,4,2)<>\"９９\",IF($B160=TRUE,VLOOKUP($A160,中間シート!$C$111:$P$260,4,FALSE),\"\"),\"\")&\"\"","v":""},{"$f":"IFERROR(IF($B160=TRUE,VLOOKUP($H160&$J160&$P160&$R160,補助対象機器一覧0916!$A$1:$E$75,4,FALSE),IF($B160=FALSE,VLOOKUP($A160,中間シート!$C$110:$M$260,10,FALSE),\"\")),\"\")","v":""},null,null,null,null,{"$f":"IF(MID($A160,4,2)<>\"９９\",IF($B160=TRUE,VLOOKUP($A160,中間シート!$C$111:$P$260,5,FALSE),\"\"),\"\")&\"\"","v":""},{"$f":"IFERROR(IF($B160=TRUE,VLOOKUP($H160&$J160&$P160&$R160,補助対象機器一覧0916!$A$1:$E$75,5,FALSE),IF($B160=FALSE,VLOOKUP($A160,中間シート!$C$110:$M$260,11,FALSE),\"\")),\"\")","v":""},{"$f":"IF(MID($A160,4,2)<>\"９９\",IF($B160=TRUE,VLOOKUP($A160,中間シート!$C$111:$P$260,6,FALSE),\"\"),\"\")&\"\"","v":""}]
[{"$f":"中間シート!Y210","v":"事業場９９　９台目"},{"$f":"中間シート!Z210","v":{"$error":"#N/A"}},"事業場",null,{"$f":"IF(中間シート!W210<>\"99\",中間シート!W210,\"\")","v":""},{"$f":"IFERROR(IF($B161=TRUE,VLOOKUP($H161&$J161&$P161&$R161,補助対象機器一覧0916!$A$1:$E$75,2,FALSE),IF($B161=FALSE,VLOOKUP($A161,中間シート!$C$110:$M$260,8,FALSE),\"\")),\"\")","v":""},null,{"$f":"IF(MID($A161,4,2)<>\"９９\",IF($B161=TRUE,VLOOKUP($A161,中間シート!$C$111:$P$260,3,FALSE),\"\"),\"\")&\"\"","v":""},{"$f":"IFERROR(IF($B161=TRUE,VLOOKUP($H161&$J161&$P161&$R161,補助対象機器一覧0916!$A$1:$E$75,3,FALSE),IF($B161=FALSE,VLOOKUP($A161,中間シート!$C$110:$M$260,9,FALSE),\"\")),\"\")","v":""},{"$f":"IF(MID($A161,4,2)<>\"９９\",IF($B161=TRUE,VLOOKUP($A161,中間シート!$C$111:$P$260,4,FALSE),\"\"),\"\")&\"\"","v":""},{"$f":"IFERROR(IF($B161=TRUE,VLOOKUP($H161&$J161&$P161&$R161,補助対象機器一覧0916!$A$1:$E$75,4,FALSE),IF($B161=FALSE,VLOOKUP($A161,中間シート!$C$110:$M$260,10,FALSE),\"\")),\"\")","v":""},null,null,null,null,{"$f":"IF(MID($A161,4,2)<>\"９９\",IF($B161=TRUE,VLOOKUP($A161,中間シート!$C$111:$P$260,5,FALSE),\"\"),\"\")&\"\"","v":""},{"$f":"IFERROR(IF($B161=TRUE,VLOOKUP($H161&$J161&$P161&$R161,補助対象機器一覧0916!$A$1:$E$75,5,FALSE),IF($B161=FALSE,VLOOKUP($A161,中間シート!$C$110:$M$260,11,FALSE),\"\")),\"\")","v":""},{"$f":"IF(MID($A161,4,2)<>\"９９\",IF($B161=TRUE,VLOOKUP($A161,中間シート!$C$111:$P$260,6,FALSE),\"\"),\"\")&\"\"","v":""}]
[{"$f":"中間シート!Y211","v":"事業場９９　９台目"},{"$f":"中間シート!Z211","v":{"$error":"#N/A"}},"事業場",null,{"$f":"IF(中間シート!W211<>\"99\",中間シート!W211,\"\")","v":""},{"$f":"IFERROR(IF($B162=TRUE,VLOOKUP($H162&$J162&$P162&$R162,補助対象機器一覧0916!$A$1:$E$75,2,FALSE),IF($B162=FALSE,VLOOKUP($A162,中間シート!$C$110:$M$260,8,FALSE),\"\")),\"\")","v":""},null,{"$f":"IF(MID($A162,4,2)<>\"９９\",IF($B162=TRUE,VLOOKUP($A162,中間シート!$C$111:$P$260,3,FALSE),\"\"),\"\")&\"\"","v":""},{"$f":"IFERROR(IF($B162=TRUE,VLOOKUP($H162&$J162&$P162&$R162,補助対象機器一覧0916!$A$1:$E$75,3,FALSE),IF($B162=FALSE,VLOOKUP($A162,中間シート!$C$110:$M$260,9,FALSE),\"\")),\"\")","v":""},{"$f":"IF(MID($A162,4,2)<>\"９９\",IF($B162=TRUE,VLOOKUP($A162,中間シート!$C$111:$P$260,4,FALSE),\"\"),\"\")&\"\"","v":""},{"$f":"IFERROR(IF($B162=TRUE,VLOOKUP($H162&$J162&$P162&$R162,補助対象機器一覧0916!$A$1:$E$75,4,FALSE),IF($B162=FALSE,VLOOKUP($A162,中間シート!$C$110:$M$260,10,FALSE),\"\")),\"\")","v":""},null,null,null,null,{"$f":"IF(MID($A162,4,2)<>\"９９\",IF($B162=TRUE,VLOOKUP($A162,中間シート!$C$111:$P$260,5,FALSE),\"\"),\"\")&\"\"","v":""},{"$f":"IFERROR(IF($B162=TRUE,VLOOKUP($H162&$J162&$P162&$R162,補助対象機器一覧0916!$A$1:$E$75,5,FALSE),IF($B162=FALSE,VLOOKUP($A162,中間シート!$C$110:$M$260,11,FALSE),\"\")),\"\")","v":""},{"$f":"IF(MID($A162,4,2)<>\"９９\",IF($B162=TRUE,VLOOKUP($A162,中間シート!$C$111:$P$260,6,FALSE),\"\"),\"\")&\"\"","v":""}]
[{"$f":"中間シート!Y212","v":"事業場９９　９台目"},{"$f":"中間シート!Z212","v":{"$error":"#N/A"}},"事業場",null,{"$f":"IF(中間シート!W212<>\"99\",中間シート!W212,\"\")","v":""},{"$f":"IFERROR(IF($B163=TRUE,VLOOKUP($H163&$J163&$P163&$R163,補助対象機器一覧0916!$A$1:$E$75,2,FALSE),IF($B163=FALSE,VLOOKUP($A163,中間シート!$C$110:$M$260,8,FALSE),\"\")),\"\")","v":""},null,{"$f":"IF(MID($A163,4,2)<>\"９９\",IF($B163=TRUE,VLOOKUP($A163,中間シート!$C$111:$P$260,3,FALSE),\"\"),\"\")&\"\"","v":""},{"$f":"IFERROR(IF($B163=TRUE,VLOOKUP($H163&$J163&$P163&$R163,補助対象機器一覧0916!$A$1:$E$75,3,FALSE),IF($B163=FALSE,VLOOKUP($A163,中間シート!$C$110:$M$260,9,FALSE),\"\")),\"\")","v":""},{"$f":"IF(MID($A163,4,2)<>\"９９\",IF($B163=TRUE,VLOOKUP($A163,中間シート!$C$111:$P$260,4,FALSE),\"\"),\"\")&\"\"","v":""},{"$f":"IFERROR(IF($B163=TRUE,VLOOKUP($H163&$J163&$P163&$R163,補助対象機器一覧0916!$A$1:$E$75,4,FALSE),IF($B163=FALSE,VLOOKUP($A163,中間シート!$C$110:$M$260,10,FALSE),\"\")),\"\")","v":""},null,null,null,null,{"$f":"IF(MID($A163,4,2)<>\"９９\",IF($B163=TRUE,VLOOKUP($A163,中間シート!$C$111:$P$260,5,FALSE),\"\"),\"\")&\"\"","v":""},{"$f":"IFERROR(IF($B163=TRUE,VLOOKUP($H163&$J163&$P163&$R163,補助対象機器一覧0916!$A$1:$E$75,5,FALSE),IF($B163=FALSE,VLOOKUP($A163,中間シート!$C$110:$M$260,11,FALSE),\"\")),\"\")","v":""},{"$f":"IF(MID($A163,4,2)<>\"９９\",IF($B163=TRUE,VLOOKUP($A163,中間シート!$C$111:$P$260,6,FALSE),\"\"),\"\")&\"\"","v":""}]
[{"$f":"中間シート!Y213","v":"事業場９９　９台目"},{"$f":"中間シート!Z213","v":{"$error":"#N/A"}},"事業場",null,{"$f":"IF(中間シート!W213<>\"99\",中間シート!W213,\"\")","v":""},{"$f":"IFERROR(IF($B164=TRUE,VLOOKUP($H164&$J164&$P164&$R164,補助対象機器一覧0916!$A$1:$E$75,2,FALSE),IF($B164=FALSE,VLOOKUP($A164,中間シート!$C$110:$M$260,8,FALSE),\"\")),\"\")","v":""},null,{"$f":"IF(MID($A164,4,2)<>\"９９\",IF($B164=TRUE,VLOOKUP($A164,中間シート!$C$111:$P$260,3,FALSE),\"\"),\"\")&\"\"","v":""},{"$f":"IFERROR(IF($B164=TRUE,VLOOKUP($H164&$J164&$P164&$R164,補助対象機器一覧0916!$A$1:$E$75,3,FALSE),IF($B164=FALSE,VLOOKUP($A164,中間シート!$C$110:$M$260,9,FALSE),\"\")),\"\")","v":""},{"$f":"IF(MID($A164,4,2)<>\"９９\",IF($B164=TRUE,VLOOKUP($A164,中間シート!$C$111:$P$260,4,FALSE),\"\"),\"\")&\"\"","v":""},{"$f":"IFERROR(IF($B164=TRUE,VLOOKUP($H164&$J164&$P164&$R164,補助対象機器一覧0916!$A$1:$E$75,4,FALSE),IF($B164=FALSE,VLOOKUP($A164,中間シート!$C$110:$M$260,10,FALSE),\"\")),\"\")","v":""},null,null,null,null,{"$f":"IF(MID($A164,4,2)<>\"９９\",IF($B164=TRUE,VLOOKUP($A164,中間シート!$C$111:$P$260,5,FALSE),\"\"),\"\")&\"\"","v":""},{"$f":"IFERROR(IF($B164=TRUE,VLOOKUP($H164&$J164&$P164&$R164,補助対象機器一覧0916!$A$1:$E$75,5,FALSE),IF($B164=FALSE,VLOOKUP($A164,中間シート!$C$110:$M$260,11,FALSE),\"\")),\"\")","v":""},{"$f":"IF(MID($A164,4,2)<>\"９９\",IF($B164=TRUE,VLOOKUP($A164,中間シート!$C$111:$P$260,6,FALSE),\"\"),\"\")&\"\"","v":""}]
[{"$f":"中間シート!Y214","v":"事業場９９　９台目"},{"$f":"中間シート!Z214","v":{"$error":"#N/A"}},"事業場",null,{"$f":"IF(中間シート!W214<>\"99\",中間シート!W214,\"\")","v":""},{"$f":"IFERROR(IF($B165=TRUE,VLOOKUP($H165&$J165&$P165&$R165,補助対象機器一覧0916!$A$1:$E$75,2,FALSE),IF($B165=FALSE,VLOOKUP($A165,中間シート!$C$110:$M$260,8,FALSE),\"\")),\"\")","v":""},null,{"$f":"IF(MID($A165,4,2)<>\"９９\",IF($B165=TRUE,VLOOKUP($A165,中間シート!$C$111:$P$260,3,FALSE),\"\"),\"\")&\"\"","v":""},{"$f":"IFERROR(IF($B165=TRUE,VLOOKUP($H165&$J165&$P165&$R165,補助対象機器一覧0916!$A$1:$E$75,3,FALSE),IF($B165=FALSE,VLOOKUP($A165,中間シート!$C$110:$M$260,9,FALSE),\"\")),\"\")","v":""},{"$f":"IF(MID($A165,4,2)<>\"９９\",IF($B165=TRUE,VLOOKUP($A165,中間シート!$C$111:$P$260,4,FALSE),\"\"),\"\")&\"\"","v":""},{"$f":"IFERROR(IF($B165=TRUE,VLOOKUP($H165&$J165&$P165&$R165,補助対象機器一覧0916!$A$1:$E$75,4,FALSE),IF($B165=FALSE,VLOOKUP($A165,中間シート!$C$110:$M$260,10,FALSE),\"\")),\"\")","v":""},null,null,null,null,{"$f":"IF(MID($A165,4,2)<>\"９９\",IF($B165=TRUE,VLOOKUP($A165,中間シート!$C$111:$P$260,5,FALSE),\"\"),\"\")&\"\"","v":""},{"$f":"IFERROR(IF($B165=TRUE,VLOOKUP($H165&$J165&$P165&$R165,補助対象機器一覧0916!$A$1:$E$75,5,FALSE),IF($B165=FALSE,VLOOKUP($A165,中間シート!$C$110:$M$260,11,FALSE),\"\")),\"\")","v":""},{"$f":"IF(MID($A165,4,2)<>\"９９\",IF($B165=TRUE,VLOOKUP($A165,中間シート!$C$111:$P$260,6,FALSE),\"\"),\"\")&\"\"","v":""}]
[{"$f":"中間シート!Y215","v":"事業場９９　９台目"},{"$f":"中間シート!Z215","v":{"$error":"#N/A"}},"事業場",null,{"$f":"IF(中間シート!W215<>\"99\",中間シート!W215,\"\")","v":""},{"$f":"IFERROR(IF($B166=TRUE,VLOOKUP($H166&$J166&$P166&$R166,補助対象機器一覧0916!$A$1:$E$75,2,FALSE),IF($B166=FALSE,VLOOKUP($A166,中間シート!$C$110:$M$260,8,FALSE),\"\")),\"\")","v":""},null,{"$f":"IF(MID($A166,4,2)<>\"９９\",IF($B166=TRUE,VLOOKUP($A166,中間シート!$C$111:$P$260,3,FALSE),\"\"),\"\")&\"\"","v":""},{"$f":"IFERROR(IF($B166=TRUE,VLOOKUP($H166&$J166&$P166&$R166,補助対象機器一覧0916!$A$1:$E$75,3,FALSE),IF($B166=FALSE,VLOOKUP($A166,中間シート!$C$110:$M$260,9,FALSE),\"\")),\"\")","v":""},{"$f":"IF(MID($A166,4,2)<>\"９９\",IF($B166=TRUE,VLOOKUP($A166,中間シート!$C$111:$P$260,4,FALSE),\"\"),\"\")&\"\"","v":""},{"$f":"IFERROR(IF($B166=TRUE,VLOOKUP($H166&$J166&$P166&$R166,補助対象機器一覧0916!$A$1:$E$75,4,FALSE),IF($B166=FALSE,VLOOKUP($A166,中間シート!$C$110:$M$260,10,FALSE),\"\")),\"\")","v":""},null,null,null,null,{"$f":"IF(MID($A166,4,2)<>\"９９\",IF($B166=TRUE,VLOOKUP($A166,中間シート!$C$111:$P$260,5,FALSE),\"\"),\"\")&\"\"","v":""},{"$f":"IFERROR(IF($B166=TRUE,VLOOKUP($H166&$J166&$P166&$R166,補助対象機器一覧0916!$A$1:$E$75,5,FALSE),IF($B166=FALSE,VLOOKUP($A166,中間シート!$C$110:$M$260,11,FALSE),\"\")),\"\")","v":""},{"$f":"IF(MID($A166,4,2)<>\"９９\",IF($B166=TRUE,VLOOKUP($A166,中間シート!$C$111:$P$260,6,FALSE),\"\"),\"\")&\"\"","v":""}]
[{"$f":"中間シート!Y216","v":"事業場９９　９台目"},{"$f":"中間シート!Z216","v":{"$error":"#N/A"}},"事業場",null,{"$f":"IF(中間シート!W216<>\"99\",中間シート!W216,\"\")","v":""},{"$f":"IFERROR(IF($B167=TRUE,VLOOKUP($H167&$J167&$P167&$R167,補助対象機器一覧0916!$A$1:$E$75,2,FALSE),IF($B167=FALSE,VLOOKUP($A167,中間シート!$C$110:$M$260,8,FALSE),\"\")),\"\")","v":""},null,{"$f":"IF(MID($A167,4,2)<>\"９９\",IF($B167=TRUE,VLOOKUP($A167,中間シート!$C$111:$P$260,3,FALSE),\"\"),\"\")&\"\"","v":""},{"$f":"IFERROR(IF($B167=TRUE,VLOOKUP($H167&$J167&$P167&$R167,補助対象機器一覧0916!$A$1:$E$75,3,FALSE),IF($B167=FALSE,VLOOKUP($A167,中間シート!$C$110:$M$260,9,FALSE),\"\")),\"\")","v":""},{"$f":"IF(MID($A167,4,2)<>\"９９\",IF($B167=TRUE,VLOOKUP($A167,中間シート!$C$111:$P$260,4,FALSE),\"\"),\"\")&\"\"","v":""},{"$f":"IFERROR(IF($B167=TRUE,VLOOKUP($H167&$J167&$P167&$R167,補助対象機器一覧0916!$A$1:$E$75,4,FALSE),IF($B167=FALSE,VLOOKUP($A167,中間シート!$C$110:$M$260,10,FALSE),\"\")),\"\")","v":""},null,null,null,null,{"$f":"IF(MID($A167,4,2)<>\"９９\",IF($B167=TRUE,VLOOKUP($A167,中間シート!$C$111:$P$260,5,FALSE),\"\"),\"\")&\"\"","v":""},{"$f":"IFERROR(IF($B167=TRUE,VLOOKUP($H167&$J167&$P167&$R167,補助対象機器一覧0916!$A$1:$E$75,5,FALSE),IF($B167=FALSE,VLOOKUP($A167,中間シート!$C$110:$M$260,11,FALSE),\"\")),\"\")","v":""},{"$f":"IF(MID($A167,4,2)<>\"９９\",IF($B167=TRUE,VLOOKUP($A167,中間シート!$C$111:$P$260,6,FALSE),\"\"),\"\")&\"\"","v":""}]
[{"$f":"中間シート!Y217","v":"事業場９９　９台目"},{"$f":"中間シート!Z217","v":{"$error":"#N/A"}},"事業場",null,{"$f":"IF(中間シート!W217<>\"99\",中間シート!W217,\"\")","v":""},{"$f":"IFERROR(IF($B168=TRUE,VLOOKUP($H168&$J168&$P168&$R168,補助対象機器一覧0916!$A$1:$E$75,2,FALSE),IF($B168=FALSE,VLOOKUP($A168,中間シート!$C$110:$M$260,8,FALSE),\"\")),\"\")","v":""},null,{"$f":"IF(MID($A168,4,2)<>\"９９\",IF($B168=TRUE,VLOOKUP($A168,中間シート!$C$111:$P$260,3,FALSE),\"\"),\"\")&\"\"","v":""},{"$f":"IFERROR(IF($B168=TRUE,VLOOKUP($H168&$J168&$P168&$R168,補助対象機器一覧0916!$A$1:$E$75,3,FALSE),IF($B168=FALSE,VLOOKUP($A168,中間シート!$C$110:$M$260,9,FALSE),\"\")),\"\")","v":""},{"$f":"IF(MID($A168,4,2)<>\"９９\",IF($B168=TRUE,VLOOKUP($A168,中間シート!$C$111:$P$260,4,FALSE),\"\"),\"\")&\"\"","v":""},{"$f":"IFERROR(IF($B168=TRUE,VLOOKUP($H168&$J168&$P168&$R168,補助対象機器一覧0916!$A$1:$E$75,4,FALSE),IF($B168=FALSE,VLOOKUP($A168,中間シート!$C$110:$M$260,10,FALSE),\"\")),\"\")","v":""},null,null,null,null,{"$f":"IF(MID($A168,4,2)<>\"９９\",IF($B168=TRUE,VLOOKUP($A168,中間シート!$C$111:$P$260,5,FALSE),\"\"),\"\")&\"\"","v":""},{"$f":"IFERROR(IF($B168=TRUE,VLOOKUP($H168&$J168&$P168&$R168,補助対象機器一覧0916!$A$1:$E$75,5,FALSE),IF($B168=FALSE,VLOOKUP($A168,中間シート!$C$110:$M$260,11,FALSE),\"\")),\"\")","v":""},{"$f":"IF(MID($A168,4,2)<>\"９９\",IF($B168=TRUE,VLOOKUP($A168,中間シート!$C$111:$P$260,6,FALSE),\"\"),\"\")&\"\"","v":""}]
[{"$f":"中間シート!Y218","v":"事業場９９　９台目"},{"$f":"中間シート!Z218","v":{"$error":"#N/A"}},"事業場",null,{"$f":"IF(中間シート!W218<>\"99\",中間シート!W218,\"\")","v":""},{"$f":"IFERROR(IF($B169=TRUE,VLOOKUP($H169&$J169&$P169&$R169,補助対象機器一覧0916!$A$1:$E$75,2,FALSE),IF($B169=FALSE,VLOOKUP($A169,中間シート!$C$110:$M$260,8,FALSE),\"\")),\"\")","v":""},null,{"$f":"IF(MID($A169,4,2)<>\"９９\",IF($B169=TRUE,VLOOKUP($A169,中間シート!$C$111:$P$260,3,FALSE),\"\"),\"\")&\"\"","v":""},{"$f":"IFERROR(IF($B169=TRUE,VLOOKUP($H169&$J169&$P169&$R169,補助対象機器一覧0916!$A$1:$E$75,3,FALSE),IF($B169=FALSE,VLOOKUP($A169,中間シート!$C$110:$M$260,9,FALSE),\"\")),\"\")","v":""},{"$f":"IF(MID($A169,4,2)<>\"９９\",IF($B169=TRUE,VLOOKUP($A169,中間シート!$C$111:$P$260,4,FALSE),\"\"),\"\")&\"\"","v":""},{"$f":"IFERROR(IF($B169=TRUE,VLOOKUP($H169&$J169&$P169&$R169,補助対象機器一覧0916!$A$1:$E$75,4,FALSE),IF($B169=FALSE,VLOOKUP($A169,中間シート!$C$110:$M$260,10,FALSE),\"\")),\"\")","v":""},null,null,null,null,{"$f":"IF(MID($A169,4,2)<>\"９９\",IF($B169=TRUE,VLOOKUP($A169,中間シート!$C$111:$P$260,5,FALSE),\"\"),\"\")&\"\"","v":""},{"$f":"IFERROR(IF($B169=TRUE,VLOOKUP($H169&$J169&$P169&$R169,補助対象機器一覧0916!$A$1:$E$75,5,FALSE),IF($B169=FALSE,VLOOKUP($A169,中間シート!$C$110:$M$260,11,FALSE),\"\")),\"\")","v":""},{"$f":"IF(MID($A169,4,2)<>\"９９\",IF($B169=TRUE,VLOOKUP($A169,中間シート!$C$111:$P$260,6,FALSE),\"\"),\"\")&\"\"","v":""}]
[{"$f":"中間シート!Y219","v":"事業場９９　９台目"},{"$f":"中間シート!Z219","v":{"$error":"#N/A"}},"事業場",null,{"$f":"IF(中間シート!W219<>\"99\",中間シート!W219,\"\")","v":""},{"$f":"IFERROR(IF($B170=TRUE,VLOOKUP($H170&$J170&$P170&$R170,補助対象機器一覧0916!$A$1:$E$75,2,FALSE),IF($B170=FALSE,VLOOKUP($A170,中間シート!$C$110:$M$260,8,FALSE),\"\")),\"\")","v":""},null,{"$f":"IF(MID($A170,4,2)<>\"９９\",IF($B170=TRUE,VLOOKUP($A170,中間シート!$C$111:$P$260,3,FALSE),\"\"),\"\")&\"\"","v":""},{"$f":"IFERROR(IF($B170=TRUE,VLOOKUP($H170&$J170&$P170&$R170,補助対象機器一覧0916!$A$1:$E$75,3,FALSE),IF($B170=FALSE,VLOOKUP($A170,中間シート!$C$110:$M$260,9,FALSE),\"\")),\"\")","v":""},{"$f":"IF(MID($A170,4,2)<>\"９９\",IF($B170=TRUE,VLOOKUP($A170,中間シート!$C$111:$P$260,4,FALSE),\"\"),\"\")&\"\"","v":""},{"$f":"IFERROR(IF($B170=TRUE,VLOOKUP($H170&$J170&$P170&$R170,補助対象機器一覧0916!$A$1:$E$75,4,FALSE),IF($B170=FALSE,VLOOKUP($A170,中間シート!$C$110:$M$260,10,FALSE),\"\")),\"\")","v":""},null,null,null,null,{"$f":"IF(MID($A170,4,2)<>\"９９\",IF($B170=TRUE,VLOOKUP($A170,中間シート!$C$111:$P$260,5,FALSE),\"\"),\"\")&\"\"","v":""},{"$f":"IFERROR(IF($B170=TRUE,VLOOKUP($H170&$J170&$P170&$R170,補助対象機器一覧0916!$A$1:$E$75,5,FALSE),IF($B170=FALSE,VLOOKUP($A170,中間シート!$C$110:$M$260,11,FALSE),\"\")),\"\")","v":""},{"$f":"IF(MID($A170,4,2)<>\"９９\",IF($B170=TRUE,VLOOKUP($A170,中間シート!$C$111:$P$260,6,FALSE),\"\"),\"\")&\"\"","v":""}]
[{"$f":"中間シート!Y220","v":"事業場９９　９台目"},{"$f":"中間シート!Z220","v":{"$error":"#N/A"}},"事業場",null,{"$f":"IF(中間シート!W220<>\"99\",中間シート!W220,\"\")","v":""},{"$f":"IFERROR(IF($B171=TRUE,VLOOKUP($H171&$J171&$P171&$R171,補助対象機器一覧0916!$A$1:$E$75,2,FALSE),IF($B171=FALSE,VLOOKUP($A171,中間シート!$C$110:$M$260,8,FALSE),\"\")),\"\")","v":""},null,{"$f":"IF(MID($A171,4,2)<>\"９９\",IF($B171=TRUE,VLOOKUP($A171,中間シート!$C$111:$P$260,3,FALSE),\"\"),\"\")&\"\"","v":""},{"$f":"IFERROR(IF($B171=TRUE,VLOOKUP($H171&$J171&$P171&$R171,補助対象機器一覧0916!$A$1:$E$75,3,FALSE),IF($B171=FALSE,VLOOKUP($A171,中間シート!$C$110:$M$260,9,FALSE),\"\")),\"\")","v":""},{"$f":"IF(MID($A171,4,2)<>\"９９\",IF($B171=TRUE,VLOOKUP($A171,中間シート!$C$111:$P$260,4,FALSE),\"\"),\"\")&\"\"","v":""},{"$f":"IFERROR(IF($B171=TRUE,VLOOKUP($H171&$J171&$P171&$R171,補助対象機器一覧0916!$A$1:$E$75,4,FALSE),IF($B171=FALSE,VLOOKUP($A171,中間シート!$C$110:$M$260,10,FALSE),\"\")),\"\")","v":""},null,null,null,null,{"$f":"IF(MID($A171,4,2)<>\"９９\",IF($B171=TRUE,VLOOKUP($A171,中間シート!$C$111:$P$260,5,FALSE),\"\"),\"\")&\"\"","v":""},{"$f":"IFERROR(IF($B171=TRUE,VLOOKUP($H171&$J171&$P171&$R171,補助対象機器一覧0916!$A$1:$E$75,5,FALSE),IF($B171=FALSE,VLOOKUP($A171,中間シート!$C$110:$M$260,11,FALSE),\"\")),\"\")","v":""},{"$f":"IF(MID($A171,4,2)<>\"９９\",IF($B171=TRUE,VLOOKUP($A171,中間シート!$C$111:$P$260,6,FALSE),\"\"),\"\")&\"\"","v":""}]
[{"$f":"中間シート!Y221","v":"事業場９９　９台目"},{"$f":"中間シート!Z221","v":{"$error":"#N/A"}},"事業場",null,{"$f":"IF(中間シート!W221<>\"99\",中間シート!W221,\"\")","v":""},{"$f":"IFERROR(IF($B172=TRUE,VLOOKUP($H172&$J172&$P172&$R172,補助対象機器一覧0916!$A$1:$E$75,2,FALSE),IF($B172=FALSE,VLOOKUP($A172,中間シート!$C$110:$M$260,8,FALSE),\"\")),\"\")","v":""},null,{"$f":"IF(MID($A172,4,2)<>\"９９\",IF($B172=TRUE,VLOOKUP($A172,中間シート!$C$111:$P$260,3,FALSE),\"\"),\"\")&\"\"","v":""},{"$f":"IFERROR(IF($B172=TRUE,VLOOKUP($H172&$J172&$P172&$R172,補助対象機器一覧0916!$A$1:$E$75,3,FALSE),IF($B172=FALSE,VLOOKUP($A172,中間シート!$C$110:$M$260,9,FALSE),\"\")),\"\")","v":""},{"$f":"IF(MID($A172,4,2)<>\"９９\",IF($B172=TRUE,VLOOKUP($A172,中間シート!$C$111:$P$260,4,FALSE),\"\"),\"\")&\"\"","v":""},{"$f":"IFERROR(IF($B172=TRUE,VLOOKUP($H172&$J172&$P172&$R172,補助対象機器一覧0916!$A$1:$E$75,4,FALSE),IF($B172=FALSE,VLOOKUP($A172,中間シート!$C$110:$M$260,10,FALSE),\"\")),\"\")","v":""},null,null,null,null,{"$f":"IF(MID($A172,4,2)<>\"９９\",IF($B172=TRUE,VLOOKUP($A172,中間シート!$C$111:$P$260,5,FALSE),\"\"),\"\")&\"\"","v":""},{"$f":"IFERROR(IF($B172=TRUE,VLOOKUP($H172&$J172&$P172&$R172,補助対象機器一覧0916!$A$1:$E$75,5,FALSE),IF($B172=FALSE,VLOOKUP($A172,中間シート!$C$110:$M$260,11,FALSE),\"\")),\"\")","v":""},{"$f":"IF(MID($A172,4,2)<>\"９９\",IF($B172=TRUE,VLOOKUP($A172,中間シート!$C$111:$P$260,6,FALSE),\"\"),\"\")&\"\"","v":""}]
[{"$f":"中間シート!Y222","v":"事業場９９　９台目"},{"$f":"中間シート!Z222","v":{"$error":"#N/A"}},"事業場",null,{"$f":"IF(中間シート!W222<>\"99\",中間シート!W222,\"\")","v":""},{"$f":"IFERROR(IF($B173=TRUE,VLOOKUP($H173&$J173&$P173&$R173,補助対象機器一覧0916!$A$1:$E$75,2,FALSE),IF($B173=FALSE,VLOOKUP($A173,中間シート!$C$110:$M$260,8,FALSE),\"\")),\"\")","v":""},null,{"$f":"IF(MID($A173,4,2)<>\"９９\",IF($B173=TRUE,VLOOKUP($A173,中間シート!$C$111:$P$260,3,FALSE),\"\"),\"\")&\"\"","v":""},{"$f":"IFERROR(IF($B173=TRUE,VLOOKUP($H173&$J173&$P173&$R173,補助対象機器一覧0916!$A$1:$E$75,3,FALSE),IF($B173=FALSE,VLOOKUP($A173,中間シート!$C$110:$M$260,9,FALSE),\"\")),\"\")","v":""},{"$f":"IF(MID($A173,4,2)<>\"９９\",IF($B173=TRUE,VLOOKUP($A173,中間シート!$C$111:$P$260,4,FALSE),\"\"),\"\")&\"\"","v":""},{"$f":"IFERROR(IF($B173=TRUE,VLOOKUP($H173&$J173&$P173&$R173,補助対象機器一覧0916!$A$1:$E$75,4,FALSE),IF($B173=FALSE,VLOOKUP($A173,中間シート!$C$110:$M$260,10,FALSE),\"\")),\"\")","v":""},null,null,null,null,{"$f":"IF(MID($A173,4,2)<>\"９９\",IF($B173=TRUE,VLOOKUP($A173,中間シート!$C$111:$P$260,5,FALSE),\"\"),\"\")&\"\"","v":""},{"$f":"IFERROR(IF($B173=TRUE,VLOOKUP($H173&$J173&$P173&$R173,補助対象機器一覧0916!$A$1:$E$75,5,FALSE),IF($B173=FALSE,VLOOKUP($A173,中間シート!$C$110:$M$260,11,FALSE),\"\")),\"\")","v":""},{"$f":"IF(MID($A173,4,2)<>\"９９\",IF($B173=TRUE,VLOOKUP($A173,中間シート!$C$111:$P$260,6,FALSE),\"\"),\"\")&\"\"","v":""}]
[{"$f":"中間シート!Y223","v":"事業場９９　９台目"},{"$f":"中間シート!Z223","v":{"$error":"#N/A"}},"事業場",null,{"$f":"IF(中間シート!W223<>\"99\",中間シート!W223,\"\")","v":""},{"$f":"IFERROR(IF($B174=TRUE,VLOOKUP($H174&$J174&$P174&$R174,補助対象機器一覧0916!$A$1:$E$75,2,FALSE),IF($B174=FALSE,VLOOKUP($A174,中間シート!$C$110:$M$260,8,FALSE),\"\")),\"\")","v":""},null,{"$f":"IF(MID($A174,4,2)<>\"９９\",IF($B174=TRUE,VLOOKUP($A174,中間シート!$C$111:$P$260,3,FALSE),\"\"),\"\")&\"\"","v":""},{"$f":"IFERROR(IF($B174=TRUE,VLOOKUP($H174&$J174&$P174&$R174,補助対象機器一覧0916!$A$1:$E$75,3,FALSE),IF($B174=FALSE,VLOOKUP($A174,中間シート!$C$110:$M$260,9,FALSE),\"\")),\"\")","v":""},{"$f":"IF(MID($A174,4,2)<>\"９９\",IF($B174=TRUE,VLOOKUP($A174,中間シート!$C$111:$P$260,4,FALSE),\"\"),\"\")&\"\"","v":""},{"$f":"IFERROR(IF($B174=TRUE,VLOOKUP($H174&$J174&$P174&$R174,補助対象機器一覧0916!$A$1:$E$75,4,FALSE),IF($B174=FALSE,VLOOKUP($A174,中間シート!$C$110:$M$260,10,FALSE),\"\")),\"\")","v":""},null,null,null,null,{"$f":"IF(MID($A174,4,2)<>\"９９\",IF($B174=TRUE,VLOOKUP($A174,中間シート!$C$111:$P$260,5,FALSE),\"\"),\"\")&\"\"","v":""},{"$f":"IFERROR(IF($B174=TRUE,VLOOKUP($H174&$J174&$P174&$R174,補助対象機器一覧0916!$A$1:$E$75,5,FALSE),IF($B174=FALSE,VLOOKUP($A174,中間シート!$C$110:$M$260,11,FALSE),\"\")),\"\")","v":""},{"$f":"IF(MID($A174,4,2)<>\"９９\",IF($B174=TRUE,VLOOKUP($A174,中間シート!$C$111:$P$260,6,FALSE),\"\"),\"\")&\"\"","v":""}]
[{"$f":"中間シート!Y224","v":"事業場９９　９台目"},{"$f":"中間シート!Z224","v":{"$error":"#N/A"}},"事業場",null,{"$f":"IF(中間シート!W224<>\"99\",中間シート!W224,\"\")","v":""},{"$f":"IFERROR(IF($B175=TRUE,VLOOKUP($H175&$J175&$P175&$R175,補助対象機器一覧0916!$A$1:$E$75,2,FALSE),IF($B175=FALSE,VLOOKUP($A175,中間シート!$C$110:$M$260,8,FALSE),\"\")),\"\")","v":""},null,{"$f":"IF(MID($A175,4,2)<>\"９９\",IF($B175=TRUE,VLOOKUP($A175,中間シート!$C$111:$P$260,3,FALSE),\"\"),\"\")&\"\"","v":""},{"$f":"IFERROR(IF($B175=TRUE,VLOOKUP($H175&$J175&$P175&$R175,補助対象機器一覧0916!$A$1:$E$75,3,FALSE),IF($B175=FALSE,VLOOKUP($A175,中間シート!$C$110:$M$260,9,FALSE),\"\")),\"\")","v":""},{"$f":"IF(MID($A175,4,2)<>\"９９\",IF($B175=TRUE,VLOOKUP($A175,中間シート!$C$111:$P$260,4,FALSE),\"\"),\"\")&\"\"","v":""},{"$f":"IFERROR(IF($B175=TRUE,VLOOKUP($H175&$J175&$P175&$R175,補助対象機器一覧0916!$A$1:$E$75,4,FALSE),IF($B175=FALSE,VLOOKUP($A175,中間シート!$C$110:$M$260,10,FALSE),\"\")),\"\")","v":""},null,null,null,null,{"$f":"IF(MID($A175,4,2)<>\"９９\",IF($B175=TRUE,VLOOKUP($A175,中間シート!$C$111:$P$260,5,FALSE),\"\"),\"\")&\"\"","v":""},{"$f":"IFERROR(IF($B175=TRUE,VLOOKUP($H175&$J175&$P175&$R175,補助対象機器一覧0916!$A$1:$E$75,5,FALSE),IF($B175=FALSE,VLOOKUP($A175,中間シート!$C$110:$M$260,11,FALSE),\"\")),\"\")","v":""},{"$f":"IF(MID($A175,4,2)<>\"９９\",IF($B175=TRUE,VLOOKUP($A175,中間シート!$C$111:$P$260,6,FALSE),\"\"),\"\")&\"\"","v":""}]
[{"$f":"中間シート!Y225","v":"事業場９９　９台目"},{"$f":"中間シート!Z225","v":{"$error":"#N/A"}},"事業場",null,{"$f":"IF(中間シート!W225<>\"99\",中間シート!W225,\"\")","v":""},{"$f":"IFERROR(IF($B176=TRUE,VLOOKUP($H176&$J176&$P176&$R176,補助対象機器一覧0916!$A$1:$E$75,2,FALSE),IF($B176=FALSE,VLOOKUP($A176,中間シート!$C$110:$M$260,8,FALSE),\"\")),\"\")","v":""},null,{"$f":"IF(MID($A176,4,2)<>\"９９\",IF($B176=TRUE,VLOOKUP($A176,中間シート!$C$111:$P$260,3,FALSE),\"\"),\"\")&\"\"","v":""},{"$f":"IFERROR(IF($B176=TRUE,VLOOKUP($H176&$J176&$P176&$R176,補助対象機器一覧0916!$A$1:$E$75,3,FALSE),IF($B176=FALSE,VLOOKUP($A176,中間シート!$C$110:$M$260,9,FALSE),\"\")),\"\")","v":""},{"$f":"IF(MID($A176,4,2)<>\"９９\",IF($B176=TRUE,VLOOKUP($A176,中間シート!$C$111:$P$260,4,FALSE),\"\"),\"\")&\"\"","v":""},{"$f":"IFERROR(IF($B176=TRUE,VLOOKUP($H176&$J176&$P176&$R176,補助対象機器一覧0916!$A$1:$E$75,4,FALSE),IF($B176=FALSE,VLOOKUP($A176,中間シート!$C$110:$M$260,10,FALSE),\"\")),\"\")","v":""},null,null,null,null,{"$f":"IF(MID($A176,4,2)<>\"９９\",IF($B176=TRUE,VLOOKUP($A176,中間シート!$C$111:$P$260,5,FALSE),\"\"),\"\")&\"\"","v":""},{"$f":"IFERROR(IF($B176=TRUE,VLOOKUP($H176&$J176&$P176&$R176,補助対象機器一覧0916!$A$1:$E$75,5,FALSE),IF($B176=FALSE,VLOOKUP($A176,中間シート!$C$110:$M$260,11,FALSE),\"\")),\"\")","v":""},{"$f":"IF(MID($A176,4,2)<>\"９９\",IF($B176=TRUE,VLOOKUP($A176,中間シート!$C$111:$P$260,6,FALSE),\"\"),\"\")&\"\"","v":""}]
[{"$f":"中間シート!Y226","v":"事業場９９　９台目"},{"$f":"中間シート!Z226","v":{"$error":"#N/A"}},"事業場",null,{"$f":"IF(中間シート!W226<>\"99\",中間シート!W226,\"\")","v":""},{"$f":"IFERROR(IF($B177=TRUE,VLOOKUP($H177&$J177&$P177&$R177,補助対象機器一覧0916!$A$1:$E$75,2,FALSE),IF($B177=FALSE,VLOOKUP($A177,中間シート!$C$110:$M$260,8,FALSE),\"\")),\"\")","v":""},null,{"$f":"IF(MID($A177,4,2)<>\"９９\",IF($B177=TRUE,VLOOKUP($A177,中間シート!$C$111:$P$260,3,FALSE),\"\"),\"\")&\"\"","v":""},{"$f":"IFERROR(IF($B177=TRUE,VLOOKUP($H177&$J177&$P177&$R177,補助対象機器一覧0916!$A$1:$E$75,3,FALSE),IF($B177=FALSE,VLOOKUP($A177,中間シート!$C$110:$M$260,9,FALSE),\"\")),\"\")","v":""},{"$f":"IF(MID($A177,4,2)<>\"９９\",IF($B177=TRUE,VLOOKUP($A177,中間シート!$C$111:$P$260,4,FALSE),\"\"),\"\")&\"\"","v":""},{"$f":"IFERROR(IF($B177=TRUE,VLOOKUP($H177&$J177&$P177&$R177,補助対象機器一覧0916!$A$1:$E$75,4,FALSE),IF($B177=FALSE,VLOOKUP($A177,中間シート!$C$110:$M$260,10,FALSE),\"\")),\"\")","v":""},null,null,null,null,{"$f":"IF(MID($A177,4,2)<>\"９９\",IF($B177=TRUE,VLOOKUP($A177,中間シート!$C$111:$P$260,5,FALSE),\"\"),\"\")&\"\"","v":""},{"$f":"IFERROR(IF($B177=TRUE,VLOOKUP($H177&$J177&$P177&$R177,補助対象機器一覧0916!$A$1:$E$75,5,FALSE),IF($B177=FALSE,VLOOKUP($A177,中間シート!$C$110:$M$260,11,FALSE),\"\")),\"\")","v":""},{"$f":"IF(MID($A177,4,2)<>\"９９\",IF($B177=TRUE,VLOOKUP($A177,中間シート!$C$111:$P$260,6,FALSE),\"\"),\"\")&\"\"","v":""}]
[{"$f":"中間シート!Y227","v":"事業場９９　９台目"},{"$f":"中間シート!Z227","v":{"$error":"#N/A"}},"事業場",null,{"$f":"IF(中間シート!W227<>\"99\",中間シート!W227,\"\")","v":""},{"$f":"IFERROR(IF($B178=TRUE,VLOOKUP($H178&$J178&$P178&$R178,補助対象機器一覧0916!$A$1:$E$75,2,FALSE),IF($B178=FALSE,VLOOKUP($A178,中間シート!$C$110:$M$260,8,FALSE),\"\")),\"\")","v":""},null,{"$f":"IF(MID($A178,4,2)<>\"９９\",IF($B178=TRUE,VLOOKUP($A178,中間シート!$C$111:$P$260,3,FALSE),\"\"),\"\")&\"\"","v":""},{"$f":"IFERROR(IF($B178=TRUE,VLOOKUP($H178&$J178&$P178&$R178,補助対象機器一覧0916!$A$1:$E$75,3,FALSE),IF($B178=FALSE,VLOOKUP($A178,中間シート!$C$110:$M$260,9,FALSE),\"\")),\"\")","v":""},{"$f":"IF(MID($A178,4,2)<>\"９９\",IF($B178=TRUE,VLOOKUP($A178,中間シート!$C$111:$P$260,4,FALSE),\"\"),\"\")&\"\"","v":""},{"$f":"IFERROR(IF($B178=TRUE,VLOOKUP($H178&$J178&$P178&$R178,補助対象機器一覧0916!$A$1:$E$75,4,FALSE),IF($B178=FALSE,VLOOKUP($A178,中間シート!$C$110:$M$260,10,FALSE),\"\")),\"\")","v":""},null,null,null,null,{"$f":"IF(MID($A178,4,2)<>\"９９\",IF($B178=TRUE,VLOOKUP($A178,中間シート!$C$111:$P$260,5,FALSE),\"\"),\"\")&\"\"","v":""},{"$f":"IFERROR(IF($B178=TRUE,VLOOKUP($H178&$J178&$P178&$R178,補助対象機器一覧0916!$A$1:$E$75,5,FALSE),IF($B178=FALSE,VLOOKUP($A178,中間シート!$C$110:$M$260,11,FALSE),\"\")),\"\")","v":""},{"$f":"IF(MID($A178,4,2)<>\"９９\",IF($B178=TRUE,VLOOKUP($A178,中間シート!$C$111:$P$260,6,FALSE),\"\"),\"\")&\"\"","v":""}]
[{"$f":"中間シート!Y228","v":"事業場９９　９台目"},{"$f":"中間シート!Z228","v":{"$error":"#N/A"}},"事業場",null,{"$f":"IF(中間シート!W228<>\"99\",中間シート!W228,\"\")","v":""},{"$f":"IFERROR(IF($B179=TRUE,VLOOKUP($H179&$J179&$P179&$R179,補助対象機器一覧0916!$A$1:$E$75,2,FALSE),IF($B179=FALSE,VLOOKUP($A179,中間シート!$C$110:$M$260,8,FALSE),\"\")),\"\")","v":""},null,{"$f":"IF(MID($A179,4,2)<>\"９９\",IF($B179=TRUE,VLOOKUP($A179,中間シート!$C$111:$P$260,3,FALSE),\"\"),\"\")&\"\"","v":""},{"$f":"IFERROR(IF($B179=TRUE,VLOOKUP($H179&$J179&$P179&$R179,補助対象機器一覧0916!$A$1:$E$75,3,FALSE),IF($B179=FALSE,VLOOKUP($A179,中間シート!$C$110:$M$260,9,FALSE),\"\")),\"\")","v":""},{"$f":"IF(MID($A179,4,2)<>\"９９\",IF($B179=TRUE,VLOOKUP($A179,中間シート!$C$111:$P$260,4,FALSE),\"\"),\"\")&\"\"","v":""},{"$f":"IFERROR(IF($B179=TRUE,VLOOKUP($H179&$J179&$P179&$R179,補助対象機器一覧0916!$A$1:$E$75,4,FALSE),IF($B179=FALSE,VLOOKUP($A179,中間シート!$C$110:$M$260,10,FALSE),\"\")),\"\")","v":""},null,null,null,null,{"$f":"IF(MID($A179,4,2)<>\"９９\",IF($B179=TRUE,VLOOKUP($A179,中間シート!$C$111:$P$260,5,FALSE),\"\"),\"\")&\"\"","v":""},{"$f":"IFERROR(IF($B179=TRUE,VLOOKUP($H179&$J179&$P179&$R179,補助対象機器一覧0916!$A$1:$E$75,5,FALSE),IF($B179=FALSE,VLOOKUP($A179,中間シート!$C$110:$M$260,11,FALSE),\"\")),\"\")","v":""},{"$f":"IF(MID($A179,4,2)<>\"９９\",IF($B179=TRUE,VLOOKUP($A179,中間シート!$C$111:$P$260,6,FALSE),\"\"),\"\")&\"\"","v":""}]
[{"$f":"中間シート!Y229","v":"事業場９９　９台目"},{"$f":"中間シート!Z229","v":{"$error":"#N/A"}},"事業場",null,{"$f":"IF(中間シート!W229<>\"99\",中間シート!W229,\"\")","v":""},{"$f":"IFERROR(IF($B180=TRUE,VLOOKUP($H180&$J180&$P180&$R180,補助対象機器一覧0916!$A$1:$E$75,2,FALSE),IF($B180=FALSE,VLOOKUP($A180,中間シート!$C$110:$M$260,8,FALSE),\"\")),\"\")","v":""},null,{"$f":"IF(MID($A180,4,2)<>\"９９\",IF($B180=TRUE,VLOOKUP($A180,中間シート!$C$111:$P$260,3,FALSE),\"\"),\"\")&\"\"","v":""},{"$f":"IFERROR(IF($B180=TRUE,VLOOKUP($H180&$J180&$P180&$R180,補助対象機器一覧0916!$A$1:$E$75,3,FALSE),IF($B180=FALSE,VLOOKUP($A180,中間シート!$C$110:$M$260,9,FALSE),\"\")),\"\")","v":""},{"$f":"IF(MID($A180,4,2)<>\"９９\",IF($B180=TRUE,VLOOKUP($A180,中間シート!$C$111:$P$260,4,FALSE),\"\"),\"\")&\"\"","v":""},{"$f":"IFERROR(IF($B180=TRUE,VLOOKUP($H180&$J180&$P180&$R180,補助対象機器一覧0916!$A$1:$E$75,4,FALSE),IF($B180=FALSE,VLOOKUP($A180,中間シート!$C$110:$M$260,10,FALSE),\"\")),\"\")","v":""},null,null,null,null,{"$f":"IF(MID($A180,4,2)<>\"９９\",IF($B180=TRUE,VLOOKUP($A180,中間シート!$C$111:$P$260,5,FALSE),\"\"),\"\")&\"\"","v":""},{"$f":"IFERROR(IF($B180=TRUE,VLOOKUP($H180&$J180&$P180&$R180,補助対象機器一覧0916!$A$1:$E$75,5,FALSE),IF($B180=FALSE,VLOOKUP($A180,中間シート!$C$110:$M$260,11,FALSE),\"\")),\"\")","v":""},{"$f":"IF(MID($A180,4,2)<>\"９９\",IF($B180=TRUE,VLOOKUP($A180,中間シート!$C$111:$P$260,6,FALSE),\"\"),\"\")&\"\"","v":""}]
[{"$f":"中間シート!Y230","v":"事業場９９　９台目"},{"$f":"中間シート!Z230","v":{"$error":"#N/A"}},"事業場",null,{"$f":"IF(中間シート!W230<>\"99\",中間シート!W230,\"\")","v":""},{"$f":"IFERROR(IF($B181=TRUE,VLOOKUP($H181&$J181&$P181&$R181,補助対象機器一覧0916!$A$1:$E$75,2,FALSE),IF($B181=FALSE,VLOOKUP($A181,中間シート!$C$110:$M$260,8,FALSE),\"\")),\"\")","v":""},null,{"$f":"IF(MID($A181,4,2)<>\"９９\",IF($B181=TRUE,VLOOKUP($A181,中間シート!$C$111:$P$260,3,FALSE),\"\"),\"\")&\"\"","v":""},{"$f":"IFERROR(IF($B181=TRUE,VLOOKUP($H181&$J181&$P181&$R181,補助対象機器一覧0916!$A$1:$E$75,3,FALSE),IF($B181=FALSE,VLOOKUP($A181,中間シート!$C$110:$M$260,9,FALSE),\"\")),\"\")","v":""},{"$f":"IF(MID($A181,4,2)<>\"９９\",IF($B181=TRUE,VLOOKUP($A181,中間シート!$C$111:$P$260,4,FALSE),\"\"),\"\")&\"\"","v":""},{"$f":"IFERROR(IF($B181=TRUE,VLOOKUP($H181&$J181&$P181&$R181,補助対象機器一覧0916!$A$1:$E$75,4,FALSE),IF($B181=FALSE,VLOOKUP($A181,中間シート!$C$110:$M$260,10,FALSE),\"\")),\"\")","v":""},null,null,null,null,{"$f":"IF(MID($A181,4,2)<>\"９９\",IF($B181=TRUE,VLOOKUP($A181,中間シート!$C$111:$P$260,5,FALSE),\"\"),\"\")&\"\"","v":""},{"$f":"IFERROR(IF($B181=TRUE,VLOOKUP($H181&$J181&$P181&$R181,補助対象機器一覧0916!$A$1:$E$75,5,FALSE),IF($B181=FALSE,VLOOKUP($A181,中間シート!$C$110:$M$260,11,FALSE),\"\")),\"\")","v":""},{"$f":"IF(MID($A181,4,2)<>\"９９\",IF($B181=TRUE,VLOOKUP($A181,中間シート!$C$111:$P$260,6,FALSE),\"\"),\"\")&\"\"","v":""}]
[{"$f":"中間シート!Y231","v":"事業場９９　９台目"},{"$f":"中間シート!Z231","v":{"$error":"#N/A"}},"事業場",null,{"$f":"IF(中間シート!W231<>\"99\",中間シート!W231,\"\")","v":""},{"$f":"IFERROR(IF($B182=TRUE,VLOOKUP($H182&$J182&$P182&$R182,補助対象機器一覧0916!$A$1:$E$75,2,FALSE),IF($B182=FALSE,VLOOKUP($A182,中間シート!$C$110:$M$260,8,FALSE),\"\")),\"\")","v":""},null,{"$f":"IF(MID($A182,4,2)<>\"９９\",IF($B182=TRUE,VLOOKUP($A182,中間シート!$C$111:$P$260,3,FALSE),\"\"),\"\")&\"\"","v":""},{"$f":"IFERROR(IF($B182=TRUE,VLOOKUP($H182&$J182&$P182&$R182,補助対象機器一覧0916!$A$1:$E$75,3,FALSE),IF($B182=FALSE,VLOOKUP($A182,中間シート!$C$110:$M$260,9,FALSE),\"\")),\"\")","v":""},{"$f":"IF(MID($A182,4,2)<>\"９９\",IF($B182=TRUE,VLOOKUP($A182,中間シート!$C$111:$P$260,4,FALSE),\"\"),\"\")&\"\"","v":""},{"$f":"IFERROR(IF($B182=TRUE,VLOOKUP($H182&$J182&$P182&$R182,補助対象機器一覧0916!$A$1:$E$75,4,FALSE),IF($B182=FALSE,VLOOKUP($A182,中間シート!$C$110:$M$260,10,FALSE),\"\")),\"\")","v":""},null,null,null,null,{"$f":"IF(MID($A182,4,2)<>\"９９\",IF($B182=TRUE,VLOOKUP($A182,中間シート!$C$111:$P$260,5,FALSE),\"\"),\"\")&\"\"","v":""},{"$f":"IFERROR(IF($B182=TRUE,VLOOKUP($H182&$J182&$P182&$R182,補助対象機器一覧0916!$A$1:$E$75,5,FALSE),IF($B182=FALSE,VLOOKUP($A182,中間シート!$C$110:$M$260,11,FALSE),\"\")),\"\")","v":""},{"$f":"IF(MID($A182,4,2)<>\"９９\",IF($B182=TRUE,VLOOKUP($A182,中間シート!$C$111:$P$260,6,FALSE),\"\"),\"\")&\"\"","v":""}]
[{"$f":"中間シート!Y232","v":"事業場９９　９台目"},{"$f":"中間シート!Z232","v":{"$error":"#N/A"}},"事業場",null,{"$f":"IF(中間シート!W232<>\"99\",中間シート!W232,\"\")","v":""},{"$f":"IFERROR(IF($B183=TRUE,VLOOKUP($H183&$J183&$P183&$R183,補助対象機器一覧0916!$A$1:$E$75,2,FALSE),IF($B183=FALSE,VLOOKUP($A183,中間シート!$C$110:$M$260,8,FALSE),\"\")),\"\")","v":""},null,{"$f":"IF(MID($A183,4,2)<>\"９９\",IF($B183=TRUE,VLOOKUP($A183,中間シート!$C$111:$P$260,3,FALSE),\"\"),\"\")&\"\"","v":""},{"$f":"IFERROR(IF($B183=TRUE,VLOOKUP($H183&$J183&$P183&$R183,補助対象機器一覧0916!$A$1:$E$75,3,FALSE),IF($B183=FALSE,VLOOKUP($A183,中間シート!$C$110:$M$260,9,FALSE),\"\")),\"\")","v":""},{"$f":"IF(MID($A183,4,2)<>\"９９\",IF($B183=TRUE,VLOOKUP($A183,中間シート!$C$111:$P$260,4,FALSE),\"\"),\"\")&\"\"","v":""},{"$f":"IFERROR(IF($B183=TRUE,VLOOKUP($H183&$J183&$P183&$R183,補助対象機器一覧0916!$A$1:$E$75,4,FALSE),IF($B183=FALSE,VLOOKUP($A183,中間シート!$C$110:$M$260,10,FALSE),\"\")),\"\")","v":""},null,null,null,null,{"$f":"IF(MID($A183,4,2)<>\"９９\",IF($B183=TRUE,VLOOKUP($A183,中間シート!$C$111:$P$260,5,FALSE),\"\"),\"\")&\"\"","v":""},{"$f":"IFERROR(IF($B183=TRUE,VLOOKUP($H183&$J183&$P183&$R183,補助対象機器一覧0916!$A$1:$E$75,5,FALSE),IF($B183=FALSE,VLOOKUP($A183,中間シート!$C$110:$M$260,11,FALSE),\"\")),\"\")","v":""},{"$f":"IF(MID($A183,4,2)<>\"９９\",IF($B183=TRUE,VLOOKUP($A183,中間シート!$C$111:$P$260,6,FALSE),\"\"),\"\")&\"\"","v":""}]
[{"$f":"中間シート!Y233","v":"事業場９９　９台目"},{"$f":"中間シート!Z233","v":{"$error":"#N/A"}},"事業場",null,{"$f":"IF(中間シート!W233<>\"99\",中間シート!W233,\"\")","v":""},{"$f":"IFERROR(IF($B184=TRUE,VLOOKUP($H184&$J184&$P184&$R184,補助対象機器一覧0916!$A$1:$E$75,2,FALSE),IF($B184=FALSE,VLOOKUP($A184,中間シート!$C$110:$M$260,8,FALSE),\"\")),\"\")","v":""},null,{"$f":"IF(MID($A184,4,2)<>\"９９\",IF($B184=TRUE,VLOOKUP($A184,中間シート!$C$111:$P$260,3,FALSE),\"\"),\"\")&\"\"","v":""},{"$f":"IFERROR(IF($B184=TRUE,VLOOKUP($H184&$J184&$P184&$R184,補助対象機器一覧0916!$A$1:$E$75,3,FALSE),IF($B184=FALSE,VLOOKUP($A184,中間シート!$C$110:$M$260,9,FALSE),\"\")),\"\")","v":""},{"$f":"IF(MID($A184,4,2)<>\"９９\",IF($B184=TRUE,VLOOKUP($A184,中間シート!$C$111:$P$260,4,FALSE),\"\"),\"\")&\"\"","v":""},{"$f":"IFERROR(IF($B184=TRUE,VLOOKUP($H184&$J184&$P184&$R184,補助対象機器一覧0916!$A$1:$E$75,4,FALSE),IF($B184=FALSE,VLOOKUP($A184,中間シート!$C$110:$M$260,10,FALSE),\"\")),\"\")","v":""},null,null,null,null,{"$f":"IF(MID($A184,4,2)<>\"９９\",IF($B184=TRUE,VLOOKUP($A184,中間シート!$C$111:$P$260,5,FALSE),\"\"),\"\")&\"\"","v":""},{"$f":"IFERROR(IF($B184=TRUE,VLOOKUP($H184&$J184&$P184&$R184,補助対象機器一覧0916!$A$1:$E$75,5,FALSE),IF($B184=FALSE,VLOOKUP($A184,中間シート!$C$110:$M$260,11,FALSE),\"\")),\"\")","v":""},{"$f":"IF(MID($A184,4,2)<>\"９９\",IF($B184=TRUE,VLOOKUP($A184,中間シート!$C$111:$P$260,6,FALSE),\"\"),\"\")&\"\"","v":""}]
[{"$f":"中間シート!Y234","v":"事業場９９　９台目"},{"$f":"中間シート!Z234","v":{"$error":"#N/A"}},"事業場",null,{"$f":"IF(中間シート!W234<>\"99\",中間シート!W234,\"\")","v":""},{"$f":"IFERROR(IF($B185=TRUE,VLOOKUP($H185&$J185&$P185&$R185,補助対象機器一覧0916!$A$1:$E$75,2,FALSE),IF($B185=FALSE,VLOOKUP($A185,中間シート!$C$110:$M$260,8,FALSE),\"\")),\"\")","v":""},null,{"$f":"IF(MID($A185,4,2)<>\"９９\",IF($B185=TRUE,VLOOKUP($A185,中間シート!$C$111:$P$260,3,FALSE),\"\"),\"\")&\"\"","v":""},{"$f":"IFERROR(IF($B185=TRUE,VLOOKUP($H185&$J185&$P185&$R185,補助対象機器一覧0916!$A$1:$E$75,3,FALSE),IF($B185=FALSE,VLOOKUP($A185,中間シート!$C$110:$M$260,9,FALSE),\"\")),\"\")","v":""},{"$f":"IF(MID($A185,4,2)<>\"９９\",IF($B185=TRUE,VLOOKUP($A185,中間シート!$C$111:$P$260,4,FALSE),\"\"),\"\")&\"\"","v":""},{"$f":"IFERROR(IF($B185=TRUE,VLOOKUP($H185&$J185&$P185&$R185,補助対象機器一覧0916!$A$1:$E$75,4,FALSE),IF($B185=FALSE,VLOOKUP($A185,中間シート!$C$110:$M$260,10,FALSE),\"\")),\"\")","v":""},null,null,null,null,{"$f":"IF(MID($A185,4,2)<>\"９９\",IF($B185=TRUE,VLOOKUP($A185,中間シート!$C$111:$P$260,5,FALSE),\"\"),\"\")&\"\"","v":""},{"$f":"IFERROR(IF($B185=TRUE,VLOOKUP($H185&$J185&$P185&$R185,補助対象機器一覧0916!$A$1:$E$75,5,FALSE),IF($B185=FALSE,VLOOKUP($A185,中間シート!$C$110:$M$260,11,FALSE),\"\")),\"\")","v":""},{"$f":"IF(MID($A185,4,2)<>\"９９\",IF($B185=TRUE,VLOOKUP($A185,中間シート!$C$111:$P$260,6,FALSE),\"\"),\"\")&\"\"","v":""}]
[{"$f":"中間シート!Y235","v":"事業場９９　９台目"},{"$f":"中間シート!Z235","v":{"$error":"#N/A"}},"事業場",null,{"$f":"IF(中間シート!W235<>\"99\",中間シート!W235,\"\")","v":""},{"$f":"IFERROR(IF($B186=TRUE,VLOOKUP($H186&$J186&$P186&$R186,補助対象機器一覧0916!$A$1:$E$75,2,FALSE),IF($B186=FALSE,VLOOKUP($A186,中間シート!$C$110:$M$260,8,FALSE),\"\")),\"\")","v":""},null,{"$f":"IF(MID($A186,4,2)<>\"９９\",IF($B186=TRUE,VLOOKUP($A186,中間シート!$C$111:$P$260,3,FALSE),\"\"),\"\")&\"\"","v":""},{"$f":"IFERROR(IF($B186=TRUE,VLOOKUP($H186&$J186&$P186&$R186,補助対象機器一覧0916!$A$1:$E$75,3,FALSE),IF($B186=FALSE,VLOOKUP($A186,中間シート!$C$110:$M$260,9,FALSE),\"\")),\"\")","v":""},{"$f":"IF(MID($A186,4,2)<>\"９９\",IF($B186=TRUE,VLOOKUP($A186,中間シート!$C$111:$P$260,4,FALSE),\"\"),\"\")&\"\"","v":""},{"$f":"IFERROR(IF($B186=TRUE,VLOOKUP($H186&$J186&$P186&$R186,補助対象機器一覧0916!$A$1:$E$75,4,FALSE),IF($B186=FALSE,VLOOKUP($A186,中間シート!$C$110:$M$260,10,FALSE),\"\")),\"\")","v":""},null,null,null,null,{"$f":"IF(MID($A186,4,2)<>\"９９\",IF($B186=TRUE,VLOOKUP($A186,中間シート!$C$111:$P$260,5,FALSE),\"\"),\"\")&\"\"","v":""},{"$f":"IFERROR(IF($B186=TRUE,VLOOKUP($H186&$J186&$P186&$R186,補助対象機器一覧0916!$A$1:$E$75,5,FALSE),IF($B186=FALSE,VLOOKUP($A186,中間シート!$C$110:$M$260,11,FALSE),\"\")),\"\")","v":""},{"$f":"IF(MID($A186,4,2)<>\"９９\",IF($B186=TRUE,VLOOKUP($A186,中間シート!$C$111:$P$260,6,FALSE),\"\"),\"\")&\"\"","v":""}]
[{"$f":"中間シート!Y236","v":"事業場９９　９台目"},{"$f":"中間シート!Z236","v":{"$error":"#N/A"}},"事業場",null,{"$f":"IF(中間シート!W236<>\"99\",中間シート!W236,\"\")","v":""},{"$f":"IFERROR(IF($B187=TRUE,VLOOKUP($H187&$J187&$P187&$R187,補助対象機器一覧0916!$A$1:$E$75,2,FALSE),IF($B187=FALSE,VLOOKUP($A187,中間シート!$C$110:$M$260,8,FALSE),\"\")),\"\")","v":""},null,{"$f":"IF(MID($A187,4,2)<>\"９９\",IF($B187=TRUE,VLOOKUP($A187,中間シート!$C$111:$P$260,3,FALSE),\"\"),\"\")&\"\"","v":""},{"$f":"IFERROR(IF($B187=TRUE,VLOOKUP($H187&$J187&$P187&$R187,補助対象機器一覧0916!$A$1:$E$75,3,FALSE),IF($B187=FALSE,VLOOKUP($A187,中間シート!$C$110:$M$260,9,FALSE),\"\")),\"\")","v":""},{"$f":"IF(MID($A187,4,2)<>\"９９\",IF($B187=TRUE,VLOOKUP($A187,中間シート!$C$111:$P$260,4,FALSE),\"\"),\"\")&\"\"","v":""},{"$f":"IFERROR(IF($B187=TRUE,VLOOKUP($H187&$J187&$P187&$R187,補助対象機器一覧0916!$A$1:$E$75,4,FALSE),IF($B187=FALSE,VLOOKUP($A187,中間シート!$C$110:$M$260,10,FALSE),\"\")),\"\")","v":""},null,null,null,null,{"$f":"IF(MID($A187,4,2)<>\"９９\",IF($B187=TRUE,VLOOKUP($A187,中間シート!$C$111:$P$260,5,FALSE),\"\"),\"\")&\"\"","v":""},{"$f":"IFERROR(IF($B187=TRUE,VLOOKUP($H187&$J187&$P187&$R187,補助対象機器一覧0916!$A$1:$E$75,5,FALSE),IF($B187=FALSE,VLOOKUP($A187,中間シート!$C$110:$M$260,11,FALSE),\"\")),\"\")","v":""},{"$f":"IF(MID($A187,4,2)<>\"９９\",IF($B187=TRUE,VLOOKUP($A187,中間シート!$C$111:$P$260,6,FALSE),\"\"),\"\")&\"\"","v":""}]
[{"$f":"中間シート!Y237","v":"事業場９９　９台目"},{"$f":"中間シート!Z237","v":{"$error":"#N/A"}},"事業場",null,{"$f":"IF(中間シート!W237<>\"99\",中間シート!W237,\"\")","v":""},{"$f":"IFERROR(IF($B188=TRUE,VLOOKUP($H188&$J188&$P188&$R188,補助対象機器一覧0916!$A$1:$E$75,2,FALSE),IF($B188=FALSE,VLOOKUP($A188,中間シート!$C$110:$M$260,8,FALSE),\"\")),\"\")","v":""},null,{"$f":"IF(MID($A188,4,2)<>\"９９\",IF($B188=TRUE,VLOOKUP($A188,中間シート!$C$111:$P$260,3,FALSE),\"\"),\"\")&\"\"","v":""},{"$f":"IFERROR(IF($B188=TRUE,VLOOKUP($H188&$J188&$P188&$R188,補助対象機器一覧0916!$A$1:$E$75,3,FALSE),IF($B188=FALSE,VLOOKUP($A188,中間シート!$C$110:$M$260,9,FALSE),\"\")),\"\")","v":""},{"$f":"IF(MID($A188,4,2)<>\"９９\",IF($B188=TRUE,VLOOKUP($A188,中間シート!$C$111:$P$260,4,FALSE),\"\"),\"\")&\"\"","v":""},{"$f":"IFERROR(IF($B188=TRUE,VLOOKUP($H188&$J188&$P188&$R188,補助対象機器一覧0916!$A$1:$E$75,4,FALSE),IF($B188=FALSE,VLOOKUP($A188,中間シート!$C$110:$M$260,10,FALSE),\"\")),\"\")","v":""},null,null,null,null,{"$f":"IF(MID($A188,4,2)<>\"９９\",IF($B188=TRUE,VLOOKUP($A188,中間シート!$C$111:$P$260,5,FALSE),\"\"),\"\")&\"\"","v":""},{"$f":"IFERROR(IF($B188=TRUE,VLOOKUP($H188&$J188&$P188&$R188,補助対象機器一覧0916!$A$1:$E$75,5,FALSE),IF($B188=FALSE,VLOOKUP($A188,中間シート!$C$110:$M$260,11,FALSE),\"\")),\"\")","v":""},{"$f":"IF(MID($A188,4,2)<>\"９９\",IF($B188=TRUE,VLOOKUP($A188,中間シート!$C$111:$P$260,6,FALSE),\"\"),\"\")&\"\"","v":""}]
[{"$f":"中間シート!Y238","v":"事業場９９　９台目"},{"$f":"中間シート!Z238","v":{"$error":"#N/A"}},"事業場",null,{"$f":"IF(中間シート!W238<>\"99\",中間シート!W238,\"\")","v":""},{"$f":"IFERROR(IF($B189=TRUE,VLOOKUP($H189&$J189&$P189&$R189,補助対象機器一覧0916!$A$1:$E$75,2,FALSE),IF($B189=FALSE,VLOOKUP($A189,中間シート!$C$110:$M$260,8,FALSE),\"\")),\"\")","v":""},null,{"$f":"IF(MID($A189,4,2)<>\"９９\",IF($B189=TRUE,VLOOKUP($A189,中間シート!$C$111:$P$260,3,FALSE),\"\"),\"\")&\"\"","v":""},{"$f":"IFERROR(IF($B189=TRUE,VLOOKUP($H189&$J189&$P189&$R189,補助対象機器一覧0916!$A$1:$E$75,3,FALSE),IF($B189=FALSE,VLOOKUP($A189,中間シート!$C$110:$M$260,9,FALSE),\"\")),\"\")","v":""},{"$f":"IF(MID($A189,4,2)<>\"９９\",IF($B189=TRUE,VLOOKUP($A189,中間シート!$C$111:$P$260,4,FALSE),\"\"),\"\")&\"\"","v":""},{"$f":"IFERROR(IF($B189=TRUE,VLOOKUP($H189&$J189&$P189&$R189,補助対象機器一覧0916!$A$1:$E$75,4,FALSE),IF($B189=FALSE,VLOOKUP($A189,中間シート!$C$110:$M$260,10,FALSE),\"\")),\"\")","v":""},null,null,null,null,{"$f":"IF(MID($A189,4,2)<>\"９９\",IF($B189=TRUE,VLOOKUP($A189,中間シート!$C$111:$P$260,5,FALSE),\"\"),\"\")&\"\"","v":""},{"$f":"IFERROR(IF($B189=TRUE,VLOOKUP($H189&$J189&$P189&$R189,補助対象機器一覧0916!$A$1:$E$75,5,FALSE),IF($B189=FALSE,VLOOKUP($A189,中間シート!$C$110:$M$260,11,FALSE),\"\")),\"\")","v":""},{"$f":"IF(MID($A189,4,2)<>\"９９\",IF($B189=TRUE,VLOOKUP($A189,中間シート!$C$111:$P$260,6,FALSE),\"\"),\"\")&\"\"","v":""}]
[{"$f":"中間シート!Y239","v":"事業場９９　９台目"},{"$f":"中間シート!Z239","v":{"$error":"#N/A"}},"事業場",null,{"$f":"IF(中間シート!W239<>\"99\",中間シート!W239,\"\")","v":""},{"$f":"IFERROR(IF($B190=TRUE,VLOOKUP($H190&$J190&$P190&$R190,補助対象機器一覧0916!$A$1:$E$75,2,FALSE),IF($B190=FALSE,VLOOKUP($A190,中間シート!$C$110:$M$260,8,FALSE),\"\")),\"\")","v":""},null,{"$f":"IF(MID($A190,4,2)<>\"９９\",IF($B190=TRUE,VLOOKUP($A190,中間シート!$C$111:$P$260,3,FALSE),\"\"),\"\")&\"\"","v":""},{"$f":"IFERROR(IF($B190=TRUE,VLOOKUP($H190&$J190&$P190&$R190,補助対象機器一覧0916!$A$1:$E$75,3,FALSE),IF($B190=FALSE,VLOOKUP($A190,中間シート!$C$110:$M$260,9,FALSE),\"\")),\"\")","v":""},{"$f":"IF(MID($A190,4,2)<>\"９９\",IF($B190=TRUE,VLOOKUP($A190,中間シート!$C$111:$P$260,4,FALSE),\"\"),\"\")&\"\"","v":""},{"$f":"IFERROR(IF($B190=TRUE,VLOOKUP($H190&$J190&$P190&$R190,補助対象機器一覧0916!$A$1:$E$75,4,FALSE),IF($B190=FALSE,VLOOKUP($A190,中間シート!$C$110:$M$260,10,FALSE),\"\")),\"\")","v":""},null,null,null,null,{"$f":"IF(MID($A190,4,2)<>\"９９\",IF($B190=TRUE,VLOOKUP($A190,中間シート!$C$111:$P$260,5,FALSE),\"\"),\"\")&\"\"","v":""},{"$f":"IFERROR(IF($B190=TRUE,VLOOKUP($H190&$J190&$P190&$R190,補助対象機器一覧0916!$A$1:$E$75,5,FALSE),IF($B190=FALSE,VLOOKUP($A190,中間シート!$C$110:$M$260,11,FALSE),\"\")),\"\")","v":""},{"$f":"IF(MID($A190,4,2)<>\"９９\",IF($B190=TRUE,VLOOKUP($A190,中間シート!$C$111:$P$260,6,FALSE),\"\"),\"\")&\"\"","v":""}]
[{"$f":"中間シート!Y240","v":"事業場９９　９台目"},{"$f":"中間シート!Z240","v":{"$error":"#N/A"}},"事業場",null,{"$f":"IF(中間シート!W240<>\"99\",中間シート!W240,\"\")","v":""},{"$f":"IFERROR(IF($B191=TRUE,VLOOKUP($H191&$J191&$P191&$R191,補助対象機器一覧0916!$A$1:$E$75,2,FALSE),IF($B191=FALSE,VLOOKUP($A191,中間シート!$C$110:$M$260,8,FALSE),\"\")),\"\")","v":""},null,{"$f":"IF(MID($A191,4,2)<>\"９９\",IF($B191=TRUE,VLOOKUP($A191,中間シート!$C$111:$P$260,3,FALSE),\"\"),\"\")&\"\"","v":""},{"$f":"IFERROR(IF($B191=TRUE,VLOOKUP($H191&$J191&$P191&$R191,補助対象機器一覧0916!$A$1:$E$75,3,FALSE),IF($B191=FALSE,VLOOKUP($A191,中間シート!$C$110:$M$260,9,FALSE),\"\")),\"\")","v":""},{"$f":"IF(MID($A191,4,2)<>\"９９\",IF($B191=TRUE,VLOOKUP($A191,中間シート!$C$111:$P$260,4,FALSE),\"\"),\"\")&\"\"","v":""},{"$f":"IFERROR(IF($B191=TRUE,VLOOKUP($H191&$J191&$P191&$R191,補助対象機器一覧0916!$A$1:$E$75,4,FALSE),IF($B191=FALSE,VLOOKUP($A191,中間シート!$C$110:$M$260,10,FALSE),\"\")),\"\")","v":""},null,null,null,null,{"$f":"IF(MID($A191,4,2)<>\"９９\",IF($B191=TRUE,VLOOKUP($A191,中間シート!$C$111:$P$260,5,FALSE),\"\"),\"\")&\"\"","v":""},{"$f":"IFERROR(IF($B191=TRUE,VLOOKUP($H191&$J191&$P191&$R191,補助対象機器一覧0916!$A$1:$E$75,5,FALSE),IF($B191=FALSE,VLOOKUP($A191,中間シート!$C$110:$M$260,11,FALSE),\"\")),\"\")","v":""},{"$f":"IF(MID($A191,4,2)<>\"９９\",IF($B191=TRUE,VLOOKUP($A191,中間シート!$C$111:$P$260,6,FALSE),\"\"),\"\")&\"\"","v":""}]
[{"$f":"中間シート!Y241","v":"事業場９９　９台目"},{"$f":"中間シート!Z241","v":{"$error":"#N/A"}},"事業場",null,{"$f":"IF(中間シート!W241<>\"99\",中間シート!W241,\"\")","v":""},{"$f":"IFERROR(IF($B192=TRUE,VLOOKUP($H192&$J192&$P192&$R192,補助対象機器一覧0916!$A$1:$E$75,2,FALSE),IF($B192=FALSE,VLOOKUP($A192,中間シート!$C$110:$M$260,8,FALSE),\"\")),\"\")","v":""},null,{"$f":"IF(MID($A192,4,2)<>\"９９\",IF($B192=TRUE,VLOOKUP($A192,中間シート!$C$111:$P$260,3,FALSE),\"\"),\"\")&\"\"","v":""},{"$f":"IFERROR(IF($B192=TRUE,VLOOKUP($H192&$J192&$P192&$R192,補助対象機器一覧0916!$A$1:$E$75,3,FALSE),IF($B192=FALSE,VLOOKUP($A192,中間シート!$C$110:$M$260,9,FALSE),\"\")),\"\")","v":""},{"$f":"IF(MID($A192,4,2)<>\"９９\",IF($B192=TRUE,VLOOKUP($A192,中間シート!$C$111:$P$260,4,FALSE),\"\"),\"\")&\"\"","v":""},{"$f":"IFERROR(IF($B192=TRUE,VLOOKUP($H192&$J192&$P192&$R192,補助対象機器一覧0916!$A$1:$E$75,4,FALSE),IF($B192=FALSE,VLOOKUP($A192,中間シート!$C$110:$M$260,10,FALSE),\"\")),\"\")","v":""},null,null,null,null,{"$f":"IF(MID($A192,4,2)<>\"９９\",IF($B192=TRUE,VLOOKUP($A192,中間シート!$C$111:$P$260,5,FALSE),\"\"),\"\")&\"\"","v":""},{"$f":"IFERROR(IF($B192=TRUE,VLOOKUP($H192&$J192&$P192&$R192,補助対象機器一覧0916!$A$1:$E$75,5,FALSE),IF($B192=FALSE,VLOOKUP($A192,中間シート!$C$110:$M$260,11,FALSE),\"\")),\"\")","v":""},{"$f":"IF(MID($A192,4,2)<>\"９９\",IF($B192=TRUE,VLOOKUP($A192,中間シート!$C$111:$P$260,6,FALSE),\"\"),\"\")&\"\"","v":""}]
[{"$f":"中間シート!Y242","v":"事業場９９　９台目"},{"$f":"中間シート!Z242","v":{"$error":"#N/A"}},"事業場",null,{"$f":"IF(中間シート!W242<>\"99\",中間シート!W242,\"\")","v":""},{"$f":"IFERROR(IF($B193=TRUE,VLOOKUP($H193&$J193&$P193&$R193,補助対象機器一覧0916!$A$1:$E$75,2,FALSE),IF($B193=FALSE,VLOOKUP($A193,中間シート!$C$110:$M$260,8,FALSE),\"\")),\"\")","v":""},null,{"$f":"IF(MID($A193,4,2)<>\"９９\",IF($B193=TRUE,VLOOKUP($A193,中間シート!$C$111:$P$260,3,FALSE),\"\"),\"\")&\"\"","v":""},{"$f":"IFERROR(IF($B193=TRUE,VLOOKUP($H193&$J193&$P193&$R193,補助対象機器一覧0916!$A$1:$E$75,3,FALSE),IF($B193=FALSE,VLOOKUP($A193,中間シート!$C$110:$M$260,9,FALSE),\"\")),\"\")","v":""},{"$f":"IF(MID($A193,4,2)<>\"９９\",IF($B193=TRUE,VLOOKUP($A193,中間シート!$C$111:$P$260,4,FALSE),\"\"),\"\")&\"\"","v":""},{"$f":"IFERROR(IF($B193=TRUE,VLOOKUP($H193&$J193&$P193&$R193,補助対象機器一覧0916!$A$1:$E$75,4,FALSE),IF($B193=FALSE,VLOOKUP($A193,中間シート!$C$110:$M$260,10,FALSE),\"\")),\"\")","v":""},null,null,null,null,{"$f":"IF(MID($A193,4,2)<>\"９９\",IF($B193=TRUE,VLOOKUP($A193,中間シート!$C$111:$P$260,5,FALSE),\"\"),\"\")&\"\"","v":""},{"$f":"IFERROR(IF($B193=TRUE,VLOOKUP($H193&$J193&$P193&$R193,補助対象機器一覧0916!$A$1:$E$75,5,FALSE),IF($B193=FALSE,VLOOKUP($A193,中間シート!$C$110:$M$260,11,FALSE),\"\")),\"\")","v":""},{"$f":"IF(MID($A193,4,2)<>\"９９\",IF($B193=TRUE,VLOOKUP($A193,中間シート!$C$111:$P$260,6,FALSE),\"\"),\"\")&\"\"","v":""}]
[{"$f":"中間シート!Y243","v":"事業場９９　９台目"},{"$f":"中間シート!Z243","v":{"$error":"#N/A"}},"事業場",null,{"$f":"IF(中間シート!W243<>\"99\",中間シート!W243,\"\")","v":""},{"$f":"IFERROR(IF($B194=TRUE,VLOOKUP($H194&$J194&$P194&$R194,補助対象機器一覧0916!$A$1:$E$75,2,FALSE),IF($B194=FALSE,VLOOKUP($A194,中間シート!$C$110:$M$260,8,FALSE),\"\")),\"\")","v":""},null,{"$f":"IF(MID($A194,4,2)<>\"９９\",IF($B194=TRUE,VLOOKUP($A194,中間シート!$C$111:$P$260,3,FALSE),\"\"),\"\")&\"\"","v":""},{"$f":"IFERROR(IF($B194=TRUE,VLOOKUP($H194&$J194&$P194&$R194,補助対象機器一覧0916!$A$1:$E$75,3,FALSE),IF($B194=FALSE,VLOOKUP($A194,中間シート!$C$110:$M$260,9,FALSE),\"\")),\"\")","v":""},{"$f":"IF(MID($A194,4,2)<>\"９９\",IF($B194=TRUE,VLOOKUP($A194,中間シート!$C$111:$P$260,4,FALSE),\"\"),\"\")&\"\"","v":""},{"$f":"IFERROR(IF($B194=TRUE,VLOOKUP($H194&$J194&$P194&$R194,補助対象機器一覧0916!$A$1:$E$75,4,FALSE),IF($B194=FALSE,VLOOKUP($A194,中間シート!$C$110:$M$260,10,FALSE),\"\")),\"\")","v":""},null,null,null,null,{"$f":"IF(MID($A194,4,2)<>\"９９\",IF($B194=TRUE,VLOOKUP($A194,中間シート!$C$111:$P$260,5,FALSE),\"\"),\"\")&\"\"","v":""},{"$f":"IFERROR(IF($B194=TRUE,VLOOKUP($H194&$J194&$P194&$R194,補助対象機器一覧0916!$A$1:$E$75,5,FALSE),IF($B194=FALSE,VLOOKUP($A194,中間シート!$C$110:$M$260,11,FALSE),\"\")),\"\")","v":""},{"$f":"IF(MID($A194,4,2)<>\"９９\",IF($B194=TRUE,VLOOKUP($A194,中間シート!$C$111:$P$260,6,FALSE),\"\"),\"\")&\"\"","v":""}]
[{"$f":"中間シート!Y244","v":"事業場９９　９台目"},{"$f":"中間シート!Z244","v":{"$error":"#N/A"}},"事業場",null,{"$f":"IF(中間シート!W244<>\"99\",中間シート!W244,\"\")","v":""},{"$f":"IFERROR(IF($B195=TRUE,VLOOKUP($H195&$J195&$P195&$R195,補助対象機器一覧0916!$A$1:$E$75,2,FALSE),IF($B195=FALSE,VLOOKUP($A195,中間シート!$C$110:$M$260,8,FALSE),\"\")),\"\")","v":""},null,{"$f":"IF(MID($A195,4,2)<>\"９９\",IF($B195=TRUE,VLOOKUP($A195,中間シート!$C$111:$P$260,3,FALSE),\"\"),\"\")&\"\"","v":""},{"$f":"IFERROR(IF($B195=TRUE,VLOOKUP($H195&$J195&$P195&$R195,補助対象機器一覧0916!$A$1:$E$75,3,FALSE),IF($B195=FALSE,VLOOKUP($A195,中間シート!$C$110:$M$260,9,FALSE),\"\")),\"\")","v":""},{"$f":"IF(MID($A195,4,2)<>\"９９\",IF($B195=TRUE,VLOOKUP($A195,中間シート!$C$111:$P$260,4,FALSE),\"\"),\"\")&\"\"","v":""},{"$f":"IFERROR(IF($B195=TRUE,VLOOKUP($H195&$J195&$P195&$R195,補助対象機器一覧0916!$A$1:$E$75,4,FALSE),IF($B195=FALSE,VLOOKUP($A195,中間シート!$C$110:$M$260,10,FALSE),\"\")),\"\")","v":""},null,null,null,null,{"$f":"IF(MID($A195,4,2)<>\"９９\",IF($B195=TRUE,VLOOKUP($A195,中間シート!$C$111:$P$260,5,FALSE),\"\"),\"\")&\"\"","v":""},{"$f":"IFERROR(IF($B195=TRUE,VLOOKUP($H195&$J195&$P195&$R195,補助対象機器一覧0916!$A$1:$E$75,5,FALSE),IF($B195=FALSE,VLOOKUP($A195,中間シート!$C$110:$M$260,11,FALSE),\"\")),\"\")","v":""},{"$f":"IF(MID($A195,4,2)<>\"９９\",IF($B195=TRUE,VLOOKUP($A195,中間シート!$C$111:$P$260,6,FALSE),\"\"),\"\")&\"\"","v":""}]
[{"$f":"中間シート!Y245","v":"事業場９９　９台目"},{"$f":"中間シート!Z245","v":{"$error":"#N/A"}},"事業場",null,{"$f":"IF(中間シート!W245<>\"99\",中間シート!W245,\"\")","v":""},{"$f":"IFERROR(IF($B196=TRUE,VLOOKUP($H196&$J196&$P196&$R196,補助対象機器一覧0916!$A$1:$E$75,2,FALSE),IF($B196=FALSE,VLOOKUP($A196,中間シート!$C$110:$M$260,8,FALSE),\"\")),\"\")","v":""},null,{"$f":"IF(MID($A196,4,2)<>\"９９\",IF($B196=TRUE,VLOOKUP($A196,中間シート!$C$111:$P$260,3,FALSE),\"\"),\"\")&\"\"","v":""},{"$f":"IFERROR(IF($B196=TRUE,VLOOKUP($H196&$J196&$P196&$R196,補助対象機器一覧0916!$A$1:$E$75,3,FALSE),IF($B196=FALSE,VLOOKUP($A196,中間シート!$C$110:$M$260,9,FALSE),\"\")),\"\")","v":""},{"$f":"IF(MID($A196,4,2)<>\"９９\",IF($B196=TRUE,VLOOKUP($A196,中間シート!$C$111:$P$260,4,FALSE),\"\"),\"\")&\"\"","v":""},{"$f":"IFERROR(IF($B196=TRUE,VLOOKUP($H196&$J196&$P196&$R196,補助対象機器一覧0916!$A$1:$E$75,4,FALSE),IF($B196=FALSE,VLOOKUP($A196,中間シート!$C$110:$M$260,10,FALSE),\"\")),\"\")","v":""},null,null,null,null,{"$f":"IF(MID($A196,4,2)<>\"９９\",IF($B196=TRUE,VLOOKUP($A196,中間シート!$C$111:$P$260,5,FALSE),\"\"),\"\")&\"\"","v":""},{"$f":"IFERROR(IF($B196=TRUE,VLOOKUP($H196&$J196&$P196&$R196,補助対象機器一覧0916!$A$1:$E$75,5,FALSE),IF($B196=FALSE,VLOOKUP($A196,中間シート!$C$110:$M$260,11,FALSE),\"\")),\"\")","v":""},{"$f":"IF(MID($A196,4,2)<>\"９９\",IF($B196=TRUE,VLOOKUP($A196,中間シート!$C$111:$P$260,6,FALSE),\"\"),\"\")&\"\"","v":""}]
[{"$f":"中間シート!Y246","v":"事業場９９　９台目"},{"$f":"中間シート!Z246","v":{"$error":"#N/A"}},"事業場",null,{"$f":"IF(中間シート!W246<>\"99\",中間シート!W246,\"\")","v":""},{"$f":"IFERROR(IF($B197=TRUE,VLOOKUP($H197&$J197&$P197&$R197,補助対象機器一覧0916!$A$1:$E$75,2,FALSE),IF($B197=FALSE,VLOOKUP($A197,中間シート!$C$110:$M$260,8,FALSE),\"\")),\"\")","v":""},null,{"$f":"IF(MID($A197,4,2)<>\"９９\",IF($B197=TRUE,VLOOKUP($A197,中間シート!$C$111:$P$260,3,FALSE),\"\"),\"\")&\"\"","v":""},{"$f":"IFERROR(IF($B197=TRUE,VLOOKUP($H197&$J197&$P197&$R197,補助対象機器一覧0916!$A$1:$E$75,3,FALSE),IF($B197=FALSE,VLOOKUP($A197,中間シート!$C$110:$M$260,9,FALSE),\"\")),\"\")","v":""},{"$f":"IF(MID($A197,4,2)<>\"９９\",IF($B197=TRUE,VLOOKUP($A197,中間シート!$C$111:$P$260,4,FALSE),\"\"),\"\")&\"\"","v":""},{"$f":"IFERROR(IF($B197=TRUE,VLOOKUP($H197&$J197&$P197&$R197,補助対象機器一覧0916!$A$1:$E$75,4,FALSE),IF($B197=FALSE,VLOOKUP($A197,中間シート!$C$110:$M$260,10,FALSE),\"\")),\"\")","v":""},null,null,null,null,{"$f":"IF(MID($A197,4,2)<>\"９９\",IF($B197=TRUE,VLOOKUP($A197,中間シート!$C$111:$P$260,5,FALSE),\"\"),\"\")&\"\"","v":""},{"$f":"IFERROR(IF($B197=TRUE,VLOOKUP($H197&$J197&$P197&$R197,補助対象機器一覧0916!$A$1:$E$75,5,FALSE),IF($B197=FALSE,VLOOKUP($A197,中間シート!$C$110:$M$260,11,FALSE),\"\")),\"\")","v":""},{"$f":"IF(MID($A197,4,2)<>\"９９\",IF($B197=TRUE,VLOOKUP($A197,中間シート!$C$111:$P$260,6,FALSE),\"\"),\"\")&\"\"","v":""}]
[{"$f":"中間シート!Y247","v":"事業場９９　９台目"},{"$f":"中間シート!Z247","v":{"$error":"#N/A"}},"事業場",null,{"$f":"IF(中間シート!W247<>\"99\",中間シート!W247,\"\")","v":""},{"$f":"IFERROR(IF($B198=TRUE,VLOOKUP($H198&$J198&$P198&$R198,補助対象機器一覧0916!$A$1:$E$75,2,FALSE),IF($B198=FALSE,VLOOKUP($A198,中間シート!$C$110:$M$260,8,FALSE),\"\")),\"\")","v":""},null,{"$f":"IF(MID($A198,4,2)<>\"９９\",IF($B198=TRUE,VLOOKUP($A198,中間シート!$C$111:$P$260,3,FALSE),\"\"),\"\")&\"\"","v":""},{"$f":"IFERROR(IF($B198=TRUE,VLOOKUP($H198&$J198&$P198&$R198,補助対象機器一覧0916!$A$1:$E$75,3,FALSE),IF($B198=FALSE,VLOOKUP($A198,中間シート!$C$110:$M$260,9,FALSE),\"\")),\"\")","v":""},{"$f":"IF(MID($A198,4,2)<>\"９９\",IF($B198=TRUE,VLOOKUP($A198,中間シート!$C$111:$P$260,4,FALSE),\"\"),\"\")&\"\"","v":""},{"$f":"IFERROR(IF($B198=TRUE,VLOOKUP($H198&$J198&$P198&$R198,補助対象機器一覧0916!$A$1:$E$75,4,FALSE),IF($B198=FALSE,VLOOKUP($A198,中間シート!$C$110:$M$260,10,FALSE),\"\")),\"\")","v":""},null,null,null,null,{"$f":"IF(MID($A198,4,2)<>\"９９\",IF($B198=TRUE,VLOOKUP($A198,中間シート!$C$111:$P$260,5,FALSE),\"\"),\"\")&\"\"","v":""},{"$f":"IFERROR(IF($B198=TRUE,VLOOKUP($H198&$J198&$P198&$R198,補助対象機器一覧0916!$A$1:$E$75,5,FALSE),IF($B198=FALSE,VLOOKUP($A198,中間シート!$C$110:$M$260,11,FALSE),\"\")),\"\")","v":""},{"$f":"IF(MID($A198,4,2)<>\"９９\",IF($B198=TRUE,VLOOKUP($A198,中間シート!$C$111:$P$260,6,FALSE),\"\"),\"\")&\"\"","v":""}]
[{"$f":"中間シート!Y248","v":"事業場９９　９台目"},{"$f":"中間シート!Z248","v":{"$error":"#N/A"}},"事業場",null,{"$f":"IF(中間シート!W248<>\"99\",中間シート!W248,\"\")","v":""},{"$f":"IFERROR(IF($B199=TRUE,VLOOKUP($H199&$J199&$P199&$R199,補助対象機器一覧0916!$A$1:$E$75,2,FALSE),IF($B199=FALSE,VLOOKUP($A199,中間シート!$C$110:$M$260,8,FALSE),\"\")),\"\")","v":""},null,{"$f":"IF(MID($A199,4,2)<>\"９９\",IF($B199=TRUE,VLOOKUP($A199,中間シート!$C$111:$P$260,3,FALSE),\"\"),\"\")&\"\"","v":""},{"$f":"IFERROR(IF($B199=TRUE,VLOOKUP($H199&$J199&$P199&$R199,補助対象機器一覧0916!$A$1:$E$75,3,FALSE),IF($B199=FALSE,VLOOKUP($A199,中間シート!$C$110:$M$260,9,FALSE),\"\")),\"\")","v":""},{"$f":"IF(MID($A199,4,2)<>\"９９\",IF($B199=TRUE,VLOOKUP($A199,中間シート!$C$111:$P$260,4,FALSE),\"\"),\"\")&\"\"","v":""},{"$f":"IFERROR(IF($B199=TRUE,VLOOKUP($H199&$J199&$P199&$R199,補助対象機器一覧0916!$A$1:$E$75,4,FALSE),IF($B199=FALSE,VLOOKUP($A199,中間シート!$C$110:$M$260,10,FALSE),\"\")),\"\")","v":""},null,null,null,null,{"$f":"IF(MID($A199,4,2)<>\"９９\",IF($B199=TRUE,VLOOKUP($A199,中間シート!$C$111:$P$260,5,FALSE),\"\"),\"\")&\"\"","v":""},{"$f":"IFERROR(IF($B199=TRUE,VLOOKUP($H199&$J199&$P199&$R199,補助対象機器一覧0916!$A$1:$E$75,5,FALSE),IF($B199=FALSE,VLOOKUP($A199,中間シート!$C$110:$M$260,11,FALSE),\"\")),\"\")","v":""},{"$f":"IF(MID($A199,4,2)<>\"９９\",IF($B199=TRUE,VLOOKUP($A199,中間シート!$C$111:$P$260,6,FALSE),\"\"),\"\")&\"\"","v":""}]
[{"$f":"中間シート!Y249","v":"事業場９９　９台目"},{"$f":"中間シート!Z249","v":{"$error":"#N/A"}},"事業場",null,{"$f":"IF(中間シート!W249<>\"99\",中間シート!W249,\"\")","v":""},{"$f":"IFERROR(IF($B200=TRUE,VLOOKUP($H200&$J200&$P200&$R200,補助対象機器一覧0916!$A$1:$E$75,2,FALSE),IF($B200=FALSE,VLOOKUP($A200,中間シート!$C$110:$M$260,8,FALSE),\"\")),\"\")","v":""},null,{"$f":"IF(MID($A200,4,2)<>\"９９\",IF($B200=TRUE,VLOOKUP($A200,中間シート!$C$111:$P$260,3,FALSE),\"\"),\"\")&\"\"","v":""},{"$f":"IFERROR(IF($B200=TRUE,VLOOKUP($H200&$J200&$P200&$R200,補助対象機器一覧0916!$A$1:$E$75,3,FALSE),IF($B200=FALSE,VLOOKUP($A200,中間シート!$C$110:$M$260,9,FALSE),\"\")),\"\")","v":""},{"$f":"IF(MID($A200,4,2)<>\"９９\",IF($B200=TRUE,VLOOKUP($A200,中間シート!$C$111:$P$260,4,FALSE),\"\"),\"\")&\"\"","v":""},{"$f":"IFERROR(IF($B200=TRUE,VLOOKUP($H200&$J200&$P200&$R200,補助対象機器一覧0916!$A$1:$E$75,4,FALSE),IF($B200=FALSE,VLOOKUP($A200,中間シート!$C$110:$M$260,10,FALSE),\"\")),\"\")","v":""},null,null,null,null,{"$f":"IF(MID($A200,4,2)<>\"９９\",IF($B200=TRUE,VLOOKUP($A200,中間シート!$C$111:$P$260,5,FALSE),\"\"),\"\")&\"\"","v":""},{"$f":"IFERROR(IF($B200=TRUE,VLOOKUP($H200&$J200&$P200&$R200,補助対象機器一覧0916!$A$1:$E$75,5,FALSE),IF($B200=FALSE,VLOOKUP($A200,中間シート!$C$110:$M$260,11,FALSE),\"\")),\"\")","v":""},{"$f":"IF(MID($A200,4,2)<>\"９９\",IF($B200=TRUE,VLOOKUP($A200,中間シート!$C$111:$P$260,6,FALSE),\"\"),\"\")&\"\"","v":""}]
[{"$f":"中間シート!Y250","v":"事業場９９　９台目"},{"$f":"中間シート!Z250","v":{"$error":"#N/A"}},"事業場",null,{"$f":"IF(中間シート!W250<>\"99\",中間シート!W250,\"\")","v":""},{"$f":"IFERROR(IF($B201=TRUE,VLOOKUP($H201&$J201&$P201&$R201,補助対象機器一覧0916!$A$1:$E$75,2,FALSE),IF($B201=FALSE,VLOOKUP($A201,中間シート!$C$110:$M$260,8,FALSE),\"\")),\"\")","v":""},null,{"$f":"IF(MID($A201,4,2)<>\"９９\",IF($B201=TRUE,VLOOKUP($A201,中間シート!$C$111:$P$260,3,FALSE),\"\"),\"\")&\"\"","v":""},{"$f":"IFERROR(IF($B201=TRUE,VLOOKUP($H201&$J201&$P201&$R201,補助対象機器一覧0916!$A$1:$E$75,3,FALSE),IF($B201=FALSE,VLOOKUP($A201,中間シート!$C$110:$M$260,9,FALSE),\"\")),\"\")","v":""},{"$f":"IF(MID($A201,4,2)<>\"９９\",IF($B201=TRUE,VLOOKUP($A201,中間シート!$C$111:$P$260,4,FALSE),\"\"),\"\")&\"\"","v":""},{"$f":"IFERROR(IF($B201=TRUE,VLOOKUP($H201&$J201&$P201&$R201,補助対象機器一覧0916!$A$1:$E$75,4,FALSE),IF($B201=FALSE,VLOOKUP($A201,中間シート!$C$110:$M$260,10,FALSE),\"\")),\"\")","v":""},null,null,null,null,{"$f":"IF(MID($A201,4,2)<>\"９９\",IF($B201=TRUE,VLOOKUP($A201,中間シート!$C$111:$P$260,5,FALSE),\"\"),\"\")&\"\"","v":""},{"$f":"IFERROR(IF($B201=TRUE,VLOOKUP($H201&$J201&$P201&$R201,補助対象機器一覧0916!$A$1:$E$75,5,FALSE),IF($B201=FALSE,VLOOKUP($A201,中間シート!$C$110:$M$260,11,FALSE),\"\")),\"\")","v":""},{"$f":"IF(MID($A201,4,2)<>\"９９\",IF($B201=TRUE,VLOOKUP($A201,中間シート!$C$111:$P$260,6,FALSE),\"\"),\"\")&\"\"","v":""}]
[{"$f":"中間シート!Y251","v":"事業場９９　９台目"},{"$f":"中間シート!Z251","v":{"$error":"#N/A"}},"事業場",null,{"$f":"IF(中間シート!W251<>\"99\",中間シート!W251,\"\")","v":""},{"$f":"IFERROR(IF($B202=TRUE,VLOOKUP($H202&$J202&$P202&$R202,補助対象機器一覧0916!$A$1:$E$75,2,FALSE),IF($B202=FALSE,VLOOKUP($A202,中間シート!$C$110:$M$260,8,FALSE),\"\")),\"\")","v":""},null,{"$f":"IF(MID($A202,4,2)<>\"９９\",IF($B202=TRUE,VLOOKUP($A202,中間シート!$C$111:$P$260,3,FALSE),\"\"),\"\")&\"\"","v":""},{"$f":"IFERROR(IF($B202=TRUE,VLOOKUP($H202&$J202&$P202&$R202,補助対象機器一覧0916!$A$1:$E$75,3,FALSE),IF($B202=FALSE,VLOOKUP($A202,中間シート!$C$110:$M$260,9,FALSE),\"\")),\"\")","v":""},{"$f":"IF(MID($A202,4,2)<>\"９９\",IF($B202=TRUE,VLOOKUP($A202,中間シート!$C$111:$P$260,4,FALSE),\"\"),\"\")&\"\"","v":""},{"$f":"IFERROR(IF($B202=TRUE,VLOOKUP($H202&$J202&$P202&$R202,補助対象機器一覧0916!$A$1:$E$75,4,FALSE),IF($B202=FALSE,VLOOKUP($A202,中間シート!$C$110:$M$260,10,FALSE),\"\")),\"\")","v":""},null,null,null,null,{"$f":"IF(MID($A202,4,2)<>\"９９\",IF($B202=TRUE,VLOOKUP($A202,中間シート!$C$111:$P$260,5,FALSE),\"\"),\"\")&\"\"","v":""},{"$f":"IFERROR(IF($B202=TRUE,VLOOKUP($H202&$J202&$P202&$R202,補助対象機器一覧0916!$A$1:$E$75,5,FALSE),IF($B202=FALSE,VLOOKUP($A202,中間シート!$C$110:$M$260,11,FALSE),\"\")),\"\")","v":""},{"$f":"IF(MID($A202,4,2)<>\"９９\",IF($B202=TRUE,VLOOKUP($A202,中間シート!$C$111:$P$260,6,FALSE),\"\"),\"\")&\"\"","v":""}]
[{"$f":"中間シート!Y252","v":"事業場９９　９台目"},{"$f":"中間シート!Z252","v":{"$error":"#N/A"}},"事業場",null,{"$f":"IF(中間シート!W252<>\"99\",中間シート!W252,\"\")","v":""},{"$f":"IFERROR(IF($B203=TRUE,VLOOKUP($H203&$J203&$P203&$R203,補助対象機器一覧0916!$A$1:$E$75,2,FALSE),IF($B203=FALSE,VLOOKUP($A203,中間シート!$C$110:$M$260,8,FALSE),\"\")),\"\")","v":""},null,{"$f":"IF(MID($A203,4,2)<>\"９９\",IF($B203=TRUE,VLOOKUP($A203,中間シート!$C$111:$P$260,3,FALSE),\"\"),\"\")&\"\"","v":""},{"$f":"IFERROR(IF($B203=TRUE,VLOOKUP($H203&$J203&$P203&$R203,補助対象機器一覧0916!$A$1:$E$75,3,FALSE),IF($B203=FALSE,VLOOKUP($A203,中間シート!$C$110:$M$260,9,FALSE),\"\")),\"\")","v":""},{"$f":"IF(MID($A203,4,2)<>\"９９\",IF($B203=TRUE,VLOOKUP($A203,中間シート!$C$111:$P$260,4,FALSE),\"\"),\"\")&\"\"","v":""},{"$f":"IFERROR(IF($B203=TRUE,VLOOKUP($H203&$J203&$P203&$R203,補助対象機器一覧0916!$A$1:$E$75,4,FALSE),IF($B203=FALSE,VLOOKUP($A203,中間シート!$C$110:$M$260,10,FALSE),\"\")),\"\")","v":""},null,null,null,null,{"$f":"IF(MID($A203,4,2)<>\"９９\",IF($B203=TRUE,VLOOKUP($A203,中間シート!$C$111:$P$260,5,FALSE),\"\"),\"\")&\"\"","v":""},{"$f":"IFERROR(IF($B203=TRUE,VLOOKUP($H203&$J203&$P203&$R203,補助対象機器一覧0916!$A$1:$E$75,5,FALSE),IF($B203=FALSE,VLOOKUP($A203,中間シート!$C$110:$M$260,11,FALSE),\"\")),\"\")","v":""},{"$f":"IF(MID($A203,4,2)<>\"９９\",IF($B203=TRUE,VLOOKUP($A203,中間シート!$C$111:$P$260,6,FALSE),\"\"),\"\")&\"\"","v":""}]
[{"$f":"中間シート!Y253","v":"事業場９９　９台目"},{"$f":"中間シート!Z253","v":{"$error":"#N/A"}},"事業場",null,{"$f":"IF(中間シート!W253<>\"99\",中間シート!W253,\"\")","v":""},{"$f":"IFERROR(IF($B204=TRUE,VLOOKUP($H204&$J204&$P204&$R204,補助対象機器一覧0916!$A$1:$E$75,2,FALSE),IF($B204=FALSE,VLOOKUP($A204,中間シート!$C$110:$M$260,8,FALSE),\"\")),\"\")","v":""},null,{"$f":"IF(MID($A204,4,2)<>\"９９\",IF($B204=TRUE,VLOOKUP($A204,中間シート!$C$111:$P$260,3,FALSE),\"\"),\"\")&\"\"","v":""},{"$f":"IFERROR(IF($B204=TRUE,VLOOKUP($H204&$J204&$P204&$R204,補助対象機器一覧0916!$A$1:$E$75,3,FALSE),IF($B204=FALSE,VLOOKUP($A204,中間シート!$C$110:$M$260,9,FALSE),\"\")),\"\")","v":""},{"$f":"IF(MID($A204,4,2)<>\"９９\",IF($B204=TRUE,VLOOKUP($A204,中間シート!$C$111:$P$260,4,FALSE),\"\"),\"\")&\"\"","v":""},{"$f":"IFERROR(IF($B204=TRUE,VLOOKUP($H204&$J204&$P204&$R204,補助対象機器一覧0916!$A$1:$E$75,4,FALSE),IF($B204=FALSE,VLOOKUP($A204,中間シート!$C$110:$M$260,10,FALSE),\"\")),\"\")","v":""},null,null,null,null,{"$f":"IF(MID($A204,4,2)<>\"９９\",IF($B204=TRUE,VLOOKUP($A204,中間シート!$C$111:$P$260,5,FALSE),\"\"),\"\")&\"\"","v":""},{"$f":"IFERROR(IF($B204=TRUE,VLOOKUP($H204&$J204&$P204&$R204,補助対象機器一覧0916!$A$1:$E$75,5,FALSE),IF($B204=FALSE,VLOOKUP($A204,中間シート!$C$110:$M$260,11,FALSE),\"\")),\"\")","v":""},{"$f":"IF(MID($A204,4,2)<>\"９９\",IF($B204=TRUE,VLOOKUP($A204,中間シート!$C$111:$P$260,6,FALSE),\"\"),\"\")&\"\"","v":""}]
[{"$f":"中間シート!Y254","v":"事業場９９　９台目"},{"$f":"中間シート!Z254","v":{"$error":"#N/A"}},"事業場",null,{"$f":"IF(中間シート!W254<>\"99\",中間シート!W254,\"\")","v":""},{"$f":"IFERROR(IF($B205=TRUE,VLOOKUP($H205&$J205&$P205&$R205,補助対象機器一覧0916!$A$1:$E$75,2,FALSE),IF($B205=FALSE,VLOOKUP($A205,中間シート!$C$110:$M$260,8,FALSE),\"\")),\"\")","v":""},null,{"$f":"IF(MID($A205,4,2)<>\"９９\",IF($B205=TRUE,VLOOKUP($A205,中間シート!$C$111:$P$260,3,FALSE),\"\"),\"\")&\"\"","v":""},{"$f":"IFERROR(IF($B205=TRUE,VLOOKUP($H205&$J205&$P205&$R205,補助対象機器一覧0916!$A$1:$E$75,3,FALSE),IF($B205=FALSE,VLOOKUP($A205,中間シート!$C$110:$M$260,9,FALSE),\"\")),\"\")","v":""},{"$f":"IF(MID($A205,4,2)<>\"９９\",IF($B205=TRUE,VLOOKUP($A205,中間シート!$C$111:$P$260,4,FALSE),\"\"),\"\")&\"\"","v":""},{"$f":"IFERROR(IF($B205=TRUE,VLOOKUP($H205&$J205&$P205&$R205,補助対象機器一覧0916!$A$1:$E$75,4,FALSE),IF($B205=FALSE,VLOOKUP($A205,中間シート!$C$110:$M$260,10,FALSE),\"\")),\"\")","v":""},null,null,null,null,{"$f":"IF(MID($A205,4,2)<>\"９９\",IF($B205=TRUE,VLOOKUP($A205,中間シート!$C$111:$P$260,5,FALSE),\"\"),\"\")&\"\"","v":""},{"$f":"IFERROR(IF($B205=TRUE,VLOOKUP($H205&$J205&$P205&$R205,補助対象機器一覧0916!$A$1:$E$75,5,FALSE),IF($B205=FALSE,VLOOKUP($A205,中間シート!$C$110:$M$260,11,FALSE),\"\")),\"\")","v":""},{"$f":"IF(MID($A205,4,2)<>\"９９\",IF($B205=TRUE,VLOOKUP($A205,中間シート!$C$111:$P$260,6,FALSE),\"\"),\"\")&\"\"","v":""}]
[{"$f":"中間シート!Y255","v":"事業場９９　９台目"},{"$f":"中間シート!Z255","v":{"$error":"#N/A"}},"事業場",null,{"$f":"IF(中間シート!W255<>\"99\",中間シート!W255,\"\")","v":""},{"$f":"IFERROR(IF($B206=TRUE,VLOOKUP($H206&$J206&$P206&$R206,補助対象機器一覧0916!$A$1:$E$75,2,FALSE),IF($B206=FALSE,VLOOKUP($A206,中間シート!$C$110:$M$260,8,FALSE),\"\")),\"\")","v":""},null,{"$f":"IF(MID($A206,4,2)<>\"９９\",IF($B206=TRUE,VLOOKUP($A206,中間シート!$C$111:$P$260,3,FALSE),\"\"),\"\")&\"\"","v":""},{"$f":"IFERROR(IF($B206=TRUE,VLOOKUP($H206&$J206&$P206&$R206,補助対象機器一覧0916!$A$1:$E$75,3,FALSE),IF($B206=FALSE,VLOOKUP($A206,中間シート!$C$110:$M$260,9,FALSE),\"\")),\"\")","v":""},{"$f":"IF(MID($A206,4,2)<>\"９９\",IF($B206=TRUE,VLOOKUP($A206,中間シート!$C$111:$P$260,4,FALSE),\"\"),\"\")&\"\"","v":""},{"$f":"IFERROR(IF($B206=TRUE,VLOOKUP($H206&$J206&$P206&$R206,補助対象機器一覧0916!$A$1:$E$75,4,FALSE),IF($B206=FALSE,VLOOKUP($A206,中間シート!$C$110:$M$260,10,FALSE),\"\")),\"\")","v":""},null,null,null,null,{"$f":"IF(MID($A206,4,2)<>\"９９\",IF($B206=TRUE,VLOOKUP($A206,中間シート!$C$111:$P$260,5,FALSE),\"\"),\"\")&\"\"","v":""},{"$f":"IFERROR(IF($B206=TRUE,VLOOKUP($H206&$J206&$P206&$R206,補助対象機器一覧0916!$A$1:$E$75,5,FALSE),IF($B206=FALSE,VLOOKUP($A206,中間シート!$C$110:$M$260,11,FALSE),\"\")),\"\")","v":""},{"$f":"IF(MID($A206,4,2)<>\"９９\",IF($B206=TRUE,VLOOKUP($A206,中間シート!$C$111:$P$260,6,FALSE),\"\"),\"\")&\"\"","v":""}]
[{"$f":"中間シート!Y256","v":"事業場９９　９台目"},{"$f":"中間シート!Z256","v":{"$error":"#N/A"}},"事業場",null,{"$f":"IF(中間シート!W256<>\"99\",中間シート!W256,\"\")","v":""},{"$f":"IFERROR(IF($B207=TRUE,VLOOKUP($H207&$J207&$P207&$R207,補助対象機器一覧0916!$A$1:$E$75,2,FALSE),IF($B207=FALSE,VLOOKUP($A207,中間シート!$C$110:$M$260,8,FALSE),\"\")),\"\")","v":""},null,{"$f":"IF(MID($A207,4,2)<>\"９９\",IF($B207=TRUE,VLOOKUP($A207,中間シート!$C$111:$P$260,3,FALSE),\"\"),\"\")&\"\"","v":""},{"$f":"IFERROR(IF($B207=TRUE,VLOOKUP($H207&$J207&$P207&$R207,補助対象機器一覧0916!$A$1:$E$75,3,FALSE),IF($B207=FALSE,VLOOKUP($A207,中間シート!$C$110:$M$260,9,FALSE),\"\")),\"\")","v":""},{"$f":"IF(MID($A207,4,2)<>\"９９\",IF($B207=TRUE,VLOOKUP($A207,中間シート!$C$111:$P$260,4,FALSE),\"\"),\"\")&\"\"","v":""},{"$f":"IFERROR(IF($B207=TRUE,VLOOKUP($H207&$J207&$P207&$R207,補助対象機器一覧0916!$A$1:$E$75,4,FALSE),IF($B207=FALSE,VLOOKUP($A207,中間シート!$C$110:$M$260,10,FALSE),\"\")),\"\")","v":""},null,null,null,null,{"$f":"IF(MID($A207,4,2)<>\"９９\",IF($B207=TRUE,VLOOKUP($A207,中間シート!$C$111:$P$260,5,FALSE),\"\"),\"\")&\"\"","v":""},{"$f":"IFERROR(IF($B207=TRUE,VLOOKUP($H207&$J207&$P207&$R207,補助対象機器一覧0916!$A$1:$E$75,5,FALSE),IF($B207=FALSE,VLOOKUP($A207,中間シート!$C$110:$M$260,11,FALSE),\"\")),\"\")","v":""},{"$f":"IF(MID($A207,4,2)<>\"９９\",IF($B207=TRUE,VLOOKUP($A207,中間シート!$C$111:$P$260,6,FALSE),\"\"),\"\")&\"\"","v":""}]
[{"$f":"中間シート!Y257","v":"事業場９９　９台目"},{"$f":"中間シート!Z257","v":{"$error":"#N/A"}},"事業場",null,{"$f":"IF(中間シート!W257<>\"99\",中間シート!W257,\"\")","v":""},{"$f":"IFERROR(IF($B208=TRUE,VLOOKUP($H208&$J208&$P208&$R208,補助対象機器一覧0916!$A$1:$E$75,2,FALSE),IF($B208=FALSE,VLOOKUP($A208,中間シート!$C$110:$M$260,8,FALSE),\"\")),\"\")","v":""},null,{"$f":"IF(MID($A208,4,2)<>\"９９\",IF($B208=TRUE,VLOOKUP($A208,中間シート!$C$111:$P$260,3,FALSE),\"\"),\"\")&\"\"","v":""},{"$f":"IFERROR(IF($B208=TRUE,VLOOKUP($H208&$J208&$P208&$R208,補助対象機器一覧0916!$A$1:$E$75,3,FALSE),IF($B208=FALSE,VLOOKUP($A208,中間シート!$C$110:$M$260,9,FALSE),\"\")),\"\")","v":""},{"$f":"IF(MID($A208,4,2)<>\"９９\",IF($B208=TRUE,VLOOKUP($A208,中間シート!$C$111:$P$260,4,FALSE),\"\"),\"\")&\"\"","v":""},{"$f":"IFERROR(IF($B208=TRUE,VLOOKUP($H208&$J208&$P208&$R208,補助対象機器一覧0916!$A$1:$E$75,4,FALSE),IF($B208=FALSE,VLOOKUP($A208,中間シート!$C$110:$M$260,10,FALSE),\"\")),\"\")","v":""},null,null,null,null,{"$f":"IF(MID($A208,4,2)<>\"９９\",IF($B208=TRUE,VLOOKUP($A208,中間シート!$C$111:$P$260,5,FALSE),\"\"),\"\")&\"\"","v":""},{"$f":"IFERROR(IF($B208=TRUE,VLOOKUP($H208&$J208&$P208&$R208,補助対象機器一覧0916!$A$1:$E$75,5,FALSE),IF($B208=FALSE,VLOOKUP($A208,中間シート!$C$110:$M$260,11,FALSE),\"\")),\"\")","v":""},{"$f":"IF(MID($A208,4,2)<>\"９９\",IF($B208=TRUE,VLOOKUP($A208,中間シート!$C$111:$P$260,6,FALSE),\"\"),\"\")&\"\"","v":""}]
[{"$f":"中間シート!Y258","v":"事業場９９　９台目"},{"$f":"中間シート!Z258","v":{"$error":"#N/A"}},"事業場",null,{"$f":"IF(中間シート!W258<>\"99\",中間シート!W258,\"\")","v":""},{"$f":"IFERROR(IF($B209=TRUE,VLOOKUP($H209&$J209&$P209&$R209,補助対象機器一覧0916!$A$1:$E$75,2,FALSE),IF($B209=FALSE,VLOOKUP($A209,中間シート!$C$110:$M$260,8,FALSE),\"\")),\"\")","v":""},null,{"$f":"IF(MID($A209,4,2)<>\"９９\",IF($B209=TRUE,VLOOKUP($A209,中間シート!$C$111:$P$260,3,FALSE),\"\"),\"\")&\"\"","v":""},{"$f":"IFERROR(IF($B209=TRUE,VLOOKUP($H209&$J209&$P209&$R209,補助対象機器一覧0916!$A$1:$E$75,3,FALSE),IF($B209=FALSE,VLOOKUP($A209,中間シート!$C$110:$M$260,9,FALSE),\"\")),\"\")","v":""},{"$f":"IF(MID($A209,4,2)<>\"９９\",IF($B209=TRUE,VLOOKUP($A209,中間シート!$C$111:$P$260,4,FALSE),\"\"),\"\")&\"\"","v":""},{"$f":"IFERROR(IF($B209=TRUE,VLOOKUP($H209&$J209&$P209&$R209,補助対象機器一覧0916!$A$1:$E$75,4,FALSE),IF($B209=FALSE,VLOOKUP($A209,中間シート!$C$110:$M$260,10,FALSE),\"\")),\"\")","v":""},null,null,null,null,{"$f":"IF(MID($A209,4,2)<>\"９９\",IF($B209=TRUE,VLOOKUP($A209,中間シート!$C$111:$P$260,5,FALSE),\"\"),\"\")&\"\"","v":""},{"$f":"IFERROR(IF($B209=TRUE,VLOOKUP($H209&$J209&$P209&$R209,補助対象機器一覧0916!$A$1:$E$75,5,FALSE),IF($B209=FALSE,VLOOKUP($A209,中間シート!$C$110:$M$260,11,FALSE),\"\")),\"\")","v":""},{"$f":"IF(MID($A209,4,2)<>\"９９\",IF($B209=TRUE,VLOOKUP($A209,中間シート!$C$111:$P$260,6,FALSE),\"\"),\"\")&\"\"","v":""}]
[{"$f":"中間シート!Y259","v":"事業場９９　９台目"},{"$f":"中間シート!Z259","v":{"$error":"#N/A"}},"事業場",null,{"$f":"IF(中間シート!W259<>\"99\",中間シート!W259,\"\")","v":""},{"$f":"IFERROR(IF($B210=TRUE,VLOOKUP($H210&$J210&$P210&$R210,補助対象機器一覧0916!$A$1:$E$75,2,FALSE),IF($B210=FALSE,VLOOKUP($A210,中間シート!$C$110:$M$260,8,FALSE),\"\")),\"\")","v":""},null,{"$f":"IF(MID($A210,4,2)<>\"９９\",IF($B210=TRUE,VLOOKUP($A210,中間シート!$C$111:$P$260,3,FALSE),\"\"),\"\")&\"\"","v":""},{"$f":"IFERROR(IF($B210=TRUE,VLOOKUP($H210&$J210&$P210&$R210,補助対象機器一覧0916!$A$1:$E$75,3,FALSE),IF($B210=FALSE,VLOOKUP($A210,中間シート!$C$110:$M$260,9,FALSE),\"\")),\"\")","v":""},{"$f":"IF(MID($A210,4,2)<>\"９９\",IF($B210=TRUE,VLOOKUP($A210,中間シート!$C$111:$P$260,4,FALSE),\"\"),\"\")&\"\"","v":""},{"$f":"IFERROR(IF($B210=TRUE,VLOOKUP($H210&$J210&$P210&$R210,補助対象機器一覧0916!$A$1:$E$75,4,FALSE),IF($B210=FALSE,VLOOKUP($A210,中間シート!$C$110:$M$260,10,FALSE),\"\")),\"\")","v":""},null,null,null,null,{"$f":"IF(MID($A210,4,2)<>\"９９\",IF($B210=TRUE,VLOOKUP($A210,中間シート!$C$111:$P$260,5,FALSE),\"\"),\"\")&\"\"","v":""},{"$f":"IFERROR(IF($B210=TRUE,VLOOKUP($H210&$J210&$P210&$R210,補助対象機器一覧0916!$A$1:$E$75,5,FALSE),IF($B210=FALSE,VLOOKUP($A210,中間シート!$C$110:$M$260,11,FALSE),\"\")),\"\")","v":""},{"$f":"IF(MID($A210,4,2)<>\"９９\",IF($B210=TRUE,VLOOKUP($A210,中間シート!$C$111:$P$260,6,FALSE),\"\"),\"\")&\"\"","v":""}]
[{"$f":"中間シート!Y260","v":"事業場９９　９台目"},{"$f":"中間シート!Z260","v":{"$error":"#N/A"}},"事業場",null,{"$f":"IF(中間シート!W260<>\"99\",中間シート!W260,\"\")","v":""},{"$f":"IFERROR(IF($B211=TRUE,VLOOKUP($H211&$J211&$P211&$R211,補助対象機器一覧0916!$A$1:$E$75,2,FALSE),IF($B211=FALSE,VLOOKUP($A211,中間シート!$C$110:$M$260,8,FALSE),\"\")),\"\")","v":""},null,{"$f":"IF(MID($A211,4,2)<>\"９９\",IF($B211=TRUE,VLOOKUP($A211,中間シート!$C$111:$P$260,3,FALSE),\"\"),\"\")&\"\"","v":""},{"$f":"IFERROR(IF($B211=TRUE,VLOOKUP($H211&$J211&$P211&$R211,補助対象機器一覧0916!$A$1:$E$75,3,FALSE),IF($B211=FALSE,VLOOKUP($A211,中間シート!$C$110:$M$260,9,FALSE),\"\")),\"\")","v":""},{"$f":"IF(MID($A211,4,2)<>\"９９\",IF($B211=TRUE,VLOOKUP($A211,中間シート!$C$111:$P$260,4,FALSE),\"\"),\"\")&\"\"","v":""},{"$f":"IFERROR(IF($B211=TRUE,VLOOKUP($H211&$J211&$P211&$R211,補助対象機器一覧0916!$A$1:$E$75,4,FALSE),IF($B211=FALSE,VLOOKUP($A211,中間シート!$C$110:$M$260,10,FALSE),\"\")),\"\")","v":""},null,null,null,null,{"$f":"IF(MID($A211,4,2)<>\"９９\",IF($B211=TRUE,VLOOKUP($A211,中間シート!$C$111:$P$260,5,FALSE),\"\"),\"\")&\"\"","v":""},{"$f":"IFERROR(IF($B211=TRUE,VLOOKUP($H211&$J211&$P211&$R211,補助対象機器一覧0916!$A$1:$E$75,5,FALSE),IF($B211=FALSE,VLOOKUP($A211,中間シート!$C$110:$M$260,11,FALSE),\"\")),\"\")","v":""},{"$f":"IF(MID($A211,4,2)<>\"９９\",IF($B211=TRUE,VLOOKUP($A211,中間シート!$C$111:$P$260,6,FALSE),\"\"),\"\")&\"\"","v":""}]
[null,null,"（注）【補助対象機器一覧】に記載の無い機器については、製造・販売事業者の会社概要及び当該スキャンツール"]
[null,null,null,null,"の型式等が補助対象機器等であることが確認できるカタログ等を添付すること。"]
[]
[null,null,"【補助事業に要する経費、補助対象経費、補助金の額】"]
[null,null,null,null,null,null,null,null,null,null,null,null,null,null,null,null,null,"（単位：円）"]
[null,null,"内訳",null,null,"補助事業に\n要する経費",null,null,"補助対象経費",null,null,null,"補助率",null,null,null,"補助金の額"]
[]
[null,null,"事業場",null,1,{"$f":"IF(中間シート!AB111<>0,中間シート!AB111,\"\")","v":""},null,null,{"$f":"IF(中間シート!AC111<>0,中間シート!AC111,\"\")","v":""},null,null,null,"１／３以内",null,null,null,{"$f":"IFERROR(IF($I219/3>150000,150000,ROUNDDOWN($I219/3,-3)),\"\")","v":""}]
[null,null,"事業場",null,2,{"$f":"IF(中間シート!AB112<>0,中間シート!AB112,\"\")","v":""},null,null,{"$f":"IF(中間シート!AC112<>0,中間シート!AC112,\"\")","v":""},null,null,null,"１／３以内",null,null,null,{"$f":"IFERROR(IF($I220/3>150000,150000,ROUNDDOWN($I220/3,-3)),\"\")","v":""}]
[null,null,"事業場",null,3,{"$f":"IF(中間シート!AB113<>0,中間シート!AB113,\"\")","v":""},null,null,{"$f":"IF(中間シート!AC113<>0,中間シート!AC113,\"\")","v":""},null,null,null,"１／３以内",null,null,null,""]
[null,null,"事業場",null,4,{"$f":"IF(中間シート!AB114<>0,中間シート!AB114,\"\")","v":""},null,null,{"$f":"IF(中間シート!AC114<>0,中間シート!AC114,\"\")","v":""},null,null,null,"１／３以内",null,null,null,""]
[null,null,"事業場",null,5,{"$f":"IF(中間シート!AB115<>0,中間シート!AB115,\"\")","v":""},null,null,{"$f":"IF(中間シート!AC115<>0,中間シート!AC115,\"\")","v":""},null,null,null,"１／３以内",null,null,null,""]
[null,null,"事業場",null,6,{"$f":"IF(中間シート!AB116<>0,中間シート!AB116,\"\")","v":""},null,null,{"$f":"IF(中間シート!AC116<>0,中間シート!AC116,\"\")","v":""},null,null,null,"１／３以内",null,null,null,""]
[null,null,"事業場",null,7,{"$f":"IF(中間シート!AB117<>0,中間シート!AB117,\"\")","v":""},null,null,{"$f":"IF(中間シート!AC117<>0,中間シート!AC117,\"\")","v":""},null,null,null,"１／３以内",null,null,null,""]
[null,null,"事業場",null,8,{"$f":"IF(中間シート!AB118<>0,中間シート!AB118,\"\")","v":""},null,null,{"$f":"IF(中間シート!AC118<>0,中間シート!AC118,\"\")","v":""},null,null,null,"１／３以内",null,null,null,""]
[null,null,"事業場",null,9,{"$f":"IF(中間シート!AB119<>0,中間シート!AB119,\"\")","v":""},null,null,{"$f":"IF(中間シート!AC119<>0,中間シート!AC119,\"\")","v":""},null,null,null,"１／３以内",null,null,null,""]
[null,null,"事業場",null,10,{"$f":"IF(中間シート!AB120<>0,中間シート!AB120,\"\")","v":""},null,null,{"$f":"IF(中間シート!AC120<>0,中間シート!AC120,\"\")","v":""},null,null,null,"１／３以内",null,null,null,""]
[null,null,"事業場",null,11,{"$f":"IF(中間シート!AB121<>0,中間シート!AB121,\"\")","v":""},null,null,{"$f":"IF(中間シート!AC121<>0,中間シート!AC121,\"\")","v":""},null,null,null,"１／３以内",null,null,null,""]
[null,null,"事業場",null,12,{"$f":"IF(中間シート!AB122<>0,中間シート!AB122,\"\")","v":""},null,null,{"$f":"IF(中間シート!AC122<>0,中間シート!AC122,\"\")","v":""},null,null,null,"１／３以内",null,null,null,""]
[null,null,"事業場",null,13,{"$f":"IF(中間シート!AB123<>0,中間シート!AB123,\"\")","v":""},null,null,{"$f":"IF(中間シート!AC123<>0,中間シート!AC123,\"\")","v":""},null,null,null,"１／３以内",null,null,null,""]
[null,null,"事業場",null,14,{"$f":"IF(中間シート!AB124<>0,中間シート!AB124,\"\")","v":""},null,null,{"$f":"IF(中間シート!AC124<>0,中間シート!AC124,\"\")","v":""},null,null,null,"１／３以内",null,null,null,""]
[null,null,"事業場",null,15,{"$f":"IF(中間シート!AB125<>0,中間シート!AB125,\"\")","v":""},null,null,{"$f":"IF(中間シート!AC125<>0,中間シート!AC125,\"\")","v":""},null,null,null,"１／３以内",null,null,null,""]
[null,null,"事業場",null,16,{"$f":"IF(中間シート!AB126<>0,中間シート!AB126,\"\")","v":""},null,null,{"$f":"IF(中間シート!AC126<>0,中間シート!AC126,\"\")","v":""},null,null,null,"１／３以内",null,null,null,""]
[null,null,"事業場",null,17,{"$f":"IF(中間シート!AB127<>0,中間シート!AB127,\"\")","v":""},null,null,{"$f":"IF(中間シート!AC127<>0,中間シート!AC127,\"\")","v":""},null,null,null,"１／３以内",null,null,null,""]
[null,null,"事業場",null,18,{"$f":"IF(中間シート!AB128<>0,中間シート!AB128,\"\")","v":""},null,null,{"$f":"IF(中間シート!AC128<>0,中間シート!AC128,\"\")","v":""},null,null,null,"１／３以内",null,null,null,""]
[null,null,"事業場",null,19,{"$f":"IF(中間シート!AB129<>0,中間シート!AB129,\"\")","v":""},null,null,{"$f":"IF(中間シート!AC129<>0,中間シート!AC129,\"\")","v":""},null,null,null,"１／３以内",null,null,null,""]
[null,null,"事業場",null,20,{"$f":"IF(中間シート!AB130<>0,中間シート!AB130,\"\")","v":""},null,null,{"$f":"IF(中間シート!AC130<>0,中間シート!AC130,\"\")","v":""},null,null,null,"１／３以内",null,null,null,""]
[null,null,"事業場",null,21,{"$f":"IF(中間シート!AB131<>0,中間シート!AB131,\"\")","v":""},null,null,{"$f":"IF(中間シート!AC131<>0,中間シート!AC131,\"\")","v":""},null,null,null,"１／３以内",null,null,null,""]
[null,null,"事業場",null,22,{"$f":"IF(中間シート!AB132<>0,中間シート!AB132,\"\")","v":""},null,null,{"$f":"IF(中間シート!AC132<>0,中間シート!AC132,\"\")","v":""},null,null,null,"１／３以内",null,null,null,""]
[null,null,"事業場",null,23,{"$f":"IF(中間シート!AB133<>0,中間シート!AB133,\"\")","v":""},null,null,{"$f":"IF(中間シート!AC133<>0,中間シート!AC133,\"\")","v":""},null,null,null,"１／３以内",null,null,null,""]
[null,null,"事業場",null,24,{"$f":"IF(中間シート!AB134<>0,中間シート!AB134,\"\")","v":""},null,null,{"$f":"IF(中間シート!AC134<>0,中間シート!AC134,\"\")","v":""},null,null,null,"１／３以内",null,null,null,""]
[null,null,"事業場",null,25,{"$f":"IF(中間シート!AB135<>0,中間シート!AB135,\"\")","v":""},null,null,{"$f":"IF(中間シート!AC135<>0,中間シート!AC135,\"\")","v":""},null,null,null,"１／３以内",null,null,null,""]
[null,null,"事業場",null,26,{"$f":"IF(中間シート!AB136<>0,中間シート!AB136,\"\")","v":""},null,null,{"$f":"IF(中間シート!AC136<>0,中間シート!AC136,\"\")","v":""},null,null,null,"１／３以内",null,null,null,""]
[null,null,"事業場",null,27,{"$f":"IF(中間シート!AB137<>0,中間シート!AB137,\"\")","v":""},null,null,{"$f":"IF(中間シート!AC137<>0,中間シート!AC137,\"\")","v":""},null,null,null,"１／３以内",null,null,null,""]
[null,null,"事業場",null,28,{"$f":"IF(中間シート!AB138<>0,中間シート!AB138,\"\")","v":""},null,null,{"$f":"IF(中間シート!AC138<>0,中間シート!AC138,\"\")","v":""},null,null,null,"１／３以内",null,null,null,""]
[null,null,"事業場",null,29,{"$f":"IF(中間シート!AB139<>0,中間シート!AB139,\"\")","v":""},null,null,{"$f":"IF(中間シート!AC139<>0,中間シート!AC139,\"\")","v":""},null,null,null,"１／３以内",null,null,null,""]
[null,null,"事業場",null,30,{"$f":"IF(中間シート!AB140<>0,中間シート!AB140,\"\")","v":""},null,null,{"$f":"IF(中間シート!AC140<>0,中間シート!AC140,\"\")","v":""},null,null,null,"１／３以内",null,null,null,""]
[null,null,"事業場",null,31,{"$f":"IF(中間シート!AB141<>0,中間シート!AB141,\"\")","v":""},null,null,{"$f":"IF(中間シート!AC141<>0,中間シート!AC141,\"\")","v":""},null,null,null,"１／３以内",null,null,null,""]
[null,null,"事業場",null,32,{"$f":"IF(中間シート!AB142<>0,中間シート!AB142,\"\")","v":""},null,null,{"$f":"IF(中間シート!AC142<>0,中間シート!AC142,\"\")","v":""},null,null,null,"１／３以内",null,null,null,""]
[null,null,"事業場",null,33,{"$f":"IF(中間シート!AB143<>0,中間シート!AB143,\"\")","v":""},null,null,{"$f":"IF(中間シート!AC143<>0,中間シート!AC143,\"\")","v":""},null,null,null,"１／３以内",null,null,null,""]
[null,null,"事業場",null,34,{"$f":"IF(中間シート!AB144<>0,中間シート!AB144,\"\")","v":""},null,null,{"$f":"IF(中間シート!AC144<>0,中間シート!AC144,\"\")","v":""},null,null,null,"１／３以内",null,null,null,""]
[null,null,"事業場",null,35,{"$f":"IF(中間シート!AB145<>0,中間シート!AB145,\"\")","v":""},null,null,{"$f":"IF(中間シート!AC145<>0,中間シート!AC145,\"\")","v":""},null,null,null,"１／３以内",null,null,null,""]
[null,null,"事業場",null,36,{"$f":"IF(中間シート!AB146<>0,中間シート!AB146,\"\")","v":""},null,null,{"$f":"IF(中間シート!AC146<>0,中間シート!AC146,\"\")","v":""},null,null,null,"１／３以内",null,null,null,""]
[null,null,"事業場",null,37,{"$f":"IF(中間シート!AB147<>0,中間シート!AB147,\"\")","v":""},null,null,{"$f":"IF(中間シート!AC147<>0,中間シート!AC147,\"\")","v":""},null,null,null,"１／３以内",null,null,null,""]
[null,null,"事業場",null,38,{"$f":"IF(中間シート!AB148<>0,中間シート!AB148,\"\")","v":""},null,null,{"$f":"IF(中間シート!AC148<>0,中間シート!AC148,\"\")","v":""},null,null,null,"１／３以内",null,null,null,""]
[null,null,"事業場",null,39,{"$f":"IF(中間シート!AB149<>0,中間シート!AB149,\"\")","v":""},null,null,{"$f":"IF(中間シート!AC149<>0,中間シート!AC149,\"\")","v":""},null,null,null,"１／３以内",null,null,null,""]
[null,null,"事業場",null,40,{"$f":"IF(中間シート!AB150<>0,中間シート!AB150,\"\")","v":""},null,null,{"$f":"IF(中間シート!AC150<>0,中間シート!AC150,\"\")","v":""},null,null,null,"１／３以内",null,null,null,""]
[null,null,"事業場",null,41,{"$f":"IF(中間シート!AB151<>0,中間シート!AB151,\"\")","v":""},null,null,{"$f":"IF(中間シート!AC151<>0,中間シート!AC151,\"\")","v":""},null,null,null,"１／３以内",null,null,null,""]
[null,null,"事業場",null,42,{"$f":"IF(中間シート!AB152<>0,中間シート!AB152,\"\")","v":""},null,null,{"$f":"IF(中間シート!AC152<>0,中間シート!AC152,\"\")","v":""},null,null,null,"１／３以内",null,null,null,""]
[null,null,"事業場",null,43,{"$f":"IF(中間シート!AB153<>0,中間シート!AB153,\"\")","v":""},null,null,{"$f":"IF(中間シート!AC153<>0,中間シート!AC153,\"\")","v":""},null,null,null,"１／３以内",null,null,null,""]
[null,null,"事業場",null,44,{"$f":"IF(中間シート!AB154<>0,中間シート!AB154,\"\")","v":""},null,null,{"$f":"IF(中間シート!AC154<>0,中間シート!AC154,\"\")","v":""},null,null,null,"１／３以内",null,null,null,""]
[null,null,"事業場",null,45,{"$f":"IF(中間シート!AB155<>0,中間シート!AB155,\"\")","v":""},null,null,{"$f":"IF(中間シート!AC155<>0,中間シート!AC155,\"\")","v":""},null,null,null,"１／３以内",null,null,null,""]
[null,null,"事業場",null,46,{"$f":"IF(中間シート!AB156<>0,中間シート!AB156,\"\")","v":""},null,null,{"$f":"IF(中間シート!AC156<>0,中間シート!AC156,\"\")","v":""},null,null,null,"１／３以内",null,null,null,""]
[null,null,"事業場",null,47,{"$f":"IF(中間シート!AB157<>0,中間シート!AB157,\"\")","v":""},null,null,{"$f":"IF(中間シート!AC157<>0,中間シート!AC157,\"\")","v":""},null,null,null,"１／３以内",null,null,null,""]
[null,null,"事業場",null,48,{"$f":"IF(中間シート!AB158<>0,中間シート!AB158,\"\")","v":""},null,null,{"$f":"IF(中間シート!AC158<>0,中間シート!AC158,\"\")","v":""},null,null,null,"１／３以内",null,null,null,""]
[null,null,"事業場",null,49,{"$f":"IF(中間シート!AB159<>0,中間シート!AB159,\"\")","v":""},null,null,{"$f":"IF(中間シート!AC159<>0,中間シート!AC159,\"\")","v":""},null,null,null,"１／３以内",null,null,null,""]
[null,null,"事業場",null,50,{"$f":"IF(中間シート!AB160<>0,中間シート!AB160,\"\")","v":""},null,null,{"$f":"IF(中間シート!AC160<>0,中間シート!AC160,\"\")","v":""},null,null,null,"１／３以内",null,null,null,""]
[null,null,"合　計",null,null,{"$f":"IF(SUM(F219:H268)=0,\"\",SUM(F219:H268))","v":""},null,null,{"$f":"IF(SUM(I219:L268)=0,\"\",SUM(I219:L268))","v":""},null,null,null,null,null,null,null,{"$f":"SUM(Q219:R268)","v":0}]
[null,null,"（注）"]
[null,null,"（１）補助事業に要する経費、補助対象経費、補助金の額には消費税相当分の金額は含まないこと。"]
[null,null,"（２）補助対象経費を補助率で乗じた額が15万円を下回る場合の補助金の額欄に記載する金額は、"]
[null,null,"　　　1,000円未満を切り捨てた額とする。"]
[null,null,"（３）補助対象経費を補助率で乗じた額が15万円を超える場合の補助金の額欄に記載する金額は、"]
[null,null,"　　　150,000円とする。"]
[]
[null,null,"【本交付申請書に係る質問等連絡先及び担当者名】"]
[null,null,"担当部署及び役職",null,null,null,null,null,"担当者名",null,"電話、FAX及びE-mail"]
[null,null,{"$f":"中間シート!E19&\"　\"&中間シート!E20&\"\"","v":"　"},null,null,null,null,null,{"$f":"中間シート!E17&\" \"&中間シート!E18&\"\"","v":" "},null,"（電話）",null,null,null,{"$f":"IF(中間シート!E21&中間シート!F21&中間シート!G21<>\"\",中間シート!E21&\"-\"&中間シート!F21&\"-\"&中間シート!G21,\"\")","v":""}]
[null,null,null,null,null,null,null,null,null,null,"（FAX）",null,null,null,{"$f":"IF(中間シート!E22&中間シート!F22&中間シート!G22<>\"\",中間シート!E22&\"-\"&中間シート!F22&\"-\"&中間シート!G22,\"\")","v":""}]
[null,null,null,null,null,null,null,null,null,null,"（E-mail）",null,null,null,{"$f":"中間シート!E23&\"\"","v":""}]
[]
[null,null,"【通知書等送付先宛名】"]
[null,null,"住所（申請者と異なる場合のみ記入）"]
[null,null,"〒",{"$f":"IF(中間シート!E26<>\"\",LEFT(中間シート!E26,3)&\"-\"&RIGHT(中間シート!E26,4),\"\")","v":""}]
[null,null,{"$f":"中間シート!E27&\" \"&中間シート!E28&\" \"&中間シート!E29&\" \"&中間シート!E30&\"\"","v":"   "}]
[null,null,"法人名",null,null,null,null,"担当部署及び役職",null,null,null,null,null,null,null,"担当者名"]
[null,null,{"$f":"中間シート!E25&\"\"","v":""},null,null,null,null,{"$f":"中間シート!E34&\" \"&中間シート!E35&\"\"","v":" "},null,null,null,null,null,null,null,{"$f":"中間シート!E32&\" \"&中間シート!E33&\"\"","v":" "}]

{"sheet":"様式第1別紙2","index":8,"n_rows":26,"n_cols":15,"rows_kept":26,"cut":false,"hidden":false,"merged":[[5,1,5,14],[4,1,4,14],[14,11,14,12],[15,9,15,10],[23,13,23,14],[21,13,21,14],[22,13,22,14],[21,9,21,10],[21,11,21,12],[22,9,22,10],[22,11,22,12],[19,13,19,14],[20,13,20,14],[7,13,8,14],[9,13,9,14],[8,11,8,12],[19,9,19,10],[19,11,19,12],[11,9,11,10],[11,11,11,12],[12,9,12,10],[12,11,12,12],[13,9,13,10],[13,11,13,12],[14,9,14,10],[17,13,17,14],[18,13,18,14],[17,9,17,10],[17,11,17,12],[18,9,18,10],[18,11,18,12],[15,13,15,14],[16,13,16,14],[15,11,15,12],[16,9,16,10],[16,11,16,12],[13,13,13,14],[14,13,14,14],[11,13,11,14],[12,13,12,14],[10,13,10,14],[7,1,8,2],[9,1,9,2],[10,1,10,2],[19,4,19,6],[9,4,9,6],[15,4,15,6],[16,4,16,6],[17,4,17,6],[10,4,10,6],[11,4,11,6],[12,4,12,6],[13,4,13,6],[14,4,14,6],[18,4,18,6],[7,3,8,3],[7,4,8,6],[7,7,7,12],[10,9,10,10],[10,11,10,12],[8,9,8,10],[9,9,9,10],[9,11,9,12],[23,11,23,12],[20,9,20,10],[20,11,20,12],[25,2,29,14],[21,1,21,2],[22,1,22,2],[23,1,23,2],[20,4,20,6],[21,4,21,6],[22,4,22,6],[23,4,23,6],[23,9,23,10],[11,1,11,2],[12,1,12,2],[13,1,13,2],[14,1,14,2],[15,1,15,2],[16,1,16,2],[17,1,17,2],[18,1,18,2],[19,1,19,2],[20,1,20,2]]}
[null,"（別紙２）"]
[null,null,null,null,null,null,null,null,"令和",{"$f":"中間シート!E37&\"\"","v":""},"年",{"$f":"中間シート!F37&\"\"","v":""},"月",{"$f":"中間シート!G37&\"\"","v":""},"日"]
[null,"役員名簿（個人事業主の場合は申請者情報）"]
[]
[null,"法人名（個人事業主の場合は商号・屋号等）"]
[null,{"$f":"中間シート!E5&\"\"","v":""}]
[]
[null,"役職名",null,"氏名　漢　字","氏名　カ　ナ",null,null,"生年月日",null,null,null,null,null,"\n性別"]
[null,null,null,null,null,null,null,"和暦","年","月",null,"日"]
[null,{"$f":"中間シート!E11&\"\"","v":""},null,{"$f":"中間シート!E7&\"　\"&中間シート!E8","v":"　"},{"$f":"中間シート!E9&\"　\"&中間シート!E10","v":"　"},null,null,{"$f":"中間シート!I42&\"\"","v":""},{"$f":"中間シート!J42&\"\"","v":""},{"$f":"中間シート!K42&\"\"","v":""},null,{"$f":"中間シート!L42&\"\"","v":""},null,{"$f":"中間シート!M42&\"\"","v":""}]
[null,{"$f":"中間シート!D43&\"\"","v":""},null,{"$f":"中間シート!E43&\"　\"&中間シート!F43","v":"　"},{"$f":"中間シート!G43&\"　\"&中間シート!H43","v":"　"},null,null,{"$f":"中間シート!I43&\"\"","v":""},{"$f":"中間シート!J43&\"\"","v":""},{"$f":"中間シート!K43&\"\"","v":""},null,{"$f":"中間シート!L43&\"\"","v":""},null,{"$f":"中間シート!M43&\"\"","v":""}]
[null,{"$f":"中間シート!D44&\"\"","v":""},null,{"$f":"中間シート!E44&\"　\"&中間シート!F44","v":"　"},{"$f":"中間シート!G44&\"　\"&中間シート!H44","v":"　"},null,null,{"$f":"中間シート!I44&\"\"","v":""},{"$f":"中間シート!J44&\"\"","v":""},{"$f":"中間シート!K44&\"\"","v":""},null,{"$f":"中間シート!L44&\"\"","v":""},null,{"$f":"中間シート!M44&\"\"","v":""}]
[null,{"$f":"中間シート!D45&\"\"","v":""},null,{"$f":"中間シート!E45&\"　\"&中間シート!F45","v":"　"},{"$f":"中間シート!G45&\"　\"&中間シート!H45","v":"　"},null,null,{"$f":"中間シート!I45&\"\"","v":""},{"$f":"中間シート!J45&\"\"","v":""},{"$f":"中間シート!K45&\"\"","v":""},null,{"$f":"中間シート!L45&\"\"","v":""},null,{"$f":"中間シート!M45&\"\"","v":""}]
[null,{"$f":"中間シート!D46&\"\"","v":""},null,{"$f":"中間シート!E46&\"　\"&中間シート!F46","v":"　"},{"$f":"中間シート!G46&\"　\"&中間シート!H46","v":"　"},null,null,{"$f":"中間シート!I46&\"\"","v":""},{"$f":"中間シート!J46&\"\"","v":""},{"$f":"中間シート!K46&\"\"","v":""},null,{"$f":"中間シート!L46&\"\"","v":""},null,{"$f":"中間シート!M46&\"\"","v":""}]
[null,{"$f":"中間シート!D47&\"\"","v":""},null,{"$f":"中間シート!E47&\"　\"&中間シート!F47","v":"　"},{"$f":"中間シート!G47&\"　\"&中間シート!H47","v":"　"},null,null,{"$f":"中間シート!I47&\"\"","v":""},{"$f":"中間シート!J47&\"\"","v":""},{"$f":"中間シート!K47&\"\"","v":""},null,{"$f":"中間シート!L47&\"\"","v":""},null,{"$f":"中間シート!M47&\"\"","v":""}]
[null,{"$f":"中間シート!D48&\"\"","v":""},null,{"$f":"中間シート!E48&\"　\"&中間シート!F48","v":"　"},{"$f":"中間シート!G48&\"　\"&中間シート!H48","v":"　"},null,null,{"$f":"中間シート!I48&\"\"","v":""},{"$f":"中間シート!J48&\"\"","v":""},{"$f":"中間シート!K48&\"\"","v":""},null,{"$f":"中間シート!L48&\"\"","v":""},null,{"$f":"中間シート!M48&\"\"","v":""}]
[null,{"$f":"中間シート!D49&\"\"","v":""},null,{"$f":"中間シート!E49&\"　\"&中間シート!F49","v":"　"},{"$f":"中間シート!G49&\"　\"&中間シート!H49","v":"　"},null,null,{"$f":"中間シート!I49&\"\"","v":""},{"$f":"中間シート!J49&\"\"","v":""},{"$f":"中間シート!K49&\"\"","v":""},null,{"$f":"中間シート!L49&\"\"","v":""},null,{"$f":"中間シート!M49&\"\"","v":""}]
[null,{"$f":"中間シート!D50&\"\"","v":""},null,{"$f":"中間シート!E50&\"　\"&中間シート!F50","v":"　"},{"$f":"中間シート!G50&\"　\"&中間シート!H50","v":"　"},null,null,{"$f":"中間シート!I50&\"\"","v":""},{"$f":"中間シート!J50&\"\"","v":""},{"$f":"中間シート!K50&\"\"","v":""},null,{"$f":"中間シート!L50&\"\"","v":""},null,{"$f":"中間シート!M50&\"\"","v":""}]
[null,{"$f":"中間シート!D51&\"\"","v":""},null,{"$f":"中間シート!E51&\"　\"&中間シート!F51","v":"　"},{"$f":"中間シート!G51&\"　\"&中間シート!H51","v":"　"},null,null,{"$f":"中間シート!I51&\"\"","v":""},{"$f":"中間シート!J51&\"\"","v":""},{"$f":"中間シート!K51&\"\"","v":""},null,{"$f":"中間シート!L51&\"\"","v":""},null,{"$f":"中間シート!M51&\"\"","v":""}]
[null,{"$f":"中間シート!D52&\"\"","v":""},null,{"$f":"中間シート!E52&\"　\"&中間シート!F52","v":"　"},{"$f":"中間シート!G52&\"　\"&中間シート!H52","v":"　"},null,null,{"$f":"中間シート!I52&\"\"","v":""},{"$f":"中間シート!J52&\"\"","v":""},{"$f":"中間シート!K52&\"\"","v":""},null,{"$f":"中間シート!L52&\"\"","v":""},null,{"$f":"中間シート!M52&\"\"","v":""}]
[null,{"$f":"中間シート!D53&\"\"","v":""},null,{"$f":"中間シート!E53&\"　\"&中間シート!F53","v":"　"},{"$f":"中間シート!G53&\"　\"&中間シート!H53","v":"　"},null,null,{"$f":"中間シート!I53&\"\"","v":""},{"$f":"中間シート!J53&\"\"","v":""},{"$f":"中間シート!K53&\"\"","v":""},null,{"$f":"中間シート!L53&\"\"","v":""},null,{"$f":"中間シート!M53&\"\"","v":""}]
[null,{"$f":"中間シート!D54&\"\"","v":""},null,{"$f":"中間シート!E54&\"　\"&中間シート!F54","v":"　"},{"$f":"中間シート!G54&\"　\"&中間シート!H54","v":"　"},null,null,{"$f":"中間シート!I54&\"\"","v":""},{"$f":"中間シート!J54&\"\"","v":""},{"$f":"中間シート!K54&\"\"","v":""},null,{"$f":"中間シート!L54&\"\"","v":""},null,{"$f":"中間シート!M54&\"\"","v":""}]
[null,{"$f":"中間シート!D55&\"\"","v":""},null,{"$f":"中間シート!E55&\"　\"&中間シート!F55","v":"　"},{"$f":"中間シート!G55&\"　\"&中間シート!H55","v":"　"},null,null,{"$f":"中間シート!I55&\"\"","v":""},{"$f":"中間シート!J55&\"\"","v":""},{"$f":"中間シート!K55&\"\"","v":""},null,{"$f":"中間シート!L55&\"\"","v":""},null,{"$f":"中間シート!M55&\"\"","v":""}]
[null,{"$f":"中間シート!D56&\"\"","v":""},null,{"$f":"中間シート!E56&\"　\"&中間シート!F56","v":"　"},{"$f":"中間シート!G56&\"　\"&中間シート!H56","v":"　"},null,null,{"$f":"中間シート!I56&\"\"","v":""},{"$f":"中間シート!J56&\"\"","v":""},{"$f":"中間シート!K56&\"\"","v":""},null,{"$f":"中間シート!L56&\"\"","v":""},null,{"$f":"中間シート!M56&\"\"","v":""}]
[]
[null,"（注）","役員名簿については、氏名カナ（全角、姓と名の間も全角で１マス空け）、氏名漢字（全角、姓と名の間も全角で１マス空け）、生年月日（全角で大正はＴ、昭和はＳ、平成はＨ、数字は２桁全角）、性別（全角で男性はＭ、女性はＦ）、法人名（個人事業主の場合は商号・屋号等）及び役職名を記載する。\nまた、外国人については、氏名漢字欄にはアルファベットを、氏名カナ欄は当該アルファベットのカナ読みを記載すること。"]

{"sheet":"非表示シート","index":9,"n_rows":2,"n_cols":4,"rows_kept":2,"cut":false,"hidden":true,"merged":[]}
["補助事業名","年度","データ名","更新日"]
["整備","R3","様式第１","20210916_1"]